Workbook

Sheet MENU
B2: 1º CAMPEONATO CARTOLA 2013
B22: GRUPO A

Sheet 1ª FASE  - ELIMINATÓRIAS
B2: 1º CAMPEONATO CARTOLA 2013
B7: 1ª FASE
B12: OBS: Os 128 cartolas melhores colocados classificarão para a 2ª fase.
B14: ELIMINATÓRIAS
B18: POS | C18: CARTOLA | D18: #3 | E18: #4 | F18: #5 | G18: #6 | H18: TOTAL | I18: total | N18: pos | O18: cartola | P18: total | Q18: calc | R18: maior | S18: corresp
B19: 1º | C19: MagoLitos F.C | D19: 81.98 | E19: 25.91 | F19: 62.69 | G19: 75.94 | H19: =SUM(D19:G19) -> 246.52 | I19: =IF(OR(G19="",G20=""),"",SUM(D19:G19)) -> 246.52 | N19: 1 | O19: TIME 1 | P19: =SUM(C19:G19) -> 246.52 | Q19: =((P19*10^6)+N19) -> 2.4652e+08 | R19: =LARGE($Q$19:$Q$108,N19) -> 2.4652e+08 | S19: =MATCH(R19,Q$19:Q$108,0) -> 1
B20: 2º | C20: WillianBalao | D20: 69.93 | E20: 43.82 | F20: 71.87 | G20: 53.63 | H20: =SUM(D20:G20) -> 239.25 | I20: =IF(OR(G20="",G21=""),"",SUM(D20:G20)) -> 239.25 | N20: 2 | O20: TIME 2 | P20: =SUM(C20:G20) -> 239.25 | Q20: =((P20*10^6)+N20) -> 239250002 | R20: =LARGE($Q$19:$Q$108,N20) -> 239250002 | S20: =MATCH(R20,Q$19:Q$108,0) -> 2
B21: 3º | C21: MUL4MB4D4 F.C | D21: 62.34 | E21: 51.77 | F21: 68.93 | G21: 49.38 | H21: =SUM(D21:G21) -> 232.42 | I21: =IF(OR(G21="",G22=""),"",SUM(D21:G21)) -> 232.42 | N21: 3 | O21: TIME 3 | P21: =SUM(C21:G21) -> 232.42 | Q21: =((P21*10^6)+N21) -> 2.3242e+08 | R21: =LARGE($Q$19:$Q$108,N21) -> 2.3242e+08 | S21: =MATCH(R21,Q$19:Q$108,0) -> 3
B22: 4º | C22: Opalla F C | D22: 69.04 | E22: 32.1 | F22: 77.19 | G22: 45.86 | H22: =SUM(D22:G22) -> 224.19 | I22: =IF(OR(G22="",G23=""),"",SUM(D22:G22)) -> 224.19 | N22: 4 | O22: TIME 4 | P22: =SUM(C22:G22) -> 224.19 | Q22: =((P22*10^6)+N22) -> 224190004 | R22: =LARGE($Q$19:$Q$108,N22) -> 224190004 | S22: =MATCH(R22,Q$19:Q$108,0) -> 4
B23: 5º | C23: Miúdos FC | D23: 75.92 | E23: 50.87 | F23: 56.05 | G23: 41.02 | H23: =SUM(D23:G23) -> 223.86 | I23: =IF(OR(G23="",G24=""),"",SUM(D23:G23)) -> 223.86 | N23: 5 | O23: TIME 5 | P23: =SUM(C23:G23) -> 223.86 | Q23: =((P23*10^6)+N23) -> 223860005 | R23: =LARGE($Q$19:$Q$108,N23) -> 223860005 | S23: =MATCH(R23,Q$19:Q$108,0) -> 5
B24: 6º | C24: Puro Malte F. C. | D24: 82.34 | E24: 49.13 | F24: 43.55 | G24: 43.76 | H24: =SUM(D24:G24) -> 218.78 | I24: =IF(OR(G24="",G25=""),"",SUM(D24:G24)) -> 218.78 | N24: 6 | O24: TIME 6 | P24: =SUM(C24:G24) -> 218.78 | Q24: =((P24*10^6)+N24) -> 2.1878001e+08 | R24: =LARGE($Q$19:$Q$108,N24) -> 2.1878001e+08 | S24: =MATCH(R24,Q$19:Q$108,0) -> 6
B25: 7º | C25: Botafogo Glorioso xD | D25: 55.62 | E25: 63.57 | F25: 48.03 | G25: 51.08 | H25: =SUM(D25:G25) -> 218.3 | I25: =IF(OR(G25="",G26=""),"",SUM(D25:G25)) -> 218.3 | N25: 7 | O25: TIME 7 | P25: =SUM(C25:G25) -> 218.3 | Q25: =((P25*10^6)+N25) -> 218300007 | R25: =LARGE($Q$19:$Q$108,N25) -> 218300007 | S25: =MATCH(R25,Q$19:Q$108,0) -> 7
B26: 8º | C26: FC Ladeira !!! | D26: 78.24 | E26: 46.77 | F26: 46.53 | G26: 44.71 | H26: =SUM(D26:G26) -> 216.25 | I26: =IF(OR(G26="",G27=""),"",SUM(D26:G26)) -> 216.25 | N26: 8 | O26: TIME 8 | P26: =SUM(C26:G26) -> 216.25 | Q26: =((P26*10^6)+N26) -> 216250008 | R26: =LARGE($Q$19:$Q$108,N26) -> 216250008 | S26: =MATCH(R26,Q$19:Q$108,0) -> 8
B27: 9º | C27: F.C JSA All-Stars | D27: 74.12 | E27: 51.37 | F27: 41.34 | G27: 49.21 | H27: =SUM(D27:G27) -> 216.04 | I27: =IF(OR(G27="",G28=""),"",SUM(D27:G27)) -> 216.04 | N27: 9 | O27: TIME 9 | P27: =SUM(C27:G27) -> 216.04 | Q27: =((P27*10^6)+N27) -> 2.1604001e+08 | R27: =LARGE($Q$19:$Q$108,N27) -> 2.1604001e+08 | S27: =MATCH(R27,Q$19:Q$108,0) -> 9
B28: 10º | C28: Casinha da Grazi | D28: 58.74 | E28: 39.57 | F28: 68.45 | G28: 48.22 | H28: =SUM(D28:G28) -> 214.98 | I28: =IF(OR(G28="",G29=""),"",SUM(D28:G28)) -> 214.98 | N28: 10 | O28: TIME 10 | P28: =SUM(C28:G28) -> 214.98 | Q28: =((P28*10^6)+N28) -> 214980010 | R28: =LARGE($Q$19:$Q$108,N28) -> 214980010 | S28: =MATCH(R28,Q$19:Q$108,0) -> 10
B29: 11º | C29: C.R RedBull FC | D29: 72.94 | E29: 38.7 | F29: 48.75 | G29: 52.21 | H29: =SUM(D29:G29) -> 212.6 | I29: =IF(OR(G29="",G30=""),"",SUM(D29:G29)) -> 212.6 | N29: 11 | O29: TIME 11 | P29: =SUM(C29:G29) -> 212.6 | Q29: =((P29*10^6)+N29) -> 212600011 | R29: =LARGE($Q$19:$Q$108,N29) -> 212600011 | S29: =MATCH(R29,Q$19:Q$108,0) -> 11
B30: 12º | C30: Nao intendo futebol | D30: 56.44 | E30: 59.67 | F30: 57.03 | G30: 39.18 | H30: =SUM(D30:G30) -> 212.32 | I30: =IF(OR(G30="",G31=""),"",SUM(D30:G30)) -> 212.32 | N30: 12 | O30: TIME 12 | P30: =SUM(C30:G30) -> 212.32 | Q30: =((P30*10^6)+N30) -> 212320012 | R30: =LARGE($Q$19:$Q$108,N30) -> 212320012 | S30: =MATCH(R30,Q$19:Q$108,0) -> 12
... B108: 90º | C108: Taay BFR | D108: 35.64 | E108: 40.62 | F108: 40.23 | G108: 47.98 | H108: =SUM(D108:G108) -> 164.47 | I108: =IF(OR(G108="",G109=""),"",SUM(D108:G108)) -> 164.47 | N108: 90 | O108: TIME 90 | P108: =SUM(C108:G108) -> 164.47 | Q108: =((P108*10^6)+N108) -> 1.6447009e+08 | R108: =LARGE($Q$19:$Q$108,N108) -> 1.6447009e+08 | S108: =MATCH(R108,Q$19:Q$108,0) -> 90
B109: 91º | C109: CAFÉ FC RJ | D109: 49.84 | E109: 32.17 | F109: 38.77 | G109: 43.63 | H109: =SUM(D109:G109) -> 164.41 | I109: =IF(OR(G109="",G110=""),"",SUM(D109:G109)) -> 164.41 | P109: =SUM(C109:G109) -> 164.41
B110: 92º | C110: Alegousados F.C | D110: 46.6 | E110: 34.21 | F110: 59.13 | G110: 23.95 | H110: =SUM(D110:G110) -> 163.89 | I110: =IF(OR(G110="",G111=""),"",SUM(D110:G110)) -> 163.89 | P110: =SUM(C110:G110) -> 163.89
B111: 93º | C111: max pane | D111: 29.7 | E111: 52.25 | F111: 59.09 | G111: 22.16 | H111: =SUM(D111:G111) -> 163.2 | I111: =IF(OR(G111="",G112=""),"",SUM(D111:G111)) -> 163.2 | P111: =SUM(C111:G111) -> 163.2
B112: 94º | C112: INSULADOS F. R. | D112: 52.88 | E112: 21.67 | F112: 48.19 | G112: 38.66 | H112: =SUM(D112:G112) -> 161.4 | I112: =IF(OR(G112="",G113=""),"",SUM(D112:G112)) -> 161.4 | P112: =SUM(C112:G112) -> 161.4
B113: 95º | C113: Aero Destroyed | D113: 46.44 | E113: 46.21 | F113: 30.63 | G113: 37.95 | H113: =SUM(D113:G113) -> 161.23 | I113: =IF(OR(G113="",G114=""),"",SUM(D113:G113)) -> 161.23 | P113: =SUM(C113:G113) -> 161.23
B114: 96º | C114: Municipal E.C. | D114: 68.74 | E114: 18.91 | F114: 32.73 | G114: 40.52 | H114: =SUM(D114:G114) -> 160.9 | I114: =IF(OR(G114="",G115=""),"",SUM(D114:G114)) -> 160.9 | P114: =SUM(C114:G114) -> 160.9
B115: 97º | C115: alexrrn | D115: 48.43 | E115: 53.5 | F115: 31.95 | G115: 26.12 | H115: =SUM(D115:G115) -> 160 | I115: =IF(OR(G115="",G116=""),"",SUM(D115:G115)) -> 160 | P115: =SUM(C115:G115) -> 160
B116: 98º | C116: Tribe of Gypsies | D116: 52.48 | E116: 35.63 | F116: 33.03 | G116: 38.51 | H116: =SUM(D116:G116) -> 159.65 | I116: =IF(OR(G116="",G117=""),"",SUM(D116:G116)) -> 159.65 | P116: =SUM(C116:G116) -> 159.65
B117: 99º | C117: Marrecos F.C . | D117: 52.24 | E117: 23.87 | F117: 45.63 | G117: 37.58 | H117: =SUM(D117:G117) -> 159.32 | I117: =IF(OR(G117="",G118=""),"",SUM(D117:G117)) -> 159.32 | P117: =SUM(C117:G117) -> 159.32
B118: 100º | C118: M0nsters FC | D118: 49.88 | E118: 43.42 | F118: 26.54 | G118: 39.28 | H118: =SUM(D118:G118) -> 159.12 | I118: =IF(OR(G118="",G119=""),"",SUM(D118:G118)) -> 159.12 | P118: =SUM(C118:G118) -> 159.12
B119: 101º | C119: SóMerdinha FC | D119: 20.83 | E119: 31.9 | F119: 47.53 | G119: 58.44 | H119: =SUM(D119:G119) -> 158.7 | I119: =IF(OR(G119="",G120=""),"",SUM(D119:G119)) -> 158.7 | P119: =SUM(C119:G119) -> 158.7
B120: 102º | C120: sadivalenti | D120: 38.82 | E120: 30.37 | F120: 30.6 | G120: 57.58 | H120: =SUM(D120:G120) -> 157.37 | I120: =IF(OR(G120="",G121=""),"",SUM(D120:G120)) -> 157.37 | P120: =SUM(C120:G120) -> 157.37
... B167: 149º | C167: Pipico Jr. FC | D167: 31.94 | E167: 13.97 | F167: 30.33 | G167: 54.75 | H167: =SUM(D167:G167) -> 130.99 | I167: =IF(OR(G167="",G168=""),"",SUM(D167:G167)) -> 130.99 | P167: =SUM(C167:G167) -> 130.99
B168: 150º | C168: wallacebaeta | D168: 22.78 | E168: 28.21 | F168: 31.15 | G168: 47.91 | H168: =SUM(D168:G168) -> 130.05 | I168: =IF(OR(G168="",G167=""),"",SUM(D168:G168)) -> 130.05 | P168: =SUM(C168:G168) -> 130.05
B169: 151º | C169: agua de coentro | D169: 38.13 | E169: 37.15 | F169: 31.35 | G169: 23.4 | H169: =SUM(D169:G169) -> 130.03 | I169: =IF(OR(G169="",G168=""),"",SUM(D169:G169)) -> 130.03 | P169: =SUM(C169:G169) -> 130.03
B170: 152º | C170: jirayaaaafc | D170: 63.62 | E170: 30.95 | F170: 34.53 | G170: 0 | H170: =SUM(D170:G170) -> 129.1 | I170: =IF(OR(G170="",G169=""),"",SUM(D170:G170)) -> 129.1 | P170: =SUM(C170:G170) -> 129.1
B171: 153º | C171: blackcock fc | D171: 47.64 | E171: 29.3 | F171: 41.49 | G171: 10.28 | H171: =SUM(D171:G171) -> 128.71 | I171: =IF(OR(G171="",G170=""),"",SUM(D171:G171)) -> 128.71 | P171: =SUM(C171:G171) -> 128.71
B172: 154º | C172: MetalHeadBanger FC | D172: 37.32 | E172: 32.07 | F172: 29.85 | G172: 29.42 | H172: =SUM(D172:G172) -> 128.66 | I172: =IF(OR(G172="",G171=""),"",SUM(D172:G172)) -> 128.66 | P172: =SUM(C172:G172) -> 128.66
B173: 155º | C173: C. R. Matheus Souza | D173: 34.64 | E173: 19.17 | F173: 53.25 | G173: 20.83 | H173: =SUM(D173:G173) -> 127.89 | I173: =IF(OR(G173="",G172=""),"",SUM(D173:G173)) -> 127.89 | P173: =SUM(C173:G173) -> 127.89
B174: 156º | C174: Dinossauros da Raça | D174: 34.14 | E174: 44.47 | F174: 33.13 | G174: 14.85 | H174: =SUM(D174:G174) -> 126.59 | I174: =IF(OR(G174="",G173=""),"",SUM(D174:G174)) -> 126.59 | P174: =SUM(C174:G174) -> 126.59
B175: 157º | C175: Mini Crack Team | D175: 41.22 | E175: 24.62 | F175: 31.2 | G175: 29.5 | H175: =SUM(D175:G175) -> 126.54 | I175: =IF(OR(G175="",G174=""),"",SUM(D175:G175)) -> 126.54 | P175: =SUM(C175:G175) -> 126.54
B176: 158º | C176: Xiinguu F,C | D176: 96.24 | E176: 29.72 | F176: 0 | G176: 0 | H176: =SUM(D176:G176) -> 125.96 | I176: =IF(OR(G176="",G175=""),"",SUM(D176:G176)) -> 125.96 | P176: =SUM(C176:G176) -> 125.96
...

Sheet 2ª FASE - GRUPOS A a H
B2: 1º CAMPEONATO CARTOLA 2013
B6: 2ª FASE
D10: CLASSIFICAÇÃO
D15: OBS: Os 4 melhores colocados no Grupo se classificarão para a 3ª FASE.
D17: GRUPO A
D19: Pos. | E19: CARTOLA | F19: P | H19: PP | J19: PC | L19: SP | U19: Pos. | V19: TIMES | W19: P | X19: GF | Y19: GC | Z19: SG | AA19: calc | AB19: maior | AC19: corresp
D20: 1º | E20: =VLOOKUP(AC20,$U$20:$AB$27,2) -> Fluminense do Lins | F20: =VLOOKUP(AC20,$U$20:$AB$27,3) -> 18 | H20: =VLOOKUP(AC20,$U$20:$AB$27,4) -> 366.85 | J20: =VLOOKUP(AC20,$U$20:$AB$27,5) -> 241.97 | L20: =VLOOKUP(AC20,$U$20:$AB$27,6) -> 124.88 | O20: Legenda | U20: 1 | V20: =IF(OR('1ª FASE - ELIMINATÓRIAS'!I19="",'1ª FASE - ELIMINATÓRIAS'!I20=""),"",'1ª FASE - ELIMINATÓRIAS'!C146) -> TriCa PaNAtuBA | W20: =SUM(Q35,Q40,Q49,Q58,Q66,Q75,Q83) -> 12 | X20: =SUM(H35,H40,H49,H58,H66,H75,H83) -> 326.94 | Y20: =SUM(F35,F40,F49,F58,F66,F75,F83) -> 368.14 | Z20: =X20-Y20 -> -41.2 | AA20: =(W20*10^10)+((Z20+5000)*10^6)+(X20*10)+U20 -> 1.249588e+11 | AB20: =LARGE($AA$20:$AA$27,U20) -> 1.8512488e+11 | AC20: =MATCH(AB20,$AA$20:$AA$27,0) -> 2
D21: 2º | E21: =VLOOKUP(AC21,$U$20:$AB$27,2) -> Al-Jazira F.c | F21: =VLOOKUP(AC21,$U$20:$AB$27,3) -> 12 | H21: =VLOOKUP(AC21,$U$20:$AB$27,4) -> 334.4 | J21: =VLOOKUP(AC21,$U$20:$AB$27,5) -> 290.42 | L21: =VLOOKUP(AC21,$U$20:$AB$27,6) -> 43.98 | O21: P - pontos | U21: 2 | V21: =IF(OR('1ª FASE - ELIMINATÓRIAS'!I34="",'1ª FASE - ELIMINATÓRIAS'!I35=""),"",'1ª FASE - ELIMINATÓRIAS'!C130) -> Fluminense do Lins | W21: =SUM(Q34,Q41,Q48,Q59,Q67,Q74,C83) -> 18 | X21: =SUM(H34,H41,H48,H59,H67,H74,F83) -> 366.85 | Y21: =SUM(F34,F41,F48,F59,F67,F74,H83) -> 241.97 | Z21: =X21-Y21 -> 124.88 | AA21: =(W21*10^10)+((Z21+5000)*10^6)+(X21*10)+U21 -> 1.8512488e+11 | AB21: =LARGE($AA$20:$AA$27,U21) -> 125043983348 | AC21: =MATCH(AB21,$AA$20:$AA$27,0) -> 4
D22: 3º | E22: =VLOOKUP(AC22,$U$20:$AB$27,2) -> MagoLitos F.C | F22: =VLOOKUP(AC22,$U$20:$AB$27,3) -> 12 | H22: =VLOOKUP(AC22,$U$20:$AB$27,4) -> 325.25 | J22: =VLOOKUP(AC22,$U$20:$AB$27,5) -> 295.04 | L22: =VLOOKUP(AC22,$U$20:$AB$27,6) -> 30.21 | O22: PCP - pontos Cartola pró | U22: 3 | V22: =IF(OR('1ª FASE - ELIMINATÓRIAS'!I42="",'1ª FASE - ELIMINATÓRIAS'!I41=""),"",'1ª FASE - ELIMINATÓRIAS'!C114) -> Municipal E.C. | W22: =SUM(Q33,Q42,Q51,Q56,C67,C75,Q82) -> 9 | X22: =SUM(H33,H42,H51,H56,F67,F75,H82) -> 312.02 | Y22: =SUM(F33,F42,F51,F56,H67,H75,F82) -> 354.07 | Z22: =X22-Y22 -> -42.05 | AA22: =(W22*10^10)+((Z22+5000)*10^6)+(X22*10)+U22 -> 9.4957953e+10 | AB22: =LARGE($AA$20:$AA$27,U22) -> 1.2503021e+11 | AC22: =MATCH(AB22,$AA$20:$AA$27,0) -> 8
D23: 4º | E23: =VLOOKUP(AC23,$U$20:$AB$27,2) -> TriCa PaNAtuBA | F23: =VLOOKUP(AC23,$U$20:$AB$27,3) -> 12 | H23: =VLOOKUP(AC23,$U$20:$AB$27,4) -> 326.94 | J23: =VLOOKUP(AC23,$U$20:$AB$27,5) -> 368.14 | L23: =VLOOKUP(AC23,$U$20:$AB$27,6) -> -41.2 | O23: PCC - pontos Cartola contra | U23: 4 | V23: =IF(OR('1ª FASE - ELIMINATÓRIAS'!I50="",'1ª FASE - ELIMINATÓRIAS'!I49=""),"",'1ª FASE - ELIMINATÓRIAS'!C98) -> Al-Jazira F.c | W23: =SUM(Q32,Q43,Q50,Q57,C66,C74,C82) -> 12 | X23: =SUM(H32,H43,H50,H57,F66,F74,F82) -> 334.4 | Y23: =SUM(F32,F43,F50,F57,H66,H74,H82) -> 290.42 | Z23: =X23-Y23 -> 43.98 | AA23: =(W23*10^10)+((Z23+5000)*10^6)+(X23*10)+U23 -> 125043983348 | AB23: =LARGE($AA$20:$AA$27,U23) -> 1.249588e+11 | AC23: =MATCH(AB23,$AA$20:$AA$27,0) -> 1
D24: 5º | E24: =VLOOKUP(AC24,$U$20:$AB$27,2) -> MADRI FLA FC | F24: =VLOOKUP(AC24,$U$20:$AB$27,3) -> 9 | H24: =VLOOKUP(AC24,$U$20:$AB$27,4) -> 307.11 | J24: =VLOOKUP(AC24,$U$20:$AB$27,5) -> 310.02 | L24: =VLOOKUP(AC24,$U$20:$AB$27,6) -> -2.91 | O24: SP - saldo de pontos | U24: 5 | V24: =IF(OR('1ª FASE - ELIMINATÓRIAS'!I58="",'1ª FASE - ELIMINATÓRIAS'!I57=""),"",'1ª FASE - ELIMINATÓRIAS'!C82) -> G.Santana EC | W24: =SUM(C35,C43,C51,C59,Q64,Q73,Q81) -> 6 | X24: =SUM(F35,F43,F51,F59,H64,H73,H81) -> 306.67 | Y24: =SUM(H35,H43,H51,H59,F64,F73,F81) -> 327.73 | Z24: =X24-Y24 -> -21.06 | AA24: =(W24*10^10)+((Z24+5000)*10^6)+(X24*10)+U24 -> 6.4978943e+10 | AB24: =LARGE($AA$20:$AA$27,U24) -> 9.4997093e+10 | AC24: =MATCH(AB24,$AA$20:$AA$27,0) -> 7
D25: 6º | E25: =VLOOKUP(AC25,$U$20:$AB$27,2) -> Municipal E.C. | F25: =VLOOKUP(AC25,$U$20:$AB$27,3) -> 9 | H25: =VLOOKUP(AC25,$U$20:$AB$27,4) -> 312.02 | J25: =VLOOKUP(AC25,$U$20:$AB$27,5) -> 354.07 | L25: =VLOOKUP(AC25,$U$20:$AB$27,6) -> -42.05 | U25: 6 | V25: =IF(OR('1ª FASE - ELIMINATÓRIAS'!I66="",'1ª FASE - ELIMINATÓRIAS'!I65=""),"",'1ª FASE - ELIMINATÓRIAS'!C66) -> NICKA SC | W25: =SUM(C34,C42,C50,C58,Q65,Q72,C81) -> 6 | X25: =SUM(F34,F42,F50,F58,H65,H72,F81) -> 210.66 | Y25: =SUM(H34,H42,H50,H58,F65,F72,H81) -> 302.51 | Z25: =X25-Y25 -> -91.85 | AA25: =(W25*10^10)+((Z25+5000)*10^6)+(X25*10)+U25 -> 6.4908152e+10 | AB25: =LARGE($AA$20:$AA$27,U25) -> 9.4957953e+10 | AC25: =MATCH(AB25,$AA$20:$AA$27,0) -> 3
D26: 7º | E26: =VLOOKUP(AC26,$U$20:$AB$27,2) -> G.Santana EC | F26: =VLOOKUP(AC26,$U$20:$AB$27,3) -> 6 | H26: =VLOOKUP(AC26,$U$20:$AB$27,4) -> 306.67 | J26: =VLOOKUP(AC26,$U$20:$AB$27,5) -> 327.73 | L26: =VLOOKUP(AC26,$U$20:$AB$27,6) -> -21.06 | U26: 7 | V26: =IF(OR('1ª FASE - ELIMINATÓRIAS'!I70="",'1ª FASE - ELIMINATÓRIAS'!I69=""),"",'1ª FASE - ELIMINATÓRIAS'!C50) -> MADRI FLA FC | W26: =SUM(C33,C41,C49,C57,C65,C73,Q80,) -> 9 | X26: =SUM(F33,F41,F49,F57,F65,F73,H80) -> 307.11 | Y26: =SUM(H33,H41,H49,H57,H65,H73,F80) -> 310.02 | Z26: =X26-Y26 -> -2.91 | AA26: =(W26*10^10)+((Z26+5000)*10^6)+(X26*10)+U26 -> 9.4997093e+10 | AB26: =LARGE($AA$20:$AA$27,U26) -> 6.4978943e+10 | AC26: =MATCH(AB26,$AA$20:$AA$27,0) -> 5
D27: 8º | E27: =VLOOKUP(AC27,$U$20:$AB$27,2) -> NICKA SC | F27: =VLOOKUP(AC27,$U$20:$AB$27,3) -> 6 | H27: =VLOOKUP(AC27,$U$20:$AB$27,4) -> 210.66 | J27: =VLOOKUP(AC27,$U$20:$AB$27,5) -> 302.51 | L27: =VLOOKUP(AC27,$U$20:$AB$27,6) -> -91.85 | U27: 8 | V27: =IF(OR('1ª FASE - ELIMINATÓRIAS'!I20="",'1ª FASE - ELIMINATÓRIAS'!I19=""),"",'1ª FASE - ELIMINATÓRIAS'!C19) -> MagoLitos F.C | W27: =SUM(C32,C40,C48,C56,C64,C72,C80) -> 12 | X27: =SUM(F32,F40,F48,F56,F64,F72,F80) -> 325.25 | Y27: =SUM(H32,H40,H48,H56,H64,H72,H80) -> 295.04 | Z27: =X27-Y27 -> 30.21 | AA27: =(W27*10^10)+((Z27+5000)*10^6)+(X27*10)+U27 -> 1.2503021e+11 | AB27: =LARGE($AA$20:$AA$27,U27) -> 6.4908152e+10 | AC27: =MATCH(AB27,$AA$20:$AA$27,0) -> 6
D29: 1ª RODADA - #7
C32: =IF(OR(F32="",H32=""),"",IF(F32=H32,1,IF(F32>H32,3,0))) -> 0 | D32: =V27 -> MagoLitos F.C | F32: 21.12 | G32: x | H32: 64.57 | I32: =V23 -> Al-Jazira F.c | Q32: =IF(OR(H32="",F32=""),"",IF(H32=F32,1,IF(H32>F32,3,0))) -> 3
C33: =IF(OR(F33="",H33=""),"",IF(F33=H33,1,IF(F33>H33,3,0))) -> 0 | D33: =V26 -> MADRI FLA FC | F33: 66.72 | G33: x | H33: 79.02 | I33: =V22 -> Municipal E.C. | Q33: =IF(OR(H33="",F33=""),"",IF(H33=F33,1,IF(H33>F33,3,0))) -> 3
C34: =IF(OR(F34="",H34=""),"",IF(F34=H34,1,IF(F34>H34,3,0))) -> 0 | D34: =V25 -> NICKA SC | F34: 23.52 | G34: x | H34: 62.62 | I34: =V21 -> Fluminense do Lins | Q34: =IF(OR(H34="",F34=""),"",IF(H34=F34,1,IF(H34>F34,3,0))) -> 3
C35: =IF(OR(F35="",H35=""),"",IF(F35=H35,1,IF(F35>H35,3,0))) -> 0 | D35: =V24 -> G.Santana EC | F35: 60.27 | G35: x | H35: 63.95 | I35: =V20 -> TriCa PaNAtuBA | Q35: =IF(OR(H35="",F35=""),"",IF(H35=F35,1,IF(H35>F35,3,0))) -> 3
C36: =IF(OR(F36="",H36=""),"",IF(F36=H36,1,IF(F36>H36,3,0))) | Q36: =IF(OR(H36="",F36=""),"",IF(H36=F36,1,IF(H36>F36,3,0)))
C37: =IF(OR(F37="",H37=""),"",IF(F37=H37,1,IF(F37>H37,3,0))) | D37: 2ª RODADA - #8 | Q37: =IF(OR(H37="",F37=""),"",IF(H37=F37,1,IF(H37>F37,3,0)))
C38: =IF(OR(F38="",H38=""),"",IF(F38=H38,1,IF(F38>H38,3,0))) | Q38: =IF(OR(H38="",F38=""),"",IF(H38=F38,1,IF(H38>F38,3,0)))
C39: =IF(OR(F39="",H39=""),"",IF(F39=H39,1,IF(F39>H39,3,0))) | Q39: =IF(OR(H39="",F39=""),"",IF(H39=F39,1,IF(H39>F39,3,0)))
C40: =IF(OR(F40="",H40=""),"",IF(F40=H40,1,IF(F40>H40,3,0))) -> 3 | D40: =V27 -> MagoLitos F.C | F40: 51.87 | G40: x | H40: 41.37 | I40: =V20 -> TriCa PaNAtuBA | Q40: =IF(OR(H40="",F40=""),"",IF(H40=F40,1,IF(H40>F40,3,0))) -> 0
C41: =IF(OR(F41="",H41=""),"",IF(F41=H41,1,IF(F41>H41,3,0))) -> 0 | D41: =V26 -> MADRI FLA FC | F41: 29.3 | G41: x | H41: 47.35 | I41: =V21 -> Fluminense do Lins | Q41: =IF(OR(H41="",F41=""),"",IF(H41=F41,1,IF(H41>F41,3,0))) -> 3
C42: =IF(OR(F42="",H42=""),"",IF(F42=H42,1,IF(F42>H42,3,0))) -> 0 | D42: =V25 -> NICKA SC | F42: 30.25 | G42: x | H42: 46.45 | I42: =V22 -> Municipal E.C. | Q42: =IF(OR(H42="",F42=""),"",IF(H42=F42,1,IF(H42>F42,3,0))) -> 3
C43: =IF(OR(F43="",H43=""),"",IF(F43=H43,1,IF(F43>H43,3,0))) -> 0 | D43: =V24 -> G.Santana EC | F43: 41.3 | G43: x | H43: 52.4 | I43: =V23 -> Al-Jazira F.c | Q43: =IF(OR(H43="",F43=""),"",IF(H43=F43,1,IF(H43>F43,3,0))) -> 3
C44: =IF(OR(F44="",H44=""),"",IF(F44=H44,1,IF(F44>H44,3,0))) | Q44: =IF(OR(H44="",F44=""),"",IF(H44=F44,1,IF(H44>F44,3,0)))
C45: =IF(OR(F45="",H45=""),"",IF(F45=H45,1,IF(F45>H45,3,0))) | D45: 3ª RODADA - #9 | Q45: =IF(OR(H45="",F45=""),"",IF(H45=F45,1,IF(H45>F45,3,0)))
C46: =IF(OR(F46="",H46=""),"",IF(F46=H46,1,IF(F46>H46,3,0))) | Q46: =IF(OR(H46="",F46=""),"",IF(H46=F46,1,IF(H46>F46,3,0)))
C47: =IF(OR(F47="",H47=""),"",IF(F47=H47,1,IF(F47>H47,3,0))) | Q47: =IF(OR(H47="",F47=""),"",IF(H47=F47,1,IF(H47>F47,3,0)))
C48: =IF(OR(F48="",H48=""),"",IF(F48=H48,1,IF(F48>H48,3,0))) -> 3 | D48: =V27 -> MagoLitos F.C | F48: 53.15 | G48: x | H48: 30.35 | I48: =V21 -> Fluminense do Lins | Q48: =IF(OR(H48="",F48=""),"",IF(H48=F48,1,IF(H48>F48,3,0))) -> 0
C49: =IF(OR(F49="",H49=""),"",IF(F49=H49,1,IF(F49>H49,3,0))) -> 3 | D49: =V26 -> MADRI FLA FC | F49: 68.65 | G49: x | H49: 40.75 | I49: =V20 -> TriCa PaNAtuBA | Q49: =IF(OR(H49="",F49=""),"",IF(H49=F49,1,IF(H49>F49,3,0))) -> 0
C50: =IF(OR(F50="",H50=""),"",IF(F50=H50,1,IF(F50>H50,3,0))) -> 0 | D50: =V25 -> NICKA SC | F50: 40.2 | G50: x | H50: 52.75 | I50: =V23 -> Al-Jazira F.c | Q50: =IF(OR(H50="",F50=""),"",IF(H50=F50,1,IF(H50>F50,3,0))) -> 3
C51: =IF(OR(F51="",H51=""),"",IF(F51=H51,1,IF(F51>H51,3,0))) -> 0 | D51: =V24 -> G.Santana EC | F51: 46.45 | G51: x | H51: 60.35 | I51: =V22 -> Municipal E.C. | Q51: =IF(OR(H51="",F51=""),"",IF(H51=F51,1,IF(H51>F51,3,0))) -> 3
C52: =IF(OR(F52="",H52=""),"",IF(F52=H52,1,IF(F52>H52,3,0))) | Q52: =IF(OR(H52="",F52=""),"",IF(H52=F52,1,IF(H52>F52,3,0)))
C53: =IF(OR(F53="",H53=""),"",IF(F53=H53,1,IF(F53>H53,3,0))) | D53: 4ª RODADA - #10 | Q53: =IF(OR(H53="",F53=""),"",IF(H53=F53,1,IF(H53>F53,3,0)))
C54: =IF(OR(F54="",H54=""),"",IF(F54=H54,1,IF(F54>H54,3,0))) | Q54: =IF(OR(H54="",F54=""),"",IF(H54=F54,1,IF(H54>F54,3,0)))
C55: =IF(OR(F55="",H55=""),"",IF(F55=H55,1,IF(F55>H55,3,0))) | Q55: =IF(OR(H55="",F55=""),"",IF(H55=F55,1,IF(H55>F55,3,0)))
C56: =IF(OR(F56="",H56=""),"",IF(F56=H56,1,IF(F56>H56,3,0))) -> 3 | D56: =V27 -> MagoLitos F.C | F56: 51.39 | G56: x | H56: 22.47 | I56: =V22 -> Municipal E.C. | Q56: =IF(OR(H56="",F56=""),"",IF(H56=F56,1,IF(H56>F56,3,0))) -> 0
...

Sheet 2ª FASE - GRUPOS I a P
B2: 1º CAMPEONATO CARTOLA 2013
B6: 2ª FASE
D10: CLASSIFICAÇÃO
D15: OBS: Os 4 melhores colocados no Grupo se classificarão para a 3ª FASE.
D17: GRUPO I
D19: Pos. | E19: CARTOLA | F19: P | H19: PP | J19: PC | L19: SP | U19: Pos. | V19: TIMES | W19: P | X19: GF | Y19: GC | Z19: SG | AA19: calc | AB19: maior | AC19: corresp
D20: 1º | E20: =VLOOKUP(AC20,$U$20:$AB$27,2) -> Vascaero FC | F20: =VLOOKUP(AC20,$U$20:$AB$27,3) -> 18 | H20: =VLOOKUP(AC20,$U$20:$AB$27,4) -> 372.88 | J20: =VLOOKUP(AC20,$U$20:$AB$27,5) -> 238.27 | L20: =VLOOKUP(AC20,$U$20:$AB$27,6) -> 134.61 | O20: Legenda | U20: 1 | V20: =IF(OR('1ª FASE - ELIMINATÓRIAS'!I138="",'1ª FASE - ELIMINATÓRIAS'!I138=""),"",'1ª FASE - ELIMINATÓRIAS'!C138) -> Kbça da Gama F.C. | W20: =SUM(Q35,Q40,Q49,Q58,Q66,Q75,Q83) -> 12 | X20: =SUM(H35,H40,H49,H58,H66,H75,H83) -> 257.46 | Y20: =SUM(F35,F40,F49,F58,F66,F75,F83) -> 212.09 | Z20: =X20-Y20 -> 45.37 | AA20: =(W20*10^10)+((Z20+5000)*10^6)+(X20*10)+U20 -> 1.2504537e+11 | AB20: =LARGE($AA$20:$AA$27,U20) -> 1.8513461e+11 | AC20: =MATCH(AB20,$AA$20:$AA$27,0) -> 5
D21: 2º | E21: =VLOOKUP(AC21,$U$20:$AB$27,2) -> Grajaú F.C. | F21: =VLOOKUP(AC21,$U$20:$AB$27,3) -> 15 | H21: =VLOOKUP(AC21,$U$20:$AB$27,4) -> 305.12 | J21: =VLOOKUP(AC21,$U$20:$AB$27,5) -> 187.83 | L21: =VLOOKUP(AC21,$U$20:$AB$27,6) -> 117.29 | O21: P - pontos | U21: 2 | V21: =IF(OR('1ª FASE - ELIMINATÓRIAS'!I122="",'1ª FASE - ELIMINATÓRIAS'!I122=""),"",'1ª FASE - ELIMINATÓRIAS'!C122) -> Alisando Cresce | W21: =SUM(Q34,Q41,Q48,Q59,Q67,Q74,C83) -> 12 | X21: =SUM(H34,H41,H48,H59,H67,H74,F83) -> 276.96 | Y21: =SUM(F34,F41,F48,F59,F67,F74,H83) -> 213.9 | Z21: =X21-Y21 -> 63.06 | AA21: =(W21*10^10)+((Z21+5000)*10^6)+(X21*10)+U21 -> 1.2506306e+11 | AB21: =LARGE($AA$20:$AA$27,U21) -> 1.5511729e+11 | AC21: =MATCH(AB21,$AA$20:$AA$27,0) -> 7
D22: 3º | E22: =VLOOKUP(AC22,$U$20:$AB$27,2) -> Alisando Cresce | F22: =VLOOKUP(AC22,$U$20:$AB$27,3) -> 12 | H22: =VLOOKUP(AC22,$U$20:$AB$27,4) -> 276.96 | J22: =VLOOKUP(AC22,$U$20:$AB$27,5) -> 213.9 | L22: =VLOOKUP(AC22,$U$20:$AB$27,6) -> 63.06 | O22: PCP - pontos Cartola pró | U22: 3 | V22: =IF(OR('1ª FASE - ELIMINATÓRIAS'!I106="",'1ª FASE - ELIMINATÓRIAS'!I106=""),"",'1ª FASE - ELIMINATÓRIAS'!C106) -> »CrazÿTëåm.™ | W22: =SUM(Q33,Q42,Q51,Q56,C67,C75,Q82) -> 9 | X22: =SUM(H33,H42,H51,H56,F67,F75,H82) -> 163.76 | Y22: =SUM(F33,F42,F51,F56,H67,H75,F82) -> 254.53 | Z22: =X22-Y22 -> -90.77 | AA22: =(W22*10^10)+((Z22+5000)*10^6)+(X22*10)+U22 -> 9.4909232e+10 | AB22: =LARGE($AA$20:$AA$27,U22) -> 1.2506306e+11 | AC22: =MATCH(AB22,$AA$20:$AA$27,0) -> 2
D23: 4º | E23: =VLOOKUP(AC23,$U$20:$AB$27,2) -> Kbça da Gama F.C. | F23: =VLOOKUP(AC23,$U$20:$AB$27,3) -> 12 | H23: =VLOOKUP(AC23,$U$20:$AB$27,4) -> 257.46 | J23: =VLOOKUP(AC23,$U$20:$AB$27,5) -> 212.09 | L23: =VLOOKUP(AC23,$U$20:$AB$27,6) -> 45.37 | O23: PCC - pontos Cartola contra | U23: 4 | V23: =IF(OR('1ª FASE - ELIMINATÓRIAS'!I90="",'1ª FASE - ELIMINATÓRIAS'!I90=""),"",'1ª FASE - ELIMINATÓRIAS'!C90) -> roberto10z | W23: =SUM(Q32,Q43,Q50,Q57,C66,C74,C82) -> 3 | X23: =SUM(H32,H43,H50,H57,F66,F74,F82) -> 144.31 | Y23: =SUM(F32,F43,F50,F57,H66,H74,H82) -> 290.88 | Z23: =X23-Y23 -> -146.57 | AA23: =(W23*10^10)+((Z23+5000)*10^6)+(X23*10)+U23 -> 3.4853431e+10 | AB23: =LARGE($AA$20:$AA$27,U23) -> 1.2504537e+11 | AC23: =MATCH(AB23,$AA$20:$AA$27,0) -> 1
D24: 5º | E24: =VLOOKUP(AC24,$U$20:$AB$27,2) -> ZezinhoHulkFC | F24: =VLOOKUP(AC24,$U$20:$AB$27,3) -> 9 | H24: =VLOOKUP(AC24,$U$20:$AB$27,4) -> 248.39 | J24: =VLOOKUP(AC24,$U$20:$AB$27,5) -> 283.26 | L24: =VLOOKUP(AC24,$U$20:$AB$27,6) -> -34.87 | O24: SP - saldo de pontos | U24: 5 | V24: =IF(OR('1ª FASE - ELIMINATÓRIAS'!I74="",'1ª FASE - ELIMINATÓRIAS'!I74=""),"",'1ª FASE - ELIMINATÓRIAS'!C74) -> Vascaero FC | W24: =SUM(C35,C43,C51,C59,Q64,Q73,Q81) -> 18 | X24: =SUM(F35,F43,F51,F59,H64,H73,H81) -> 372.88 | Y24: =SUM(H35,H43,H51,H59,F64,F73,F81) -> 238.27 | Z24: =X24-Y24 -> 134.61 | AA24: =(W24*10^10)+((Z24+5000)*10^6)+(X24*10)+U24 -> 1.8513461e+11 | AB24: =LARGE($AA$20:$AA$27,U24) -> 9.4965132e+10 | AC24: =MATCH(AB24,$AA$20:$AA$27,0) -> 6
D25: 6º | E25: =VLOOKUP(AC25,$U$20:$AB$27,2) -> »CrazÿTëåm.™ | F25: =VLOOKUP(AC25,$U$20:$AB$27,3) -> 9 | H25: =VLOOKUP(AC25,$U$20:$AB$27,4) -> 163.76 | J25: =VLOOKUP(AC25,$U$20:$AB$27,5) -> 254.53 | L25: =VLOOKUP(AC25,$U$20:$AB$27,6) -> -90.77 | U25: 6 | V25: =IF(OR('1ª FASE - ELIMINATÓRIAS'!I58="",'1ª FASE - ELIMINATÓRIAS'!I58=""),"",'1ª FASE - ELIMINATÓRIAS'!C58) -> ZezinhoHulkFC | W25: =SUM(C34,C42,C50,C58,Q65,Q72,C81) -> 9 | X25: =SUM(F34,F42,F50,F58,H65,H72,F81) -> 248.39 | Y25: =SUM(H34,H42,H50,H58,F65,F72,H81) -> 283.26 | Z25: =X25-Y25 -> -34.87 | AA25: =(W25*10^10)+((Z25+5000)*10^6)+(X25*10)+U25 -> 9.4965132e+10 | AB25: =LARGE($AA$20:$AA$27,U25) -> 9.4909232e+10 | AC25: =MATCH(AB25,$AA$20:$AA$27,0) -> 3
D26: 7º | E26: =VLOOKUP(AC26,$U$20:$AB$27,2) -> F.C JSA All-Stars | F26: =VLOOKUP(AC26,$U$20:$AB$27,3) -> 6 | H26: =VLOOKUP(AC26,$U$20:$AB$27,4) -> 185.77 | J26: =VLOOKUP(AC26,$U$20:$AB$27,5) -> 273.89 | L26: =VLOOKUP(AC26,$U$20:$AB$27,6) -> -88.12 | U26: 7 | V26: =IF(OR('1ª FASE - ELIMINATÓRIAS'!I42="",'1ª FASE - ELIMINATÓRIAS'!I42=""),"",'1ª FASE - ELIMINATÓRIAS'!C42) -> Grajaú F.C. | W26: =SUM(C33,C41,C49,C57,C65,C73,Q80,) -> 15 | X26: =SUM(F33,F41,F49,F57,F65,F73,H80) -> 305.12 | Y26: =SUM(H33,H41,H49,H57,H65,H73,F80) -> 187.83 | Z26: =X26-Y26 -> 117.29 | AA26: =(W26*10^10)+((Z26+5000)*10^6)+(X26*10)+U26 -> 1.5511729e+11 | AB26: =LARGE($AA$20:$AA$27,U26) -> 6.4911882e+10 | AC26: =MATCH(AB26,$AA$20:$AA$27,0) -> 8
D27: 8º | E27: =VLOOKUP(AC27,$U$20:$AB$27,2) -> roberto10z | F27: =VLOOKUP(AC27,$U$20:$AB$27,3) -> 3 | H27: =VLOOKUP(AC27,$U$20:$AB$27,4) -> 144.31 | J27: =VLOOKUP(AC27,$U$20:$AB$27,5) -> 290.88 | L27: =VLOOKUP(AC27,$U$20:$AB$27,6) -> -146.57 | U27: 8 | V27: =IF(OR('1ª FASE - ELIMINATÓRIAS'!I27="",'1ª FASE - ELIMINATÓRIAS'!I27=""),"",'1ª FASE - ELIMINATÓRIAS'!C27) -> F.C JSA All-Stars | W27: =SUM(C32,C40,C48,C56,C64,C72,C80) -> 6 | X27: =SUM(F32,F40,F48,F56,F64,F72,F80) -> 185.77 | Y27: =SUM(H32,H40,H48,H56,H64,H72,H80) -> 273.89 | Z27: =X27-Y27 -> -88.12 | AA27: =(W27*10^10)+((Z27+5000)*10^6)+(X27*10)+U27 -> 6.4911882e+10 | AB27: =LARGE($AA$20:$AA$27,U27) -> 3.4853431e+10 | AC27: =MATCH(AB27,$AA$20:$AA$27,0) -> 4
D29: 1ª RODADA - #7
C32: =IF(OR(F32="",H32=""),"",IF(F32=H32,1,IF(F32>H32,3,0))) -> 3 | D32: =V27 -> F.C JSA All-Stars | F32: 44.42 | G32: x | H32: 34.49 | I32: =V23 -> roberto10z | Q32: =IF(OR(H32="",F32=""),"",IF(H32=F32,1,IF(H32>F32,3,0))) -> 0
C33: =IF(OR(F33="",H33=""),"",IF(F33=H33,1,IF(F33>H33,3,0))) -> 3 | D33: =V26 -> Grajaú F.C. | F33: 40.57 | G33: x | H33: 3.58 | I33: =V22 -> »CrazÿTëåm.™ | Q33: =IF(OR(H33="",F33=""),"",IF(H33=F33,1,IF(H33>F33,3,0))) -> 0
C34: =IF(OR(F34="",H34=""),"",IF(F34=H34,1,IF(F34>H34,3,0))) -> 3 | D34: =V25 -> ZezinhoHulkFC | F34: 61.02 | G34: x | H34: 60.32 | I34: =V21 -> Alisando Cresce | Q34: =IF(OR(H34="",F34=""),"",IF(H34=F34,1,IF(H34>F34,3,0))) -> 0
C35: =IF(OR(F35="",H35=""),"",IF(F35=H35,1,IF(F35>H35,3,0))) -> 3 | D35: =V24 -> Vascaero FC | F35: 38.62 | G35: x | H35: 37.87 | I35: =V20 -> Kbça da Gama F.C. | Q35: =IF(OR(H35="",F35=""),"",IF(H35=F35,1,IF(H35>F35,3,0))) -> 0
C36: =IF(OR(F36="",H36=""),"",IF(F36=H36,1,IF(F36>H36,3,0))) | Q36: =IF(OR(H36="",F36=""),"",IF(H36=F36,1,IF(H36>F36,3,0)))
C37: =IF(OR(F37="",H37=""),"",IF(F37=H37,1,IF(F37>H37,3,0))) | D37: 2ª RODADA - #8 | Q37: =IF(OR(H37="",F37=""),"",IF(H37=F37,1,IF(H37>F37,3,0)))
C38: =IF(OR(F38="",H38=""),"",IF(F38=H38,1,IF(F38>H38,3,0))) | Q38: =IF(OR(H38="",F38=""),"",IF(H38=F38,1,IF(H38>F38,3,0)))
C39: =IF(OR(F39="",H39=""),"",IF(F39=H39,1,IF(F39>H39,3,0))) | Q39: =IF(OR(H39="",F39=""),"",IF(H39=F39,1,IF(H39>F39,3,0)))
C40: =IF(OR(F40="",H40=""),"",IF(F40=H40,1,IF(F40>H40,3,0))) -> 0 | D40: =V27 -> F.C JSA All-Stars | F40: 32.8 | G40: x | H40: 38.97 | I40: =V20 -> Kbça da Gama F.C. | Q40: =IF(OR(H40="",F40=""),"",IF(H40=F40,1,IF(H40>F40,3,0))) -> 3
C41: =IF(OR(F41="",H41=""),"",IF(F41=H41,1,IF(F41>H41,3,0))) -> 0 | D41: =V26 -> Grajaú F.C. | F41: 9.1 | G41: x | H41: 29.95 | I41: =V21 -> Alisando Cresce | Q41: =IF(OR(H41="",F41=""),"",IF(H41=F41,1,IF(H41>F41,3,0))) -> 3
C42: =IF(OR(F42="",H42=""),"",IF(F42=H42,1,IF(F42>H42,3,0))) -> 0 | D42: =V25 -> ZezinhoHulkFC | F42: 27.2 | G42: x | H42: 56.48 | I42: =V22 -> »CrazÿTëåm.™ | Q42: =IF(OR(H42="",F42=""),"",IF(H42=F42,1,IF(H42>F42,3,0))) -> 3
C43: =IF(OR(F43="",H43=""),"",IF(F43=H43,1,IF(F43>H43,3,0))) -> 3 | D43: =V24 -> Vascaero FC | F43: 66.47 | G43: x | H43: 11.4 | I43: =V23 -> roberto10z | Q43: =IF(OR(H43="",F43=""),"",IF(H43=F43,1,IF(H43>F43,3,0))) -> 0
C44: =IF(OR(F44="",H44=""),"",IF(F44=H44,1,IF(F44>H44,3,0))) | Q44: =IF(OR(H44="",F44=""),"",IF(H44=F44,1,IF(H44>F44,3,0)))
C45: =IF(OR(F45="",H45=""),"",IF(F45=H45,1,IF(F45>H45,3,0))) | D45: 3ª RODADA - #9 | Q45: =IF(OR(H45="",F45=""),"",IF(H45=F45,1,IF(H45>F45,3,0)))
C46: =IF(OR(F46="",H46=""),"",IF(F46=H46,1,IF(F46>H46,3,0))) | Q46: =IF(OR(H46="",F46=""),"",IF(H46=F46,1,IF(H46>F46,3,0)))
C47: =IF(OR(F47="",H47=""),"",IF(F47=H47,1,IF(F47>H47,3,0))) | Q47: =IF(OR(H47="",F47=""),"",IF(H47=F47,1,IF(H47>F47,3,0)))
C48: =IF(OR(F48="",H48=""),"",IF(F48=H48,1,IF(F48>H48,3,0))) -> 0 | D48: =V27 -> F.C JSA All-Stars | F48: 29.15 | G48: x | H48: 40.15 | I48: =V21 -> Alisando Cresce | Q48: =IF(OR(H48="",F48=""),"",IF(H48=F48,1,IF(H48>F48,3,0))) -> 3
C49: =IF(OR(F49="",H49=""),"",IF(F49=H49,1,IF(F49>H49,3,0))) -> 3 | D49: =V26 -> Grajaú F.C. | F49: 48.85 | G49: x | H49: 25.13 | I49: =V20 -> Kbça da Gama F.C. | Q49: =IF(OR(H49="",F49=""),"",IF(H49=F49,1,IF(H49>F49,3,0))) -> 0
C50: =IF(OR(F50="",H50=""),"",IF(F50=H50,1,IF(F50>H50,3,0))) -> 0 | D50: =V25 -> ZezinhoHulkFC | F50: 19.34 | G50: x | H50: 22.81 | I50: =V23 -> roberto10z | Q50: =IF(OR(H50="",F50=""),"",IF(H50=F50,1,IF(H50>F50,3,0))) -> 3
C51: =IF(OR(F51="",H51=""),"",IF(F51=H51,1,IF(F51>H51,3,0))) -> 3 | D51: =V24 -> Vascaero FC | F51: 67.75 | G51: x | H51: 38.34 | I51: =V22 -> »CrazÿTëåm.™ | Q51: =IF(OR(H51="",F51=""),"",IF(H51=F51,1,IF(H51>F51,3,0))) -> 0
C52: =IF(OR(F52="",H52=""),"",IF(F52=H52,1,IF(F52>H52,3,0))) | Q52: =IF(OR(H52="",F52=""),"",IF(H52=F52,1,IF(H52>F52,3,0)))
C53: =IF(OR(F53="",H53=""),"",IF(F53=H53,1,IF(F53>H53,3,0))) | D53: 4ª RODADA - #10 | Q53: =IF(OR(H53="",F53=""),"",IF(H53=F53,1,IF(H53>F53,3,0)))
C54: =IF(OR(F54="",H54=""),"",IF(F54=H54,1,IF(F54>H54,3,0))) | Q54: =IF(OR(H54="",F54=""),"",IF(H54=F54,1,IF(H54>F54,3,0)))
C55: =IF(OR(F55="",H55=""),"",IF(F55=H55,1,IF(F55>H55,3,0))) | Q55: =IF(OR(H55="",F55=""),"",IF(H55=F55,1,IF(H55>F55,3,0)))
C56: =IF(OR(F56="",H56=""),"",IF(F56=H56,1,IF(F56>H56,3,0))) -> 0 | D56: =V27 -> F.C JSA All-Stars | F56: 5 | G56: x | H56: 34.87 | I56: =V22 -> »CrazÿTëåm.™ | Q56: =IF(OR(H56="",F56=""),"",IF(H56=F56,1,IF(H56>F56,3,0))) -> 3
...

Sheet 3ª FASE - GRUPOS Q a X
B2: 1º CAMPEONATO CARTOLA 2013
B6: 3ª FASE
D10: CLASSIFICAÇÃO
D15: OBS: Os 4 melhores colocados no Grupo se classificarão para a 4ª FASE.
D17: GRUPO Q
D19: Pos. | E19: CARTOLA | F19: P | H19: PP | J19: PC | L19: SP | U19: Pos. | V19: TIMES | W19: P | X19: GF | Y19: GC | Z19: SG | AA19: calc | AB19: maior | AC19: corresp
D20: 1º | E20: =VLOOKUP(AC20,$U$20:$AB$27,2) -> mala$ fc ... | F20: =VLOOKUP(AC20,$U$20:$AB$27,3) -> 15 | H20: =VLOOKUP(AC20,$U$20:$AB$27,4) -> 356.67 | J20: =VLOOKUP(AC20,$U$20:$AB$27,5) -> 273.19 | L20: =VLOOKUP(AC20,$U$20:$AB$27,6) -> 83.48 | O20: Legenda | U20: 1 | V20: =IF(OR('2ª FASE - GRUPOS I a P'!F568="",'2ª FASE - GRUPOS I a P'!F568=""),"",'2ª FASE - GRUPOS I a P'!E507) -> GAMBAZADA F.C | W20: =SUM(Q35,Q40,Q49,Q58,Q66,Q75,Q83) -> 0 | X20: =SUM(H35,H40,H49,H58,H66,H75,H83) -> 190.94 | Y20: =SUM(F35,F40,F49,F58,F66,F75,F83) -> 318.12 | Z20: =X20-Y20 -> -127.18 | AA20: =(W20*10^10)+((Z20+5000)*10^6)+(X20*10)+U20 -> 4.8728219e+09 | AB20: =LARGE($AA$20:$AA$27,U20) -> 1.5508348e+11 | AC20: =MATCH(AB20,$AA$20:$AA$27,0) -> 7
D21: 2º | E21: =VLOOKUP(AC21,$U$20:$AB$27,2) -> Al-Jazira F.c | F21: =VLOOKUP(AC21,$U$20:$AB$27,3) -> 15 | H21: =VLOOKUP(AC21,$U$20:$AB$27,4) -> 357.13 | J21: =VLOOKUP(AC21,$U$20:$AB$27,5) -> 328.23 | L21: =VLOOKUP(AC21,$U$20:$AB$27,6) -> 28.9 | O21: P - pontos | U21: 2 | V21: =IF(OR('2ª FASE - GRUPOS A a H'!F83="",'2ª FASE - GRUPOS A a H'!F83=""),"",'2ª FASE - GRUPOS A a H'!E23) -> TriCa PaNAtuBA | W21: =SUM(Q34,Q41,Q48,Q59,Q67,Q74,C83) -> 9 | X21: =SUM(H34,H41,H48,H59,H67,H74,F83) -> 307.27 | Y21: =SUM(F34,F41,F48,F59,F67,F74,H83) -> 285.13 | Z21: =X21-Y21 -> 22.14 | AA21: =(W21*10^10)+((Z21+5000)*10^6)+(X21*10)+U21 -> 9.5022143e+10 | AB21: =LARGE($AA$20:$AA$27,U21) -> 1.550289e+11 | AC21: =MATCH(AB21,$AA$20:$AA$27,0) -> 6
D22: 3º | E22: =VLOOKUP(AC22,$U$20:$AB$27,2) -> MagoLitos F.C | F22: =VLOOKUP(AC22,$U$20:$AB$27,3) -> 12 | H22: =VLOOKUP(AC22,$U$20:$AB$27,4) -> 372.29 | J22: =VLOOKUP(AC22,$U$20:$AB$27,5) -> 303.13 | L22: =VLOOKUP(AC22,$U$20:$AB$27,6) -> 69.16 | O22: PCP - pontos Cartola pró | U22: 3 | V22: =IF(OR('2ª FASE - GRUPOS I a P'!F568="",'2ª FASE - GRUPOS I a P'!F568=""),"",'2ª FASE - GRUPOS I a P'!E506) -> leitemoça 3 | W22: =SUM(Q33,Q42,Q51,Q56,C67,C75,Q82) -> 9 | X22: =SUM(H33,H42,H51,H56,F67,F75,H82) -> 272.48 | Y22: =SUM(F33,F42,F51,F56,H67,H75,F82) -> 348.8 | Z22: =X22-Y22 -> -76.32 | AA22: =(W22*10^10)+((Z22+5000)*10^6)+(X22*10)+U22 -> 9.4923683e+10 | AB22: =LARGE($AA$20:$AA$27,U22) -> 1.2506916e+11 | AC22: =MATCH(AB22,$AA$20:$AA$27,0) -> 4
D23: 4º | E23: =VLOOKUP(AC23,$U$20:$AB$27,2) -> Fluminense do Lins | F23: =VLOOKUP(AC23,$U$20:$AB$27,3) -> 12 | H23: =VLOOKUP(AC23,$U$20:$AB$27,4) -> 324.27 | J23: =VLOOKUP(AC23,$U$20:$AB$27,5) -> 308.93 | L23: =VLOOKUP(AC23,$U$20:$AB$27,6) -> 15.34 | O23: PCC - pontos Cartola contra | U23: 4 | V23: =IF(OR('2ª FASE - GRUPOS A a H'!F83="",'2ª FASE - GRUPOS A a H'!F83=""),"",'2ª FASE - GRUPOS A a H'!E22) -> MagoLitos F.C | W23: =SUM(Q32,Q43,Q50,Q57,C66,C74,C82) -> 12 | X23: =SUM(H32,H43,H50,H57,F66,F74,F82) -> 372.29 | Y23: =SUM(F32,F43,F50,F57,H66,H74,H82) -> 303.13 | Z23: =X23-Y23 -> 69.16 | AA23: =(W23*10^10)+((Z23+5000)*10^6)+(X23*10)+U23 -> 1.2506916e+11 | AB23: =LARGE($AA$20:$AA$27,U23) -> 1.2501534e+11 | AC23: =MATCH(AB23,$AA$20:$AA$27,0) -> 8
D24: 5º | E24: =VLOOKUP(AC24,$U$20:$AB$27,2) -> VaVillon | F24: =VLOOKUP(AC24,$U$20:$AB$27,3) -> 12 | H24: =VLOOKUP(AC24,$U$20:$AB$27,4) -> 282.07 | J24: =VLOOKUP(AC24,$U$20:$AB$27,5) -> 297.59 | L24: =VLOOKUP(AC24,$U$20:$AB$27,6) -> -15.52 | O24: SP - saldo de pontos | U24: 5 | V24: =IF(OR('2ª FASE - GRUPOS I a P'!F568="",'2ª FASE - GRUPOS I a P'!F568=""),"",'2ª FASE - GRUPOS I a P'!E505) -> VaVillon | W24: =SUM(C35,C43,C51,C59,Q64,Q73,Q81) -> 12 | X24: =SUM(F35,F43,F51,F59,H64,H73,H81) -> 282.07 | Y24: =SUM(H35,H43,H51,H59,F64,F73,F81) -> 297.59 | Z24: =X24-Y24 -> -15.52 | AA24: =(W24*10^10)+((Z24+5000)*10^6)+(X24*10)+U24 -> 1.2498448e+11 | AB24: =LARGE($AA$20:$AA$27,U24) -> 1.2498448e+11 | AC24: =MATCH(AB24,$AA$20:$AA$27,0) -> 5
D25: 6º | E25: =VLOOKUP(AC25,$U$20:$AB$27,2) -> TriCa PaNAtuBA | F25: =VLOOKUP(AC25,$U$20:$AB$27,3) -> 9 | H25: =VLOOKUP(AC25,$U$20:$AB$27,4) -> 307.27 | J25: =VLOOKUP(AC25,$U$20:$AB$27,5) -> 285.13 | L25: =VLOOKUP(AC25,$U$20:$AB$27,6) -> 22.14 | U25: 6 | V25: =IF(OR('2ª FASE - GRUPOS A a H'!F83="",'2ª FASE - GRUPOS A a H'!F83=""),"",'2ª FASE - GRUPOS A a H'!E21) -> Al-Jazira F.c | W25: =SUM(C34,C42,C50,C58,Q65,Q72,C81) -> 15 | X25: =SUM(F34,F42,F50,F58,H65,H72,F81) -> 357.13 | Y25: =SUM(H34,H42,H50,H58,F65,F72,H81) -> 328.23 | Z25: =X25-Y25 -> 28.9 | AA25: =(W25*10^10)+((Z25+5000)*10^6)+(X25*10)+U25 -> 1.550289e+11 | AB25: =LARGE($AA$20:$AA$27,U25) -> 9.5022143e+10 | AC25: =MATCH(AB25,$AA$20:$AA$27,0) -> 2
D26: 7º | E26: =VLOOKUP(AC26,$U$20:$AB$27,2) -> leitemoça 3 | F26: =VLOOKUP(AC26,$U$20:$AB$27,3) -> 9 | H26: =VLOOKUP(AC26,$U$20:$AB$27,4) -> 272.48 | J26: =VLOOKUP(AC26,$U$20:$AB$27,5) -> 348.8 | L26: =VLOOKUP(AC26,$U$20:$AB$27,6) -> -76.32 | U26: 7 | V26: =IF(OR('2ª FASE - GRUPOS I a P'!F568="",'2ª FASE - GRUPOS I a P'!F568=""),"",'2ª FASE - GRUPOS I a P'!E504) -> mala$ fc ... | W26: =SUM(C33,C41,C49,C57,C65,C73,Q80,) -> 15 | X26: =SUM(F33,F41,F49,F57,F65,F73,H80) -> 356.67 | Y26: =SUM(H33,H41,H49,H57,H65,H73,F80) -> 273.19 | Z26: =X26-Y26 -> 83.48 | AA26: =(W26*10^10)+((Z26+5000)*10^6)+(X26*10)+U26 -> 1.5508348e+11 | AB26: =LARGE($AA$20:$AA$27,U26) -> 9.4923683e+10 | AC26: =MATCH(AB26,$AA$20:$AA$27,0) -> 3
D27: 8º | E27: =VLOOKUP(AC27,$U$20:$AB$27,2) -> GAMBAZADA F.C | F27: =VLOOKUP(AC27,$U$20:$AB$27,3) -> 0 | H27: =VLOOKUP(AC27,$U$20:$AB$27,4) -> 190.94 | J27: =VLOOKUP(AC27,$U$20:$AB$27,5) -> 318.12 | L27: =VLOOKUP(AC27,$U$20:$AB$27,6) -> -127.18 | U27: 8 | V27: =IF(OR('2ª FASE - GRUPOS A a H'!F83="",'2ª FASE - GRUPOS A a H'!F83=""),"",'2ª FASE - GRUPOS A a H'!E20) -> Fluminense do Lins | W27: =SUM(C32,C40,C48,C56,C64,C72,C80) -> 12 | X27: =SUM(F32,F40,F48,F56,F64,F72,F80) -> 324.27 | Y27: =SUM(H32,H40,H48,H56,H64,H72,H80) -> 308.93 | Z27: =X27-Y27 -> 15.34 | AA27: =(W27*10^10)+((Z27+5000)*10^6)+(X27*10)+U27 -> 1.2501534e+11 | AB27: =LARGE($AA$20:$AA$27,U27) -> 4.8728219e+09 | AC27: =MATCH(AB27,$AA$20:$AA$27,0) -> 1
D29: 1ª RODADA - #14
C32: =IF(OR(F32="",H32=""),"",IF(F32=H32,1,IF(F32>H32,3,0))) -> 0 | D32: =V27 -> Fluminense do Lins | F32: 45.39 | G32: x | H32: 67.42 | I32: =V23 -> MagoLitos F.C | Q32: =IF(OR(H32="",F32=""),"",IF(H32=F32,1,IF(H32>F32,3,0))) -> 3
C33: =IF(OR(F33="",H33=""),"",IF(F33=H33,1,IF(F33>H33,3,0))) -> 0 | D33: =V26 -> mala$ fc ... | F33: 74.35 | G33: x | H33: 77.19 | I33: =V22 -> leitemoça 3 | Q33: =IF(OR(H33="",F33=""),"",IF(H33=F33,1,IF(H33>F33,3,0))) -> 3
C34: =IF(OR(F34="",H34=""),"",IF(F34=H34,1,IF(F34>H34,3,0))) -> 3 | D34: =V25 -> Al-Jazira F.c | F34: 58.79 | G34: x | H34: 52.94 | I34: =V21 -> TriCa PaNAtuBA | Q34: =IF(OR(H34="",F34=""),"",IF(H34=F34,1,IF(H34>F34,3,0))) -> 0
C35: =IF(OR(F35="",H35=""),"",IF(F35=H35,1,IF(F35>H35,3,0))) -> 3 | D35: =V24 -> VaVillon | F35: 38.79 | G35: x | H35: 29.29 | I35: =V20 -> GAMBAZADA F.C | Q35: =IF(OR(H35="",F35=""),"",IF(H35=F35,1,IF(H35>F35,3,0))) -> 0
C36: =IF(OR(F36="",H36=""),"",IF(F36=H36,1,IF(F36>H36,3,0))) | Q36: =IF(OR(H36="",F36=""),"",IF(H36=F36,1,IF(H36>F36,3,0)))
C37: =IF(OR(F37="",H37=""),"",IF(F37=H37,1,IF(F37>H37,3,0))) | D37: 2ª RODADA - #15 | Q37: =IF(OR(H37="",F37=""),"",IF(H37=F37,1,IF(H37>F37,3,0)))
C38: =IF(OR(F38="",H38=""),"",IF(F38=H38,1,IF(F38>H38,3,0))) | Q38: =IF(OR(H38="",F38=""),"",IF(H38=F38,1,IF(H38>F38,3,0)))
C39: =IF(OR(F39="",H39=""),"",IF(F39=H39,1,IF(F39>H39,3,0))) | Q39: =IF(OR(H39="",F39=""),"",IF(H39=F39,1,IF(H39>F39,3,0)))
C40: =IF(OR(F40="",H40=""),"",IF(F40=H40,1,IF(F40>H40,3,0))) -> 3 | D40: =V27 -> Fluminense do Lins | F40: 54.94 | G40: x | H40: 36.08 | I40: =V20 -> GAMBAZADA F.C | Q40: =IF(OR(H40="",F40=""),"",IF(H40=F40,1,IF(H40>F40,3,0))) -> 0
C41: =IF(OR(F41="",H41=""),"",IF(F41=H41,1,IF(F41>H41,3,0))) -> 3 | D41: =V26 -> mala$ fc ... | F41: 57.75 | G41: x | H41: 40.29 | I41: =V21 -> TriCa PaNAtuBA | Q41: =IF(OR(H41="",F41=""),"",IF(H41=F41,1,IF(H41>F41,3,0))) -> 0
C42: =IF(OR(F42="",H42=""),"",IF(F42=H42,1,IF(F42>H42,3,0))) -> 3 | D42: =V25 -> Al-Jazira F.c | F42: 77.4 | G42: x | H42: 40.74 | I42: =V22 -> leitemoça 3 | Q42: =IF(OR(H42="",F42=""),"",IF(H42=F42,1,IF(H42>F42,3,0))) -> 0
C43: =IF(OR(F43="",H43=""),"",IF(F43=H43,1,IF(F43>H43,3,0))) -> 3 | D43: =V24 -> VaVillon | F43: 72.74 | G43: x | H43: 65.24 | I43: =V23 -> MagoLitos F.C | Q43: =IF(OR(H43="",F43=""),"",IF(H43=F43,1,IF(H43>F43,3,0))) -> 0
C44: =IF(OR(F44="",H44=""),"",IF(F44=H44,1,IF(F44>H44,3,0))) | Q44: =IF(OR(H44="",F44=""),"",IF(H44=F44,1,IF(H44>F44,3,0)))
C45: =IF(OR(F45="",H45=""),"",IF(F45=H45,1,IF(F45>H45,3,0))) | D45: 3ª RODADA - #16 | Q45: =IF(OR(H45="",F45=""),"",IF(H45=F45,1,IF(H45>F45,3,0)))
C46: =IF(OR(F46="",H46=""),"",IF(F46=H46,1,IF(F46>H46,3,0))) | Q46: =IF(OR(H46="",F46=""),"",IF(H46=F46,1,IF(H46>F46,3,0)))
C47: =IF(OR(F47="",H47=""),"",IF(F47=H47,1,IF(F47>H47,3,0))) | Q47: =IF(OR(H47="",F47=""),"",IF(H47=F47,1,IF(H47>F47,3,0)))
C48: =IF(OR(F48="",H48=""),"",IF(F48=H48,1,IF(F48>H48,3,0))) -> 3 | D48: =V27 -> Fluminense do Lins | F48: 54.67 | G48: x | H48: 39.55 | I48: =V21 -> TriCa PaNAtuBA | Q48: =IF(OR(H48="",F48=""),"",IF(H48=F48,1,IF(H48>F48,3,0))) -> 0
C49: =IF(OR(F49="",H49=""),"",IF(F49=H49,1,IF(F49>H49,3,0))) -> 3 | D49: =V26 -> mala$ fc ... | F49: 37.77 | G49: x | H49: 19.36 | I49: =V20 -> GAMBAZADA F.C | Q49: =IF(OR(H49="",F49=""),"",IF(H49=F49,1,IF(H49>F49,3,0))) -> 0
C50: =IF(OR(F50="",H50=""),"",IF(F50=H50,1,IF(F50>H50,3,0))) -> 3 | D50: =V25 -> Al-Jazira F.c | F50: 51.95 | G50: x | H50: 49.42 | I50: =V23 -> MagoLitos F.C | Q50: =IF(OR(H50="",F50=""),"",IF(H50=F50,1,IF(H50>F50,3,0))) -> 0
C51: =IF(OR(F51="",H51=""),"",IF(F51=H51,1,IF(F51>H51,3,0))) -> 0 | D51: =V24 -> VaVillon | F51: 42.45 | G51: x | H51: 43.45 | I51: =V22 -> leitemoça 3 | Q51: =IF(OR(H51="",F51=""),"",IF(H51=F51,1,IF(H51>F51,3,0))) -> 3
C52: =IF(OR(F52="",H52=""),"",IF(F52=H52,1,IF(F52>H52,3,0))) | Q52: =IF(OR(H52="",F52=""),"",IF(H52=F52,1,IF(H52>F52,3,0)))
C53: =IF(OR(F53="",H53=""),"",IF(F53=H53,1,IF(F53>H53,3,0))) | D53: 4ª RODADA - #17 | Q53: =IF(OR(H53="",F53=""),"",IF(H53=F53,1,IF(H53>F53,3,0)))
C54: =IF(OR(F54="",H54=""),"",IF(F54=H54,1,IF(F54>H54,3,0))) | Q54: =IF(OR(H54="",F54=""),"",IF(H54=F54,1,IF(H54>F54,3,0)))
C55: =IF(OR(F55="",H55=""),"",IF(F55=H55,1,IF(F55>H55,3,0))) | Q55: =IF(OR(H55="",F55=""),"",IF(H55=F55,1,IF(H55>F55,3,0)))
C56: =IF(OR(F56="",H56=""),"",IF(F56=H56,1,IF(F56>H56,3,0))) -> 3 | D56: =V27 -> Fluminense do Lins | F56: 36.05 | G56: x | H56: 22.17 | I56: =V22 -> leitemoça 3 | Q56: =IF(OR(H56="",F56=""),"",IF(H56=F56,1,IF(H56>F56,3,0))) -> 0
...

Sheet 4ª FASE - GRUPOS 1 a 8
B2: 1º CAMPEONATO CARTOLA 2013
B6: 4ª FASE
D10: CLASSIFICAÇÃO
D15: OBS: Os 2 melhores colocados no Grupo se classificarão para a 5ª FASE.
D17: GRUPO 1
D19: Pos. | E19: CARTOLA | F19: P | H19: PP | J19: PC | L19: SP | O19: Legenda | U19: Pos. | V19: TIMES | W19: P | X19: GF | Y19: GC | Z19: SG | AA19: calc | AB19: maior | AC19: corresp
D20: 1º | E20: =VLOOKUP(AC20,$U$20:$AB$23,2) -> Grajaú F.C. | F20: =VLOOKUP(AC20,$U$20:$AB$23,3) -> 15 | H20: =VLOOKUP(AC20,$U$20:$AB$23,4) -> 357.66 | J20: =VLOOKUP(AC20,$U$20:$AB$23,5) -> 268.39 | L20: =VLOOKUP(AC20,$U$20:$AB$23,6) -> 89.27 | O20: P - pontos | U20: 1 | V20: =IF(OR('3ª FASE - GRUPOS Q a X'!F83="",'3ª FASE - GRUPOS Q a X'!F83=""),"",'3ª FASE - GRUPOS Q a X'!E23) -> Fluminense do Lins | W20: =SUM(Q28,Q35,Q41,Q46,Q53,Q59) -> 6 | X20: =SUM(H28,H35,H41,H46,H53,H59) -> 299.92 | Y20: =SUM(F28,F35,F41,F46,F53,F59) -> 297.4 | Z20: =X20-Y20 -> 2.52 | AA20: =(W20*10^10)+((Z20+5000)*10^6)+(X20*10)+U20 -> 6.5002523e+10 | AB20: =LARGE($AA$20:$AA$23,U20) -> 1.5508927e+11 | AC20: =MATCH(AB20,$AA$20:$AA$23,0) -> 2
D21: 2º | E21: =VLOOKUP(AC21,$U$20:$AB$23,2) -> Alisando Cresce | F21: =VLOOKUP(AC21,$U$20:$AB$23,3) -> 9 | H21: =VLOOKUP(AC21,$U$20:$AB$23,4) -> 266.13 | J21: =VLOOKUP(AC21,$U$20:$AB$23,5) -> 333.94 | L21: =VLOOKUP(AC21,$U$20:$AB$23,6) -> -67.81 | O21: PCP - pontos Cartola pró | U21: 2 | V21: =IF(OR('3ª FASE - GRUPOS Q a X'!F568="",'3ª FASE - GRUPOS Q a X'!F568=""),"",'3ª FASE - GRUPOS Q a X'!E506) -> Grajaú F.C. | W21: =SUM(Q29,Q34,Q47,Q52,C41,C59) -> 15 | X21: =SUM(H29,H34,F41,H47,H52,F59) -> 357.66 | Y21: =SUM(F29,F34,H41,F47,F52,H59) -> 268.39 | Z21: =X21-Y21 -> 89.27 | AA21: =(W21*10^10)+((Z21+5000)*10^6)+(X21*10)+U21 -> 1.5508927e+11 | AB21: =LARGE($AA$20:$AA$23,U21) -> 9.4932193e+10 | AC21: =MATCH(AB21,$AA$20:$AA$23,0) -> 3
D22: 3º | E22: =VLOOKUP(AC22,$U$20:$AB$23,2) -> Fluminense do Lins | F22: =VLOOKUP(AC22,$U$20:$AB$23,3) -> 6 | H22: =VLOOKUP(AC22,$U$20:$AB$23,4) -> 299.92 | J22: =VLOOKUP(AC22,$U$20:$AB$23,5) -> 297.4 | L22: =VLOOKUP(AC22,$U$20:$AB$23,6) -> 2.52 | O22: PCC - pontos Cartola contra | U22: 3 | V22: =IF(OR('3ª FASE - GRUPOS Q a X'!F568="",'3ª FASE - GRUPOS Q a X'!F568=""),"",'3ª FASE - GRUPOS Q a X'!E505) -> Alisando Cresce | W22: =SUM(C29,C35,Q40,C47,C53,Q58) -> 9 | X22: =SUM(F29,F35,H40,F47,F53,H58) -> 266.13 | Y22: =SUM(H29,H35,F40,H47,H53,F58) -> 333.94 | Z22: =X22-Y22 -> -67.81 | AA22: =(W22*10^10)+((Z22+5000)*10^6)+(X22*10)+U22 -> 9.4932193e+10 | AB22: =LARGE($AA$20:$AA$23,U22) -> 6.5002523e+10 | AC22: =MATCH(AB22,$AA$20:$AA$23,0) -> 1
D23: 4º | E23: =VLOOKUP(AC23,$U$20:$AB$23,2) -> mala$ fc ... | F23: =VLOOKUP(AC23,$U$20:$AB$23,3) -> 6 | H23: =VLOOKUP(AC23,$U$20:$AB$23,4) -> 266.16 | J23: =VLOOKUP(AC23,$U$20:$AB$23,5) -> 290.14 | L23: =VLOOKUP(AC23,$U$20:$AB$23,6) -> -23.98 | O23: SP - saldo de pontos | U23: 4 | V23: =IF(OR('3ª FASE - GRUPOS Q a X'!F83="",'3ª FASE - GRUPOS Q a X'!F83=""),"",'3ª FASE - GRUPOS Q a X'!E20) -> mala$ fc ... | W23: =SUM(C28,C34,C40,C46,C52,C58) -> 6 | X23: =SUM(F28,F34,F40,F46,F52,F58) -> 266.16 | Y23: =SUM(H28,H34,H40,H46,H52,H58) -> 290.14 | Z23: =X23-Y23 -> -23.98 | AA23: =(W23*10^10)+((Z23+5000)*10^6)+(X23*10)+U23 -> 6.4976023e+10 | AB23: =LARGE($AA$20:$AA$23,U23) -> 6.4976023e+10 | AC23: =MATCH(AB23,$AA$20:$AA$23,0) -> 4
D25: 1ª RODADA - #21
C28: =IF(OR(F28="",H28=""),"",IF(F28=H28,1,IF(F28>H28,3,0))) -> 0 | D28: =V23 -> mala$ fc ... | F28: 41.54 | G28: x | H28: 49.52 | I28: =V20 -> Fluminense do Lins | Q28: =IF(OR(H28="",F28=""),"",IF(H28=F28,1,IF(H28>F28,3,0))) -> 3
C29: =IF(OR(F29="",H29=""),"",IF(F29=H29,1,IF(F29>H29,3,0))) -> 0 | D29: =V22 -> Alisando Cresce | F29: 45.39 | G29: x | H29: 65.24 | I29: =V21 -> Grajaú F.C. | Q29: =IF(OR(H29="",F29=""),"",IF(H29=F29,1,IF(H29>F29,3,0))) -> 3
C30: =IF(OR(F30="",H30=""),"",IF(F30=H30,1,IF(F30>H30,3,0))) | Q30: =IF(OR(H30="",F30=""),"",IF(H30=F30,1,IF(H30>F30,3,0)))
C31: =IF(OR(F31="",H31=""),"",IF(F31=H31,1,IF(F31>H31,3,0))) | D31: 2ª RODADA - #22 | Q31: =IF(OR(H31="",F31=""),"",IF(H31=F31,1,IF(H31>F31,3,0)))
C32: =IF(OR(F32="",H32=""),"",IF(F32=H32,1,IF(F32>H32,3,0))) | Q32: =IF(OR(H32="",F32=""),"",IF(H32=F32,1,IF(H32>F32,3,0)))
C33: =IF(OR(F33="",H33=""),"",IF(F33=H33,1,IF(F33>H33,3,0))) | Q33: =IF(OR(H33="",F33=""),"",IF(H33=F33,1,IF(H33>F33,3,0)))
C34: =IF(OR(F34="",H34=""),"",IF(F34=H34,1,IF(F34>H34,3,0))) -> 0 | D34: =V23 -> mala$ fc ... | F34: 55.05 | G34: x | H34: 61.5 | I34: =V21 -> Grajaú F.C. | Q34: =IF(OR(H34="",F34=""),"",IF(H34=F34,1,IF(H34>F34,3,0))) -> 3
C35: =IF(OR(F35="",H35=""),"",IF(F35=H35,1,IF(F35>H35,3,0))) -> 3 | D35: =V22 -> Alisando Cresce | F35: 63 | G35: x | H35: 59.8 | I35: =V20 -> Fluminense do Lins | Q35: =IF(OR(H35="",F35=""),"",IF(H35=F35,1,IF(H35>F35,3,0))) -> 0
C36: =IF(OR(F36="",H36=""),"",IF(F36=H36,1,IF(F36>H36,3,0))) | Q36: =IF(OR(H36="",F36=""),"",IF(H36=F36,1,IF(H36>F36,3,0)))
C37: =IF(OR(F37="",H37=""),"",IF(F37=H37,1,IF(F37>H37,3,0))) | D37: 3ª RODADA - #23 | Q37: =IF(OR(H37="",F37=""),"",IF(H37=F37,1,IF(H37>F37,3,0)))
C38: =IF(OR(F38="",H38=""),"",IF(F38=H38,1,IF(F38>H38,3,0))) | Q38: =IF(OR(H38="",F38=""),"",IF(H38=F38,1,IF(H38>F38,3,0)))
C39: =IF(OR(F39="",H39=""),"",IF(F39=H39,1,IF(F39>H39,3,0))) | Q39: =IF(OR(H39="",F39=""),"",IF(H39=F39,1,IF(H39>F39,3,0)))
C40: =IF(OR(F40="",H40=""),"",IF(F40=H40,1,IF(F40>H40,3,0))) -> 3 | D40: =V23 -> mala$ fc ... | F40: 52.54 | G40: x | H40: 33.42 | I40: =V22 -> Alisando Cresce | Q40: =IF(OR(H40="",F40=""),"",IF(H40=F40,1,IF(H40>F40,3,0))) -> 0
C41: =IF(OR(F41="",H41=""),"",IF(F41=H41,1,IF(F41>H41,3,0))) -> 3 | D41: =V21 -> Grajaú F.C. | F41: 35.44 | G41: x | H41: 25.15 | I41: =V20 -> Fluminense do Lins | Q41: =IF(OR(H41="",F41=""),"",IF(H41=F41,1,IF(H41>F41,3,0))) -> 0
C42: =IF(OR(F42="",H42=""),"",IF(F42=H42,1,IF(F42>H42,3,0))) | Q42: =IF(OR(H42="",F42=""),"",IF(H42=F42,1,IF(H42>F42,3,0)))
C43: =IF(OR(F43="",H43=""),"",IF(F43=H43,1,IF(F43>H43,3,0))) | D43: 4ª RODADA - #24 | Q43: =IF(OR(H43="",F43=""),"",IF(H43=F43,1,IF(H43>F43,3,0)))
C44: =IF(OR(F44="",H44=""),"",IF(F44=H44,1,IF(F44>H44,3,0))) | Q44: =IF(OR(H44="",F44=""),"",IF(H44=F44,1,IF(H44>F44,3,0)))
C45: =IF(OR(F45="",H45=""),"",IF(F45=H45,1,IF(F45>H45,3,0))) | Q45: =IF(OR(H45="",F45=""),"",IF(H45=F45,1,IF(H45>F45,3,0)))
C46: =IF(OR(F46="",H46=""),"",IF(F46=H46,1,IF(F46>H46,3,0))) -> 3 | D46: =V23 -> mala$ fc ... | F46: 56.75 | G46: x | H46: 50.92 | I46: =V20 -> Fluminense do Lins | Q46: =IF(OR(H46="",F46=""),"",IF(H46=F46,1,IF(H46>F46,3,0))) -> 0
C47: =IF(OR(F47="",H47=""),"",IF(F47=H47,1,IF(F47>H47,3,0))) -> 0 | D47: =V22 -> Alisando Cresce | F47: 44.2 | G47: x | H47: 80.15 | I47: =V21 -> Grajaú F.C. | Q47: =IF(OR(H47="",F47=""),"",IF(H47=F47,1,IF(H47>F47,3,0))) -> 3
C48: =IF(OR(F48="",H48=""),"",IF(F48=H48,1,IF(F48>H48,3,0))) | Q48: =IF(OR(H48="",F48=""),"",IF(H48=F48,1,IF(H48>F48,3,0)))
C49: =IF(OR(F49="",H49=""),"",IF(F49=H49,1,IF(F49>H49,3,0))) | D49: 5ª RODADA - #25 | Q49: =IF(OR(H49="",F49=""),"",IF(H49=F49,1,IF(H49>F49,3,0)))
C50: =IF(OR(F50="",H50=""),"",IF(F50=H50,1,IF(F50>H50,3,0))) | Q50: =IF(OR(H50="",F50=""),"",IF(H50=F50,1,IF(H50>F50,3,0)))
C51: =IF(OR(F51="",H51=""),"",IF(F51=H51,1,IF(F51>H51,3,0))) | Q51: =IF(OR(H51="",F51=""),"",IF(H51=F51,1,IF(H51>F51,3,0)))
C52: =IF(OR(F52="",H52=""),"",IF(F52=H52,1,IF(F52>H52,3,0))) -> 0 | D52: =V23 -> mala$ fc ... | F52: 27.98 | G52: x | H52: 61.41 | I52: =V21 -> Grajaú F.C. | Q52: =IF(OR(H52="",F52=""),"",IF(H52=F52,1,IF(H52>F52,3,0))) -> 3
C53: =IF(OR(F53="",H53=""),"",IF(F53=H53,1,IF(F53>H53,3,0))) -> 3 | D53: =V22 -> Alisando Cresce | F53: 46.75 | G53: x | H53: 43.91 | I53: =V20 -> Fluminense do Lins | Q53: =IF(OR(H53="",F53=""),"",IF(H53=F53,1,IF(H53>F53,3,0))) -> 0
C54: =IF(OR(F54="",H54=""),"",IF(F54=H54,1,IF(F54>H54,3,0))) | Q54: =IF(OR(H54="",F54=""),"",IF(H54=F54,1,IF(H54>F54,3,0)))
C55: =IF(OR(F55="",H55=""),"",IF(F55=H55,1,IF(F55>H55,3,0))) | D55: 6ª RODADA - #26 | Q55: =IF(OR(H55="",F55=""),"",IF(H55=F55,1,IF(H55>F55,3,0)))
C56: =IF(OR(F56="",H56=""),"",IF(F56=H56,1,IF(F56>H56,3,0))) | Q56: =IF(OR(H56="",F56=""),"",IF(H56=F56,1,IF(H56>F56,3,0)))
...

Sheet 5ª FASE - GRUPOS I a IV
B2: 1º CAMPEONATO CARTOLA 2013
B6: 5ª FASE
D10: CLASSIFICAÇÃO
D15: OBS: Os 2 melhores colocados no Grupo se classificarão para a 6ª FASE.
D17: GRUPO I
D19: Pos. | E19: CARTOLA | F19: P | H19: PP | J19: PC | L19: SP | O19: Legenda | U19: Pos. | V19: TIMES | W19: P | X19: GF | Y19: GC | Z19: SG | AA19: calc | AB19: maior | AC19: corresp
D20: 1º | E20: =VLOOKUP(AC20,$U$20:$AB$23,2) -> FC Ladeira !!! | F20: =VLOOKUP(AC20,$U$20:$AB$23,3) -> 3 | H20: =VLOOKUP(AC20,$U$20:$AB$23,4) -> 50.6 | J20: =VLOOKUP(AC20,$U$20:$AB$23,5) -> 21.63 | L20: =VLOOKUP(AC20,$U$20:$AB$23,6) -> 28.97 | O20: P - pontos | U20: 1 | V20: =IF(OR('4ª FASE - GRUPOS 1 a 8'!F367="",'4ª FASE - GRUPOS 1 a 8'!F367=""),"",'4ª FASE - GRUPOS 1 a 8'!E329) -> Al-Jazira F.c | W20: =SUM(Q28,Q35,Q41,Q46,Q52,Q59) -> 0 | X20: =SUM(H28,H35,H41,H46,H53,H59) -> 16.73 | Y20: =SUM(F28,F35,F41,F46,F53,F59) -> 28.63 | Z20: =X20-Y20 -> -11.9 | AA20: =(W20*10^10)+((Z20+5000)*10^6)+(X20*10)+U20 -> 4.9881002e+09 | AB20: =LARGE($AA$20:$AA$23,U20) -> 35028970509 | AC20: =MATCH(AB20,$AA$20:$AA$23,0) -> 3
D21: 2º | E21: =VLOOKUP(AC21,$U$20:$AB$23,2) -> Grajaú F.C. | F21: =VLOOKUP(AC21,$U$20:$AB$23,3) -> 3 | H21: =VLOOKUP(AC21,$U$20:$AB$23,4) -> 28.63 | J21: =VLOOKUP(AC21,$U$20:$AB$23,5) -> 16.73 | L21: =VLOOKUP(AC21,$U$20:$AB$23,6) -> 11.9 | O21: PCP - pontos Cartola pró | U21: 2 | V21: =IF(OR('4ª FASE - GRUPOS 1 a 8'!F59="",'4ª FASE - GRUPOS 1 a 8'!F59=""),"",'4ª FASE - GRUPOS 1 a 8'!E21) -> Alisando Cresce | W21: =SUM(Q29,Q34,Q47,Q52,C41,C59) -> 0 | X21: =SUM(H29,H34,F41,H47,H52,F59) -> 21.63 | Y21: =SUM(F29,F34,H41,F47,F52,H59) -> 50.6 | Z21: =X21-Y21 -> -28.97 | AA21: =(W21*10^10)+((Z21+5000)*10^6)+(X21*10)+U21 -> 4.9710302e+09 | AB21: =LARGE($AA$20:$AA$23,U21) -> 3.50119e+10 | AC21: =MATCH(AB21,$AA$20:$AA$23,0) -> 4
D22: 3º | E22: =VLOOKUP(AC22,$U$20:$AB$23,2) -> Al-Jazira F.c | F22: =VLOOKUP(AC22,$U$20:$AB$23,3) -> 0 | H22: =VLOOKUP(AC22,$U$20:$AB$23,4) -> 16.73 | J22: =VLOOKUP(AC22,$U$20:$AB$23,5) -> 28.63 | L22: =VLOOKUP(AC22,$U$20:$AB$23,6) -> -11.9 | O22: PCC - pontos Cartola contra | U22: 3 | V22: =IF(OR('4ª FASE - GRUPOS 1 a 8'!F367="",'4ª FASE - GRUPOS 1 a 8'!F367=""),"",'4ª FASE - GRUPOS 1 a 8'!E328) -> FC Ladeira !!! | W22: =SUM(C29,C35,Q40,C47,C53,Q58) -> 3 | X22: =SUM(F29,F35,H40,F47,F53,H58) -> 50.6 | Y22: =SUM(H29,H35,F40,H47,H53,F58) -> 21.63 | Z22: =X22-Y22 -> 28.97 | AA22: =(W22*10^10)+((Z22+5000)*10^6)+(X22*10)+U22 -> 35028970509 | AB22: =LARGE($AA$20:$AA$23,U22) -> 4.9881002e+09 | AC22: =MATCH(AB22,$AA$20:$AA$23,0) -> 1
D23: 4º | E23: =VLOOKUP(AC23,$U$20:$AB$23,2) -> Alisando Cresce | F23: =VLOOKUP(AC23,$U$20:$AB$23,3) -> 0 | H23: =VLOOKUP(AC23,$U$20:$AB$23,4) -> 21.63 | J23: =VLOOKUP(AC23,$U$20:$AB$23,5) -> 50.6 | L23: =VLOOKUP(AC23,$U$20:$AB$23,6) -> -28.97 | O23: SP - saldo de pontos | U23: 4 | V23: =IF(OR('4ª FASE - GRUPOS 1 a 8'!F59="",'4ª FASE - GRUPOS 1 a 8'!F59=""),"",'4ª FASE - GRUPOS 1 a 8'!E20) -> Grajaú F.C. | W23: =SUM(C28,C34,C40,C46,C52,C58) -> 3 | X23: =SUM(F28,F34,F40,F46,F52,F58) -> 28.63 | Y23: =SUM(H28,H34,H40,H46,H52,H58) -> 16.73 | Z23: =X23-Y23 -> 11.9 | AA23: =(W23*10^10)+((Z23+5000)*10^6)+(X23*10)+U23 -> 3.50119e+10 | AB23: =LARGE($AA$20:$AA$23,U23) -> 4.9710302e+09 | AC23: =MATCH(AB23,$AA$20:$AA$23,0) -> 2
D25: 1ª RODADA - #27
C28: =IF(OR(F28="",H28=""),"",IF(F28=H28,1,IF(F28>H28,3,0))) -> 3 | D28: =V23 -> Grajaú F.C. | F28: 28.63 | G28: x | H28: 16.73 | I28: =V20 -> Al-Jazira F.c | Q28: =IF(OR(H28="",F28=""),"",IF(H28=F28,1,IF(H28>F28,3,0))) -> 0
C29: =IF(OR(F29="",H29=""),"",IF(F29=H29,1,IF(F29>H29,3,0))) -> 3 | D29: =V22 -> FC Ladeira !!! | F29: 50.6 | G29: x | H29: 21.63 | I29: =V21 -> Alisando Cresce | Q29: =IF(OR(H29="",F29=""),"",IF(H29=F29,1,IF(H29>F29,3,0))) -> 0
C30: =IF(OR(F30="",H30=""),"",IF(F30=H30,1,IF(F30>H30,3,0))) | Q30: =IF(OR(H30="",F30=""),"",IF(H30=F30,1,IF(H30>F30,3,0)))
C31: =IF(OR(F31="",H31=""),"",IF(F31=H31,1,IF(F31>H31,3,0))) | D31: 2ª RODADA - #28 | Q31: =IF(OR(H31="",F31=""),"",IF(H31=F31,1,IF(H31>F31,3,0)))
C32: =IF(OR(F32="",H32=""),"",IF(F32=H32,1,IF(F32>H32,3,0))) | Q32: =IF(OR(H32="",F32=""),"",IF(H32=F32,1,IF(H32>F32,3,0)))
C33: =IF(OR(F33="",H33=""),"",IF(F33=H33,1,IF(F33>H33,3,0))) | Q33: =IF(OR(H33="",F33=""),"",IF(H33=F33,1,IF(H33>F33,3,0)))
C34: =IF(OR(F34="",H34=""),"",IF(F34=H34,1,IF(F34>H34,3,0))) | D34: =V23 -> Grajaú F.C. | G34: x | I34: =V21 -> Alisando Cresce | Q34: =IF(OR(H34="",F34=""),"",IF(H34=F34,1,IF(H34>F34,3,0)))
C35: =IF(OR(F35="",H35=""),"",IF(F35=H35,1,IF(F35>H35,3,0))) | D35: =V22 -> FC Ladeira !!! | G35: x | I35: =V20 -> Al-Jazira F.c | Q35: =IF(OR(H35="",F35=""),"",IF(H35=F35,1,IF(H35>F35,3,0)))
C36: =IF(OR(F36="",H36=""),"",IF(F36=H36,1,IF(F36>H36,3,0))) | Q36: =IF(OR(H36="",F36=""),"",IF(H36=F36,1,IF(H36>F36,3,0)))
C37: =IF(OR(F37="",H37=""),"",IF(F37=H37,1,IF(F37>H37,3,0))) | D37: 3ª RODADA - #29 | Q37: =IF(OR(H37="",F37=""),"",IF(H37=F37,1,IF(H37>F37,3,0)))
C38: =IF(OR(F38="",H38=""),"",IF(F38=H38,1,IF(F38>H38,3,0))) | Q38: =IF(OR(H38="",F38=""),"",IF(H38=F38,1,IF(H38>F38,3,0)))
C39: =IF(OR(F39="",H39=""),"",IF(F39=H39,1,IF(F39>H39,3,0))) | Q39: =IF(OR(H39="",F39=""),"",IF(H39=F39,1,IF(H39>F39,3,0)))
C40: =IF(OR(F40="",H40=""),"",IF(F40=H40,1,IF(F40>H40,3,0))) | D40: =V23 -> Grajaú F.C. | G40: x | I40: =V22 -> FC Ladeira !!! | Q40: =IF(OR(H40="",F40=""),"",IF(H40=F40,1,IF(H40>F40,3,0)))
C41: =IF(OR(F41="",H41=""),"",IF(F41=H41,1,IF(F41>H41,3,0))) | D41: =V21 -> Alisando Cresce | G41: x | I41: =V20 -> Al-Jazira F.c | Q41: =IF(OR(H41="",F41=""),"",IF(H41=F41,1,IF(H41>F41,3,0)))
C42: =IF(OR(F42="",H42=""),"",IF(F42=H42,1,IF(F42>H42,3,0))) | Q42: =IF(OR(H42="",F42=""),"",IF(H42=F42,1,IF(H42>F42,3,0)))
C43: =IF(OR(F43="",H43=""),"",IF(F43=H43,1,IF(F43>H43,3,0))) | D43: 4ª RODADA - #30 | Q43: =IF(OR(H43="",F43=""),"",IF(H43=F43,1,IF(H43>F43,3,0)))
C44: =IF(OR(F44="",H44=""),"",IF(F44=H44,1,IF(F44>H44,3,0))) | Q44: =IF(OR(H44="",F44=""),"",IF(H44=F44,1,IF(H44>F44,3,0)))
C45: =IF(OR(F45="",H45=""),"",IF(F45=H45,1,IF(F45>H45,3,0))) | Q45: =IF(OR(H45="",F45=""),"",IF(H45=F45,1,IF(H45>F45,3,0)))
C46: =IF(OR(F46="",H46=""),"",IF(F46=H46,1,IF(F46>H46,3,0))) | D46: =V23 -> Grajaú F.C. | G46: x | I46: =V20 -> Al-Jazira F.c | Q46: =IF(OR(H46="",F46=""),"",IF(H46=F46,1,IF(H46>F46,3,0)))
C47: =IF(OR(F47="",H47=""),"",IF(F47=H47,1,IF(F47>H47,3,0))) | D47: =V22 -> FC Ladeira !!! | G47: x | I47: =V21 -> Alisando Cresce | Q47: =IF(OR(H47="",F47=""),"",IF(H47=F47,1,IF(H47>F47,3,0)))
C48: =IF(OR(F48="",H48=""),"",IF(F48=H48,1,IF(F48>H48,3,0))) | Q48: =IF(OR(H48="",F48=""),"",IF(H48=F48,1,IF(H48>F48,3,0)))
C49: =IF(OR(F49="",H49=""),"",IF(F49=H49,1,IF(F49>H49,3,0))) | D49: 5ª RODADA - #31 | Q49: =IF(OR(H49="",F49=""),"",IF(H49=F49,1,IF(H49>F49,3,0)))
C50: =IF(OR(F50="",H50=""),"",IF(F50=H50,1,IF(F50>H50,3,0))) | Q50: =IF(OR(H50="",F50=""),"",IF(H50=F50,1,IF(H50>F50,3,0)))
C51: =IF(OR(F51="",H51=""),"",IF(F51=H51,1,IF(F51>H51,3,0))) | Q51: =IF(OR(H51="",F51=""),"",IF(H51=F51,1,IF(H51>F51,3,0)))
C52: =IF(OR(F52="",H52=""),"",IF(F52=H52,1,IF(F52>H52,3,0))) | D52: =V23 -> Grajaú F.C. | G52: x | I52: =V21 -> Alisando Cresce | Q52: =IF(OR(H52="",F52=""),"",IF(H52=F52,1,IF(H52>F52,3,0)))
C53: =IF(OR(F53="",H53=""),"",IF(F53=H53,1,IF(F53>H53,3,0))) | D53: =V22 -> FC Ladeira !!! | G53: x | I53: =V20 -> Al-Jazira F.c | Q53: =IF(OR(H53="",F53=""),"",IF(H53=F53,1,IF(H53>F53,3,0)))
C54: =IF(OR(F54="",H54=""),"",IF(F54=H54,1,IF(F54>H54,3,0))) | Q54: =IF(OR(H54="",F54=""),"",IF(H54=F54,1,IF(H54>F54,3,0)))
C55: =IF(OR(F55="",H55=""),"",IF(F55=H55,1,IF(F55>H55,3,0))) | D55: 6ª RODADA - #32 | Q55: =IF(OR(H55="",F55=""),"",IF(H55=F55,1,IF(H55>F55,3,0)))
C56: =IF(OR(F56="",H56=""),"",IF(F56=H56,1,IF(F56>H56,3,0))) | Q56: =IF(OR(H56="",F56=""),"",IF(H56=F56,1,IF(H56>F56,3,0)))
...

Sheet 6ª FASE - FINAIS
B2: 1º CAMPEONATO CARTOLA 2013
B6: 6ª FASE
B10: QUARTAS DE FINAIS
J13: RODADAS #33 e 34
B15: J1 | D15: =IF(OR('5ª FASE - GRUPOS I a IV'!F59="",'5ª FASE - GRUPOS I a IV'!F59=""),"",'5ª FASE - GRUPOS I a IV'!E20) | M15: X | O15: =IF(OR('5ª FASE - GRUPOS I a IV'!F191="",'5ª FASE - GRUPOS I a IV'!F191=""),"",'5ª FASE - GRUPOS I a IV'!E153) | Z15: =IF(OR(Q15="",O15=""),"",IF(Q15=O15,1,IF(Q15>O15,3,0)))
M16: X
L17: =IF(OR(L15="",N15=""),"",SUM(L15:L16)) | N17: =IF(OR(N15="",L15=""),"",SUM(N15:N16))
B18: J2 | D18: =IF(OR('5ª FASE - GRUPOS I a IV'!F103="",'5ª FASE - GRUPOS I a IV'!F103=""),"",'5ª FASE - GRUPOS I a IV'!E64) | M18: X | O18: =IF(OR('5ª FASE - GRUPOS I a IV'!F147="",'5ª FASE - GRUPOS I a IV'!F147=""),"",'5ª FASE - GRUPOS I a IV'!E109) | AB18: =IF(OR(S18="",Q18=""),"",IF(S18=Q18,1,IF(S18>Q18,3,0)))
M19: X
L20: =IF(OR(L18="",N18=""),"",SUM(L18:L19)) | N20: =IF(OR(L18="",N18=""),"",SUM(N18:N19))
B21: J3 | D21: =IF(OR('5ª FASE - GRUPOS I a IV'!G147="",'5ª FASE - GRUPOS I a IV'!F147=""),"",'5ª FASE - GRUPOS I a IV'!E108) | M21: X | O21: =IF(OR('5ª FASE - GRUPOS I a IV'!F103="",'5ª FASE - GRUPOS I a IV'!F103=""),"",'5ª FASE - GRUPOS I a IV'!E65)
M22: X
L23: =IF(OR(L21="",N21=""),"",SUM(L21:L22)) | N23: =IF(OR(N21="",L21=""),"",SUM(N21:N22))
B24: J4 | D24: =IF(OR('5ª FASE - GRUPOS I a IV'!F191="",'5ª FASE - GRUPOS I a IV'!F191=""),"",'5ª FASE - GRUPOS I a IV'!E152) | M24: X | O24: =IF(OR('5ª FASE - GRUPOS I a IV'!F59="",'5ª FASE - GRUPOS I a IV'!F59=""),"",'5ª FASE - GRUPOS I a IV'!E21)
M25: X
L26: =IF(OR(L24="",N24=""),"",SUM(L24:L25)) | N26: =IF(OR(L24="",N24=""),"",SUM(N24:N25))
B28: SEMI-FINAL
J31: RODADAS #35 e 36
B33: J5 | D33: =IF(OR(L17="",N17=""),"",IF(L17>N17,D15,O15)) | M33: X | O33: =IF(OR(L20="",N20=""),"",IF(L20>N20,D18,O18))
M34: X
L35: =IF(OR(L33="",N33=""),"",SUM(L33:L34)) | N35: =IF(OR(L33="",N33=""),"",SUM(N33:N34))
B36: J6 | D36: =IF(OR(L23="",N23=""),"",IF(L23>N23,D21,O21)) | M36: X | O36: =IF(OR(L26="",N26=""),"",IF(L26>N26,D24,O24))
M37: X
