Workbook

Sheet MENU
B2: 1º CAMPEONATO CARTOLA 2013
B22: GRUPO A

Sheet 1ª FASE  - ELIMINATÓRIAS
B2: 1º CAMPEONATO CARTOLA 2013
B7: 1ª FASE
B12: OBS: Os 128 cartolas melhores colocados classificarão para a 2ª fase.
B14: ELIMINATÓRIAS
B18: POS | C18: CARTOLA | D18: #3 | E18: #4 | F18: #5 | G18: #6 | H18: TOTAL | I18: total | N18: pos | O18: cartola | P18: total | Q18: calc | R18: maior | S18: corresp
B19: 1º | C19: MagoLitos F.C | D19: 81.98 | E19: 25.91 | F19: 62.69 | G19: 75.94 | H19: =SUM(D19:G19) -> 246.52 | I19: =IF(OR(G19="",G20=""),"",SUM(D19:G19)) -> 246.52 | N19: 1 | O19: TIME 1 | P19: =SUM(C19:G19) -> 246.52 | Q19: =((P19*10^6)+N19) -> 2.4652e+08 | R19: =LARGE($Q$19:$Q$108,N19) -> 2.4652e+08 | S19: =MATCH(R19,Q$19:Q$108,0) -> 1
B20: 2º | C20: WillianBalao | D20: 69.93 | E20: 43.82 | F20: 71.87 | G20: 53.63 | H20: =SUM(D20:G20) -> 239.25 | I20: =IF(OR(G20="",G21=""),"",SUM(D20:G20)) -> 239.25 | N20: 2 | O20: TIME 2 | P20: =SUM(C20:G20) -> 239.25 | Q20: =((P20*10^6)+N20) -> 239250002 | R20: =LARGE($Q$19:$Q$108,N20) -> 239250002 | S20: =MATCH(R20,Q$19:Q$108,0) -> 2
B21: 3º | C21: MUL4MB4D4 F.C | D21: 62.34 | E21: 51.77 | F21: 68.93 | G21: 49.38 | H21: =SUM(D21:G21) -> 232.42 | I21: =IF(OR(G21="",G22=""),"",SUM(D21:G21)) -> 232.42 | N21: 3 | O21: TIME 3 | P21: =SUM(C21:G21) -> 232.42 | Q21: =((P21*10^6)+N21) -> 2.3242e+08 | R21: =LARGE($Q$19:$Q$108,N21) -> 2.3242e+08 | S21: =MATCH(R21,Q$19:Q$108,0) -> 3
B22: 4º | C22: Opalla F C | D22: 69.04 | E22: 32.1 | F22: 77.19 | G22: 45.86 | H22: =SUM(D22:G22) -> 224.19 | I22: =IF(OR(G22="",G23=""),"",SUM(D22:G22)) -> 224.19 | N22: 4 | O22: TIME 4 | P22: =SUM(C22:G22) -> 224.19 | Q22: =((P22*10^6)+N22) -> 224190004 | R22: =LARGE($Q$19:$Q$108,N22) -> 224190004 | S22: =MATCH(R22,Q$19:Q$108,0) -> 4
B23: 5º | C23: Miúdos FC | D23: 75.92 | E23: 50.87 | F23: 56.05 | G23: 41.02 | H23: =SUM(D23:G23) -> 223.86 | I23: =IF(OR(G23="",G24=""),"",SUM(D23:G23)) -> 223.86 | N23: 5 | O23: TIME 5 | P23: =SUM(C23:G23) -> 223.86 | Q23: =((P23*10^6)+N23) -> 223860005 | R23: =LARGE($Q$19:$Q$108,N23) -> 223860005 | S23: =MATCH(R23,Q$19:Q$108,0) -> 5
B24: 6º | C24: Puro Malte F. C. | D24: 82.34 | E24: 49.13 | F24: 43.55 | G24: 43.76 | H24: =SUM(D24:G24) -> 218.78 | I24: =IF(OR(G24="",G25=""),"",SUM(D24:G24)) -> 218.78 | N24: 6 | O24: TIME 6 | P24: =SUM(C24:G24) -> 218.78 | Q24: =((P24*10^6)+N24) -> 2.1878001e+08 | R24: =LARGE($Q$19:$Q$108,N24) -> 2.1878001e+08 | S24: =MATCH(R24,Q$19:Q$108,0) -> 6
B25: 7º | C25: Botafogo Glorioso xD | D25: 55.62 | E25: 63.57 | F25: 48.03 | G25: 51.08 | H25: =SUM(D25:G25) -> 218.3 | I25: =IF(OR(G25="",G26=""),"",SUM(D25:G25)) -> 218.3 | N25: 7 | O25: TIME 7 | P25: =SUM(C25:G25) -> 218.3 | Q25: =((P25*10^6)+N25) -> 218300007 | R25: =LARGE($Q$19:$Q$108,N25) -> 218300007 | S25: =MATCH(R25,Q$19:Q$108,0) -> 7
B26: 8º | C26: FC Ladeira !!! | D26: 78.24 | E26: 46.77 | F26: 46.53 | G26: 44.71 | H26: =SUM(D26:G26) -> 216.25 | I26: =IF(OR(G26="",G27=""),"",SUM(D26:G26)) -> 216.25 | N26: 8 | O26: TIME 8 | P26: =SUM(C26:G26) -> 216.25 | Q26: =((P26*10^6)+N26) -> 216250008 | R26: =LARGE($Q$19:$Q$108,N26) -> 216250008 | S26: =MATCH(R26,Q$19:Q$108,0) -> 8
B27: 9º | C27: F.C JSA All-Stars | D27: 74.12 | E27: 51.37 | F27: 41.34 | G27: 49.21 | H27: =SUM(D27:G27) -> 216.04 | I27: =IF(OR(G27="",G28=""),"",SUM(D27:G27)) -> 216.04 | N27: 9 | O27: TIME 9 | P27: =SUM(C27:G27) -> 216.04 | Q27: =((P27*10^6)+N27) -> 2.1604001e+08 | R27: =LARGE($Q$19:$Q$108,N27) -> 2.1604001e+08 | S27: =MATCH(R27,Q$19:Q$108,0) -> 9
B28: 10º | C28: Casinha da Grazi | D28: 58.74 | E28: 39.57 | F28: 68.45 | G28: 48.22 | H28: =SUM(D28:G28) -> 214.98 | I28: =IF(OR(G28="",G29=""),"",SUM(D28:G28)) -> 214.98 | N28: 10 | O28: TIME 10 | P28: =SUM(C28:G28) -> 214.98 | Q28: =((P28*10^6)+N28) -> 214980010 | R28: =LARGE($Q$19:$Q$108,N28) -> 214980010 | S28: =MATCH(R28,Q$19:Q$108,0) -> 10
B29: 11º | C29: C.R RedBull FC | D29: 72.94 | E29: 38.7 | F29: 48.75 | G29: 52.21 | H29: =SUM(D29:G29) -> 212.6 | I29: =IF(OR(G29="",G30=""),"",SUM(D29:G29)) -> 212.6 | N29: 11 | O29: TIME 11 | P29: =SUM(C29:G29) -> 212.6 | Q29: =((P29*10^6)+N29) -> 212600011 | R29: =LARGE($Q$19:$Q$108,N29) -> 212600011 | S29: =MATCH(R29,Q$19:Q$108,0) -> 11
B30: 12º | C30: Nao intendo futebol | D30: 56.44 | E30: 59.67 | F30: 57.03 | G30: 39.18 | H30: =SUM(D30:G30) -> 212.32 | I30: =IF(OR(G30="",G31=""),"",SUM(D30:G30)) -> 212.32 | N30: 12 | O30: TIME 12 | P30: =SUM(C30:G30) -> 212.32 | Q30: =((P30*10^6)+N30) -> 212320012 | R30: =LARGE($Q$19:$Q$108,N30) -> 212320012 | S30: =MATCH(R30,Q$19:Q$108,0) -> 12
... B108: 90º | C108: Taay BFR | D108: 35.64 | E108: 40.62 | F108: 40.23 | G108: 47.98 | H108: =SUM(D108:G108) -> 164.47 | I108: =IF(OR(G108="",G109=""),"",SUM(D108:G108)) -> 164.47 | N108: 90 | O108: TIME 90 | P108: =SUM(C108:G108) -> 164.47 | Q108: =((P108*10^6)+N108) -> 1.6447009e+08 | R108: =LARGE($Q$19:$Q$108,N108) -> 1.6447009e+08 | S108: =MATCH(R108,Q$19:Q$108,0) -> 90
B109: 91º | C109: CAFÉ FC RJ | D109: 49.84 | E109: 32.17 | F109: 38.77 | G109: 43.63 | H109: =SUM(D109:G109) -> 164.41 | I109: =IF(OR(G109="",G110=""),"",SUM(D109:G109)) -> 164.41 | P109: =SUM(C109:G109) -> 164.41
B110: 92º | C110: Alegousados F.C | D110: 46.6 | E110: 34.21 | F110: 59.13 | G110: 23.95 | H110: =SUM(D110:G110) -> 163.89 | I110: =IF(OR(G110="",G111=""),"",SUM(D110:G110)) -> 163.89 | P110: =SUM(C110:G110) -> 163.89
B111: 93º | C111: max pane | D111: 29.7 | E111: 52.25 | F111: 59.09 | G111: 22.16 | H111: =SUM(D111:G111) -> 163.2 | I111: =IF(OR(G111="",G112=""),"",SUM(D111:G111)) -> 163.2 | P111: =SUM(C111:G111) -> 163.2
B112: 94º | C112: INSULADOS F. R. | D112: 52.88 | E112: 21.67 | F112: 48.19 | G112: 38.66 | H112: =SUM(D112:G112) -> 161.4 | I112: =IF(OR(G112="",G113=""),"",SUM(D112:G112)) -> 161.4 | P112: =SUM(C112:G112) -> 161.4
B113: 95º | C113: Aero Destroyed | D113: 46.44 | E113: 46.21 | F113: 30.63 | G113: 37.95 | H113: =SUM(D113:G113) -> 161.23 | I113: =IF(OR(G113="",G114=""),"",SUM(D113:G113)) -> 161.23 | P113: =SUM(C113:G113) -> 161.23
B114: 96º | C114: Municipal E.C. | D114: 68.74 | E114: 18.91 | F114: 32.73 | G114: 40.52 | H114: =SUM(D114:G114) -> 160.9 | I114: =IF(OR(G114="",G115=""),"",SUM(D114:G114)) -> 160.9 | P114: =SUM(C114:G114) -> 160.9
B115: 97º | C115: alexrrn | D115: 48.43 | E115: 53.5 | F115: 31.95 | G115: 26.12 | H115: =SUM(D115:G115) -> 160 | I115: =IF(OR(G115="",G116=""),"",SUM(D115:G115)) -> 160 | P115: =SUM(C115:G115) -> 160
B116: 98º | C116: Tribe of Gypsies | D116: 52.48 | E116: 35.63 | F116: 33.03 | G116: 38.51 | H116: =SUM(D116:G116) -> 159.65 | I116: =IF(OR(G116="",G117=""),"",SUM(D116:G116)) -> 159.65 | P116: =SUM(C116:G116) -> 159.65
B117: 99º | C117: Marrecos F.C . | D117: 52.24 | E117: 23.87 | F117: 45.63 | G117: 37.58 | H117: =SUM(D117:G117) -> 159.32 | I117: =IF(OR(G117="",G118=""),"",SUM(D117:G117)) -> 159.32 | P117: =SUM(C117:G117) -> 159.32
B118: 100º | C118: M0nsters FC | D118: 49.88 | E118: 43.42 | F118: 26.54 | G118: 39.28 | H118: =SUM(D118:G118) -> 159.12 | I118: =IF(OR(G118="",G119=""),"",SUM(D118:G118)) -> 159.12 | P118: =SUM(C118:G118) -> 159.12
B119: 101º | C119: SóMerdinha FC | D119: 20.83 | E119: 31.9 | F119: 47.53 | G119: 58.44 | H119: =SUM(D119:G119) -> 158.7 | I119: =IF(OR(G119="",G120=""),"",SUM(D119:G119)) -> 158.7 | P119: =SUM(C119:G119) -> 158.7
B120: 102º | C120: sadivalenti | D120: 38.82 | E120: 30.37 | F120: 30.6 | G120: 57.58 | H120: =SUM(D120:G120) -> 157.37 | I120: =IF(OR(G120="",G121=""),"",SUM(D120:G120)) -> 157.37 | P120: =SUM(C120:G120) -> 157.37
... B167: 149º | C167: Pipico Jr. FC | D167: 31.94 | E167: 13.97 | F167: 30.33 | G167: 54.75 | H167: =SUM(D167:G167) -> 130.99 | I167: =IF(OR(G167="",G168=""),"",SUM(D167:G167)) -> 130.99 | P167: =SUM(C167:G167) -> 130.99
B168: 150º | C168: wallacebaeta | D168: 22.78 | E168: 28.21 | F168: 31.15 | G168: 47.91 | H168: =SUM(D168:G168) -> 130.05 | I168: =IF(OR(G168="",G167=""),"",SUM(D168:G168)) -> 130.05 | P168: =SUM(C168:G168) -> 130.05
B169: 151º | C169: agua de coentro | D169: 38.13 | E169: 37.15 | F169: 31.35 | G169: 23.4 | H169: =SUM(D169:G169) -> 130.03 | I169: =IF(OR(G169="",G168=""),"",SUM(D169:G169)) -> 130.03 | P169: =SUM(C169:G169) -> 130.03
B170: 152º | C170: jirayaaaafc | D170: 63.62 | E170: 30.95 | F170: 34.53 | G170: 0 | H170: =SUM(D170:G170) -> 129.1 | I170: =IF(OR(G170="",G169=""),"",SUM(D170:G170)) -> 129.1 | P170: =SUM(C170:G170) -> 129.1
B171: 153º | C171: blackcock fc | D171: 47.64 | E171: 29.3 | F171: 41.49 | G171: 10.28 | H171: =SUM(D171:G171) -> 128.71 | I171: =IF(OR(G171="",G170=""),"",SUM(D171:G171)) -> 128.71 | P171: =SUM(C171:G171) -> 128.71
B172: 154º | C172: MetalHeadBanger FC | D172: 37.32 | E172: 32.07 | F172: 29.85 | G172: 29.42 | H172: =SUM(D172:G172) -> 128.66 | I172: =IF(OR(G172="",G171=""),"",SUM(D172:G172)) -> 128.66 | P172: =SUM(C172:G172) -> 128.66
B173: 155º | C173: C. R. Matheus Souza | D173: 34.64 | E173: 19.17 | F173: 53.25 | G173: 20.83 | H173: =SUM(D173:G173) -> 127.89 | I173: =IF(OR(G173="",G172=""),"",SUM(D173:G173)) -> 127.89 | P173: =SUM(C173:G173) -> 127.89
B174: 156º | C174: Dinossauros da Raça | D174: 34.14 | E174: 44.47 | F174: 33.13 | G174: 14.85 | H174: =SUM(D174:G174) -> 126.59 | I174: =IF(OR(G174="",G173=""),"",SUM(D174:G174)) -> 126.59 | P174: =SUM(C174:G174) -> 126.59
B175: 157º | C175: Mini Crack Team | D175: 41.22 | E175: 24.62 | F175: 31.2 | G175: 29.5 | H175: =SUM(D175:G175) -> 126.54 | I175: =IF(OR(G175="",G174=""),"",SUM(D175:G175)) -> 126.54 | P175: =SUM(C175:G175) -> 126.54
B176: 158º | C176: Xiinguu F,C | D176: 96.24 | E176: 29.72 | F176: 0 | G176: 0 | H176: =SUM(D176:G176) -> 125.96 | I176: =IF(OR(G176="",G175=""),"",SUM(D176:G176)) -> 125.96 | P176: =SUM(C176:G176) -> 125.96
B177: 159º | C177: FlaDaniel F.C. | D177: 54.94 | E177: 22.87 | F177: 23.75 | G177: 24.32 | H177: =SUM(D177:G177) -> 125.88 | I177: =IF(OR(G177="",G176=""),"",SUM(D177:G177)) -> 125.88 | P177: =SUM(C177:G177) -> 125.88
B178: 160º | C178: sheraafc | D178: 29.42 | E178: 39.07 | F178: 34.35 | G178: 22.52 | H178: =SUM(D178:G178) -> 125.36 | I178: =IF(OR(G178="",G177=""),"",SUM(D178:G178)) -> 125.36 | P178: =SUM(C178:G178) -> 125.36
B179: 161º | C179: Timão! Again 2012 | D179: 27.94 | E179: 41 | F179: 17.1 | G179: 39.1 | H179: =SUM(D179:G179) -> 125.14 | I179: =IF(OR(G179="",G178=""),"",SUM(D179:G179)) -> 125.14 | P179: =SUM(C179:G179) -> 125.14
... B207: 189º | C207: pipico17milgols | D207: 2.93 | E207: 29.81 | F207: 0 | G207: 0 | H207: =SUM(D207:G207) -> 32.74 | I207: =IF(OR(G207="",G206=""),"",SUM(D207:G207)) -> 32.74 | P207: =SUM(C207:G207) -> 32.74

Sheet 2ª FASE - GRUPOS A a H
B2: 1º CAMPEONATO CARTOLA 2013
B6: 2ª FASE
D10: CLASSIFICAÇÃO
D15: OBS: Os 4 melhores colocados no Grupo se classificarão para a 3ª FASE.
D17: GRUPO A
D19: Pos. | E19: CARTOLA | F19: P | H19: PP | J19: PC | L19: SP | U19: Pos. | V19: TIMES | W19: P | X19: GF | Y19: GC | Z19: SG | AA19: calc | AB19: maior | AC19: corresp
D20: 1º | E20: =VLOOKUP(AC20,$U$20:$AB$27,2) -> Fluminense do Lins | F20: =VLOOKUP(AC20,$U$20:$AB$27,3) -> 18 | H20: =VLOOKUP(AC20,$U$20:$AB$27,4) -> 366.85 | J20: =VLOOKUP(AC20,$U$20:$AB$27,5) -> 241.97 | L20: =VLOOKUP(AC20,$U$20:$AB$27,6) -> 124.88 | O20: Legenda | U20: 1 | V20: =IF(OR('1ª FASE - ELIMINATÓRIAS'!I19="",'1ª FASE - ELIMINATÓRIAS'!I20=""),"",'1ª FASE - ELIMINATÓRIAS'!C146) -> TriCa PaNAtuBA | W20: =SUM(Q35,Q40,Q49,Q58,Q66,Q75,Q83) -> 12 | X20: =SUM(H35,H40,H49,H58,H66,H75,H83) -> 326.94 | Y20: =SUM(F35,F40,F49,F58,F66,F75,F83) -> 368.14 | Z20: =X20-Y20 -> -41.2 | AA20: =(W20*10^10)+((Z20+5000)*10^6)+(X20*10)+U20 -> 1.249588e+11 | AB20: =LARGE($AA$20:$AA$27,U20) -> 1.8512488e+11 | AC20: =MATCH(AB20,$AA$20:$AA$27,0) -> 2
D21: 2º | E21: =VLOOKUP(AC21,$U$20:$AB$27,2) -> Al-Jazira F.c | F21: =VLOOKUP(AC21,$U$20:$AB$27,3) -> 12 | H21: =VLOOKUP(AC21,$U$20:$AB$27,4) -> 334.4 | J21: =VLOOKUP(AC21,$U$20:$AB$27,5) -> 290.42 | L21: =VLOOKUP(AC21,$U$20:$AB$27,6) -> 43.98 | O21: P - pontos | U21: 2 | V21: =IF(OR('1ª FASE - ELIMINATÓRIAS'!I34="",'1ª FASE - ELIMINATÓRIAS'!I35=""),"",'1ª FASE - ELIMINATÓRIAS'!C130) -> Fluminense do Lins | W21: =SUM(Q34,Q41,Q48,Q59,Q67,Q74,C83) -> 18 | X21: =SUM(H34,H41,H48,H59,H67,H74,F83) -> 366.85 | Y21: =SUM(F34,F41,F48,F59,F67,F74,H83) -> 241.97 | Z21: =X21-Y21 -> 124.88 | AA21: =(W21*10^10)+((Z21+5000)*10^6)+(X21*10)+U21 -> 1.8512488e+11 | AB21: =LARGE($AA$20:$AA$27,U21) -> 125043983348 | AC21: =MATCH(AB21,$AA$20:$AA$27,0) -> 4
D22: 3º | E22: =VLOOKUP(AC22,$U$20:$AB$27,2) -> MagoLitos F.C | F22: =VLOOKUP(AC22,$U$20:$AB$27,3) -> 12 | H22: =VLOOKUP(AC22,$U$20:$AB$27,4) -> 325.25 | J22: =VLOOKUP(AC22,$U$20:$AB$27,5) -> 295.04 | L22: =VLOOKUP(AC22,$U$20:$AB$27,6) -> 30.21 | O22: PCP - pontos Cartola pró | U22: 3 | V22: =IF(OR('1ª FASE - ELIMINATÓRIAS'!I42="",'1ª FASE - ELIMINATÓRIAS'!I41=""),"",'1ª FASE - ELIMINATÓRIAS'!C114) -> Municipal E.C. | W22: =SUM(Q33,Q42,Q51,Q56,C67,C75,Q82) -> 9 | X22: =SUM(H33,H42,H51,H56,F67,F75,H82) -> 312.02 | Y22: =SUM(F33,F42,F51,F56,H67,H75,F82) -> 354.07 | Z22: =X22-Y22 -> -42.05 | AA22: =(W22*10^10)+((Z22+5000)*10^6)+(X22*10)+U22 -> 9.4957953e+10 | AB22: =LARGE($AA$20:$AA$27,U22) -> 1.2503021e+11 | AC22: =MATCH(AB22,$AA$20:$AA$27,0) -> 8
D23: 4º | E23: =VLOOKUP(AC23,$U$20:$AB$27,2) -> TriCa PaNAtuBA | F23: =VLOOKUP(AC23,$U$20:$AB$27,3) -> 12 | H23: =VLOOKUP(AC23,$U$20:$AB$27,4) -> 326.94 | J23: =VLOOKUP(AC23,$U$20:$AB$27,5) -> 368.14 | L23: =VLOOKUP(AC23,$U$20:$AB$27,6) -> -41.2 | O23: PCC - pontos Cartola contra | U23: 4 | V23: =IF(OR('1ª FASE - ELIMINATÓRIAS'!I50="",'1ª FASE - ELIMINATÓRIAS'!I49=""),"",'1ª FASE - ELIMINATÓRIAS'!C98) -> Al-Jazira F.c | W23: =SUM(Q32,Q43,Q50,Q57,C66,C74,C82) -> 12 | X23: =SUM(H32,H43,H50,H57,F66,F74,F82) -> 334.4 | Y23: =SUM(F32,F43,F50,F57,H66,H74,H82) -> 290.42 | Z23: =X23-Y23 -> 43.98 | AA23: =(W23*10^10)+((Z23+5000)*10^6)+(X23*10)+U23 -> 125043983348 | AB23: =LARGE($AA$20:$AA$27,U23) -> 1.249588e+11 | AC23: =MATCH(AB23,$AA$20:$AA$27,0) -> 1
D24: 5º | E24: =VLOOKUP(AC24,$U$20:$AB$27,2) -> MADRI FLA FC | F24: =VLOOKUP(AC24,$U$20:$AB$27,3) -> 9 | H24: =VLOOKUP(AC24,$U$20:$AB$27,4) -> 307.11 | J24: =VLOOKUP(AC24,$U$20:$AB$27,5) -> 310.02 | L24: =VLOOKUP(AC24,$U$20:$AB$27,6) -> -2.91 | O24: SP - saldo de pontos | U24: 5 | V24: =IF(OR('1ª FASE - ELIMINATÓRIAS'!I58="",'1ª FASE - ELIMINATÓRIAS'!I57=""),"",'1ª FASE - ELIMINATÓRIAS'!C82) -> G.Santana EC | W24: =SUM(C35,C43,C51,C59,Q64,Q73,Q81) -> 6 | X24: =SUM(F35,F43,F51,F59,H64,H73,H81) -> 306.67 | Y24: =SUM(H35,H43,H51,H59,F64,F73,F81) -> 327.73 | Z24: =X24-Y24 -> -21.06 | AA24: =(W24*10^10)+((Z24+5000)*10^6)+(X24*10)+U24 -> 6.4978943e+10 | AB24: =LARGE($AA$20:$AA$27,U24) -> 9.4997093e+10 | AC24: =MATCH(AB24,$AA$20:$AA$27,0) -> 7
D25: 6º | E25: =VLOOKUP(AC25,$U$20:$AB$27,2) -> Municipal E.C. | F25: =VLOOKUP(AC25,$U$20:$AB$27,3) -> 9 | H25: =VLOOKUP(AC25,$U$20:$AB$27,4) -> 312.02 | J25: =VLOOKUP(AC25,$U$20:$AB$27,5) -> 354.07 | L25: =VLOOKUP(AC25,$U$20:$AB$27,6) -> -42.05 | U25: 6 | V25: =IF(OR('1ª FASE - ELIMINATÓRIAS'!I66="",'1ª FASE - ELIMINATÓRIAS'!I65=""),"",'1ª FASE - ELIMINATÓRIAS'!C66) -> NICKA SC | W25: =SUM(C34,C42,C50,C58,Q65,Q72,C81) -> 6 | X25: =SUM(F34,F42,F50,F58,H65,H72,F81) -> 210.66 | Y25: =SUM(H34,H42,H50,H58,F65,F72,H81) -> 302.51 | Z25: =X25-Y25 -> -91.85 | AA25: =(W25*10^10)+((Z25+5000)*10^6)+(X25*10)+U25 -> 6.4908152e+10 | AB25: =LARGE($AA$20:$AA$27,U25) -> 9.4957953e+10 | AC25: =MATCH(AB25,$AA$20:$AA$27,0) -> 3
D26: 7º | E26: =VLOOKUP(AC26,$U$20:$AB$27,2) -> G.Santana EC | F26: =VLOOKUP(AC26,$U$20:$AB$27,3) -> 6 | H26: =VLOOKUP(AC26,$U$20:$AB$27,4) -> 306.67 | J26: =VLOOKUP(AC26,$U$20:$AB$27,5) -> 327.73 | L26: =VLOOKUP(AC26,$U$20:$AB$27,6) -> -21.06 | U26: 7 | V26: =IF(OR('1ª FASE - ELIMINATÓRIAS'!I70="",'1ª FASE - ELIMINATÓRIAS'!I69=""),"",'1ª FASE - ELIMINATÓRIAS'!C50) -> MADRI FLA FC | W26: =SUM(C33,C41,C49,C57,C65,C73,Q80,) -> 9 | X26: =SUM(F33,F41,F49,F57,F65,F73,H80) -> 307.11 | Y26: =SUM(H33,H41,H49,H57,H65,H73,F80) -> 310.02 | Z26: =X26-Y26 -> -2.91 | AA26: =(W26*10^10)+((Z26+5000)*10^6)+(X26*10)+U26 -> 9.4997093e+10 | AB26: =LARGE($AA$20:$AA$27,U26) -> 6.4978943e+10 | AC26: =MATCH(AB26,$AA$20:$AA$27,0) -> 5
D27: 8º | E27: =VLOOKUP(AC27,$U$20:$AB$27,2) -> NICKA SC | F27: =VLOOKUP(AC27,$U$20:$AB$27,3) -> 6 | H27: =VLOOKUP(AC27,$U$20:$AB$27,4) -> 210.66 | J27: =VLOOKUP(AC27,$U$20:$AB$27,5) -> 302.51 | L27: =VLOOKUP(AC27,$U$20:$AB$27,6) -> -91.85 | U27: 8 | V27: =IF(OR('1ª FASE - ELIMINATÓRIAS'!I20="",'1ª FASE - ELIMINATÓRIAS'!I19=""),"",'1ª FASE - ELIMINATÓRIAS'!C19) -> MagoLitos F.C | W27: =SUM(C32,C40,C48,C56,C64,C72,C80) -> 12 | X27: =SUM(F32,F40,F48,F56,F64,F72,F80) -> 325.25 | Y27: =SUM(H32,H40,H48,H56,H64,H72,H80) -> 295.04 | Z27: =X27-Y27 -> 30.21 | AA27: =(W27*10^10)+((Z27+5000)*10^6)+(X27*10)+U27 -> 1.2503021e+11 | AB27: =LARGE($AA$20:$AA$27,U27) -> 6.4908152e+10 | AC27: =MATCH(AB27,$AA$20:$AA$27,0) -> 6
D29: 1ª RODADA - #7
C32: =IF(OR(F32="",H32=""),"",IF(F32=H32,1,IF(F32>H32,3,0))) -> 0 | D32: =V27 -> MagoLitos F.C | F32: 21.12 | G32: x | H32: 64.57 | I32: =V23 -> Al-Jazira F.c | Q32: =IF(OR(H32="",F32=""),"",IF(H32=F32,1,IF(H32>F32,3,0))) -> 3
C33: =IF(OR(F33="",H33=""),"",IF(F33=H33,1,IF(F33>H33,3,0))) -> 0 | D33: =V26 -> MADRI FLA FC | F33: 66.72 | G33: x | H33: 79.02 | I33: =V22 -> Municipal E.C. | Q33: =IF(OR(H33="",F33=""),"",IF(H33=F33,1,IF(H33>F33,3,0))) -> 3
C34: =IF(OR(F34="",H34=""),"",IF(F34=H34,1,IF(F34>H34,3,0))) -> 0 | D34: =V25 -> NICKA SC | F34: 23.52 | G34: x | H34: 62.62 | I34: =V21 -> Fluminense do Lins | Q34: =IF(OR(H34="",F34=""),"",IF(H34=F34,1,IF(H34>F34,3,0))) -> 3
C35: =IF(OR(F35="",H35=""),"",IF(F35=H35,1,IF(F35>H35,3,0))) -> 0 | D35: =V24 -> G.Santana EC | F35: 60.27 | G35: x | H35: 63.95 | I35: =V20 -> TriCa PaNAtuBA | Q35: =IF(OR(H35="",F35=""),"",IF(H35=F35,1,IF(H35>F35,3,0))) -> 3
C36: =IF(OR(F36="",H36=""),"",IF(F36=H36,1,IF(F36>H36,3,0))) | Q36: =IF(OR(H36="",F36=""),"",IF(H36=F36,1,IF(H36>F36,3,0)))
C37: =IF(OR(F37="",H37=""),"",IF(F37=H37,1,IF(F37>H37,3,0))) | D37: 2ª RODADA - #8 | Q37: =IF(OR(H37="",F37=""),"",IF(H37=F37,1,IF(H37>F37,3,0)))
C38: =IF(OR(F38="",H38=""),"",IF(F38=H38,1,IF(F38>H38,3,0))) | Q38: =IF(OR(H38="",F38=""),"",IF(H38=F38,1,IF(H38>F38,3,0)))
C39: =IF(OR(F39="",H39=""),"",IF(F39=H39,1,IF(F39>H39,3,0))) | Q39: =IF(OR(H39="",F39=""),"",IF(H39=F39,1,IF(H39>F39,3,0)))
C40: =IF(OR(F40="",H40=""),"",IF(F40=H40,1,IF(F40>H40,3,0))) -> 3 | D40: =V27 -> MagoLitos F.C | F40: 51.87 | G40: x | H40: 41.37 | I40: =V20 -> TriCa PaNAtuBA | Q40: =IF(OR(H40="",F40=""),"",IF(H40=F40,1,IF(H40>F40,3,0))) -> 0
C41: =IF(OR(F41="",H41=""),"",IF(F41=H41,1,IF(F41>H41,3,0))) -> 0 | D41: =V26 -> MADRI FLA FC | F41: 29.3 | G41: x | H41: 47.35 | I41: =V21 -> Fluminense do Lins | Q41: =IF(OR(H41="",F41=""),"",IF(H41=F41,1,IF(H41>F41,3,0))) -> 3
C42: =IF(OR(F42="",H42=""),"",IF(F42=H42,1,IF(F42>H42,3,0))) -> 0 | D42: =V25 -> NICKA SC | F42: 30.25 | G42: x | H42: 46.45 | I42: =V22 -> Municipal E.C. | Q42: =IF(OR(H42="",F42=""),"",IF(H42=F42,1,IF(H42>F42,3,0))) -> 3
C43: =IF(OR(F43="",H43=""),"",IF(F43=H43,1,IF(F43>H43,3,0))) -> 0 | D43: =V24 -> G.Santana EC | F43: 41.3 | G43: x | H43: 52.4 | I43: =V23 -> Al-Jazira F.c | Q43: =IF(OR(H43="",F43=""),"",IF(H43=F43,1,IF(H43>F43,3,0))) -> 3
C44: =IF(OR(F44="",H44=""),"",IF(F44=H44,1,IF(F44>H44,3,0))) | Q44: =IF(OR(H44="",F44=""),"",IF(H44=F44,1,IF(H44>F44,3,0)))
C45: =IF(OR(F45="",H45=""),"",IF(F45=H45,1,IF(F45>H45,3,0))) | D45: 3ª RODADA - #9 | Q45: =IF(OR(H45="",F45=""),"",IF(H45=F45,1,IF(H45>F45,3,0)))
C46: =IF(OR(F46="",H46=""),"",IF(F46=H46,1,IF(F46>H46,3,0))) | Q46: =IF(OR(H46="",F46=""),"",IF(H46=F46,1,IF(H46>F46,3,0)))
C47: =IF(OR(F47="",H47=""),"",IF(F47=H47,1,IF(F47>H47,3,0))) | Q47: =IF(OR(H47="",F47=""),"",IF(H47=F47,1,IF(H47>F47,3,0)))
C48: =IF(OR(F48="",H48=""),"",IF(F48=H48,1,IF(F48>H48,3,0))) -> 3 | D48: =V27 -> MagoLitos F.C | F48: 53.15 | G48: x | H48: 30.35 | I48: =V21 -> Fluminense do Lins | Q48: =IF(OR(H48="",F48=""),"",IF(H48=F48,1,IF(H48>F48,3,0))) -> 0
C49: =IF(OR(F49="",H49=""),"",IF(F49=H49,1,IF(F49>H49,3,0))) -> 3 | D49: =V26 -> MADRI FLA FC | F49: 68.65 | G49: x | H49: 40.75 | I49: =V20 -> TriCa PaNAtuBA | Q49: =IF(OR(H49="",F49=""),"",IF(H49=F49,1,IF(H49>F49,3,0))) -> 0
C50: =IF(OR(F50="",H50=""),"",IF(F50=H50,1,IF(F50>H50,3,0))) -> 0 | D50: =V25 -> NICKA SC | F50: 40.2 | G50: x | H50: 52.75 | I50: =V23 -> Al-Jazira F.c | Q50: =IF(OR(H50="",F50=""),"",IF(H50=F50,1,IF(H50>F50,3,0))) -> 3
C51: =IF(OR(F51="",H51=""),"",IF(F51=H51,1,IF(F51>H51,3,0))) -> 0 | D51: =V24 -> G.Santana EC | F51: 46.45 | G51: x | H51: 60.35 | I51: =V22 -> Municipal E.C. | Q51: =IF(OR(H51="",F51=""),"",IF(H51=F51,1,IF(H51>F51,3,0))) -> 3
C52: =IF(OR(F52="",H52=""),"",IF(F52=H52,1,IF(F52>H52,3,0))) | Q52: =IF(OR(H52="",F52=""),"",IF(H52=F52,1,IF(H52>F52,3,0)))
C53: =IF(OR(F53="",H53=""),"",IF(F53=H53,1,IF(F53>H53,3,0))) | D53: 4ª RODADA - #10 | Q53: =IF(OR(H53="",F53=""),"",IF(H53=F53,1,IF(H53>F53,3,0)))
C54: =IF(OR(F54="",H54=""),"",IF(F54=H54,1,IF(F54>H54,3,0))) | Q54: =IF(OR(H54="",F54=""),"",IF(H54=F54,1,IF(H54>F54,3,0)))
C55: =IF(OR(F55="",H55=""),"",IF(F55=H55,1,IF(F55>H55,3,0))) | Q55: =IF(OR(H55="",F55=""),"",IF(H55=F55,1,IF(H55>F55,3,0)))
C56: =IF(OR(F56="",H56=""),"",IF(F56=H56,1,IF(F56>H56,3,0))) -> 3 | D56: =V27 -> MagoLitos F.C | F56: 51.39 | G56: x | H56: 22.47 | I56: =V22 -> Municipal E.C. | Q56: =IF(OR(H56="",F56=""),"",IF(H56=F56,1,IF(H56>F56,3,0))) -> 0
C57: =IF(OR(F57="",H57=""),"",IF(F57=H57,1,IF(F57>H57,3,0))) -> 3 | D57: =V26 -> MADRI FLA FC | F57: 44.1 | G57: x | H57: 19.89 | I57: =V23 -> Al-Jazira F.c | Q57: =IF(OR(H57="",F57=""),"",IF(H57=F57,1,IF(H57>F57,3,0))) -> 0
C58: =IF(OR(F58="",H58=""),"",IF(F58=H58,1,IF(F58>H58,3,0))) -> 0 | D58: =V25 -> NICKA SC | F58: 41.09 | G58: x | H58: 50.25 | I58: =V20 -> TriCa PaNAtuBA | Q58: =IF(OR(H58="",F58=""),"",IF(H58=F58,1,IF(H58>F58,3,0))) -> 3
C59: =IF(OR(F59="",H59=""),"",IF(F59=H59,1,IF(F59>H59,3,0))) -> 0 | D59: =V24 -> G.Santana EC | F59: 21.65 | G59: x | H59: 42.1 | I59: =V21 -> Fluminense do Lins | Q59: =IF(OR(H59="",F59=""),"",IF(H59=F59,1,IF(H59>F59,3,0))) -> 3
C60: =IF(OR(F60="",H60=""),"",IF(F60=H60,1,IF(F60>H60,3,0))) | Q60: =IF(OR(H60="",F60=""),"",IF(H60=F60,1,IF(H60>F60,3,0)))
C61: =IF(OR(F61="",H61=""),"",IF(F61=H61,1,IF(F61>H61,3,0))) | D61: 5ª RODADA - #11 | Q61: =IF(OR(H61="",F61=""),"",IF(H61=F61,1,IF(H61>F61,3,0)))
C62: =IF(OR(F62="",H62=""),"",IF(F62=H62,1,IF(F62>H62,3,0))) | Q62: =IF(OR(H62="",F62=""),"",IF(H62=F62,1,IF(H62>F62,3,0)))
C63: =IF(OR(F63="",H63=""),"",IF(F63=H63,1,IF(F63>H63,3,0))) | Q63: =IF(OR(H63="",F63=""),"",IF(H63=F63,1,IF(H63>F63,3,0)))
C64: =IF(OR(F64="",H64=""),"",IF(F64=H64,1,IF(F64>H64,3,0))) -> 0 | D64: =V27 -> MagoLitos F.C | F64: 51.04 | G64: x | H64: 65.97 | I64: =V24 -> G.Santana EC | Q64: =IF(OR(H64="",F64=""),"",IF(H64=F64,1,IF(H64>F64,3,0))) -> 3
C65: =IF(OR(F65="",H65=""),"",IF(F65=H65,1,IF(F65>H65,3,0))) -> 0 | D65: =V26 -> MADRI FLA FC | F65: 20.45 | G65: x | H65: 25.29 | I65: =V25 -> NICKA SC | Q65: =IF(OR(H65="",F65=""),"",IF(H65=F65,1,IF(H65>F65,3,0))) -> 3
C66: =IF(OR(F66="",H66=""),"",IF(F66=H66,1,IF(F66>H66,3,0))) -> 0 | D66: =V23 -> Al-Jazira F.c | F66: 34.5 | G66: x | H66: 42.94 | I66: =V20 -> TriCa PaNAtuBA | Q66: =IF(OR(H66="",F66=""),"",IF(H66=F66,1,IF(H66>F66,3,0))) -> 3
C67: =IF(OR(F67="",H67=""),"",IF(F67=H67,1,IF(F67>H67,3,0))) -> 0 | D67: =V22 -> Municipal E.C. | F67: 29.17 | G67: x | H67: 46.47 | I67: =V21 -> Fluminense do Lins | Q67: =IF(OR(H67="",F67=""),"",IF(H67=F67,1,IF(H67>F67,3,0))) -> 3
C68: =IF(OR(F68="",H68=""),"",IF(F68=H68,1,IF(F68>H68,3,0))) | Q68: =IF(OR(H68="",F68=""),"",IF(H68=F68,1,IF(H68>F68,3,0)))
C69: =IF(OR(F69="",H69=""),"",IF(F69=H69,1,IF(F69>H69,3,0))) | D69: 6ª RODADA - #12 | Q69: =IF(OR(H69="",F69=""),"",IF(H69=F69,1,IF(H69>F69,3,0)))
C70: =IF(OR(F70="",H70=""),"",IF(F70=H70,1,IF(F70>H70,3,0))) | Q70: =IF(OR(H70="",F70=""),"",IF(H70=F70,1,IF(H70>F70,3,0)))
C71: =IF(OR(F71="",H71=""),"",IF(F71=H71,1,IF(F71>H71,3,0))) | Q71: =IF(OR(H71="",F71=""),"",IF(H71=F71,1,IF(H71>F71,3,0)))
C72: =IF(OR(F72="",H72=""),"",IF(F72=H72,1,IF(F72>H72,3,0))) -> 0 | D72: =V27 -> MagoLitos F.C | F72: 39.69 | G72: x | H72: 41.9 | I72: =V25 -> NICKA SC | Q72: =IF(OR(H72="",F72=""),"",IF(H72=F72,1,IF(H72>F72,3,0))) -> 3
C73: =IF(OR(F73="",H73=""),"",IF(F73=H73,1,IF(F73>H73,3,0))) -> 3 | D73: =V26 -> MADRI FLA FC | F73: 49.48 | G73: x | H73: 40.73 | I73: =V24 -> G.Santana EC | Q73: =IF(OR(H73="",F73=""),"",IF(H73=F73,1,IF(H73>F73,3,0))) -> 0
C74: =IF(OR(F74="",H74=""),"",IF(F74=H74,1,IF(F74>H74,3,0))) -> 0 | D74: =V23 -> Al-Jazira F.c | F74: 41.47 | G74: x | H74: 67.97 | I74: =V21 -> Fluminense do Lins | Q74: =IF(OR(H74="",F74=""),"",IF(H74=F74,1,IF(H74>F74,3,0))) -> 3
C75: =IF(OR(F75="",H75=""),"",IF(F75=H75,1,IF(F75>H75,3,0))) -> 0 | D75: =V22 -> Municipal E.C. | F75: 41.77 | G75: x | H75: 43.97 | I75: =V20 -> TriCa PaNAtuBA | Q75: =IF(OR(H75="",F75=""),"",IF(H75=F75,1,IF(H75>F75,3,0))) -> 3
C76: =IF(OR(F76="",H76=""),"",IF(F76=H76,1,IF(F76>H76,3,0))) | Q76: =IF(OR(H76="",F76=""),"",IF(H76=F76,1,IF(H76>F76,3,0)))
C77: =IF(OR(F77="",H77=""),"",IF(F77=H77,1,IF(F77>H77,3,0))) | D77: 7ª RODADA - #13 | Q77: =IF(OR(H77="",F77=""),"",IF(H77=F77,1,IF(H77>F77,3,0)))
C78: =IF(OR(F78="",H78=""),"",IF(F78=H78,1,IF(F78>H78,3,0))) | Q78: =IF(OR(H78="",F78=""),"",IF(H78=F78,1,IF(H78>F78,3,0)))
C79: =IF(OR(F79="",H79=""),"",IF(F79=H79,1,IF(F79>H79,3,0))) | Q79: =IF(OR(H79="",F79=""),"",IF(H79=F79,1,IF(H79>F79,3,0)))
C80: =IF(OR(F80="",H80=""),"",IF(F80=H80,1,IF(F80>H80,3,0))) -> 3 | D80: =V27 -> MagoLitos F.C | F80: 56.99 | G80: x | H80: 28.41 | I80: =V26 -> MADRI FLA FC | Q80: =IF(OR(H80="",F80=""),"",IF(H80=F80,1,IF(H80>F80,3,0))) -> 0
C81: =IF(OR(F81="",H81=""),"",IF(F81=H81,1,IF(F81>H81,3,0))) -> 0 | D81: =V25 -> NICKA SC | F81: 8.41 | G81: x | H81: 30.3 | I81: =V24 -> G.Santana EC | Q81: =IF(OR(H81="",F81=""),"",IF(H81=F81,1,IF(H81>F81,3,0))) -> 3
C82: =IF(OR(F82="",H82=""),"",IF(F82=H82,1,IF(F82>H82,3,0))) -> 3 | D82: =V23 -> Al-Jazira F.c | F82: 68.82 | G82: x | H82: 32.79 | I82: =V22 -> Municipal E.C. | Q82: =IF(OR(H82="",F82=""),"",IF(H82=F82,1,IF(H82>F82,3,0))) -> 0
C83: =IF(OR(F83="",H83=""),"",IF(F83=H83,1,IF(F83>H83,3,0))) -> 3 | D83: =V21 -> Fluminense do Lins | F83: 69.99 | G83: x | H83: 43.71 | I83: =V20 -> TriCa PaNAtuBA | Q83: =IF(OR(H83="",F83=""),"",IF(H83=F83,1,IF(H83>F83,3,0))) -> 0
C84: =IF(OR(F84="",H84=""),"",IF(F84=H84,1,IF(F84>H84,3,0))) | Q84: =IF(OR(H84="",F84=""),"",IF(H84=F84,1,IF(H84>F84,3,0)))
D86: OBS: Os 4 melhores colocados no Grupo se classificarão para a 3ª FASE.
D88: GRUPO B
D90: Pos. | E90: CARTOLA | F90: P | H90: PP | J90: PC | L90: SP | U90: Pos. | V90: TIMES | W90: P | X90: GF | Y90: GC | Z90: SG | AA90: calc | AB90: maior | AC90: corresp
D91: 1º | E91: =VLOOKUP(AC91,$U$91:$Z$98,2) -> WillianBalao | F91: =VLOOKUP(AC91,$U$91:$Z$98,3) -> 15 | H91: =VLOOKUP(AC91,$U$91:$Z$98,4) -> 294.84 | J91: =VLOOKUP(AC91,$U$91:$Z$98,5) -> 271.92 | L91: =VLOOKUP(AC91,$U$91:$Z$98,6) -> 22.92 | O91: Legenda | U91: 1 | V91: =IF(OR('1ª FASE - ELIMINATÓRIAS'!I20="",'1ª FASE - ELIMINATÓRIAS'!I19=""),"",'1ª FASE - ELIMINATÓRIAS'!C145) -> C.R. Trollers | W91: =SUM(Q107,Q112,Q121,Q130,Q138,Q147,Q155) -> 9 | X91: =SUM(H107,H112,H121,H130,H138,H147,H155) -> 232.17 | Y91: =SUM(F107,F112,F121,F130,F138,F147,F155) -> 221.15 | Z91: =X91-Y91 -> 11.02 | AA91: =(W91*10^10)+((Z91+5000)*10^6)+(X91*10)+U91 -> 9.5011022e+10 | AB91: =LARGE($AA$91:$AA$98,U91) -> 1.5502292e+11 | AC91: =MATCH(AB91,$AA$91:$AA$98,0) -> 8
D92: 2º | E92: =VLOOKUP(AC92,$U$91:$Z$98,2) -> CRVG-3000 | F92: =VLOOKUP(AC92,$U$91:$Z$98,3) -> 12 | H92: =VLOOKUP(AC92,$U$91:$Z$98,4) -> 325.73 | J92: =VLOOKUP(AC92,$U$91:$Z$98,5) -> 239.35 | L92: =VLOOKUP(AC92,$U$91:$Z$98,6) -> 86.38 | O92: P - pontos | U92: 2 | V92: =IF(OR('1ª FASE - ELIMINATÓRIAS'!I20="",'1ª FASE - ELIMINATÓRIAS'!I19=""),"",'1ª FASE - ELIMINATÓRIAS'!C129) -> Ninguem Dorme SBC | W92: =SUM(Q106,Q113,Q120,Q131,Q139,Q146,C155) -> 12 | X92: =SUM(H106,H113,H120,H131,H139,H146,F155) -> 274.88 | Y92: =SUM(F106,F113,F120,F131,F139,F146,H155) -> 257.6 | Z92: =X92-Y92 -> 17.28 | AA92: =(W92*10^10)+((Z92+5000)*10^6)+(X92*10)+U92 -> 1.2501728e+11 | AB92: =LARGE($AA$91:$AA$98,U92) -> 1.2508638e+11 | AC92: =MATCH(AB92,$AA$91:$AA$98,0) -> 4
D93: 3º | E93: =VLOOKUP(AC93,$U$91:$Z$98,2) -> Família Timóteo FC | F93: =VLOOKUP(AC93,$U$91:$Z$98,3) -> 12 | H93: =VLOOKUP(AC93,$U$91:$Z$98,4) -> 356.91 | J93: =VLOOKUP(AC93,$U$91:$Z$98,5) -> 292.53 | L93: =VLOOKUP(AC93,$U$91:$Z$98,6) -> 64.38 | O93: PCP - pontos Cartola pró | U93: 3 | V93: =IF(OR('1ª FASE - ELIMINATÓRIAS'!I20="",'1ª FASE - ELIMINATÓRIAS'!I19=""),"",'1ª FASE - ELIMINATÓRIAS'!C113) -> Aero Destroyed | W93: =SUM(Q105,Q114,Q123,Q128,C139,C147,Q154) -> 0 | X93: =SUM(H105,H114,H123,H128,F139,F147,H154) -> 150.41 | Y93: =SUM(F105,F114,F123,F128,H139,H147,F154) -> 323.08 | Z93: =X93-Y93 -> -172.67 | AA93: =(W93*10^10)+((Z93+5000)*10^6)+(X93*10)+U93 -> 4.8273315e+09 | AB93: =LARGE($AA$91:$AA$98,U93) -> 1.2506438e+11 | AC93: =MATCH(AB93,$AA$91:$AA$98,0) -> 6
D94: 4º | E94: =VLOOKUP(AC94,$U$91:$Z$98,2) -> Ninguem Dorme SBC | F94: =VLOOKUP(AC94,$U$91:$Z$98,3) -> 12 | H94: =VLOOKUP(AC94,$U$91:$Z$98,4) -> 274.88 | J94: =VLOOKUP(AC94,$U$91:$Z$98,5) -> 257.6 | L94: =VLOOKUP(AC94,$U$91:$Z$98,6) -> 17.28 | O94: PCC - pontos Cartola contra | U94: 4 | V94: =IF(OR('1ª FASE - ELIMINATÓRIAS'!I20="",'1ª FASE - ELIMINATÓRIAS'!I19=""),"",'1ª FASE - ELIMINATÓRIAS'!C97) -> CRVG-3000 | W94: =SUM(Q104,Q115,Q122,Q129,C138,C146,C154) -> 12 | X94: =SUM(H104,H115,H122,H129,F138,F146,F154) -> 325.73 | Y94: =SUM(F104,F115,F122,F129,H138,H146,H154) -> 239.35 | Z94: =X94-Y94 -> 86.38 | AA94: =(W94*10^10)+((Z94+5000)*10^6)+(X94*10)+U94 -> 1.2508638e+11 | AB94: =LARGE($AA$91:$AA$98,U94) -> 1.2501728e+11 | AC94: =MATCH(AB94,$AA$91:$AA$98,0) -> 2
D95: 5º | E95: =VLOOKUP(AC95,$U$91:$Z$98,2) -> Gambarcelona LINS | F95: =VLOOKUP(AC95,$U$91:$Z$98,3) -> 12 | H95: =VLOOKUP(AC95,$U$91:$Z$98,4) -> 233.31 | J95: =VLOOKUP(AC95,$U$91:$Z$98,5) -> 230.77 | L95: =VLOOKUP(AC95,$U$91:$Z$98,6) -> 2.54 | O95: SP - saldo de pontos | U95: 5 | V95: =IF(OR('1ª FASE - ELIMINATÓRIAS'!I20="",'1ª FASE - ELIMINATÓRIAS'!I19=""),"",'1ª FASE - ELIMINATÓRIAS'!C81) -> F.C.Biage | W95: =SUM(C107,C115,C123,C131,Q136,Q145,Q153) -> 12 | X95: =SUM(F107,F115,F123,F131,H136,H145,H153) -> 259.95 | Y95: =SUM(H107,H115,H123,H131,F136,F145,F153) -> 291.8 | Z95: =X95-Y95 -> -31.85 | AA95: =(W95*10^10)+((Z95+5000)*10^6)+(X95*10)+U95 -> 1.2496815e+11 | AB95: =LARGE($AA$91:$AA$98,U95) -> 1.2500254e+11 | AC95: =MATCH(AB95,$AA$91:$AA$98,0) -> 7
D96: 6º | E96: =VLOOKUP(AC96,$U$91:$Z$98,2) -> F.C.Biage | F96: =VLOOKUP(AC96,$U$91:$Z$98,3) -> 12 | H96: =VLOOKUP(AC96,$U$91:$Z$98,4) -> 259.95 | J96: =VLOOKUP(AC96,$U$91:$Z$98,5) -> 291.8 | L96: =VLOOKUP(AC96,$U$91:$Z$98,6) -> -31.85 | U96: 6 | V96: =IF(OR('1ª FASE - ELIMINATÓRIAS'!I20="",'1ª FASE - ELIMINATÓRIAS'!I19=""),"",'1ª FASE - ELIMINATÓRIAS'!C65) -> Família Timóteo FC | W96: =SUM(C106,C114,C122,C130,Q137,Q144,C153) -> 12 | X96: =SUM(F106,F114,F122,F130,H137,H144,F153) -> 356.91 | Y96: =SUM(H106,H114,H122,H130,F137,F144,H153) -> 292.53 | Z96: =X96-Y96 -> 64.38 | AA96: =(W96*10^10)+((Z96+5000)*10^6)+(X96*10)+U96 -> 1.2506438e+11 | AB96: =LARGE($AA$91:$AA$98,U96) -> 1.2496815e+11 | AC96: =MATCH(AB96,$AA$91:$AA$98,0) -> 5
D97: 7º | E97: =VLOOKUP(AC97,$U$91:$Z$98,2) -> C.R. Trollers | F97: =VLOOKUP(AC97,$U$91:$Z$98,3) -> 9 | H97: =VLOOKUP(AC97,$U$91:$Z$98,4) -> 232.17 | J97: =VLOOKUP(AC97,$U$91:$Z$98,5) -> 221.15 | L97: =VLOOKUP(AC97,$U$91:$Z$98,6) -> 11.02 | U97: 7 | V97: =IF(OR('1ª FASE - ELIMINATÓRIAS'!I20="",'1ª FASE - ELIMINATÓRIAS'!I19=""),"",'1ª FASE - ELIMINATÓRIAS'!C49) -> Gambarcelona LINS | W97: =SUM(C105,C113,C121,C129,C137,C145,Q152) -> 12 | X97: =SUM(F105,F113,F121,F129,F137,F145,H152) -> 233.31 | Y97: =SUM(H105,H113,H121,H129,H137,H145,F152) -> 230.77 | Z97: =X97-Y97 -> 2.54 | AA97: =(W97*10^10)+((Z97+5000)*10^6)+(X97*10)+U97 -> 1.2500254e+11 | AB97: =LARGE($AA$91:$AA$98,U97) -> 9.5011022e+10 | AC97: =MATCH(AB97,$AA$91:$AA$98,0) -> 1
D98: 8º | E98: =VLOOKUP(AC98,$U$91:$Z$98,2) -> Aero Destroyed | F98: =VLOOKUP(AC98,$U$91:$Z$98,3) -> 0 | H98: =VLOOKUP(AC98,$U$91:$Z$98,4) -> 150.41 | J98: =VLOOKUP(AC98,$U$91:$Z$98,5) -> 323.08 | L98: =VLOOKUP(AC98,$U$91:$Z$98,6) -> -172.67 | U98: 8 | V98: =IF(OR('1ª FASE - ELIMINATÓRIAS'!I20="",'1ª FASE - ELIMINATÓRIAS'!I19=""),"",'1ª FASE - ELIMINATÓRIAS'!C20) -> WillianBalao | W98: =SUM(C104,C112,C120,C128,C136,C144,C152) -> 15 | X98: =SUM(F104,F112,F120,F128,F136,F144,F152) -> 294.84 | Y98: =SUM(H104,H112,H120,H128,H136,H144,H152) -> 271.92 | Z98: =X98-Y98 -> 22.92 | AA98: =(W98*10^10)+((Z98+5000)*10^6)+(X98*10)+U98 -> 1.5502292e+11 | AB98: =LARGE($AA$91:$AA$98,U98) -> 4.8273315e+09 | AC98: =MATCH(AB98,$AA$91:$AA$98,0) -> 3
D101: 1ª RODADA - #7
C104: =IF(OR(F104="",H104=""),"",IF(F104=H104,1,IF(F104>H104,3,0))) -> 3 | D104: =V98 -> WillianBalao | F104: 39.39 | G104: x | H104: 34.07 | I104: =V94 -> CRVG-3000 | Q104: =IF(OR(H104="",F104=""),"",IF(H104=F104,1,IF(H104>F104,3,0))) -> 0
C105: =IF(OR(F105="",H105=""),"",IF(F105=H105,1,IF(F105>H105,3,0))) -> 3 | D105: =V97 -> Gambarcelona LINS | F105: 27.02 | G105: x | H105: 23.12 | I105: =V93 -> Aero Destroyed | Q105: =IF(OR(H105="",F105=""),"",IF(H105=F105,1,IF(H105>F105,3,0))) -> 0
C106: =IF(OR(F106="",H106=""),"",IF(F106=H106,1,IF(F106>H106,3,0))) -> 3 | D106: =V96 -> Família Timóteo FC | F106: 66.17 | G106: x | H106: 33.77 | I106: =V92 -> Ninguem Dorme SBC | Q106: =IF(OR(H106="",F106=""),"",IF(H106=F106,1,IF(H106>F106,3,0))) -> 0
C107: =IF(OR(F107="",H107=""),"",IF(F107=H107,1,IF(F107>H107,3,0))) -> 3 | D107: =V95 -> F.C.Biage | F107: 21.72 | G107: x | H107: 15.05 | I107: =V91 -> C.R. Trollers | Q107: =IF(OR(H107="",F107=""),"",IF(H107=F107,1,IF(H107>F107,3,0))) -> 0
C108: =IF(OR(F108="",H108=""),"",IF(F108=H108,1,IF(F108>H108,3,0))) | Q108: =IF(OR(H108="",F108=""),"",IF(H108=F108,1,IF(H108>F108,3,0)))
C109: =IF(OR(F109="",H109=""),"",IF(F109=H109,1,IF(F109>H109,3,0))) | D109: 2ª RODADA - #8 | Q109: =IF(OR(H109="",F109=""),"",IF(H109=F109,1,IF(H109>F109,3,0)))
C110: =IF(OR(F110="",H110=""),"",IF(F110=H110,1,IF(F110>H110,3,0))) | Q110: =IF(OR(H110="",F110=""),"",IF(H110=F110,1,IF(H110>F110,3,0)))
C111: =IF(OR(F111="",H111=""),"",IF(F111=H111,1,IF(F111>H111,3,0))) | Q111: =IF(OR(H111="",F111=""),"",IF(H111=F111,1,IF(H111>F111,3,0)))
C112: =IF(OR(F112="",H112=""),"",IF(F112=H112,1,IF(F112>H112,3,0))) -> 3 | D112: =V98 -> WillianBalao | F112: 48.47 | G112: x | H112: 22.32 | I112: =V91 -> C.R. Trollers | Q112: =IF(OR(H112="",F112=""),"",IF(H112=F112,1,IF(H112>F112,3,0))) -> 0
C113: =IF(OR(F113="",H113=""),"",IF(F113=H113,1,IF(F113>H113,3,0))) -> 0 | D113: =V97 -> Gambarcelona LINS | F113: 10.57 | G113: x | H113: 26.8 | I113: =V92 -> Ninguem Dorme SBC | Q113: =IF(OR(H113="",F113=""),"",IF(H113=F113,1,IF(H113>F113,3,0))) -> 3
C114: =IF(OR(F114="",H114=""),"",IF(F114=H114,1,IF(F114>H114,3,0))) -> 3 | D114: =V96 -> Família Timóteo FC | F114: 82.5 | G114: x | H114: 13.07 | I114: =V93 -> Aero Destroyed | Q114: =IF(OR(H114="",F114=""),"",IF(H114=F114,1,IF(H114>F114,3,0))) -> 0
C115: =IF(OR(F115="",H115=""),"",IF(F115=H115,1,IF(F115>H115,3,0))) -> 0 | D115: =V95 -> F.C.Biage | F115: 31.6 | G115: x | H115: 93 | I115: =V94 -> CRVG-3000 | Q115: =IF(OR(H115="",F115=""),"",IF(H115=F115,1,IF(H115>F115,3,0))) -> 3
C116: =IF(OR(F116="",H116=""),"",IF(F116=H116,1,IF(F116>H116,3,0))) | Q116: =IF(OR(H116="",F116=""),"",IF(H116=F116,1,IF(H116>F116,3,0)))
C117: =IF(OR(F117="",H117=""),"",IF(F117=H117,1,IF(F117>H117,3,0))) | D117: 3ª RODADA - #9 | Q117: =IF(OR(H117="",F117=""),"",IF(H117=F117,1,IF(H117>F117,3,0)))
C118: =IF(OR(F118="",H118=""),"",IF(F118=H118,1,IF(F118>H118,3,0))) | Q118: =IF(OR(H118="",F118=""),"",IF(H118=F118,1,IF(H118>F118,3,0)))
C119: =IF(OR(F119="",H119=""),"",IF(F119=H119,1,IF(F119>H119,3,0))) | Q119: =IF(OR(H119="",F119=""),"",IF(H119=F119,1,IF(H119>F119,3,0)))
C120: =IF(OR(F120="",H120=""),"",IF(F120=H120,1,IF(F120>H120,3,0))) -> 3 | D120: =V98 -> WillianBalao | F120: 47.71 | G120: x | H120: 41.65 | I120: =V92 -> Ninguem Dorme SBC | Q120: =IF(OR(H120="",F120=""),"",IF(H120=F120,1,IF(H120>F120,3,0))) -> 0
C121: =IF(OR(F121="",H121=""),"",IF(F121=H121,1,IF(F121>H121,3,0))) -> 3 | D121: =V97 -> Gambarcelona LINS | F121: 38.93 | G121: x | H121: 23.65 | I121: =V91 -> C.R. Trollers | Q121: =IF(OR(H121="",F121=""),"",IF(H121=F121,1,IF(H121>F121,3,0))) -> 0
C122: =IF(OR(F122="",H122=""),"",IF(F122=H122,1,IF(F122>H122,3,0))) -> 3 | D122: =V96 -> Família Timóteo FC | F122: 50.65 | G122: x | H122: 43.37 | I122: =V94 -> CRVG-3000 | Q122: =IF(OR(H122="",F122=""),"",IF(H122=F122,1,IF(H122>F122,3,0))) -> 0
C123: =IF(OR(F123="",H123=""),"",IF(F123=H123,1,IF(F123>H123,3,0))) -> 3 | D123: =V95 -> F.C.Biage | F123: 34.7 | G123: x | H123: 20.23 | I123: =V93 -> Aero Destroyed | Q123: =IF(OR(H123="",F123=""),"",IF(H123=F123,1,IF(H123>F123,3,0))) -> 0
...

Sheet 2ª FASE - GRUPOS I a P
B2: 1º CAMPEONATO CARTOLA 2013
B6: 2ª FASE
D10: CLASSIFICAÇÃO
D15: OBS: Os 4 melhores colocados no Grupo se classificarão para a 3ª FASE.
D17: GRUPO I
D19: Pos. | E19: CARTOLA | F19: P | H19: PP | J19: PC | L19: SP | U19: Pos. | V19: TIMES | W19: P | X19: GF | Y19: GC | Z19: SG | AA19: calc | AB19: maior | AC19: corresp
D20: 1º | E20: =VLOOKUP(AC20,$U$20:$AB$27,2) -> Vascaero FC | F20: =VLOOKUP(AC20,$U$20:$AB$27,3) -> 18 | H20: =VLOOKUP(AC20,$U$20:$AB$27,4) -> 372.88 | J20: =VLOOKUP(AC20,$U$20:$AB$27,5) -> 238.27 | L20: =VLOOKUP(AC20,$U$20:$AB$27,6) -> 134.61 | O20: Legenda | U20: 1 | V20: =IF(OR('1ª FASE - ELIMINATÓRIAS'!I138="",'1ª FASE - ELIMINATÓRIAS'!I138=""),"",'1ª FASE - ELIMINATÓRIAS'!C138) -> Kbça da Gama F.C. | W20: =SUM(Q35,Q40,Q49,Q58,Q66,Q75,Q83) -> 12 | X20: =SUM(H35,H40,H49,H58,H66,H75,H83) -> 257.46 | Y20: =SUM(F35,F40,F49,F58,F66,F75,F83) -> 212.09 | Z20: =X20-Y20 -> 45.37 | AA20: =(W20*10^10)+((Z20+5000)*10^6)+(X20*10)+U20 -> 1.2504537e+11 | AB20: =LARGE($AA$20:$AA$27,U20) -> 1.8513461e+11 | AC20: =MATCH(AB20,$AA$20:$AA$27,0) -> 5
D21: 2º | E21: =VLOOKUP(AC21,$U$20:$AB$27,2) -> Grajaú F.C. | F21: =VLOOKUP(AC21,$U$20:$AB$27,3) -> 15 | H21: =VLOOKUP(AC21,$U$20:$AB$27,4) -> 305.12 | J21: =VLOOKUP(AC21,$U$20:$AB$27,5) -> 187.83 | L21: =VLOOKUP(AC21,$U$20:$AB$27,6) -> 117.29 | O21: P - pontos | U21: 2 | V21: =IF(OR('1ª FASE - ELIMINATÓRIAS'!I122="",'1ª FASE - ELIMINATÓRIAS'!I122=""),"",'1ª FASE - ELIMINATÓRIAS'!C122) -> Alisando Cresce | W21: =SUM(Q34,Q41,Q48,Q59,Q67,Q74,C83) -> 12 | X21: =SUM(H34,H41,H48,H59,H67,H74,F83) -> 276.96 | Y21: =SUM(F34,F41,F48,F59,F67,F74,H83) -> 213.9 | Z21: =X21-Y21 -> 63.06 | AA21: =(W21*10^10)+((Z21+5000)*10^6)+(X21*10)+U21 -> 1.2506306e+11 | AB21: =LARGE($AA$20:$AA$27,U21) -> 1.5511729e+11 | AC21: =MATCH(AB21,$AA$20:$AA$27,0) -> 7
D22: 3º | E22: =VLOOKUP(AC22,$U$20:$AB$27,2) -> Alisando Cresce | F22: =VLOOKUP(AC22,$U$20:$AB$27,3) -> 12 | H22: =VLOOKUP(AC22,$U$20:$AB$27,4) -> 276.96 | J22: =VLOOKUP(AC22,$U$20:$AB$27,5) -> 213.9 | L22: =VLOOKUP(AC22,$U$20:$AB$27,6) -> 63.06 | O22: PCP - pontos Cartola pró | U22: 3 | V22: =IF(OR('1ª FASE - ELIMINATÓRIAS'!I106="",'1ª FASE - ELIMINATÓRIAS'!I106=""),"",'1ª FASE - ELIMINATÓRIAS'!C106) -> »CrazÿTëåm.™ | W22: =SUM(Q33,Q42,Q51,Q56,C67,C75,Q82) -> 9 | X22: =SUM(H33,H42,H51,H56,F67,F75,H82) -> 163.76 | Y22: =SUM(F33,F42,F51,F56,H67,H75,F82) -> 254.53 | Z22: =X22-Y22 -> -90.77 | AA22: =(W22*10^10)+((Z22+5000)*10^6)+(X22*10)+U22 -> 9.4909232e+10 | AB22: =LARGE($AA$20:$AA$27,U22) -> 1.2506306e+11 | AC22: =MATCH(AB22,$AA$20:$AA$27,0) -> 2
D23: 4º | E23: =VLOOKUP(AC23,$U$20:$AB$27,2) -> Kbça da Gama F.C. | F23: =VLOOKUP(AC23,$U$20:$AB$27,3) -> 12 | H23: =VLOOKUP(AC23,$U$20:$AB$27,4) -> 257.46 | J23: =VLOOKUP(AC23,$U$20:$AB$27,5) -> 212.09 | L23: =VLOOKUP(AC23,$U$20:$AB$27,6) -> 45.37 | O23: PCC - pontos Cartola contra | U23: 4 | V23: =IF(OR('1ª FASE - ELIMINATÓRIAS'!I90="",'1ª FASE - ELIMINATÓRIAS'!I90=""),"",'1ª FASE - ELIMINATÓRIAS'!C90) -> roberto10z | W23: =SUM(Q32,Q43,Q50,Q57,C66,C74,C82) -> 3 | X23: =SUM(H32,H43,H50,H57,F66,F74,F82) -> 144.31 | Y23: =SUM(F32,F43,F50,F57,H66,H74,H82) -> 290.88 | Z23: =X23-Y23 -> -146.57 | AA23: =(W23*10^10)+((Z23+5000)*10^6)+(X23*10)+U23 -> 3.4853431e+10 | AB23: =LARGE($AA$20:$AA$27,U23) -> 1.2504537e+11 | AC23: =MATCH(AB23,$AA$20:$AA$27,0) -> 1
D24: 5º | E24: =VLOOKUP(AC24,$U$20:$AB$27,2) -> ZezinhoHulkFC | F24: =VLOOKUP(AC24,$U$20:$AB$27,3) -> 9 | H24: =VLOOKUP(AC24,$U$20:$AB$27,4) -> 248.39 | J24: =VLOOKUP(AC24,$U$20:$AB$27,5) -> 283.26 | L24: =VLOOKUP(AC24,$U$20:$AB$27,6) -> -34.87 | O24: SP - saldo de pontos | U24: 5 | V24: =IF(OR('1ª FASE - ELIMINATÓRIAS'!I74="",'1ª FASE - ELIMINATÓRIAS'!I74=""),"",'1ª FASE - ELIMINATÓRIAS'!C74) -> Vascaero FC | W24: =SUM(C35,C43,C51,C59,Q64,Q73,Q81) -> 18 | X24: =SUM(F35,F43,F51,F59,H64,H73,H81) -> 372.88 | Y24: =SUM(H35,H43,H51,H59,F64,F73,F81) -> 238.27 | Z24: =X24-Y24 -> 134.61 | AA24: =(W24*10^10)+((Z24+5000)*10^6)+(X24*10)+U24 -> 1.8513461e+11 | AB24: =LARGE($AA$20:$AA$27,U24) -> 9.4965132e+10 | AC24: =MATCH(AB24,$AA$20:$AA$27,0) -> 6
D25: 6º | E25: =VLOOKUP(AC25,$U$20:$AB$27,2) -> »CrazÿTëåm.™ | F25: =VLOOKUP(AC25,$U$20:$AB$27,3) -> 9 | H25: =VLOOKUP(AC25,$U$20:$AB$27,4) -> 163.76 | J25: =VLOOKUP(AC25,$U$20:$AB$27,5) -> 254.53 | L25: =VLOOKUP(AC25,$U$20:$AB$27,6) -> -90.77 | U25: 6 | V25: =IF(OR('1ª FASE - ELIMINATÓRIAS'!I58="",'1ª FASE - ELIMINATÓRIAS'!I58=""),"",'1ª FASE - ELIMINATÓRIAS'!C58) -> ZezinhoHulkFC | W25: =SUM(C34,C42,C50,C58,Q65,Q72,C81) -> 9 | X25: =SUM(F34,F42,F50,F58,H65,H72,F81) -> 248.39 | Y25: =SUM(H34,H42,H50,H58,F65,F72,H81) -> 283.26 | Z25: =X25-Y25 -> -34.87 | AA25: =(W25*10^10)+((Z25+5000)*10^6)+(X25*10)+U25 -> 9.4965132e+10 | AB25: =LARGE($AA$20:$AA$27,U25) -> 9.4909232e+10 | AC25: =MATCH(AB25,$AA$20:$AA$27,0) -> 3
D26: 7º | E26: =VLOOKUP(AC26,$U$20:$AB$27,2) -> F.C JSA All-Stars | F26: =VLOOKUP(AC26,$U$20:$AB$27,3) -> 6 | H26: =VLOOKUP(AC26,$U$20:$AB$27,4) -> 185.77 | J26: =VLOOKUP(AC26,$U$20:$AB$27,5) -> 273.89 | L26: =VLOOKUP(AC26,$U$20:$AB$27,6) -> -88.12 | U26: 7 | V26: =IF(OR('1ª FASE - ELIMINATÓRIAS'!I42="",'1ª FASE - ELIMINATÓRIAS'!I42=""),"",'1ª FASE - ELIMINATÓRIAS'!C42) -> Grajaú F.C. | W26: =SUM(C33,C41,C49,C57,C65,C73,Q80,) -> 15 | X26: =SUM(F33,F41,F49,F57,F65,F73,H80) -> 305.12 | Y26: =SUM(H33,H41,H49,H57,H65,H73,F80) -> 187.83 | Z26: =X26-Y26 -> 117.29 | AA26: =(W26*10^10)+((Z26+5000)*10^6)+(X26*10)+U26 -> 1.5511729e+11 | AB26: =LARGE($AA$20:$AA$27,U26) -> 6.4911882e+10 | AC26: =MATCH(AB26,$AA$20:$AA$27,0) -> 8
D27: 8º | E27: =VLOOKUP(AC27,$U$20:$AB$27,2) -> roberto10z | F27: =VLOOKUP(AC27,$U$20:$AB$27,3) -> 3 | H27: =VLOOKUP(AC27,$U$20:$AB$27,4) -> 144.31 | J27: =VLOOKUP(AC27,$U$20:$AB$27,5) -> 290.88 | L27: =VLOOKUP(AC27,$U$20:$AB$27,6) -> -146.57 | U27: 8 | V27: =IF(OR('1ª FASE - ELIMINATÓRIAS'!I27="",'1ª FASE - ELIMINATÓRIAS'!I27=""),"",'1ª FASE - ELIMINATÓRIAS'!C27) -> F.C JSA All-Stars | W27: =SUM(C32,C40,C48,C56,C64,C72,C80) -> 6 | X27: =SUM(F32,F40,F48,F56,F64,F72,F80) -> 185.77 | Y27: =SUM(H32,H40,H48,H56,H64,H72,H80) -> 273.89 | Z27: =X27-Y27 -> -88.12 | AA27: =(W27*10^10)+((Z27+5000)*10^6)+(X27*10)+U27 -> 6.4911882e+10 | AB27: =LARGE($AA$20:$AA$27,U27) -> 3.4853431e+10 | AC27: =MATCH(AB27,$AA$20:$AA$27,0) -> 4
D29: 1ª RODADA - #7
C32: =IF(OR(F32="",H32=""),"",IF(F32=H32,1,IF(F32>H32,3,0))) -> 3 | D32: =V27 -> F.C JSA All-Stars | F32: 44.42 | G32: x | H32: 34.49 | I32: =V23 -> roberto10z | Q32: =IF(OR(H32="",F32=""),"",IF(H32=F32,1,IF(H32>F32,3,0))) -> 0
C33: =IF(OR(F33="",H33=""),"",IF(F33=H33,1,IF(F33>H33,3,0))) -> 3 | D33: =V26 -> Grajaú F.C. | F33: 40.57 | G33: x | H33: 3.58 | I33: =V22 -> »CrazÿTëåm.™ | Q33: =IF(OR(H33="",F33=""),"",IF(H33=F33,1,IF(H33>F33,3,0))) -> 0
C34: =IF(OR(F34="",H34=""),"",IF(F34=H34,1,IF(F34>H34,3,0))) -> 3 | D34: =V25 -> ZezinhoHulkFC | F34: 61.02 | G34: x | H34: 60.32 | I34: =V21 -> Alisando Cresce | Q34: =IF(OR(H34="",F34=""),"",IF(H34=F34,1,IF(H34>F34,3,0))) -> 0
C35: =IF(OR(F35="",H35=""),"",IF(F35=H35,1,IF(F35>H35,3,0))) -> 3 | D35: =V24 -> Vascaero FC | F35: 38.62 | G35: x | H35: 37.87 | I35: =V20 -> Kbça da Gama F.C. | Q35: =IF(OR(H35="",F35=""),"",IF(H35=F35,1,IF(H35>F35,3,0))) -> 0
C36: =IF(OR(F36="",H36=""),"",IF(F36=H36,1,IF(F36>H36,3,0))) | Q36: =IF(OR(H36="",F36=""),"",IF(H36=F36,1,IF(H36>F36,3,0)))
C37: =IF(OR(F37="",H37=""),"",IF(F37=H37,1,IF(F37>H37,3,0))) | D37: 2ª RODADA - #8 | Q37: =IF(OR(H37="",F37=""),"",IF(H37=F37,1,IF(H37>F37,3,0)))
C38: =IF(OR(F38="",H38=""),"",IF(F38=H38,1,IF(F38>H38,3,0))) | Q38: =IF(OR(H38="",F38=""),"",IF(H38=F38,1,IF(H38>F38,3,0)))
C39: =IF(OR(F39="",H39=""),"",IF(F39=H39,1,IF(F39>H39,3,0))) | Q39: =IF(OR(H39="",F39=""),"",IF(H39=F39,1,IF(H39>F39,3,0)))
C40: =IF(OR(F40="",H40=""),"",IF(F40=H40,1,IF(F40>H40,3,0))) -> 0 | D40: =V27 -> F.C JSA All-Stars | F40: 32.8 | G40: x | H40: 38.97 | I40: =V20 -> Kbça da Gama F.C. | Q40: =IF(OR(H40="",F40=""),"",IF(H40=F40,1,IF(H40>F40,3,0))) -> 3
C41: =IF(OR(F41="",H41=""),"",IF(F41=H41,1,IF(F41>H41,3,0))) -> 0 | D41: =V26 -> Grajaú F.C. | F41: 9.1 | G41: x | H41: 29.95 | I41: =V21 -> Alisando Cresce | Q41: =IF(OR(H41="",F41=""),"",IF(H41=F41,1,IF(H41>F41,3,0))) -> 3
C42: =IF(OR(F42="",H42=""),"",IF(F42=H42,1,IF(F42>H42,3,0))) -> 0 | D42: =V25 -> ZezinhoHulkFC | F42: 27.2 | G42: x | H42: 56.48 | I42: =V22 -> »CrazÿTëåm.™ | Q42: =IF(OR(H42="",F42=""),"",IF(H42=F42,1,IF(H42>F42,3,0))) -> 3
C43: =IF(OR(F43="",H43=""),"",IF(F43=H43,1,IF(F43>H43,3,0))) -> 3 | D43: =V24 -> Vascaero FC | F43: 66.47 | G43: x | H43: 11.4 | I43: =V23 -> roberto10z | Q43: =IF(OR(H43="",F43=""),"",IF(H43=F43,1,IF(H43>F43,3,0))) -> 0
C44: =IF(OR(F44="",H44=""),"",IF(F44=H44,1,IF(F44>H44,3,0))) | Q44: =IF(OR(H44="",F44=""),"",IF(H44=F44,1,IF(H44>F44,3,0)))
C45: =IF(OR(F45="",H45=""),"",IF(F45=H45,1,IF(F45>H45,3,0))) | D45: 3ª RODADA - #9 | Q45: =IF(OR(H45="",F45=""),"",IF(H45=F45,1,IF(H45>F45,3,0)))
C46: =IF(OR(F46="",H46=""),"",IF(F46=H46,1,IF(F46>H46,3,0))) | Q46: =IF(OR(H46="",F46=""),"",IF(H46=F46,1,IF(H46>F46,3,0)))
C47: =IF(OR(F47="",H47=""),"",IF(F47=H47,1,IF(F47>H47,3,0))) | Q47: =IF(OR(H47="",F47=""),"",IF(H47=F47,1,IF(H47>F47,3,0)))
C48: =IF(OR(F48="",H48=""),"",IF(F48=H48,1,IF(F48>H48,3,0))) -> 0 | D48: =V27 -> F.C JSA All-Stars | F48: 29.15 | G48: x | H48: 40.15 | I48: =V21 -> Alisando Cresce | Q48: =IF(OR(H48="",F48=""),"",IF(H48=F48,1,IF(H48>F48,3,0))) -> 3
C49: =IF(OR(F49="",H49=""),"",IF(F49=H49,1,IF(F49>H49,3,0))) -> 3 | D49: =V26 -> Grajaú F.C. | F49: 48.85 | G49: x | H49: 25.13 | I49: =V20 -> Kbça da Gama F.C. | Q49: =IF(OR(H49="",F49=""),"",IF(H49=F49,1,IF(H49>F49,3,0))) -> 0
C50: =IF(OR(F50="",H50=""),"",IF(F50=H50,1,IF(F50>H50,3,0))) -> 0 | D50: =V25 -> ZezinhoHulkFC | F50: 19.34 | G50: x | H50: 22.81 | I50: =V23 -> roberto10z | Q50: =IF(OR(H50="",F50=""),"",IF(H50=F50,1,IF(H50>F50,3,0))) -> 3
C51: =IF(OR(F51="",H51=""),"",IF(F51=H51,1,IF(F51>H51,3,0))) -> 3 | D51: =V24 -> Vascaero FC | F51: 67.75 | G51: x | H51: 38.34 | I51: =V22 -> »CrazÿTëåm.™ | Q51: =IF(OR(H51="",F51=""),"",IF(H51=F51,1,IF(H51>F51,3,0))) -> 0
C52: =IF(OR(F52="",H52=""),"",IF(F52=H52,1,IF(F52>H52,3,0))) | Q52: =IF(OR(H52="",F52=""),"",IF(H52=F52,1,IF(H52>F52,3,0)))
C53: =IF(OR(F53="",H53=""),"",IF(F53=H53,1,IF(F53>H53,3,0))) | D53: 4ª RODADA - #10 | Q53: =IF(OR(H53="",F53=""),"",IF(H53=F53,1,IF(H53>F53,3,0)))
C54: =IF(OR(F54="",H54=""),"",IF(F54=H54,1,IF(F54>H54,3,0))) | Q54: =IF(OR(H54="",F54=""),"",IF(H54=F54,1,IF(H54>F54,3,0)))
C55: =IF(OR(F55="",H55=""),"",IF(F55=H55,1,IF(F55>H55,3,0))) | Q55: =IF(OR(H55="",F55=""),"",IF(H55=F55,1,IF(H55>F55,3,0)))
C56: =IF(OR(F56="",H56=""),"",IF(F56=H56,1,IF(F56>H56,3,0))) -> 0 | D56: =V27 -> F.C JSA All-Stars | F56: 5 | G56: x | H56: 34.87 | I56: =V22 -> »CrazÿTëåm.™ | Q56: =IF(OR(H56="",F56=""),"",IF(H56=F56,1,IF(H56>F56,3,0))) -> 3
C57: =IF(OR(F57="",H57=""),"",IF(F57=H57,1,IF(F57>H57,3,0))) -> 3 | D57: =V26 -> Grajaú F.C. | F57: 49.35 | G57: x | H57: 18.15 | I57: =V23 -> roberto10z | Q57: =IF(OR(H57="",F57=""),"",IF(H57=F57,1,IF(H57>F57,3,0))) -> 0
C58: =IF(OR(F58="",H58=""),"",IF(F58=H58,1,IF(F58>H58,3,0))) -> 3 | D58: =V25 -> ZezinhoHulkFC | F58: 56.79 | G58: x | H58: 28.09 | I58: =V20 -> Kbça da Gama F.C. | Q58: =IF(OR(H58="",F58=""),"",IF(H58=F58,1,IF(H58>F58,3,0))) -> 0
C59: =IF(OR(F59="",H59=""),"",IF(F59=H59,1,IF(F59>H59,3,0))) -> 3 | D59: =V24 -> Vascaero FC | F59: 39.27 | G59: x | H59: 26.19 | I59: =V21 -> Alisando Cresce | Q59: =IF(OR(H59="",F59=""),"",IF(H59=F59,1,IF(H59>F59,3,0))) -> 0
C60: =IF(OR(F60="",H60=""),"",IF(F60=H60,1,IF(F60>H60,3,0))) | Q60: =IF(OR(H60="",F60=""),"",IF(H60=F60,1,IF(H60>F60,3,0)))
C61: =IF(OR(F61="",H61=""),"",IF(F61=H61,1,IF(F61>H61,3,0))) | D61: 5ª RODADA - #11 | Q61: =IF(OR(H61="",F61=""),"",IF(H61=F61,1,IF(H61>F61,3,0)))
C62: =IF(OR(F62="",H62=""),"",IF(F62=H62,1,IF(F62>H62,3,0))) | Q62: =IF(OR(H62="",F62=""),"",IF(H62=F62,1,IF(H62>F62,3,0)))
C63: =IF(OR(F63="",H63=""),"",IF(F63=H63,1,IF(F63>H63,3,0))) | Q63: =IF(OR(H63="",F63=""),"",IF(H63=F63,1,IF(H63>F63,3,0)))
C64: =IF(OR(F64="",H64=""),"",IF(F64=H64,1,IF(F64>H64,3,0))) -> 0 | D64: =V27 -> F.C JSA All-Stars | F64: 33 | G64: x | H64: 64.07 | I64: =V24 -> Vascaero FC | Q64: =IF(OR(H64="",F64=""),"",IF(H64=F64,1,IF(H64>F64,3,0))) -> 3
C65: =IF(OR(F65="",H65=""),"",IF(F65=H65,1,IF(F65>H65,3,0))) -> 3 | D65: =V26 -> Grajaú F.C. | F65: 60.77 | G65: x | H65: 27.71 | I65: =V25 -> ZezinhoHulkFC | Q65: =IF(OR(H65="",F65=""),"",IF(H65=F65,1,IF(H65>F65,3,0))) -> 0
C66: =IF(OR(F66="",H66=""),"",IF(F66=H66,1,IF(F66>H66,3,0))) -> 0 | D66: =V23 -> roberto10z | F66: 5.97 | G66: x | H66: 54.19 | I66: =V20 -> Kbça da Gama F.C. | Q66: =IF(OR(H66="",F66=""),"",IF(H66=F66,1,IF(H66>F66,3,0))) -> 3
C67: =IF(OR(F67="",H67=""),"",IF(F67=H67,1,IF(F67>H67,3,0))) -> 0 | D67: =V22 -> »CrazÿTëåm.™ | F67: 4 | G67: x | H67: 60.67 | I67: =V21 -> Alisando Cresce | Q67: =IF(OR(H67="",F67=""),"",IF(H67=F67,1,IF(H67>F67,3,0))) -> 3
C68: =IF(OR(F68="",H68=""),"",IF(F68=H68,1,IF(F68>H68,3,0))) | Q68: =IF(OR(H68="",F68=""),"",IF(H68=F68,1,IF(H68>F68,3,0)))
C69: =IF(OR(F69="",H69=""),"",IF(F69=H69,1,IF(F69>H69,3,0))) | D69: 6ª RODADA - #12 | Q69: =IF(OR(H69="",F69=""),"",IF(H69=F69,1,IF(H69>F69,3,0)))
C70: =IF(OR(F70="",H70=""),"",IF(F70=H70,1,IF(F70>H70,3,0))) | Q70: =IF(OR(H70="",F70=""),"",IF(H70=F70,1,IF(H70>F70,3,0)))
C71: =IF(OR(F71="",H71=""),"",IF(F71=H71,1,IF(F71>H71,3,0))) | Q71: =IF(OR(H71="",F71=""),"",IF(H71=F71,1,IF(H71>F71,3,0)))
C72: =IF(OR(F72="",H72=""),"",IF(F72=H72,1,IF(F72>H72,3,0))) -> 0 | D72: =V27 -> F.C JSA All-Stars | F72: -0.1 | G72: x | H72: 24.03 | I72: =V25 -> ZezinhoHulkFC | Q72: =IF(OR(H72="",F72=""),"",IF(H72=F72,1,IF(H72>F72,3,0))) -> 3
C73: =IF(OR(F73="",H73=""),"",IF(F73=H73,1,IF(F73>H73,3,0))) -> 3 | D73: =V26 -> Grajaú F.C. | F73: 59.17 | G73: x | H73: 41.81 | I73: =V24 -> Vascaero FC | Q73: =IF(OR(H73="",F73=""),"",IF(H73=F73,1,IF(H73>F73,3,0))) -> 0
C74: =IF(OR(F74="",H74=""),"",IF(F74=H74,1,IF(F74>H74,3,0))) -> 0 | D74: =V23 -> roberto10z | F74: 38.27 | G74: x | H74: 39.27 | I74: =V21 -> Alisando Cresce | Q74: =IF(OR(H74="",F74=""),"",IF(H74=F74,1,IF(H74>F74,3,0))) -> 3
C75: =IF(OR(F75="",H75=""),"",IF(F75=H75,1,IF(F75>H75,3,0))) -> 0 | D75: =V22 -> »CrazÿTëåm.™ | F75: 8.65 | G75: x | H75: 40.12 | I75: =V20 -> Kbça da Gama F.C. | Q75: =IF(OR(H75="",F75=""),"",IF(H75=F75,1,IF(H75>F75,3,0))) -> 3
C76: =IF(OR(F76="",H76=""),"",IF(F76=H76,1,IF(F76>H76,3,0))) | Q76: =IF(OR(H76="",F76=""),"",IF(H76=F76,1,IF(H76>F76,3,0)))
C77: =IF(OR(F77="",H77=""),"",IF(F77=H77,1,IF(F77>H77,3,0))) | D77: 7ª RODADA - #13 | Q77: =IF(OR(H77="",F77=""),"",IF(H77=F77,1,IF(H77>F77,3,0)))
C78: =IF(OR(F78="",H78=""),"",IF(F78=H78,1,IF(F78>H78,3,0))) | Q78: =IF(OR(H78="",F78=""),"",IF(H78=F78,1,IF(H78>F78,3,0)))
C79: =IF(OR(F79="",H79=""),"",IF(F79=H79,1,IF(F79>H79,3,0))) | Q79: =IF(OR(H79="",F79=""),"",IF(H79=F79,1,IF(H79>F79,3,0)))
C80: =IF(OR(F80="",H80=""),"",IF(F80=H80,1,IF(F80>H80,3,0))) -> 3 | D80: =V27 -> F.C JSA All-Stars | F80: 41.5 | G80: x | H80: 37.31 | I80: =V26 -> Grajaú F.C. | Q80: =IF(OR(H80="",F80=""),"",IF(H80=F80,1,IF(H80>F80,3,0))) -> 0
C81: =IF(OR(F81="",H81=""),"",IF(F81=H81,1,IF(F81>H81,3,0))) -> 0 | D81: =V25 -> ZezinhoHulkFC | F81: 32.3 | G81: x | H81: 54.89 | I81: =V24 -> Vascaero FC | Q81: =IF(OR(H81="",F81=""),"",IF(H81=F81,1,IF(H81>F81,3,0))) -> 3
C82: =IF(OR(F82="",H82=""),"",IF(F82=H82,1,IF(F82>H82,3,0))) -> 0 | D82: =V23 -> roberto10z | F82: 13.22 | G82: x | H82: 17.84 | I82: =V22 -> »CrazÿTëåm.™ | Q82: =IF(OR(H82="",F82=""),"",IF(H82=F82,1,IF(H82>F82,3,0))) -> 3
C83: =IF(OR(F83="",H83=""),"",IF(F83=H83,1,IF(F83>H83,3,0))) -> 0 | D83: =V21 -> Alisando Cresce | F83: 20.41 | G83: x | H83: 33.09 | I83: =V20 -> Kbça da Gama F.C. | Q83: =IF(OR(H83="",F83=""),"",IF(H83=F83,1,IF(H83>F83,3,0))) -> 3
C84: =IF(OR(F84="",H84=""),"",IF(F84=H84,1,IF(F84>H84,3,0))) | Q84: =IF(OR(H84="",F84=""),"",IF(H84=F84,1,IF(H84>F84,3,0)))
D86: OBS: Os 4 melhores colocados no Grupo se classificarão para a 3ª FASE.
D88: GRUPO J
D90: Pos. | E90: CARTOLA | F90: P | H90: PP | J90: PC | L90: SP | U90: Pos. | V90: TIMES | W90: P | X90: GF | Y90: GC | Z90: SG | AA90: calc | AB90: maior | AC90: corresp
D91: 1º | E91: =VLOOKUP(AC91,$U$91:$Z$98,2) -> GUZMAN F.C. | F91: =VLOOKUP(AC91,$U$91:$Z$98,3) -> 18 | H91: =VLOOKUP(AC91,$U$91:$Z$98,4) -> 411.29 | J91: =VLOOKUP(AC91,$U$91:$Z$98,5) -> 279.58 | L91: =VLOOKUP(AC91,$U$91:$Z$98,6) -> 131.71 | O91: Legenda | U91: 1 | V91: =IF(OR('1ª FASE - ELIMINATÓRIAS'!I137="",'1ª FASE - ELIMINATÓRIAS'!I137=""),"",'1ª FASE - ELIMINATÓRIAS'!C137) -> vhtdd FC | W91: =SUM(Q107,Q112,Q121,Q130,Q138,Q147,Q155) -> 12 | X91: =SUM(H107,H112,H121,H130,H138,H147,H155) -> 271.65 | Y91: =SUM(F107,F112,F121,F130,F138,F147,F155) -> 293.54 | Z91: =X91-Y91 -> -21.89 | AA91: =(W91*10^10)+((Z91+5000)*10^6)+(X91*10)+U91 -> 1.2497811e+11 | AB91: =LARGE($AA$91:$AA$98,U91) -> 1.8513171e+11 | AC91: =MATCH(AB91,$AA$91:$AA$98,0) -> 5
D92: 2º | E92: =VLOOKUP(AC92,$U$91:$Z$98,2) -> Casinha da Grazi | F92: =VLOOKUP(AC92,$U$91:$Z$98,3) -> 12 | H92: =VLOOKUP(AC92,$U$91:$Z$98,4) -> 391.71 | J92: =VLOOKUP(AC92,$U$91:$Z$98,5) -> 314.59 | L92: =VLOOKUP(AC92,$U$91:$Z$98,6) -> 77.12 | O92: P - pontos | U92: 2 | V92: =IF(OR('1ª FASE - ELIMINATÓRIAS'!I121="",'1ª FASE - ELIMINATÓRIAS'!I121=""),"",'1ª FASE - ELIMINATÓRIAS'!C121) -> r.n.futuro-fc | W92: =SUM(Q106,Q113,Q120,Q131,Q139,Q146,C155) -> 0 | X92: =SUM(H106,H113,H120,H131,H139,H146,F155) -> 86.82 | Y92: =SUM(F106,F113,F120,F131,F139,F146,H155) -> 249.15 | Z92: =X92-Y92 -> -162.33 | AA92: =(W92*10^10)+((Z92+5000)*10^6)+(X92*10)+U92 -> 4.8376709e+09 | AB92: =LARGE($AA$91:$AA$98,U92) -> 1.2507712e+11 | AC92: =MATCH(AB92,$AA$91:$AA$98,0) -> 8
D93: 3º | E93: =VLOOKUP(AC93,$U$91:$Z$98,2) -> PraFrenteFluzao FC | F93: =VLOOKUP(AC93,$U$91:$Z$98,3) -> 12 | H93: =VLOOKUP(AC93,$U$91:$Z$98,4) -> 304.49 | J93: =VLOOKUP(AC93,$U$91:$Z$98,5) -> 261.3 | L93: =VLOOKUP(AC93,$U$91:$Z$98,6) -> 43.19 | O93: PCP - pontos Cartola pró | U93: 3 | V93: =IF(OR('1ª FASE - ELIMINATÓRIAS'!I105="",'1ª FASE - ELIMINATÓRIAS'!I105=""),"",'1ª FASE - ELIMINATÓRIAS'!C105) -> SADYMENGO | W93: =SUM(Q105,Q114,Q123,Q128,C139,C147,Q154) -> 12 | X93: =SUM(H105,H114,H123,H128,F139,F147,H154) -> 231.86 | Y93: =SUM(F105,F114,F123,F128,H139,H147,F154) -> 195.92 | Z93: =X93-Y93 -> 35.94 | AA93: =(W93*10^10)+((Z93+5000)*10^6)+(X93*10)+U93 -> 1.2503594e+11 | AB93: =LARGE($AA$91:$AA$98,U93) -> 1.2504319e+11 | AC93: =MATCH(AB93,$AA$91:$AA$98,0) -> 6
D94: 4º | E94: =VLOOKUP(AC94,$U$91:$Z$98,2) -> SADYMENGO | F94: =VLOOKUP(AC94,$U$91:$Z$98,3) -> 12 | H94: =VLOOKUP(AC94,$U$91:$Z$98,4) -> 231.86 | J94: =VLOOKUP(AC94,$U$91:$Z$98,5) -> 195.92 | L94: =VLOOKUP(AC94,$U$91:$Z$98,6) -> 35.94 | O94: PCC - pontos Cartola contra | U94: 4 | V94: =IF(OR('1ª FASE - ELIMINATÓRIAS'!I89="",'1ª FASE - ELIMINATÓRIAS'!I89=""),"",'1ª FASE - ELIMINATÓRIAS'!C89) -> icaraiFC | W94: =SUM(Q104,Q115,Q122,Q129,C138,C146,C154) -> 6 | X94: =SUM(H104,H115,H122,H129,F138,F146,F154) -> 202.05 | Y94: =SUM(F104,F115,F122,F129,H138,H146,H154) -> 335.88 | Z94: =X94-Y94 -> -133.83 | AA94: =(W94*10^10)+((Z94+5000)*10^6)+(X94*10)+U94 -> 6.4866172e+10 | AB94: =LARGE($AA$91:$AA$98,U94) -> 1.2503594e+11 | AC94: =MATCH(AB94,$AA$91:$AA$98,0) -> 3
D95: 5º | E95: =VLOOKUP(AC95,$U$91:$Z$98,2) -> Canecao Futebol Arte | F95: =VLOOKUP(AC95,$U$91:$Z$98,3) -> 12 | H95: =VLOOKUP(AC95,$U$91:$Z$98,4) -> 275.24 | J95: =VLOOKUP(AC95,$U$91:$Z$98,5) -> 245.15 | L95: =VLOOKUP(AC95,$U$91:$Z$98,6) -> 30.09 | O95: SP - saldo de pontos | U95: 5 | V95: =IF(OR('1ª FASE - ELIMINATÓRIAS'!I73="",'1ª FASE - ELIMINATÓRIAS'!I73=""),"",'1ª FASE - ELIMINATÓRIAS'!C73) -> GUZMAN F.C. | W95: =SUM(C107,C115,C123,C131,Q136,Q145,Q153) -> 18 | X95: =SUM(F107,F115,F123,F131,H136,H145,H153) -> 411.29 | Y95: =SUM(H107,H115,H123,H131,F136,F145,F153) -> 279.58 | Z95: =X95-Y95 -> 131.71 | AA95: =(W95*10^10)+((Z95+5000)*10^6)+(X95*10)+U95 -> 1.8513171e+11 | AB95: =LARGE($AA$91:$AA$98,U95) -> 1.2503009e+11 | AC95: =MATCH(AB95,$AA$91:$AA$98,0) -> 7
D96: 6º | E96: =VLOOKUP(AC96,$U$91:$Z$98,2) -> vhtdd FC | F96: =VLOOKUP(AC96,$U$91:$Z$98,3) -> 12 | H96: =VLOOKUP(AC96,$U$91:$Z$98,4) -> 271.65 | J96: =VLOOKUP(AC96,$U$91:$Z$98,5) -> 293.54 | L96: =VLOOKUP(AC96,$U$91:$Z$98,6) -> -21.89 | U96: 6 | V96: =IF(OR('1ª FASE - ELIMINATÓRIAS'!I57="",'1ª FASE - ELIMINATÓRIAS'!I57=""),"",'1ª FASE - ELIMINATÓRIAS'!C57) -> PraFrenteFluzao FC | W96: =SUM(C106,C114,C122,C130,Q137,Q144,C153) -> 12 | X96: =SUM(F106,F114,F122,F130,H137,H144,F153) -> 304.49 | Y96: =SUM(H106,H114,H122,H130,F137,F144,H153) -> 261.3 | Z96: =X96-Y96 -> 43.19 | AA96: =(W96*10^10)+((Z96+5000)*10^6)+(X96*10)+U96 -> 1.2504319e+11 | AB96: =LARGE($AA$91:$AA$98,U96) -> 1.2497811e+11 | AC96: =MATCH(AB96,$AA$91:$AA$98,0) -> 1
D97: 7º | E97: =VLOOKUP(AC97,$U$91:$Z$98,2) -> icaraiFC | F97: =VLOOKUP(AC97,$U$91:$Z$98,3) -> 6 | H97: =VLOOKUP(AC97,$U$91:$Z$98,4) -> 202.05 | J97: =VLOOKUP(AC97,$U$91:$Z$98,5) -> 335.88 | L97: =VLOOKUP(AC97,$U$91:$Z$98,6) -> -133.83 | U97: 7 | V97: =IF(OR('1ª FASE - ELIMINATÓRIAS'!I41="",'1ª FASE - ELIMINATÓRIAS'!I41=""),"",'1ª FASE - ELIMINATÓRIAS'!C41) -> Canecao Futebol Arte | W97: =SUM(C105,C113,C121,C129,C137,C145,Q152) -> 12 | X97: =SUM(F105,F113,F121,F129,F137,F145,H152) -> 275.24 | Y97: =SUM(H105,H113,H121,H129,H137,H145,F152) -> 245.15 | Z97: =X97-Y97 -> 30.09 | AA97: =(W97*10^10)+((Z97+5000)*10^6)+(X97*10)+U97 -> 1.2503009e+11 | AB97: =LARGE($AA$91:$AA$98,U97) -> 6.4866172e+10 | AC97: =MATCH(AB97,$AA$91:$AA$98,0) -> 4
D98: 8º | E98: =VLOOKUP(AC98,$U$91:$Z$98,2) -> r.n.futuro-fc | F98: =VLOOKUP(AC98,$U$91:$Z$98,3) -> 0 | H98: =VLOOKUP(AC98,$U$91:$Z$98,4) -> 86.82 | J98: =VLOOKUP(AC98,$U$91:$Z$98,5) -> 249.15 | L98: =VLOOKUP(AC98,$U$91:$Z$98,6) -> -162.33 | U98: 8 | V98: =IF(OR('1ª FASE - ELIMINATÓRIAS'!I28="",'1ª FASE - ELIMINATÓRIAS'!I28=""),"",'1ª FASE - ELIMINATÓRIAS'!C28) -> Casinha da Grazi | W98: =SUM(C104,C112,C120,C128,C136,C144,C152) -> 12 | X98: =SUM(F104,F112,F120,F128,F136,F144,F152) -> 391.71 | Y98: =SUM(H104,H112,H120,H128,H136,H144,H152) -> 314.59 | Z98: =X98-Y98 -> 77.12 | AA98: =(W98*10^10)+((Z98+5000)*10^6)+(X98*10)+U98 -> 1.2507712e+11 | AB98: =LARGE($AA$91:$AA$98,U98) -> 4.8376709e+09 | AC98: =MATCH(AB98,$AA$91:$AA$98,0) -> 2
D101: 1ª RODADA - #7
C104: =IF(OR(F104="",H104=""),"",IF(F104=H104,1,IF(F104>H104,3,0))) -> 3 | D104: =V98 -> Casinha da Grazi | F104: 54.52 | G104: x | H104: 40.35 | I104: =V94 -> icaraiFC | Q104: =IF(OR(H104="",F104=""),"",IF(H104=F104,1,IF(H104>F104,3,0))) -> 0
C105: =IF(OR(F105="",H105=""),"",IF(F105=H105,1,IF(F105>H105,3,0))) -> 0 | D105: =V97 -> Canecao Futebol Arte | F105: 28.38 | G105: x | H105: 52.27 | I105: =V93 -> SADYMENGO | Q105: =IF(OR(H105="",F105=""),"",IF(H105=F105,1,IF(H105>F105,3,0))) -> 3
C106: =IF(OR(F106="",H106=""),"",IF(F106=H106,1,IF(F106>H106,3,0))) -> 3 | D106: =V96 -> PraFrenteFluzao FC | F106: 35.97 | G106: x | H106: 10.77 | I106: =V92 -> r.n.futuro-fc | Q106: =IF(OR(H106="",F106=""),"",IF(H106=F106,1,IF(H106>F106,3,0))) -> 0
C107: =IF(OR(F107="",H107=""),"",IF(F107=H107,1,IF(F107>H107,3,0))) -> 3 | D107: =V95 -> GUZMAN F.C. | F107: 49.95 | G107: x | H107: 34.37 | I107: =V91 -> vhtdd FC | Q107: =IF(OR(H107="",F107=""),"",IF(H107=F107,1,IF(H107>F107,3,0))) -> 0
C108: =IF(OR(F108="",H108=""),"",IF(F108=H108,1,IF(F108>H108,3,0))) | Q108: =IF(OR(H108="",F108=""),"",IF(H108=F108,1,IF(H108>F108,3,0)))
C109: =IF(OR(F109="",H109=""),"",IF(F109=H109,1,IF(F109>H109,3,0))) | D109: 2ª RODADA - #8 | Q109: =IF(OR(H109="",F109=""),"",IF(H109=F109,1,IF(H109>F109,3,0)))
C110: =IF(OR(F110="",H110=""),"",IF(F110=H110,1,IF(F110>H110,3,0))) | Q110: =IF(OR(H110="",F110=""),"",IF(H110=F110,1,IF(H110>F110,3,0)))
C111: =IF(OR(F111="",H111=""),"",IF(F111=H111,1,IF(F111>H111,3,0))) | Q111: =IF(OR(H111="",F111=""),"",IF(H111=F111,1,IF(H111>F111,3,0)))
C112: =IF(OR(F112="",H112=""),"",IF(F112=H112,1,IF(F112>H112,3,0))) -> 0 | D112: =V98 -> Casinha da Grazi | F112: 51.7 | G112: x | H112: 55.6 | I112: =V91 -> vhtdd FC | Q112: =IF(OR(H112="",F112=""),"",IF(H112=F112,1,IF(H112>F112,3,0))) -> 3
C113: =IF(OR(F113="",H113=""),"",IF(F113=H113,1,IF(F113>H113,3,0))) -> 3 | D113: =V97 -> Canecao Futebol Arte | F113: 31.75 | G113: x | H113: 1.9 | I113: =V92 -> r.n.futuro-fc | Q113: =IF(OR(H113="",F113=""),"",IF(H113=F113,1,IF(H113>F113,3,0))) -> 0
C114: =IF(OR(F114="",H114=""),"",IF(F114=H114,1,IF(F114>H114,3,0))) -> 3 | D114: =V96 -> PraFrenteFluzao FC | F114: 35.05 | G114: x | H114: 25.6 | I114: =V93 -> SADYMENGO | Q114: =IF(OR(H114="",F114=""),"",IF(H114=F114,1,IF(H114>F114,3,0))) -> 0
C115: =IF(OR(F115="",H115=""),"",IF(F115=H115,1,IF(F115>H115,3,0))) -> 3 | D115: =V95 -> GUZMAN F.C. | F115: 90.27 | G115: x | H115: 39.15 | I115: =V94 -> icaraiFC | Q115: =IF(OR(H115="",F115=""),"",IF(H115=F115,1,IF(H115>F115,3,0))) -> 0
C116: =IF(OR(F116="",H116=""),"",IF(F116=H116,1,IF(F116>H116,3,0))) | Q116: =IF(OR(H116="",F116=""),"",IF(H116=F116,1,IF(H116>F116,3,0)))
C117: =IF(OR(F117="",H117=""),"",IF(F117=H117,1,IF(F117>H117,3,0))) | D117: 3ª RODADA - #9 | Q117: =IF(OR(H117="",F117=""),"",IF(H117=F117,1,IF(H117>F117,3,0)))
C118: =IF(OR(F118="",H118=""),"",IF(F118=H118,1,IF(F118>H118,3,0))) | Q118: =IF(OR(H118="",F118=""),"",IF(H118=F118,1,IF(H118>F118,3,0)))
C119: =IF(OR(F119="",H119=""),"",IF(F119=H119,1,IF(F119>H119,3,0))) | Q119: =IF(OR(H119="",F119=""),"",IF(H119=F119,1,IF(H119>F119,3,0)))
C120: =IF(OR(F120="",H120=""),"",IF(F120=H120,1,IF(F120>H120,3,0))) -> 3 | D120: =V98 -> Casinha da Grazi | F120: 63.75 | G120: x | H120: 22.85 | I120: =V92 -> r.n.futuro-fc | Q120: =IF(OR(H120="",F120=""),"",IF(H120=F120,1,IF(H120>F120,3,0))) -> 0
C121: =IF(OR(F121="",H121=""),"",IF(F121=H121,1,IF(F121>H121,3,0))) -> 3 | D121: =V97 -> Canecao Futebol Arte | F121: 63.75 | G121: x | H121: 34.54 | I121: =V91 -> vhtdd FC | Q121: =IF(OR(H121="",F121=""),"",IF(H121=F121,1,IF(H121>F121,3,0))) -> 0
C122: =IF(OR(F122="",H122=""),"",IF(F122=H122,1,IF(F122>H122,3,0))) -> 3 | D122: =V96 -> PraFrenteFluzao FC | F122: 72.35 | G122: x | H122: 11.92 | I122: =V94 -> icaraiFC | Q122: =IF(OR(H122="",F122=""),"",IF(H122=F122,1,IF(H122>F122,3,0))) -> 0
C123: =IF(OR(F123="",H123=""),"",IF(F123=H123,1,IF(F123>H123,3,0))) -> 0 | D123: =V95 -> GUZMAN F.C. | F123: 32.61 | G123: x | H123: 34.95 | I123: =V93 -> SADYMENGO | Q123: =IF(OR(H123="",F123=""),"",IF(H123=F123,1,IF(H123>F123,3,0))) -> 3
...

Sheet 3ª FASE - GRUPOS Q a X
B2: 1º CAMPEONATO CARTOLA 2013
B6: 3ª FASE
D10: CLASSIFICAÇÃO
D15: OBS: Os 4 melhores colocados no Grupo se classificarão para a 4ª FASE.
D17: GRUPO Q
D19: Pos. | E19: CARTOLA | F19: P | H19: PP | J19: PC | L19: SP | U19: Pos. | V19: TIMES | W19: P | X19: GF | Y19: GC | Z19: SG | AA19: calc | AB19: maior | AC19: corresp
D20: 1º | E20: =VLOOKUP(AC20,$U$20:$AB$27,2) -> mala$ fc ... | F20: =VLOOKUP(AC20,$U$20:$AB$27,3) -> 15 | H20: =VLOOKUP(AC20,$U$20:$AB$27,4) -> 356.67 | J20: =VLOOKUP(AC20,$U$20:$AB$27,5) -> 273.19 | L20: =VLOOKUP(AC20,$U$20:$AB$27,6) -> 83.48 | O20: Legenda | U20: 1 | V20: =IF(OR('2ª FASE - GRUPOS I a P'!F568="",'2ª FASE - GRUPOS I a P'!F568=""),"",'2ª FASE - GRUPOS I a P'!E507) -> GAMBAZADA F.C | W20: =SUM(Q35,Q40,Q49,Q58,Q66,Q75,Q83) -> 0 | X20: =SUM(H35,H40,H49,H58,H66,H75,H83) -> 190.94 | Y20: =SUM(F35,F40,F49,F58,F66,F75,F83) -> 318.12 | Z20: =X20-Y20 -> -127.18 | AA20: =(W20*10^10)+((Z20+5000)*10^6)+(X20*10)+U20 -> 4.8728219e+09 | AB20: =LARGE($AA$20:$AA$27,U20) -> 1.5508348e+11 | AC20: =MATCH(AB20,$AA$20:$AA$27,0) -> 7
D21: 2º | E21: =VLOOKUP(AC21,$U$20:$AB$27,2) -> Al-Jazira F.c | F21: =VLOOKUP(AC21,$U$20:$AB$27,3) -> 15 | H21: =VLOOKUP(AC21,$U$20:$AB$27,4) -> 357.13 | J21: =VLOOKUP(AC21,$U$20:$AB$27,5) -> 328.23 | L21: =VLOOKUP(AC21,$U$20:$AB$27,6) -> 28.9 | O21: P - pontos | U21: 2 | V21: =IF(OR('2ª FASE - GRUPOS A a H'!F83="",'2ª FASE - GRUPOS A a H'!F83=""),"",'2ª FASE - GRUPOS A a H'!E23) -> TriCa PaNAtuBA | W21: =SUM(Q34,Q41,Q48,Q59,Q67,Q74,C83) -> 9 | X21: =SUM(H34,H41,H48,H59,H67,H74,F83) -> 307.27 | Y21: =SUM(F34,F41,F48,F59,F67,F74,H83) -> 285.13 | Z21: =X21-Y21 -> 22.14 | AA21: =(W21*10^10)+((Z21+5000)*10^6)+(X21*10)+U21 -> 9.5022143e+10 | AB21: =LARGE($AA$20:$AA$27,U21) -> 1.550289e+11 | AC21: =MATCH(AB21,$AA$20:$AA$27,0) -> 6
D22: 3º | E22: =VLOOKUP(AC22,$U$20:$AB$27,2) -> MagoLitos F.C | F22: =VLOOKUP(AC22,$U$20:$AB$27,3) -> 12 | H22: =VLOOKUP(AC22,$U$20:$AB$27,4) -> 372.29 | J22: =VLOOKUP(AC22,$U$20:$AB$27,5) -> 303.13 | L22: =VLOOKUP(AC22,$U$20:$AB$27,6) -> 69.16 | O22: PCP - pontos Cartola pró | U22: 3 | V22: =IF(OR('2ª FASE - GRUPOS I a P'!F568="",'2ª FASE - GRUPOS I a P'!F568=""),"",'2ª FASE - GRUPOS I a P'!E506) -> leitemoça 3 | W22: =SUM(Q33,Q42,Q51,Q56,C67,C75,Q82) -> 9 | X22: =SUM(H33,H42,H51,H56,F67,F75,H82) -> 272.48 | Y22: =SUM(F33,F42,F51,F56,H67,H75,F82) -> 348.8 | Z22: =X22-Y22 -> -76.32 | AA22: =(W22*10^10)+((Z22+5000)*10^6)+(X22*10)+U22 -> 9.4923683e+10 | AB22: =LARGE($AA$20:$AA$27,U22) -> 1.2506916e+11 | AC22: =MATCH(AB22,$AA$20:$AA$27,0) -> 4
D23: 4º | E23: =VLOOKUP(AC23,$U$20:$AB$27,2) -> Fluminense do Lins | F23: =VLOOKUP(AC23,$U$20:$AB$27,3) -> 12 | H23: =VLOOKUP(AC23,$U$20:$AB$27,4) -> 324.27 | J23: =VLOOKUP(AC23,$U$20:$AB$27,5) -> 308.93 | L23: =VLOOKUP(AC23,$U$20:$AB$27,6) -> 15.34 | O23: PCC - pontos Cartola contra | U23: 4 | V23: =IF(OR('2ª FASE - GRUPOS A a H'!F83="",'2ª FASE - GRUPOS A a H'!F83=""),"",'2ª FASE - GRUPOS A a H'!E22) -> MagoLitos F.C | W23: =SUM(Q32,Q43,Q50,Q57,C66,C74,C82) -> 12 | X23: =SUM(H32,H43,H50,H57,F66,F74,F82) -> 372.29 | Y23: =SUM(F32,F43,F50,F57,H66,H74,H82) -> 303.13 | Z23: =X23-Y23 -> 69.16 | AA23: =(W23*10^10)+((Z23+5000)*10^6)+(X23*10)+U23 -> 1.2506916e+11 | AB23: =LARGE($AA$20:$AA$27,U23) -> 1.2501534e+11 | AC23: =MATCH(AB23,$AA$20:$AA$27,0) -> 8
D24: 5º | E24: =VLOOKUP(AC24,$U$20:$AB$27,2) -> VaVillon | F24: =VLOOKUP(AC24,$U$20:$AB$27,3) -> 12 | H24: =VLOOKUP(AC24,$U$20:$AB$27,4) -> 282.07 | J24: =VLOOKUP(AC24,$U$20:$AB$27,5) -> 297.59 | L24: =VLOOKUP(AC24,$U$20:$AB$27,6) -> -15.52 | O24: SP - saldo de pontos | U24: 5 | V24: =IF(OR('2ª FASE - GRUPOS I a P'!F568="",'2ª FASE - GRUPOS I a P'!F568=""),"",'2ª FASE - GRUPOS I a P'!E505) -> VaVillon | W24: =SUM(C35,C43,C51,C59,Q64,Q73,Q81) -> 12 | X24: =SUM(F35,F43,F51,F59,H64,H73,H81) -> 282.07 | Y24: =SUM(H35,H43,H51,H59,F64,F73,F81) -> 297.59 | Z24: =X24-Y24 -> -15.52 | AA24: =(W24*10^10)+((Z24+5000)*10^6)+(X24*10)+U24 -> 1.2498448e+11 | AB24: =LARGE($AA$20:$AA$27,U24) -> 1.2498448e+11 | AC24: =MATCH(AB24,$AA$20:$AA$27,0) -> 5
D25: 6º | E25: =VLOOKUP(AC25,$U$20:$AB$27,2) -> TriCa PaNAtuBA | F25: =VLOOKUP(AC25,$U$20:$AB$27,3) -> 9 | H25: =VLOOKUP(AC25,$U$20:$AB$27,4) -> 307.27 | J25: =VLOOKUP(AC25,$U$20:$AB$27,5) -> 285.13 | L25: =VLOOKUP(AC25,$U$20:$AB$27,6) -> 22.14 | U25: 6 | V25: =IF(OR('2ª FASE - GRUPOS A a H'!F83="",'2ª FASE - GRUPOS A a H'!F83=""),"",'2ª FASE - GRUPOS A a H'!E21) -> Al-Jazira F.c | W25: =SUM(C34,C42,C50,C58,Q65,Q72,C81) -> 15 | X25: =SUM(F34,F42,F50,F58,H65,H72,F81) -> 357.13 | Y25: =SUM(H34,H42,H50,H58,F65,F72,H81) -> 328.23 | Z25: =X25-Y25 -> 28.9 | AA25: =(W25*10^10)+((Z25+5000)*10^6)+(X25*10)+U25 -> 1.550289e+11 | AB25: =LARGE($AA$20:$AA$27,U25) -> 9.5022143e+10 | AC25: =MATCH(AB25,$AA$20:$AA$27,0) -> 2
D26: 7º | E26: =VLOOKUP(AC26,$U$20:$AB$27,2) -> leitemoça 3 | F26: =VLOOKUP(AC26,$U$20:$AB$27,3) -> 9 | H26: =VLOOKUP(AC26,$U$20:$AB$27,4) -> 272.48 | J26: =VLOOKUP(AC26,$U$20:$AB$27,5) -> 348.8 | L26: =VLOOKUP(AC26,$U$20:$AB$27,6) -> -76.32 | U26: 7 | V26: =IF(OR('2ª FASE - GRUPOS I a P'!F568="",'2ª FASE - GRUPOS I a P'!F568=""),"",'2ª FASE - GRUPOS I a P'!E504) -> mala$ fc ... | W26: =SUM(C33,C41,C49,C57,C65,C73,Q80,) -> 15 | X26: =SUM(F33,F41,F49,F57,F65,F73,H80) -> 356.67 | Y26: =SUM(H33,H41,H49,H57,H65,H73,F80) -> 273.19 | Z26: =X26-Y26 -> 83.48 | AA26: =(W26*10^10)+((Z26+5000)*10^6)+(X26*10)+U26 -> 1.5508348e+11 | AB26: =LARGE($AA$20:$AA$27,U26) -> 9.4923683e+10 | AC26: =MATCH(AB26,$AA$20:$AA$27,0) -> 3
D27: 8º | E27: =VLOOKUP(AC27,$U$20:$AB$27,2) -> GAMBAZADA F.C | F27: =VLOOKUP(AC27,$U$20:$AB$27,3) -> 0 | H27: =VLOOKUP(AC27,$U$20:$AB$27,4) -> 190.94 | J27: =VLOOKUP(AC27,$U$20:$AB$27,5) -> 318.12 | L27: =VLOOKUP(AC27,$U$20:$AB$27,6) -> -127.18 | U27: 8 | V27: =IF(OR('2ª FASE - GRUPOS A a H'!F83="",'2ª FASE - GRUPOS A a H'!F83=""),"",'2ª FASE - GRUPOS A a H'!E20) -> Fluminense do Lins | W27: =SUM(C32,C40,C48,C56,C64,C72,C80) -> 12 | X27: =SUM(F32,F40,F48,F56,F64,F72,F80) -> 324.27 | Y27: =SUM(H32,H40,H48,H56,H64,H72,H80) -> 308.93 | Z27: =X27-Y27 -> 15.34 | AA27: =(W27*10^10)+((Z27+5000)*10^6)+(X27*10)+U27 -> 1.2501534e+11 | AB27: =LARGE($AA$20:$AA$27,U27) -> 4.8728219e+09 | AC27: =MATCH(AB27,$AA$20:$AA$27,0) -> 1
D29: 1ª RODADA - #14
C32: =IF(OR(F32="",H32=""),"",IF(F32=H32,1,IF(F32>H32,3,0))) -> 0 | D32: =V27 -> Fluminense do Lins | F32: 45.39 | G32: x | H32: 67.42 | I32: =V23 -> MagoLitos F.C | Q32: =IF(OR(H32="",F32=""),"",IF(H32=F32,1,IF(H32>F32,3,0))) -> 3
C33: =IF(OR(F33="",H33=""),"",IF(F33=H33,1,IF(F33>H33,3,0))) -> 0 | D33: =V26 -> mala$ fc ... | F33: 74.35 | G33: x | H33: 77.19 | I33: =V22 -> leitemoça 3 | Q33: =IF(OR(H33="",F33=""),"",IF(H33=F33,1,IF(H33>F33,3,0))) -> 3
C34: =IF(OR(F34="",H34=""),"",IF(F34=H34,1,IF(F34>H34,3,0))) -> 3 | D34: =V25 -> Al-Jazira F.c | F34: 58.79 | G34: x | H34: 52.94 | I34: =V21 -> TriCa PaNAtuBA | Q34: =IF(OR(H34="",F34=""),"",IF(H34=F34,1,IF(H34>F34,3,0))) -> 0
C35: =IF(OR(F35="",H35=""),"",IF(F35=H35,1,IF(F35>H35,3,0))) -> 3 | D35: =V24 -> VaVillon | F35: 38.79 | G35: x | H35: 29.29 | I35: =V20 -> GAMBAZADA F.C | Q35: =IF(OR(H35="",F35=""),"",IF(H35=F35,1,IF(H35>F35,3,0))) -> 0
C36: =IF(OR(F36="",H36=""),"",IF(F36=H36,1,IF(F36>H36,3,0))) | Q36: =IF(OR(H36="",F36=""),"",IF(H36=F36,1,IF(H36>F36,3,0)))
C37: =IF(OR(F37="",H37=""),"",IF(F37=H37,1,IF(F37>H37,3,0))) | D37: 2ª RODADA - #15 | Q37: =IF(OR(H37="",F37=""),"",IF(H37=F37,1,IF(H37>F37,3,0)))
C38: =IF(OR(F38="",H38=""),"",IF(F38=H38,1,IF(F38>H38,3,0))) | Q38: =IF(OR(H38="",F38=""),"",IF(H38=F38,1,IF(H38>F38,3,0)))
C39: =IF(OR(F39="",H39=""),"",IF(F39=H39,1,IF(F39>H39,3,0))) | Q39: =IF(OR(H39="",F39=""),"",IF(H39=F39,1,IF(H39>F39,3,0)))
C40: =IF(OR(F40="",H40=""),"",IF(F40=H40,1,IF(F40>H40,3,0))) -> 3 | D40: =V27 -> Fluminense do Lins | F40: 54.94 | G40: x | H40: 36.08 | I40: =V20 -> GAMBAZADA F.C | Q40: =IF(OR(H40="",F40=""),"",IF(H40=F40,1,IF(H40>F40,3,0))) -> 0
C41: =IF(OR(F41="",H41=""),"",IF(F41=H41,1,IF(F41>H41,3,0))) -> 3 | D41: =V26 -> mala$ fc ... | F41: 57.75 | G41: x | H41: 40.29 | I41: =V21 -> TriCa PaNAtuBA | Q41: =IF(OR(H41="",F41=""),"",IF(H41=F41,1,IF(H41>F41,3,0))) -> 0
C42: =IF(OR(F42="",H42=""),"",IF(F42=H42,1,IF(F42>H42,3,0))) -> 3 | D42: =V25 -> Al-Jazira F.c | F42: 77.4 | G42: x | H42: 40.74 | I42: =V22 -> leitemoça 3 | Q42: =IF(OR(H42="",F42=""),"",IF(H42=F42,1,IF(H42>F42,3,0))) -> 0
C43: =IF(OR(F43="",H43=""),"",IF(F43=H43,1,IF(F43>H43,3,0))) -> 3 | D43: =V24 -> VaVillon | F43: 72.74 | G43: x | H43: 65.24 | I43: =V23 -> MagoLitos F.C | Q43: =IF(OR(H43="",F43=""),"",IF(H43=F43,1,IF(H43>F43,3,0))) -> 0
C44: =IF(OR(F44="",H44=""),"",IF(F44=H44,1,IF(F44>H44,3,0))) | Q44: =IF(OR(H44="",F44=""),"",IF(H44=F44,1,IF(H44>F44,3,0)))
C45: =IF(OR(F45="",H45=""),"",IF(F45=H45,1,IF(F45>H45,3,0))) | D45: 3ª RODADA - #16 | Q45: =IF(OR(H45="",F45=""),"",IF(H45=F45,1,IF(H45>F45,3,0)))
C46: =IF(OR(F46="",H46=""),"",IF(F46=H46,1,IF(F46>H46,3,0))) | Q46: =IF(OR(H46="",F46=""),"",IF(H46=F46,1,IF(H46>F46,3,0)))
C47: =IF(OR(F47="",H47=""),"",IF(F47=H47,1,IF(F47>H47,3,0))) | Q47: =IF(OR(H47="",F47=""),"",IF(H47=F47,1,IF(H47>F47,3,0)))
C48: =IF(OR(F48="",H48=""),"",IF(F48=H48,1,IF(F48>H48,3,0))) -> 3 | D48: =V27 -> Fluminense do Lins | F48: 54.67 | G48: x | H48: 39.55 | I48: =V21 -> TriCa PaNAtuBA | Q48: =IF(OR(H48="",F48=""),"",IF(H48=F48,1,IF(H48>F48,3,0))) -> 0
C49: =IF(OR(F49="",H49=""),"",IF(F49=H49,1,IF(F49>H49,3,0))) -> 3 | D49: =V26 -> mala$ fc ... | F49: 37.77 | G49: x | H49: 19.36 | I49: =V20 -> GAMBAZADA F.C | Q49: =IF(OR(H49="",F49=""),"",IF(H49=F49,1,IF(H49>F49,3,0))) -> 0
C50: =IF(OR(F50="",H50=""),"",IF(F50=H50,1,IF(F50>H50,3,0))) -> 3 | D50: =V25 -> Al-Jazira F.c | F50: 51.95 | G50: x | H50: 49.42 | I50: =V23 -> MagoLitos F.C | Q50: =IF(OR(H50="",F50=""),"",IF(H50=F50,1,IF(H50>F50,3,0))) -> 0
C51: =IF(OR(F51="",H51=""),"",IF(F51=H51,1,IF(F51>H51,3,0))) -> 0 | D51: =V24 -> VaVillon | F51: 42.45 | G51: x | H51: 43.45 | I51: =V22 -> leitemoça 3 | Q51: =IF(OR(H51="",F51=""),"",IF(H51=F51,1,IF(H51>F51,3,0))) -> 3
C52: =IF(OR(F52="",H52=""),"",IF(F52=H52,1,IF(F52>H52,3,0))) | Q52: =IF(OR(H52="",F52=""),"",IF(H52=F52,1,IF(H52>F52,3,0)))
C53: =IF(OR(F53="",H53=""),"",IF(F53=H53,1,IF(F53>H53,3,0))) | D53: 4ª RODADA - #17 | Q53: =IF(OR(H53="",F53=""),"",IF(H53=F53,1,IF(H53>F53,3,0)))
C54: =IF(OR(F54="",H54=""),"",IF(F54=H54,1,IF(F54>H54,3,0))) | Q54: =IF(OR(H54="",F54=""),"",IF(H54=F54,1,IF(H54>F54,3,0)))
C55: =IF(OR(F55="",H55=""),"",IF(F55=H55,1,IF(F55>H55,3,0))) | Q55: =IF(OR(H55="",F55=""),"",IF(H55=F55,1,IF(H55>F55,3,0)))
C56: =IF(OR(F56="",H56=""),"",IF(F56=H56,1,IF(F56>H56,3,0))) -> 3 | D56: =V27 -> Fluminense do Lins | F56: 36.05 | G56: x | H56: 22.17 | I56: =V22 -> leitemoça 3 | Q56: =IF(OR(H56="",F56=""),"",IF(H56=F56,1,IF(H56>F56,3,0))) -> 0
C57: =IF(OR(F57="",H57=""),"",IF(F57=H57,1,IF(F57>H57,3,0))) -> 3 | D57: =V26 -> mala$ fc ... | F57: 45.16 | G57: x | H57: 40.49 | I57: =V23 -> MagoLitos F.C | Q57: =IF(OR(H57="",F57=""),"",IF(H57=F57,1,IF(H57>F57,3,0))) -> 0
C58: =IF(OR(F58="",H58=""),"",IF(F58=H58,1,IF(F58>H58,3,0))) -> 3 | D58: =V25 -> Al-Jazira F.c | F58: 51.56 | G58: x | H58: 47.65 | I58: =V20 -> GAMBAZADA F.C | Q58: =IF(OR(H58="",F58=""),"",IF(H58=F58,1,IF(H58>F58,3,0))) -> 0
C59: =IF(OR(F59="",H59=""),"",IF(F59=H59,1,IF(F59>H59,3,0))) -> 0 | D59: =V24 -> VaVillon | F59: 28.38 | G59: x | H59: 44.66 | I59: =V21 -> TriCa PaNAtuBA | Q59: =IF(OR(H59="",F59=""),"",IF(H59=F59,1,IF(H59>F59,3,0))) -> 3
C60: =IF(OR(F60="",H60=""),"",IF(F60=H60,1,IF(F60>H60,3,0))) | Q60: =IF(OR(H60="",F60=""),"",IF(H60=F60,1,IF(H60>F60,3,0)))
C61: =IF(OR(F61="",H61=""),"",IF(F61=H61,1,IF(F61>H61,3,0))) | D61: 5ª RODADA - #18 | Q61: =IF(OR(H61="",F61=""),"",IF(H61=F61,1,IF(H61>F61,3,0)))
C62: =IF(OR(F62="",H62=""),"",IF(F62=H62,1,IF(F62>H62,3,0))) | Q62: =IF(OR(H62="",F62=""),"",IF(H62=F62,1,IF(H62>F62,3,0)))
C63: =IF(OR(F63="",H63=""),"",IF(F63=H63,1,IF(F63>H63,3,0))) | Q63: =IF(OR(H63="",F63=""),"",IF(H63=F63,1,IF(H63>F63,3,0)))
C64: =IF(OR(F64="",H64=""),"",IF(F64=H64,1,IF(F64>H64,3,0))) -> 0 | D64: =V27 -> Fluminense do Lins | F64: 31.85 | G64: x | H64: 44.65 | I64: =V24 -> VaVillon | Q64: =IF(OR(H64="",F64=""),"",IF(H64=F64,1,IF(H64>F64,3,0))) -> 3
C65: =IF(OR(F65="",H65=""),"",IF(F65=H65,1,IF(F65>H65,3,0))) -> 0 | D65: =V26 -> mala$ fc ... | F65: 34.66 | G65: x | H65: 42.25 | I65: =V25 -> Al-Jazira F.c | Q65: =IF(OR(H65="",F65=""),"",IF(H65=F65,1,IF(H65>F65,3,0))) -> 3
C66: =IF(OR(F66="",H66=""),"",IF(F66=H66,1,IF(F66>H66,3,0))) -> 3 | D66: =V23 -> MagoLitos F.C | F66: 36.46 | G66: x | H66: 13.55 | I66: =V20 -> GAMBAZADA F.C | Q66: =IF(OR(H66="",F66=""),"",IF(H66=F66,1,IF(H66>F66,3,0))) -> 0
C67: =IF(OR(F67="",H67=""),"",IF(F67=H67,1,IF(F67>H67,3,0))) -> 0 | D67: =V22 -> leitemoça 3 | F67: 18.26 | G67: x | H67: 27.56 | I67: =V21 -> TriCa PaNAtuBA | Q67: =IF(OR(H67="",F67=""),"",IF(H67=F67,1,IF(H67>F67,3,0))) -> 3
C68: =IF(OR(F68="",H68=""),"",IF(F68=H68,1,IF(F68>H68,3,0))) | Q68: =IF(OR(H68="",F68=""),"",IF(H68=F68,1,IF(H68>F68,3,0)))
C69: =IF(OR(F69="",H69=""),"",IF(F69=H69,1,IF(F69>H69,3,0))) | D69: 6ª RODADA - #19 | Q69: =IF(OR(H69="",F69=""),"",IF(H69=F69,1,IF(H69>F69,3,0)))
C70: =IF(OR(F70="",H70=""),"",IF(F70=H70,1,IF(F70>H70,3,0))) | Q70: =IF(OR(H70="",F70=""),"",IF(H70=F70,1,IF(H70>F70,3,0)))
C71: =IF(OR(F71="",H71=""),"",IF(F71=H71,1,IF(F71>H71,3,0))) | Q71: =IF(OR(H71="",F71=""),"",IF(H71=F71,1,IF(H71>F71,3,0)))
C72: =IF(OR(F72="",H72=""),"",IF(F72=H72,1,IF(F72>H72,3,0))) -> 3 | D72: =V27 -> Fluminense do Lins | F72: 60.25 | G72: x | H72: 46.55 | I72: =V25 -> Al-Jazira F.c | Q72: =IF(OR(H72="",F72=""),"",IF(H72=F72,1,IF(H72>F72,3,0))) -> 0
C73: =IF(OR(F73="",H73=""),"",IF(F73=H73,1,IF(F73>H73,3,0))) -> 3 | D73: =V26 -> mala$ fc ... | F73: 54.47 | G73: x | H73: 12.49 | I73: =V24 -> VaVillon | Q73: =IF(OR(H73="",F73=""),"",IF(H73=F73,1,IF(H73>F73,3,0))) -> 0
C74: =IF(OR(F74="",H74=""),"",IF(F74=H74,1,IF(F74>H74,3,0))) -> 3 | D74: =V23 -> MagoLitos F.C | F74: 48.28 | G74: x | H74: 43.15 | I74: =V21 -> TriCa PaNAtuBA | Q74: =IF(OR(H74="",F74=""),"",IF(H74=F74,1,IF(H74>F74,3,0))) -> 0
C75: =IF(OR(F75="",H75=""),"",IF(F75=H75,1,IF(F75>H75,3,0))) -> 3 | D75: =V22 -> leitemoça 3 | F75: 39.48 | G75: x | H75: 26.01 | I75: =V20 -> GAMBAZADA F.C | Q75: =IF(OR(H75="",F75=""),"",IF(H75=F75,1,IF(H75>F75,3,0))) -> 0
C76: =IF(OR(F76="",H76=""),"",IF(F76=H76,1,IF(F76>H76,3,0))) | Q76: =IF(OR(H76="",F76=""),"",IF(H76=F76,1,IF(H76>F76,3,0)))
C77: =IF(OR(F77="",H77=""),"",IF(F77=H77,1,IF(F77>H77,3,0))) | D77: 7ª RODADA - #20 | Q77: =IF(OR(H77="",F77=""),"",IF(H77=F77,1,IF(H77>F77,3,0)))
C78: =IF(OR(F78="",H78=""),"",IF(F78=H78,1,IF(F78>H78,3,0))) | Q78: =IF(OR(H78="",F78=""),"",IF(H78=F78,1,IF(H78>F78,3,0)))
C79: =IF(OR(F79="",H79=""),"",IF(F79=H79,1,IF(F79>H79,3,0))) | Q79: =IF(OR(H79="",F79=""),"",IF(H79=F79,1,IF(H79>F79,3,0)))
C80: =IF(OR(F80="",H80=""),"",IF(F80=H80,1,IF(F80>H80,3,0))) -> 0 | D80: =V27 -> Fluminense do Lins | F80: 41.12 | G80: x | H80: 52.51 | I80: =V26 -> mala$ fc ... | Q80: =IF(OR(H80="",F80=""),"",IF(H80=F80,1,IF(H80>F80,3,0))) -> 3
C81: =IF(OR(F81="",H81=""),"",IF(F81=H81,1,IF(F81>H81,3,0))) -> 0 | D81: =V25 -> Al-Jazira F.c | F81: 28.63 | G81: x | H81: 42.57 | I81: =V24 -> VaVillon | Q81: =IF(OR(H81="",F81=""),"",IF(H81=F81,1,IF(H81>F81,3,0))) -> 3
C82: =IF(OR(F82="",H82=""),"",IF(F82=H82,1,IF(F82>H82,3,0))) -> 3 | D82: =V23 -> MagoLitos F.C | F82: 64.98 | G82: x | H82: 31.19 | I82: =V22 -> leitemoça 3 | Q82: =IF(OR(H82="",F82=""),"",IF(H82=F82,1,IF(H82>F82,3,0))) -> 0
C83: =IF(OR(F83="",H83=""),"",IF(F83=H83,1,IF(F83>H83,3,0))) -> 3 | D83: =V21 -> TriCa PaNAtuBA | F83: 59.12 | G83: x | H83: 19 | I83: =V20 -> GAMBAZADA F.C | Q83: =IF(OR(H83="",F83=""),"",IF(H83=F83,1,IF(H83>F83,3,0))) -> 0
C84: =IF(OR(F84="",H84=""),"",IF(F84=H84,1,IF(F84>H84,3,0))) | Q84: =IF(OR(H84="",F84=""),"",IF(H84=F84,1,IF(H84>F84,3,0)))
D86: OBS: Os 4 melhores colocados no Grupo se classificarão para a 3ª FASE.
D88: GRUPO R
D90: Pos. | E90: CARTOLA | F90: P | H90: PP | J90: PC | L90: SP | U90: Pos. | V90: TIMES | W90: P | X90: GF | Y90: GC | Z90: SG | AA90: calc | AB90: maior | AC90: corresp
D91: 1º | E91: =VLOOKUP(AC91,$U$91:$Z$98,2) -> Palestracas FC | F91: =VLOOKUP(AC91,$U$91:$Z$98,3) -> 18 | H91: =VLOOKUP(AC91,$U$91:$Z$98,4) -> 344.2 | J91: =VLOOKUP(AC91,$U$91:$Z$98,5) -> 291.11 | L91: =VLOOKUP(AC91,$U$91:$Z$98,6) -> 53.09 | O91: Legenda | U91: 1 | V91: =IF(OR('2ª FASE - GRUPOS I a P'!F499="",'2ª FASE - GRUPOS I a P'!F499=""),"",'2ª FASE - GRUPOS I a P'!E438) -> PANZA FC | W91: =SUM(Q107,Q112,Q121,Q130,Q138,Q147,Q155) -> 12 | X91: =SUM(H107,H112,H121,H130,H138,H147,H155) -> 370.27 | Y91: =SUM(F107,F112,F121,F130,F138,F147,F155) -> 371.15 | Z91: =X91-Y91 -> -0.88 | AA91: =(W91*10^10)+((Z91+5000)*10^6)+(X91*10)+U91 -> 1.2499912e+11 | AB91: =LARGE($AA$91:$AA$98,U91) -> 185053093445 | AC91: =MATCH(AB91,$AA$91:$AA$98,0) -> 3
D92: 2º | E92: =VLOOKUP(AC92,$U$91:$Z$98,2) -> Ninguem Dorme SBC | F92: =VLOOKUP(AC92,$U$91:$Z$98,3) -> 15 | H92: =VLOOKUP(AC92,$U$91:$Z$98,4) -> 389.57 | J92: =VLOOKUP(AC92,$U$91:$Z$98,5) -> 349.65 | L92: =VLOOKUP(AC92,$U$91:$Z$98,6) -> 39.92 | O92: P - pontos | U92: 2 | V92: =IF(OR('2ª FASE - GRUPOS A a H'!F155="",'2ª FASE - GRUPOS A a H'!F155=""),"",'2ª FASE - GRUPOS A a H'!E94) -> Ninguem Dorme SBC | W92: =SUM(Q106,Q113,Q120,Q131,Q139,Q146,C155) -> 15 | X92: =SUM(H106,H113,H120,H131,H139,H146,F155) -> 389.57 | Y92: =SUM(F106,F113,F120,F131,F139,F146,H155) -> 349.65 | Z92: =X92-Y92 -> 39.92 | AA92: =(W92*10^10)+((Z92+5000)*10^6)+(X92*10)+U92 -> 1.5503992e+11 | AB92: =LARGE($AA$91:$AA$98,U92) -> 1.5503992e+11 | AC92: =MATCH(AB92,$AA$91:$AA$98,0) -> 2
D93: 3º | E93: =VLOOKUP(AC93,$U$91:$Z$98,2) -> Forever2013 | F93: =VLOOKUP(AC93,$U$91:$Z$98,3) -> 12 | H93: =VLOOKUP(AC93,$U$91:$Z$98,4) -> 367.14 | J93: =VLOOKUP(AC93,$U$91:$Z$98,5) -> 337.16 | L93: =VLOOKUP(AC93,$U$91:$Z$98,6) -> 29.98 | O93: PCP - pontos Cartola pró | U93: 3 | V93: =IF(OR('2ª FASE - GRUPOS I a P'!F499="",'2ª FASE - GRUPOS I a P'!F499=""),"",'2ª FASE - GRUPOS I a P'!E437) -> Palestracas FC | W93: =SUM(Q105,Q114,Q123,Q128,C139,C147,Q154) -> 18 | X93: =SUM(H105,H114,H123,H128,F139,F147,H154) -> 344.2 | Y93: =SUM(F105,F114,F123,F128,H139,H147,F154) -> 291.11 | Z93: =X93-Y93 -> 53.09 | AA93: =(W93*10^10)+((Z93+5000)*10^6)+(X93*10)+U93 -> 185053093445 | AB93: =LARGE($AA$91:$AA$98,U93) -> 1.2502998e+11 | AC93: =MATCH(AB93,$AA$91:$AA$98,0) -> 7
D94: 4º | E94: =VLOOKUP(AC94,$U$91:$Z$98,2) -> PANZA FC | F94: =VLOOKUP(AC94,$U$91:$Z$98,3) -> 12 | H94: =VLOOKUP(AC94,$U$91:$Z$98,4) -> 370.27 | J94: =VLOOKUP(AC94,$U$91:$Z$98,5) -> 371.15 | L94: =VLOOKUP(AC94,$U$91:$Z$98,6) -> -0.88 | O94: PCC - pontos Cartola contra | U94: 4 | V94: =IF(OR('2ª FASE - GRUPOS A a H'!F155="",'2ª FASE - GRUPOS A a H'!F155=""),"",'2ª FASE - GRUPOS A a H'!E93) -> Família Timóteo FC | W94: =SUM(Q104,Q115,Q122,Q129,C138,C146,C154) -> 6 | X94: =SUM(H104,H115,H122,H129,F138,F146,F154) -> 336.68 | Y94: =SUM(F104,F115,F122,F129,H138,H146,H154) -> 334.97 | Z94: =X94-Y94 -> 1.71 | AA94: =(W94*10^10)+((Z94+5000)*10^6)+(X94*10)+U94 -> 6.5001713e+10 | AB94: =LARGE($AA$91:$AA$98,U94) -> 1.2499912e+11 | AC94: =MATCH(AB94,$AA$91:$AA$98,0) -> 1
D95: 5º | E95: =VLOOKUP(AC95,$U$91:$Z$98,2) -> Strenght a.L | F95: =VLOOKUP(AC95,$U$91:$Z$98,3) -> 9 | H95: =VLOOKUP(AC95,$U$91:$Z$98,4) -> 314.58 | J95: =VLOOKUP(AC95,$U$91:$Z$98,5) -> 374.38 | L95: =VLOOKUP(AC95,$U$91:$Z$98,6) -> -59.8 | O95: SP - saldo de pontos | U95: 5 | V95: =IF(OR('2ª FASE - GRUPOS I a P'!F499="",'2ª FASE - GRUPOS I a P'!F499=""),"",'2ª FASE - GRUPOS I a P'!E436) -> Strenght a.L | W95: =SUM(C107,C115,C123,C131,Q136,Q145,Q153) -> 9 | X95: =SUM(F107,F115,F123,F131,H136,H145,H153) -> 314.58 | Y95: =SUM(H107,H115,H123,H131,F136,F145,F153) -> 374.38 | Z95: =X95-Y95 -> -59.8 | AA95: =(W95*10^10)+((Z95+5000)*10^6)+(X95*10)+U95 -> 9.4940203e+10 | AB95: =LARGE($AA$91:$AA$98,U95) -> 9.4940203e+10 | AC95: =MATCH(AB95,$AA$91:$AA$98,0) -> 5
D96: 6º | E96: =VLOOKUP(AC96,$U$91:$Z$98,2) -> Família Timóteo FC | F96: =VLOOKUP(AC96,$U$91:$Z$98,3) -> 6 | H96: =VLOOKUP(AC96,$U$91:$Z$98,4) -> 336.68 | J96: =VLOOKUP(AC96,$U$91:$Z$98,5) -> 334.97 | L96: =VLOOKUP(AC96,$U$91:$Z$98,6) -> 1.71 | U96: 6 | V96: =IF(OR('2ª FASE - GRUPOS A a H'!F155="",'2ª FASE - GRUPOS A a H'!F155=""),"",'2ª FASE - GRUPOS A a H'!E92) -> CRVG-3000 | W96: =SUM(C106,C114,C122,C130,Q137,Q144,C153) -> 6 | X96: =SUM(F106,F114,F122,F130,H137,H144,F153) -> 274.82 | Y96: =SUM(H106,H114,H122,H130,F137,F144,H153) -> 297.48 | Z96: =X96-Y96 -> -22.66 | AA96: =(W96*10^10)+((Z96+5000)*10^6)+(X96*10)+U96 -> 6.4977343e+10 | AB96: =LARGE($AA$91:$AA$98,U96) -> 6.5001713e+10 | AC96: =MATCH(AB96,$AA$91:$AA$98,0) -> 4
D97: 7º | E97: =VLOOKUP(AC97,$U$91:$Z$98,2) -> CRVG-3000 | F97: =VLOOKUP(AC97,$U$91:$Z$98,3) -> 6 | H97: =VLOOKUP(AC97,$U$91:$Z$98,4) -> 274.82 | J97: =VLOOKUP(AC97,$U$91:$Z$98,5) -> 297.48 | L97: =VLOOKUP(AC97,$U$91:$Z$98,6) -> -22.66 | U97: 7 | V97: =IF(OR('2ª FASE - GRUPOS I a P'!F499="",'2ª FASE - GRUPOS I a P'!F499=""),"",'2ª FASE - GRUPOS I a P'!E435) -> Forever2013 | W97: =SUM(C105,C113,C121,C129,C137,C145,Q152) -> 12 | X97: =SUM(F105,F113,F121,F129,F137,F145,H152) -> 367.14 | Y97: =SUM(H105,H113,H121,H129,H137,H145,F152) -> 337.16 | Z97: =X97-Y97 -> 29.98 | AA97: =(W97*10^10)+((Z97+5000)*10^6)+(X97*10)+U97 -> 1.2502998e+11 | AB97: =LARGE($AA$91:$AA$98,U97) -> 6.4977343e+10 | AC97: =MATCH(AB97,$AA$91:$AA$98,0) -> 6
D98: 8º | E98: =VLOOKUP(AC98,$U$91:$Z$98,2) -> WillianBalao | F98: =VLOOKUP(AC98,$U$91:$Z$98,3) -> 6 | H98: =VLOOKUP(AC98,$U$91:$Z$98,4) -> 404.69 | J98: =VLOOKUP(AC98,$U$91:$Z$98,5) -> 446.05 | L98: =VLOOKUP(AC98,$U$91:$Z$98,6) -> -41.36 | U98: 8 | V98: =IF(OR('2ª FASE - GRUPOS A a H'!F155="",'2ª FASE - GRUPOS A a H'!F155=""),"",'2ª FASE - GRUPOS A a H'!E91) -> WillianBalao | W98: =SUM(C104,C112,C120,C128,C136,C144,C152) -> 6 | X98: =SUM(F104,F112,F120,F128,F136,F144,F152) -> 404.69 | Y98: =SUM(H104,H112,H120,H128,H136,H144,H152) -> 446.05 | Z98: =X98-Y98 -> -41.36 | AA98: =(W98*10^10)+((Z98+5000)*10^6)+(X98*10)+U98 -> 6.4958644e+10 | AB98: =LARGE($AA$91:$AA$98,U98) -> 6.4958644e+10 | AC98: =MATCH(AB98,$AA$91:$AA$98,0) -> 8
D101: 1ª RODADA - #14
C104: =IF(OR(F104="",H104=""),"",IF(F104=H104,1,IF(F104>H104,3,0))) -> 3 | D104: =V98 -> WillianBalao | F104: 71.29 | G104: x | H104: 69.39 | I104: =V94 -> Família Timóteo FC | Q104: =IF(OR(H104="",F104=""),"",IF(H104=F104,1,IF(H104>F104,3,0))) -> 0
C105: =IF(OR(F105="",H105=""),"",IF(F105=H105,1,IF(F105>H105,3,0))) -> 3 | D105: =V97 -> Forever2013 | F105: 76.69 | G105: x | H105: 40.48 | I105: =V93 -> Palestracas FC | Q105: =IF(OR(H105="",F105=""),"",IF(H105=F105,1,IF(H105>F105,3,0))) -> 0
C106: =IF(OR(F106="",H106=""),"",IF(F106=H106,1,IF(F106>H106,3,0))) -> 0 | D106: =V96 -> CRVG-3000 | F106: 55.95 | G106: x | H106: 63.69 | I106: =V92 -> Ninguem Dorme SBC | Q106: =IF(OR(H106="",F106=""),"",IF(H106=F106,1,IF(H106>F106,3,0))) -> 3
C107: =IF(OR(F107="",H107=""),"",IF(F107=H107,1,IF(F107>H107,3,0))) -> 0 | D107: =V95 -> Strenght a.L | F107: 62.29 | G107: x | H107: 82.59 | I107: =V91 -> PANZA FC | Q107: =IF(OR(H107="",F107=""),"",IF(H107=F107,1,IF(H107>F107,3,0))) -> 3
C108: =IF(OR(F108="",H108=""),"",IF(F108=H108,1,IF(F108>H108,3,0))) | Q108: =IF(OR(H108="",F108=""),"",IF(H108=F108,1,IF(H108>F108,3,0)))
C109: =IF(OR(F109="",H109=""),"",IF(F109=H109,1,IF(F109>H109,3,0))) | D109: 2ª RODADA - #15 | Q109: =IF(OR(H109="",F109=""),"",IF(H109=F109,1,IF(H109>F109,3,0)))
C110: =IF(OR(F110="",H110=""),"",IF(F110=H110,1,IF(F110>H110,3,0))) | Q110: =IF(OR(H110="",F110=""),"",IF(H110=F110,1,IF(H110>F110,3,0)))
C111: =IF(OR(F111="",H111=""),"",IF(F111=H111,1,IF(F111>H111,3,0))) | Q111: =IF(OR(H111="",F111=""),"",IF(H111=F111,1,IF(H111>F111,3,0)))
C112: =IF(OR(F112="",H112=""),"",IF(F112=H112,1,IF(F112>H112,3,0))) -> 0 | D112: =V98 -> WillianBalao | F112: 73.4 | G112: x | H112: 85.54 | I112: =V91 -> PANZA FC | Q112: =IF(OR(H112="",F112=""),"",IF(H112=F112,1,IF(H112>F112,3,0))) -> 3
C113: =IF(OR(F113="",H113=""),"",IF(F113=H113,1,IF(F113>H113,3,0))) -> 0 | D113: =V97 -> Forever2013 | F113: 34.8 | G113: x | H113: 71.27 | I113: =V92 -> Ninguem Dorme SBC | Q113: =IF(OR(H113="",F113=""),"",IF(H113=F113,1,IF(H113>F113,3,0))) -> 3
C114: =IF(OR(F114="",H114=""),"",IF(F114=H114,1,IF(F114>H114,3,0))) -> 0 | D114: =V96 -> CRVG-3000 | F114: 31.84 | G114: x | H114: 42.64 | I114: =V93 -> Palestracas FC | Q114: =IF(OR(H114="",F114=""),"",IF(H114=F114,1,IF(H114>F114,3,0))) -> 3
C115: =IF(OR(F115="",H115=""),"",IF(F115=H115,1,IF(F115>H115,3,0))) -> 3 | D115: =V95 -> Strenght a.L | F115: 48.35 | G115: x | H115: 46.1 | I115: =V94 -> Família Timóteo FC | Q115: =IF(OR(H115="",F115=""),"",IF(H115=F115,1,IF(H115>F115,3,0))) -> 0
C116: =IF(OR(F116="",H116=""),"",IF(F116=H116,1,IF(F116>H116,3,0))) | Q116: =IF(OR(H116="",F116=""),"",IF(H116=F116,1,IF(H116>F116,3,0)))
C117: =IF(OR(F117="",H117=""),"",IF(F117=H117,1,IF(F117>H117,3,0))) | D117: 3ª RODADA - #16 | Q117: =IF(OR(H117="",F117=""),"",IF(H117=F117,1,IF(H117>F117,3,0)))
C118: =IF(OR(F118="",H118=""),"",IF(F118=H118,1,IF(F118>H118,3,0))) | Q118: =IF(OR(H118="",F118=""),"",IF(H118=F118,1,IF(H118>F118,3,0)))
C119: =IF(OR(F119="",H119=""),"",IF(F119=H119,1,IF(F119>H119,3,0))) | Q119: =IF(OR(H119="",F119=""),"",IF(H119=F119,1,IF(H119>F119,3,0)))
C120: =IF(OR(F120="",H120=""),"",IF(F120=H120,1,IF(F120>H120,3,0))) -> 0 | D120: =V98 -> WillianBalao | F120: 49.92 | G120: x | H120: 67.28 | I120: =V92 -> Ninguem Dorme SBC | Q120: =IF(OR(H120="",F120=""),"",IF(H120=F120,1,IF(H120>F120,3,0))) -> 3
C121: =IF(OR(F121="",H121=""),"",IF(F121=H121,1,IF(F121>H121,3,0))) -> 0 | D121: =V97 -> Forever2013 | F121: 53.38 | G121: x | H121: 55.75 | I121: =V91 -> PANZA FC | Q121: =IF(OR(H121="",F121=""),"",IF(H121=F121,1,IF(H121>F121,3,0))) -> 3
C122: =IF(OR(F122="",H122=""),"",IF(F122=H122,1,IF(F122>H122,3,0))) -> 3 | D122: =V96 -> CRVG-3000 | F122: 44.28 | G122: x | H122: 26.8 | I122: =V94 -> Família Timóteo FC | Q122: =IF(OR(H122="",F122=""),"",IF(H122=F122,1,IF(H122>F122,3,0))) -> 0
C123: =IF(OR(F123="",H123=""),"",IF(F123=H123,1,IF(F123>H123,3,0))) -> 0 | D123: =V95 -> Strenght a.L | F123: 37.75 | G123: x | H123: 61.95 | I123: =V93 -> Palestracas FC | Q123: =IF(OR(H123="",F123=""),"",IF(H123=F123,1,IF(H123>F123,3,0))) -> 3
...

Sheet 4ª FASE - GRUPOS 1 a 8
B2: 1º CAMPEONATO CARTOLA 2013
B6: 4ª FASE
D10: CLASSIFICAÇÃO
D15: OBS: Os 2 melhores colocados no Grupo se classificarão para a 5ª FASE.
D17: GRUPO 1
D19: Pos. | E19: CARTOLA | F19: P | H19: PP | J19: PC | L19: SP | O19: Legenda | U19: Pos. | V19: TIMES | W19: P | X19: GF | Y19: GC | Z19: SG | AA19: calc | AB19: maior | AC19: corresp
D20: 1º | E20: =VLOOKUP(AC20,$U$20:$AB$23,2) -> Grajaú F.C. | F20: =VLOOKUP(AC20,$U$20:$AB$23,3) -> 15 | H20: =VLOOKUP(AC20,$U$20:$AB$23,4) -> 357.66 | J20: =VLOOKUP(AC20,$U$20:$AB$23,5) -> 268.39 | L20: =VLOOKUP(AC20,$U$20:$AB$23,6) -> 89.27 | O20: P - pontos | U20: 1 | V20: =IF(OR('3ª FASE - GRUPOS Q a X'!F83="",'3ª FASE - GRUPOS Q a X'!F83=""),"",'3ª FASE - GRUPOS Q a X'!E23) -> Fluminense do Lins | W20: =SUM(Q28,Q35,Q41,Q46,Q53,Q59) -> 6 | X20: =SUM(H28,H35,H41,H46,H53,H59) -> 299.92 | Y20: =SUM(F28,F35,F41,F46,F53,F59) -> 297.4 | Z20: =X20-Y20 -> 2.52 | AA20: =(W20*10^10)+((Z20+5000)*10^6)+(X20*10)+U20 -> 6.5002523e+10 | AB20: =LARGE($AA$20:$AA$23,U20) -> 1.5508927e+11 | AC20: =MATCH(AB20,$AA$20:$AA$23,0) -> 2
D21: 2º | E21: =VLOOKUP(AC21,$U$20:$AB$23,2) -> Alisando Cresce | F21: =VLOOKUP(AC21,$U$20:$AB$23,3) -> 9 | H21: =VLOOKUP(AC21,$U$20:$AB$23,4) -> 266.13 | J21: =VLOOKUP(AC21,$U$20:$AB$23,5) -> 333.94 | L21: =VLOOKUP(AC21,$U$20:$AB$23,6) -> -67.81 | O21: PCP - pontos Cartola pró | U21: 2 | V21: =IF(OR('3ª FASE - GRUPOS Q a X'!F568="",'3ª FASE - GRUPOS Q a X'!F568=""),"",'3ª FASE - GRUPOS Q a X'!E506) -> Grajaú F.C. | W21: =SUM(Q29,Q34,Q47,Q52,C41,C59) -> 15 | X21: =SUM(H29,H34,F41,H47,H52,F59) -> 357.66 | Y21: =SUM(F29,F34,H41,F47,F52,H59) -> 268.39 | Z21: =X21-Y21 -> 89.27 | AA21: =(W21*10^10)+((Z21+5000)*10^6)+(X21*10)+U21 -> 1.5508927e+11 | AB21: =LARGE($AA$20:$AA$23,U21) -> 9.4932193e+10 | AC21: =MATCH(AB21,$AA$20:$AA$23,0) -> 3
D22: 3º | E22: =VLOOKUP(AC22,$U$20:$AB$23,2) -> Fluminense do Lins | F22: =VLOOKUP(AC22,$U$20:$AB$23,3) -> 6 | H22: =VLOOKUP(AC22,$U$20:$AB$23,4) -> 299.92 | J22: =VLOOKUP(AC22,$U$20:$AB$23,5) -> 297.4 | L22: =VLOOKUP(AC22,$U$20:$AB$23,6) -> 2.52 | O22: PCC - pontos Cartola contra | U22: 3 | V22: =IF(OR('3ª FASE - GRUPOS Q a X'!F568="",'3ª FASE - GRUPOS Q a X'!F568=""),"",'3ª FASE - GRUPOS Q a X'!E505) -> Alisando Cresce | W22: =SUM(C29,C35,Q40,C47,C53,Q58) -> 9 | X22: =SUM(F29,F35,H40,F47,F53,H58) -> 266.13 | Y22: =SUM(H29,H35,F40,H47,H53,F58) -> 333.94 | Z22: =X22-Y22 -> -67.81 | AA22: =(W22*10^10)+((Z22+5000)*10^6)+(X22*10)+U22 -> 9.4932193e+10 | AB22: =LARGE($AA$20:$AA$23,U22) -> 6.5002523e+10 | AC22: =MATCH(AB22,$AA$20:$AA$23,0) -> 1
D23: 4º | E23: =VLOOKUP(AC23,$U$20:$AB$23,2) -> mala$ fc ... | F23: =VLOOKUP(AC23,$U$20:$AB$23,3) -> 6 | H23: =VLOOKUP(AC23,$U$20:$AB$23,4) -> 266.16 | J23: =VLOOKUP(AC23,$U$20:$AB$23,5) -> 290.14 | L23: =VLOOKUP(AC23,$U$20:$AB$23,6) -> -23.98 | O23: SP - saldo de pontos | U23: 4 | V23: =IF(OR('3ª FASE - GRUPOS Q a X'!F83="",'3ª FASE - GRUPOS Q a X'!F83=""),"",'3ª FASE - GRUPOS Q a X'!E20) -> mala$ fc ... | W23: =SUM(C28,C34,C40,C46,C52,C58) -> 6 | X23: =SUM(F28,F34,F40,F46,F52,F58) -> 266.16 | Y23: =SUM(H28,H34,H40,H46,H52,H58) -> 290.14 | Z23: =X23-Y23 -> -23.98 | AA23: =(W23*10^10)+((Z23+5000)*10^6)+(X23*10)+U23 -> 6.4976023e+10 | AB23: =LARGE($AA$20:$AA$23,U23) -> 6.4976023e+10 | AC23: =MATCH(AB23,$AA$20:$AA$23,0) -> 4
D25: 1ª RODADA - #21
C28: =IF(OR(F28="",H28=""),"",IF(F28=H28,1,IF(F28>H28,3,0))) -> 0 | D28: =V23 -> mala$ fc ... | F28: 41.54 | G28: x | H28: 49.52 | I28: =V20 -> Fluminense do Lins | Q28: =IF(OR(H28="",F28=""),"",IF(H28=F28,1,IF(H28>F28,3,0))) -> 3
C29: =IF(OR(F29="",H29=""),"",IF(F29=H29,1,IF(F29>H29,3,0))) -> 0 | D29: =V22 -> Alisando Cresce | F29: 45.39 | G29: x | H29: 65.24 | I29: =V21 -> Grajaú F.C. | Q29: =IF(OR(H29="",F29=""),"",IF(H29=F29,1,IF(H29>F29,3,0))) -> 3
C30: =IF(OR(F30="",H30=""),"",IF(F30=H30,1,IF(F30>H30,3,0))) | Q30: =IF(OR(H30="",F30=""),"",IF(H30=F30,1,IF(H30>F30,3,0)))
C31: =IF(OR(F31="",H31=""),"",IF(F31=H31,1,IF(F31>H31,3,0))) | D31: 2ª RODADA - #22 | Q31: =IF(OR(H31="",F31=""),"",IF(H31=F31,1,IF(H31>F31,3,0)))
C32: =IF(OR(F32="",H32=""),"",IF(F32=H32,1,IF(F32>H32,3,0))) | Q32: =IF(OR(H32="",F32=""),"",IF(H32=F32,1,IF(H32>F32,3,0)))
C33: =IF(OR(F33="",H33=""),"",IF(F33=H33,1,IF(F33>H33,3,0))) | Q33: =IF(OR(H33="",F33=""),"",IF(H33=F33,1,IF(H33>F33,3,0)))
C34: =IF(OR(F34="",H34=""),"",IF(F34=H34,1,IF(F34>H34,3,0))) -> 0 | D34: =V23 -> mala$ fc ... | F34: 55.05 | G34: x | H34: 61.5 | I34: =V21 -> Grajaú F.C. | Q34: =IF(OR(H34="",F34=""),"",IF(H34=F34,1,IF(H34>F34,3,0))) -> 3
C35: =IF(OR(F35="",H35=""),"",IF(F35=H35,1,IF(F35>H35,3,0))) -> 3 | D35: =V22 -> Alisando Cresce | F35: 63 | G35: x | H35: 59.8 | I35: =V20 -> Fluminense do Lins | Q35: =IF(OR(H35="",F35=""),"",IF(H35=F35,1,IF(H35>F35,3,0))) -> 0
C36: =IF(OR(F36="",H36=""),"",IF(F36=H36,1,IF(F36>H36,3,0))) | Q36: =IF(OR(H36="",F36=""),"",IF(H36=F36,1,IF(H36>F36,3,0)))
C37: =IF(OR(F37="",H37=""),"",IF(F37=H37,1,IF(F37>H37,3,0))) | D37: 3ª RODADA - #23 | Q37: =IF(OR(H37="",F37=""),"",IF(H37=F37,1,IF(H37>F37,3,0)))
C38: =IF(OR(F38="",H38=""),"",IF(F38=H38,1,IF(F38>H38,3,0))) | Q38: =IF(OR(H38="",F38=""),"",IF(H38=F38,1,IF(H38>F38,3,0)))
C39: =IF(OR(F39="",H39=""),"",IF(F39=H39,1,IF(F39>H39,3,0))) | Q39: =IF(OR(H39="",F39=""),"",IF(H39=F39,1,IF(H39>F39,3,0)))
C40: =IF(OR(F40="",H40=""),"",IF(F40=H40,1,IF(F40>H40,3,0))) -> 3 | D40: =V23 -> mala$ fc ... | F40: 52.54 | G40: x | H40: 33.42 | I40: =V22 -> Alisando Cresce | Q40: =IF(OR(H40="",F40=""),"",IF(H40=F40,1,IF(H40>F40,3,0))) -> 0
C41: =IF(OR(F41="",H41=""),"",IF(F41=H41,1,IF(F41>H41,3,0))) -> 3 | D41: =V21 -> Grajaú F.C. | F41: 35.44 | G41: x | H41: 25.15 | I41: =V20 -> Fluminense do Lins | Q41: =IF(OR(H41="",F41=""),"",IF(H41=F41,1,IF(H41>F41,3,0))) -> 0
C42: =IF(OR(F42="",H42=""),"",IF(F42=H42,1,IF(F42>H42,3,0))) | Q42: =IF(OR(H42="",F42=""),"",IF(H42=F42,1,IF(H42>F42,3,0)))
C43: =IF(OR(F43="",H43=""),"",IF(F43=H43,1,IF(F43>H43,3,0))) | D43: 4ª RODADA - #24 | Q43: =IF(OR(H43="",F43=""),"",IF(H43=F43,1,IF(H43>F43,3,0)))
C44: =IF(OR(F44="",H44=""),"",IF(F44=H44,1,IF(F44>H44,3,0))) | Q44: =IF(OR(H44="",F44=""),"",IF(H44=F44,1,IF(H44>F44,3,0)))
C45: =IF(OR(F45="",H45=""),"",IF(F45=H45,1,IF(F45>H45,3,0))) | Q45: =IF(OR(H45="",F45=""),"",IF(H45=F45,1,IF(H45>F45,3,0)))
C46: =IF(OR(F46="",H46=""),"",IF(F46=H46,1,IF(F46>H46,3,0))) -> 3 | D46: =V23 -> mala$ fc ... | F46: 56.75 | G46: x | H46: 50.92 | I46: =V20 -> Fluminense do Lins | Q46: =IF(OR(H46="",F46=""),"",IF(H46=F46,1,IF(H46>F46,3,0))) -> 0
C47: =IF(OR(F47="",H47=""),"",IF(F47=H47,1,IF(F47>H47,3,0))) -> 0 | D47: =V22 -> Alisando Cresce | F47: 44.2 | G47: x | H47: 80.15 | I47: =V21 -> Grajaú F.C. | Q47: =IF(OR(H47="",F47=""),"",IF(H47=F47,1,IF(H47>F47,3,0))) -> 3
C48: =IF(OR(F48="",H48=""),"",IF(F48=H48,1,IF(F48>H48,3,0))) | Q48: =IF(OR(H48="",F48=""),"",IF(H48=F48,1,IF(H48>F48,3,0)))
C49: =IF(OR(F49="",H49=""),"",IF(F49=H49,1,IF(F49>H49,3,0))) | D49: 5ª RODADA - #25 | Q49: =IF(OR(H49="",F49=""),"",IF(H49=F49,1,IF(H49>F49,3,0)))
C50: =IF(OR(F50="",H50=""),"",IF(F50=H50,1,IF(F50>H50,3,0))) | Q50: =IF(OR(H50="",F50=""),"",IF(H50=F50,1,IF(H50>F50,3,0)))
C51: =IF(OR(F51="",H51=""),"",IF(F51=H51,1,IF(F51>H51,3,0))) | Q51: =IF(OR(H51="",F51=""),"",IF(H51=F51,1,IF(H51>F51,3,0)))
C52: =IF(OR(F52="",H52=""),"",IF(F52=H52,1,IF(F52>H52,3,0))) -> 0 | D52: =V23 -> mala$ fc ... | F52: 27.98 | G52: x | H52: 61.41 | I52: =V21 -> Grajaú F.C. | Q52: =IF(OR(H52="",F52=""),"",IF(H52=F52,1,IF(H52>F52,3,0))) -> 3
C53: =IF(OR(F53="",H53=""),"",IF(F53=H53,1,IF(F53>H53,3,0))) -> 3 | D53: =V22 -> Alisando Cresce | F53: 46.75 | G53: x | H53: 43.91 | I53: =V20 -> Fluminense do Lins | Q53: =IF(OR(H53="",F53=""),"",IF(H53=F53,1,IF(H53>F53,3,0))) -> 0
C54: =IF(OR(F54="",H54=""),"",IF(F54=H54,1,IF(F54>H54,3,0))) | Q54: =IF(OR(H54="",F54=""),"",IF(H54=F54,1,IF(H54>F54,3,0)))
C55: =IF(OR(F55="",H55=""),"",IF(F55=H55,1,IF(F55>H55,3,0))) | D55: 6ª RODADA - #26 | Q55: =IF(OR(H55="",F55=""),"",IF(H55=F55,1,IF(H55>F55,3,0)))
C56: =IF(OR(F56="",H56=""),"",IF(F56=H56,1,IF(F56>H56,3,0))) | Q56: =IF(OR(H56="",F56=""),"",IF(H56=F56,1,IF(H56>F56,3,0)))
C57: =IF(OR(F57="",H57=""),"",IF(F57=H57,1,IF(F57>H57,3,0))) | Q57: =IF(OR(H57="",F57=""),"",IF(H57=F57,1,IF(H57>F57,3,0)))
C58: =IF(OR(F58="",H58=""),"",IF(F58=H58,1,IF(F58>H58,3,0))) -> 0 | D58: =V23 -> mala$ fc ... | F58: 32.3 | G58: x | H58: 33.37 | I58: =V22 -> Alisando Cresce | Q58: =IF(OR(H58="",F58=""),"",IF(H58=F58,1,IF(H58>F58,3,0))) -> 3
C59: =IF(OR(F59="",H59=""),"",IF(F59=H59,1,IF(F59>H59,3,0))) -> 0 | D59: =V21 -> Grajaú F.C. | F59: 53.92 | G59: x | H59: 70.62 | I59: =V20 -> Fluminense do Lins | Q59: =IF(OR(H59="",F59=""),"",IF(H59=F59,1,IF(H59>F59,3,0))) -> 3
C60: =IF(OR(F60="",H60=""),"",IF(F60=H60,1,IF(F60>H60,3,0))) | Q60: =IF(OR(H60="",F60=""),"",IF(H60=F60,1,IF(H60>F60,3,0)))
D61: GRUPO 2
D63: Pos. | E63: CARTOLA | F63: P | H63: PP | J63: PC | L63: SP | O63: Legenda | U63: Pos. | V63: TIMES | W63: P | X63: GF | Y63: GC | Z63: SG | AA63: calc | AB63: maior | AC63: corresp
D64: 1º | E64: =VLOOKUP(AC64,$U$63:$AB$67,2) -> PANZA FC | F64: =VLOOKUP(AC64,$U$63:$AB$67,3) -> 15 | H64: =VLOOKUP(AC64,$U$63:$AB$67,4) -> 347.73 | J64: =VLOOKUP(AC64,$U$63:$AB$67,5) -> 263.9 | L64: =VLOOKUP(AC64,$U$63:$AB$67,6) -> 83.83 | O64: P - pontos | U64: 1 | V64: =IF(OR('3ª FASE - GRUPOS Q a X'!F155="",'3ª FASE - GRUPOS Q a X'!F155=""),"",'3ª FASE - GRUPOS Q a X'!E94) -> PANZA FC | W64: =SUM(Q72,Q79,Q85,Q90,Q97,Q103) -> 15 | X64: =SUM(H72,H79,H85,H90,H97,H103) -> 347.73 | Y64: =SUM(F72,F79,F85,F90,F97,F103) -> 263.9 | Z64: =X64-Y64 -> 83.83 | AA64: =(W64*10^10)+((Z64+5000)*10^6)+(X64*10)+U64 -> 1.5508383e+11 | AB64: =LARGE($AA$64:$AA$67,U64) -> 1.5508383e+11 | AC64: =MATCH(AB64,$AA$64:$AA$67,0) -> 1
D65: 2º | E65: =VLOOKUP(AC65,$U$63:$AB$67,2) -> Palestracas FC | F65: =VLOOKUP(AC65,$U$63:$AB$67,3) -> 12 | H65: =VLOOKUP(AC65,$U$63:$AB$67,4) -> 325.79 | J65: =VLOOKUP(AC65,$U$63:$AB$67,5) -> 245.13 | L65: =VLOOKUP(AC65,$U$63:$AB$67,6) -> 80.66 | O65: PCP - pontos Cartola pró | U65: 2 | V65: =IF(OR('3ª FASE - GRUPOS Q a X'!F499="",'3ª FASE - GRUPOS Q a X'!F499=""),"",'3ª FASE - GRUPOS Q a X'!E437) -> BARCA CLUB DO RECIFE | W65: =SUM(Q73,Q78,Q91,Q96,C85,C103) -> 6 | X65: =SUM(H73,H78,F85,H91,H96,F103) -> 201.29 | Y65: =SUM(F73,F78,H85,F91,F96,H103) -> 310.55 | Z65: =X65-Y65 -> -109.26 | AA65: =(W65*10^10)+((Z65+5000)*10^6)+(X65*10)+U65 -> 6.4890742e+10 | AB65: =LARGE($AA$64:$AA$67,U65) -> 1.2508066e+11 | AC65: =MATCH(AB65,$AA$64:$AA$67,0) -> 4
D66: 3º | E66: =VLOOKUP(AC66,$U$63:$AB$67,2) -> BARCA CLUB DO RECIFE | F66: =VLOOKUP(AC66,$U$63:$AB$67,3) -> 6 | H66: =VLOOKUP(AC66,$U$63:$AB$67,4) -> 201.29 | J66: =VLOOKUP(AC66,$U$63:$AB$67,5) -> 310.55 | L66: =VLOOKUP(AC66,$U$63:$AB$67,6) -> -109.26 | O66: PCC - pontos Cartola contra | U66: 3 | V66: =IF(OR('3ª FASE - GRUPOS Q a X'!F499="",'3ª FASE - GRUPOS Q a X'!F499=""),"",'3ª FASE - GRUPOS Q a X'!E436) -> SADYMENGO | W66: =SUM(C73,C79,Q84,C91,C97,Q102) -> 3 | X66: =SUM(F73,F79,H84,F91,F97,H102) -> 259.78 | Y66: =SUM(H73,H79,F84,H91,H97,F102) -> 315.01 | Z66: =X66-Y66 -> -55.23 | AA66: =(W66*10^10)+((Z66+5000)*10^6)+(X66*10)+U66 -> 3.4944773e+10 | AB66: =LARGE($AA$64:$AA$67,U66) -> 6.4890742e+10 | AC66: =MATCH(AB66,$AA$64:$AA$67,0) -> 2
D67: 4º | E67: =VLOOKUP(AC67,$U$63:$AB$67,2) -> SADYMENGO | F67: =VLOOKUP(AC67,$U$63:$AB$67,3) -> 3 | H67: =VLOOKUP(AC67,$U$63:$AB$67,4) -> 259.78 | J67: =VLOOKUP(AC67,$U$63:$AB$67,5) -> 315.01 | L67: =VLOOKUP(AC67,$U$63:$AB$67,6) -> -55.23 | O67: SP - saldo de pontos | U67: 4 | V67: =IF(OR('3ª FASE - GRUPOS Q a X'!F155="",'3ª FASE - GRUPOS Q a X'!F155=""),"",'3ª FASE - GRUPOS Q a X'!E91) -> Palestracas FC | W67: =SUM(C72,C78,C84,C90,C96,C102) -> 12 | X67: =SUM(F72,F78,F84,F90,F96,F102) -> 325.79 | Y67: =SUM(H72,H78,H84,H90,H96,H102) -> 245.13 | Z67: =X67-Y67 -> 80.66 | AA67: =(W67*10^10)+((Z67+5000)*10^6)+(X67*10)+U67 -> 1.2508066e+11 | AB67: =LARGE($AA$64:$AA$67,U67) -> 3.4944773e+10 | AC67: =MATCH(AB67,$AA$64:$AA$67,0) -> 3
D69: 1ª RODADA - #21
C72: =IF(OR(F72="",H72=""),"",IF(F72=H72,1,IF(F72>H72,3,0))) -> 0 | D72: =V67 -> Palestracas FC | F72: 47.57 | G72: x | H72: 65.24 | I72: =V64 -> PANZA FC | Q72: =IF(OR(H72="",F72=""),"",IF(H72=F72,1,IF(H72>F72,3,0))) -> 3
C73: =IF(OR(F73="",H73=""),"",IF(F73=H73,1,IF(F73>H73,3,0))) -> 0 | D73: =V66 -> SADYMENGO | F73: 38.34 | G73: x | H73: 46.37 | I73: =V65 -> BARCA CLUB DO RECIFE | Q73: =IF(OR(H73="",F73=""),"",IF(H73=F73,1,IF(H73>F73,3,0))) -> 3
C74: =IF(OR(F74="",H74=""),"",IF(F74=H74,1,IF(F74>H74,3,0))) | Q74: =IF(OR(H74="",F74=""),"",IF(H74=F74,1,IF(H74>F74,3,0)))
C75: =IF(OR(F75="",H75=""),"",IF(F75=H75,1,IF(F75>H75,3,0))) | D75: 2ª RODADA - #22 | Q75: =IF(OR(H75="",F75=""),"",IF(H75=F75,1,IF(H75>F75,3,0)))
C76: =IF(OR(F76="",H76=""),"",IF(F76=H76,1,IF(F76>H76,3,0))) | Q76: =IF(OR(H76="",F76=""),"",IF(H76=F76,1,IF(H76>F76,3,0)))
C77: =IF(OR(F77="",H77=""),"",IF(F77=H77,1,IF(F77>H77,3,0))) | Q77: =IF(OR(H77="",F77=""),"",IF(H77=F77,1,IF(H77>F77,3,0)))
C78: =IF(OR(F78="",H78=""),"",IF(F78=H78,1,IF(F78>H78,3,0))) -> 3 | D78: =V67 -> Palestracas FC | F78: 51 | G78: x | H78: 34.08 | I78: =V65 -> BARCA CLUB DO RECIFE | Q78: =IF(OR(H78="",F78=""),"",IF(H78=F78,1,IF(H78>F78,3,0))) -> 0
C79: =IF(OR(F79="",H79=""),"",IF(F79=H79,1,IF(F79>H79,3,0))) -> 0 | D79: =V66 -> SADYMENGO | F79: 39.3 | G79: x | H79: 72.1 | I79: =V64 -> PANZA FC | Q79: =IF(OR(H79="",F79=""),"",IF(H79=F79,1,IF(H79>F79,3,0))) -> 3
C80: =IF(OR(F80="",H80=""),"",IF(F80=H80,1,IF(F80>H80,3,0))) | Q80: =IF(OR(H80="",F80=""),"",IF(H80=F80,1,IF(H80>F80,3,0)))
C81: =IF(OR(F81="",H81=""),"",IF(F81=H81,1,IF(F81>H81,3,0))) | D81: 3ª RODADA - #23 | Q81: =IF(OR(H81="",F81=""),"",IF(H81=F81,1,IF(H81>F81,3,0)))
C82: =IF(OR(F82="",H82=""),"",IF(F82=H82,1,IF(F82>H82,3,0))) | Q82: =IF(OR(H82="",F82=""),"",IF(H82=F82,1,IF(H82>F82,3,0)))
C83: =IF(OR(F83="",H83=""),"",IF(F83=H83,1,IF(F83>H83,3,0))) | Q83: =IF(OR(H83="",F83=""),"",IF(H83=F83,1,IF(H83>F83,3,0)))
C84: =IF(OR(F84="",H84=""),"",IF(F84=H84,1,IF(F84>H84,3,0))) -> 3 | D84: =V67 -> Palestracas FC | F84: 34.44 | G84: x | H84: 34.15 | I84: =V66 -> SADYMENGO | Q84: =IF(OR(H84="",F84=""),"",IF(H84=F84,1,IF(H84>F84,3,0))) -> 0
C85: =IF(OR(F85="",H85=""),"",IF(F85=H85,1,IF(F85>H85,3,0))) -> 3 | D85: =V65 -> BARCA CLUB DO RECIFE | F85: 34.24 | G85: x | H85: 32.74 | I85: =V64 -> PANZA FC | Q85: =IF(OR(H85="",F85=""),"",IF(H85=F85,1,IF(H85>F85,3,0))) -> 0
C86: =IF(OR(F86="",H86=""),"",IF(F86=H86,1,IF(F86>H86,3,0))) | Q86: =IF(OR(H86="",F86=""),"",IF(H86=F86,1,IF(H86>F86,3,0)))
C87: =IF(OR(F87="",H87=""),"",IF(F87=H87,1,IF(F87>H87,3,0))) | D87: 4ª RODADA - #24 | Q87: =IF(OR(H87="",F87=""),"",IF(H87=F87,1,IF(H87>F87,3,0)))
C88: =IF(OR(F88="",H88=""),"",IF(F88=H88,1,IF(F88>H88,3,0))) | Q88: =IF(OR(H88="",F88=""),"",IF(H88=F88,1,IF(H88>F88,3,0)))
C89: =IF(OR(F89="",H89=""),"",IF(F89=H89,1,IF(F89>H89,3,0))) | Q89: =IF(OR(H89="",F89=""),"",IF(H89=F89,1,IF(H89>F89,3,0)))
C90: =IF(OR(F90="",H90=""),"",IF(F90=H90,1,IF(F90>H90,3,0))) -> 0 | D90: =V67 -> Palestracas FC | F90: 57.93 | G90: x | H90: 58.22 | I90: =V64 -> PANZA FC | Q90: =IF(OR(H90="",F90=""),"",IF(H90=F90,1,IF(H90>F90,3,0))) -> 3
C91: =IF(OR(F91="",H91=""),"",IF(F91=H91,1,IF(F91>H91,3,0))) -> 3 | D91: =V66 -> SADYMENGO | F91: 66.56 | G91: x | H91: 29.73 | I91: =V65 -> BARCA CLUB DO RECIFE | Q91: =IF(OR(H91="",F91=""),"",IF(H91=F91,1,IF(H91>F91,3,0))) -> 0
C92: =IF(OR(F92="",H92=""),"",IF(F92=H92,1,IF(F92>H92,3,0))) | Q92: =IF(OR(H92="",F92=""),"",IF(H92=F92,1,IF(H92>F92,3,0)))
C93: =IF(OR(F93="",H93=""),"",IF(F93=H93,1,IF(F93>H93,3,0))) | D93: 5ª RODADA - #25 | Q93: =IF(OR(H93="",F93=""),"",IF(H93=F93,1,IF(H93>F93,3,0)))
C94: =IF(OR(F94="",H94=""),"",IF(F94=H94,1,IF(F94>H94,3,0))) | Q94: =IF(OR(H94="",F94=""),"",IF(H94=F94,1,IF(H94>F94,3,0)))
C95: =IF(OR(F95="",H95=""),"",IF(F95=H95,1,IF(F95>H95,3,0))) | Q95: =IF(OR(H95="",F95=""),"",IF(H95=F95,1,IF(H95>F95,3,0)))
C96: =IF(OR(F96="",H96=""),"",IF(F96=H96,1,IF(F96>H96,3,0))) -> 3 | D96: =V67 -> Palestracas FC | F96: 62.49 | G96: x | H96: 20.22 | I96: =V65 -> BARCA CLUB DO RECIFE | Q96: =IF(OR(H96="",F96=""),"",IF(H96=F96,1,IF(H96>F96,3,0))) -> 0
C97: =IF(OR(F97="",H97=""),"",IF(F97=H97,1,IF(F97>H97,3,0))) -> 0 | D97: =V66 -> SADYMENGO | F97: 48.21 | G97: x | H97: 60.01 | I97: =V64 -> PANZA FC | Q97: =IF(OR(H97="",F97=""),"",IF(H97=F97,1,IF(H97>F97,3,0))) -> 3
C98: =IF(OR(F98="",H98=""),"",IF(F98=H98,1,IF(F98>H98,3,0))) | Q98: =IF(OR(H98="",F98=""),"",IF(H98=F98,1,IF(H98>F98,3,0)))
C99: =IF(OR(F99="",H99=""),"",IF(F99=H99,1,IF(F99>H99,3,0))) | D99: 6ª RODADA - #26 | Q99: =IF(OR(H99="",F99=""),"",IF(H99=F99,1,IF(H99>F99,3,0)))
C100: =IF(OR(F100="",H100=""),"",IF(F100=H100,1,IF(F100>H100,3,0))) | Q100: =IF(OR(H100="",F100=""),"",IF(H100=F100,1,IF(H100>F100,3,0)))
C101: =IF(OR(F101="",H101=""),"",IF(F101=H101,1,IF(F101>H101,3,0))) | Q101: =IF(OR(H101="",F101=""),"",IF(H101=F101,1,IF(H101>F101,3,0)))
C102: =IF(OR(F102="",H102=""),"",IF(F102=H102,1,IF(F102>H102,3,0))) -> 3 | D102: =V67 -> Palestracas FC | F102: 72.36 | G102: x | H102: 33.22 | I102: =V66 -> SADYMENGO | Q102: =IF(OR(H102="",F102=""),"",IF(H102=F102,1,IF(H102>F102,3,0))) -> 0
C103: =IF(OR(F103="",H103=""),"",IF(F103=H103,1,IF(F103>H103,3,0))) -> 0 | D103: =V65 -> BARCA CLUB DO RECIFE | F103: 36.65 | G103: x | H103: 59.42 | I103: =V64 -> PANZA FC | Q103: =IF(OR(H103="",F103=""),"",IF(H103=F103,1,IF(H103>F103,3,0))) -> 3
C104: =IF(OR(F104="",H104=""),"",IF(F104=H104,1,IF(F104>H104,3,0))) | Q104: =IF(OR(H104="",F104=""),"",IF(H104=F104,1,IF(H104>F104,3,0)))
D105: GRUPO 3
D107: Pos. | E107: CARTOLA | F107: P | H107: PP | J107: PC | L107: SP | O107: Legenda | U107: Pos. | V107: TIMES | W107: P | X107: GF | Y107: GC | Z107: SG | AA107: calc | AB107: maior | AC107: corresp
D108: 1º | E108: =VLOOKUP(AC108,$U$107:$AB$111,2) -> Brum DAngelo F.C. | F108: =VLOOKUP(AC108,$U$107:$AB$111,3) -> 18 | H108: =VLOOKUP(AC108,$U$107:$AB$111,4) -> 361.83 | J108: =VLOOKUP(AC108,$U$107:$AB$111,5) -> 228.62 | L108: =VLOOKUP(AC108,$U$107:$AB$111,6) -> 133.21 | O108: P - pontos | U108: 1 | V108: =IF(OR('3ª FASE - GRUPOS Q a X'!F223="",'3ª FASE - GRUPOS Q a X'!F223=""),"",'3ª FASE - GRUPOS Q a X'!E163) -> Barretense F.C. | W108: =SUM(Q116,Q123,Q129,Q134,Q141,Q147) -> 3 | X108: =SUM(H116,H123,H129,H134,H141,H147) -> 289.39 | Y108: =SUM(F116,F123,F129,F134,F141,F147) -> 322.79 | Z108: =X108-Y108 -> -33.4 | AA108: =(W108*10^10)+((Z108+5000)*10^6)+(X108*10)+U108 -> 3.4966603e+10 | AB108: =LARGE($AA$108:$AA$111,U108) -> 1.8513321e+11 | AC108: =MATCH(AB108,$AA$108:$AA$111,0) -> 2
D109: 2º | E109: =VLOOKUP(AC109,$U$107:$AB$111,2) -> CAFÉ FC RJ | F109: =VLOOKUP(AC109,$U$107:$AB$111,3) -> 9 | H109: =VLOOKUP(AC109,$U$107:$AB$111,4) -> 221.93 | J109: =VLOOKUP(AC109,$U$107:$AB$111,5) -> 256.27 | L109: =VLOOKUP(AC109,$U$107:$AB$111,6) -> -34.34 | O109: PCP - pontos Cartola pró | U109: 2 | V109: =IF(OR('3ª FASE - GRUPOS Q a X'!F430="",'3ª FASE - GRUPOS Q a X'!F430=""),"",'3ª FASE - GRUPOS Q a X'!E368) -> Brum DAngelo F.C. | W109: =SUM(Q117,Q122,Q135,Q140,C129,C147) -> 18 | X109: =SUM(H117,H122,F129,H135,H140,F147) -> 361.83 | Y109: =SUM(F117,F122,H129,F135,F140,H147) -> 228.62 | Z109: =X109-Y109 -> 133.21 | AA109: =(W109*10^10)+((Z109+5000)*10^6)+(X109*10)+U109 -> 1.8513321e+11 | AB109: =LARGE($AA$108:$AA$111,U109) -> 9.4965662e+10 | AC109: =MATCH(AB109,$AA$108:$AA$111,0) -> 3
D110: 3º | E110: =VLOOKUP(AC110,$U$107:$AB$111,2) -> RJFC Unitedd | F110: =VLOOKUP(AC110,$U$107:$AB$111,3) -> 6 | H110: =VLOOKUP(AC110,$U$107:$AB$111,4) -> 241.5 | J110: =VLOOKUP(AC110,$U$107:$AB$111,5) -> 306.97 | L110: =VLOOKUP(AC110,$U$107:$AB$111,6) -> -65.47 | O110: PCC - pontos Cartola contra | U110: 3 | V110: =IF(OR('3ª FASE - GRUPOS Q a X'!F430="",'3ª FASE - GRUPOS Q a X'!F430=""),"",'3ª FASE - GRUPOS Q a X'!E367) -> CAFÉ FC RJ | W110: =SUM(C117,C123,Q128,C135,C141,Q146) -> 9 | X110: =SUM(F117,F123,H128,F135,F141,H146) -> 221.93 | Y110: =SUM(H117,H123,F128,H135,H141,F146) -> 256.27 | Z110: =X110-Y110 -> -34.34 | AA110: =(W110*10^10)+((Z110+5000)*10^6)+(X110*10)+U110 -> 9.4965662e+10 | AB110: =LARGE($AA$108:$AA$111,U110) -> 64934532419 | AC110: =MATCH(AB110,$AA$108:$AA$111,0) -> 4
D111: 4º | E111: =VLOOKUP(AC111,$U$107:$AB$111,2) -> Barretense F.C. | F111: =VLOOKUP(AC111,$U$107:$AB$111,3) -> 3 | H111: =VLOOKUP(AC111,$U$107:$AB$111,4) -> 289.39 | J111: =VLOOKUP(AC111,$U$107:$AB$111,5) -> 322.79 | L111: =VLOOKUP(AC111,$U$107:$AB$111,6) -> -33.4 | O111: SP - saldo de pontos | U111: 4 | V111: =IF(OR('3ª FASE - GRUPOS Q a X'!F223="",'3ª FASE - GRUPOS Q a X'!F223=""),"",'3ª FASE - GRUPOS Q a X'!E160) -> RJFC Unitedd | W111: =SUM(C116,C122,C128,C134,C140,C146) -> 6 | X111: =SUM(F116,F122,F128,F134,F140,F146) -> 241.5 | Y111: =SUM(H116,H122,H128,H134,H140,H146) -> 306.97 | Z111: =X111-Y111 -> -65.47 | AA111: =(W111*10^10)+((Z111+5000)*10^6)+(X111*10)+U111 -> 64934532419 | AB111: =LARGE($AA$108:$AA$111,U111) -> 3.4966603e+10 | AC111: =MATCH(AB111,$AA$108:$AA$111,0) -> 1
D113: 1ª RODADA - #21
C116: =IF(OR(F116="",H116=""),"",IF(F116=H116,1,IF(F116>H116,3,0))) -> 3 | D116: =V111 -> RJFC Unitedd | F116: 58.69 | G116: x | H116: 30.32 | I116: =V108 -> Barretense F.C. | Q116: =IF(OR(H116="",F116=""),"",IF(H116=F116,1,IF(H116>F116,3,0))) -> 0
C117: =IF(OR(F117="",H117=""),"",IF(F117=H117,1,IF(F117>H117,3,0))) -> 0 | D117: =V110 -> CAFÉ FC RJ | F117: 15.29 | G117: x | H117: 56.17 | I117: =V109 -> Brum DAngelo F.C. | Q117: =IF(OR(H117="",F117=""),"",IF(H117=F117,1,IF(H117>F117,3,0))) -> 3
C118: =IF(OR(F118="",H118=""),"",IF(F118=H118,1,IF(F118>H118,3,0))) | Q118: =IF(OR(H118="",F118=""),"",IF(H118=F118,1,IF(H118>F118,3,0)))
C119: =IF(OR(F119="",H119=""),"",IF(F119=H119,1,IF(F119>H119,3,0))) | D119: 2ª RODADA - #22 | Q119: =IF(OR(H119="",F119=""),"",IF(H119=F119,1,IF(H119>F119,3,0)))
C120: =IF(OR(F120="",H120=""),"",IF(F120=H120,1,IF(F120>H120,3,0))) | Q120: =IF(OR(H120="",F120=""),"",IF(H120=F120,1,IF(H120>F120,3,0)))
C121: =IF(OR(F121="",H121=""),"",IF(F121=H121,1,IF(F121>H121,3,0))) | Q121: =IF(OR(H121="",F121=""),"",IF(H121=F121,1,IF(H121>F121,3,0)))
C122: =IF(OR(F122="",H122=""),"",IF(F122=H122,1,IF(F122>H122,3,0))) -> 0 | D122: =V111 -> RJFC Unitedd | F122: 56.7 | G122: x | H122: 61.62 | I122: =V109 -> Brum DAngelo F.C. | Q122: =IF(OR(H122="",F122=""),"",IF(H122=F122,1,IF(H122>F122,3,0))) -> 3
C123: =IF(OR(F123="",H123=""),"",IF(F123=H123,1,IF(F123>H123,3,0))) -> 3 | D123: =V110 -> CAFÉ FC RJ | F123: 52.88 | G123: x | H123: 48.35 | I123: =V108 -> Barretense F.C. | Q123: =IF(OR(H123="",F123=""),"",IF(H123=F123,1,IF(H123>F123,3,0))) -> 0
C124: =IF(OR(F124="",H124=""),"",IF(F124=H124,1,IF(F124>H124,3,0))) | Q124: =IF(OR(H124="",F124=""),"",IF(H124=F124,1,IF(H124>F124,3,0)))
...

Sheet 5ª FASE - GRUPOS I a IV
B2: 1º CAMPEONATO CARTOLA 2013
B6: 5ª FASE
D10: CLASSIFICAÇÃO
D15: OBS: Os 2 melhores colocados no Grupo se classificarão para a 6ª FASE.
D17: GRUPO I
D19: Pos. | E19: CARTOLA | F19: P | H19: PP | J19: PC | L19: SP | O19: Legenda | U19: Pos. | V19: TIMES | W19: P | X19: GF | Y19: GC | Z19: SG | AA19: calc | AB19: maior | AC19: corresp
D20: 1º | E20: =VLOOKUP(AC20,$U$20:$AB$23,2) -> FC Ladeira !!! | F20: =VLOOKUP(AC20,$U$20:$AB$23,3) -> 3 | H20: =VLOOKUP(AC20,$U$20:$AB$23,4) -> 50.6 | J20: =VLOOKUP(AC20,$U$20:$AB$23,5) -> 21.63 | L20: =VLOOKUP(AC20,$U$20:$AB$23,6) -> 28.97 | O20: P - pontos | U20: 1 | V20: =IF(OR('4ª FASE - GRUPOS 1 a 8'!F367="",'4ª FASE - GRUPOS 1 a 8'!F367=""),"",'4ª FASE - GRUPOS 1 a 8'!E329) -> Al-Jazira F.c | W20: =SUM(Q28,Q35,Q41,Q46,Q52,Q59) -> 0 | X20: =SUM(H28,H35,H41,H46,H53,H59) -> 16.73 | Y20: =SUM(F28,F35,F41,F46,F53,F59) -> 28.63 | Z20: =X20-Y20 -> -11.9 | AA20: =(W20*10^10)+((Z20+5000)*10^6)+(X20*10)+U20 -> 4.9881002e+09 | AB20: =LARGE($AA$20:$AA$23,U20) -> 35028970509 | AC20: =MATCH(AB20,$AA$20:$AA$23,0) -> 3
D21: 2º | E21: =VLOOKUP(AC21,$U$20:$AB$23,2) -> Grajaú F.C. | F21: =VLOOKUP(AC21,$U$20:$AB$23,3) -> 3 | H21: =VLOOKUP(AC21,$U$20:$AB$23,4) -> 28.63 | J21: =VLOOKUP(AC21,$U$20:$AB$23,5) -> 16.73 | L21: =VLOOKUP(AC21,$U$20:$AB$23,6) -> 11.9 | O21: PCP - pontos Cartola pró | U21: 2 | V21: =IF(OR('4ª FASE - GRUPOS 1 a 8'!F59="",'4ª FASE - GRUPOS 1 a 8'!F59=""),"",'4ª FASE - GRUPOS 1 a 8'!E21) -> Alisando Cresce | W21: =SUM(Q29,Q34,Q47,Q52,C41,C59) -> 0 | X21: =SUM(H29,H34,F41,H47,H52,F59) -> 21.63 | Y21: =SUM(F29,F34,H41,F47,F52,H59) -> 50.6 | Z21: =X21-Y21 -> -28.97 | AA21: =(W21*10^10)+((Z21+5000)*10^6)+(X21*10)+U21 -> 4.9710302e+09 | AB21: =LARGE($AA$20:$AA$23,U21) -> 3.50119e+10 | AC21: =MATCH(AB21,$AA$20:$AA$23,0) -> 4
D22: 3º | E22: =VLOOKUP(AC22,$U$20:$AB$23,2) -> Al-Jazira F.c | F22: =VLOOKUP(AC22,$U$20:$AB$23,3) -> 0 | H22: =VLOOKUP(AC22,$U$20:$AB$23,4) -> 16.73 | J22: =VLOOKUP(AC22,$U$20:$AB$23,5) -> 28.63 | L22: =VLOOKUP(AC22,$U$20:$AB$23,6) -> -11.9 | O22: PCC - pontos Cartola contra | U22: 3 | V22: =IF(OR('4ª FASE - GRUPOS 1 a 8'!F367="",'4ª FASE - GRUPOS 1 a 8'!F367=""),"",'4ª FASE - GRUPOS 1 a 8'!E328) -> FC Ladeira !!! | W22: =SUM(C29,C35,Q40,C47,C53,Q58) -> 3 | X22: =SUM(F29,F35,H40,F47,F53,H58) -> 50.6 | Y22: =SUM(H29,H35,F40,H47,H53,F58) -> 21.63 | Z22: =X22-Y22 -> 28.97 | AA22: =(W22*10^10)+((Z22+5000)*10^6)+(X22*10)+U22 -> 35028970509 | AB22: =LARGE($AA$20:$AA$23,U22) -> 4.9881002e+09 | AC22: =MATCH(AB22,$AA$20:$AA$23,0) -> 1
D23: 4º | E23: =VLOOKUP(AC23,$U$20:$AB$23,2) -> Alisando Cresce | F23: =VLOOKUP(AC23,$U$20:$AB$23,3) -> 0 | H23: =VLOOKUP(AC23,$U$20:$AB$23,4) -> 21.63 | J23: =VLOOKUP(AC23,$U$20:$AB$23,5) -> 50.6 | L23: =VLOOKUP(AC23,$U$20:$AB$23,6) -> -28.97 | O23: SP - saldo de pontos | U23: 4 | V23: =IF(OR('4ª FASE - GRUPOS 1 a 8'!F59="",'4ª FASE - GRUPOS 1 a 8'!F59=""),"",'4ª FASE - GRUPOS 1 a 8'!E20) -> Grajaú F.C. | W23: =SUM(C28,C34,C40,C46,C52,C58) -> 3 | X23: =SUM(F28,F34,F40,F46,F52,F58) -> 28.63 | Y23: =SUM(H28,H34,H40,H46,H52,H58) -> 16.73 | Z23: =X23-Y23 -> 11.9 | AA23: =(W23*10^10)+((Z23+5000)*10^6)+(X23*10)+U23 -> 3.50119e+10 | AB23: =LARGE($AA$20:$AA$23,U23) -> 4.9710302e+09 | AC23: =MATCH(AB23,$AA$20:$AA$23,0) -> 2
D25: 1ª RODADA - #27
C28: =IF(OR(F28="",H28=""),"",IF(F28=H28,1,IF(F28>H28,3,0))) -> 3 | D28: =V23 -> Grajaú F.C. | F28: 28.63 | G28: x | H28: 16.73 | I28: =V20 -> Al-Jazira F.c | Q28: =IF(OR(H28="",F28=""),"",IF(H28=F28,1,IF(H28>F28,3,0))) -> 0
C29: =IF(OR(F29="",H29=""),"",IF(F29=H29,1,IF(F29>H29,3,0))) -> 3 | D29: =V22 -> FC Ladeira !!! | F29: 50.6 | G29: x | H29: 21.63 | I29: =V21 -> Alisando Cresce | Q29: =IF(OR(H29="",F29=""),"",IF(H29=F29,1,IF(H29>F29,3,0))) -> 0
C30: =IF(OR(F30="",H30=""),"",IF(F30=H30,1,IF(F30>H30,3,0))) | Q30: =IF(OR(H30="",F30=""),"",IF(H30=F30,1,IF(H30>F30,3,0)))
C31: =IF(OR(F31="",H31=""),"",IF(F31=H31,1,IF(F31>H31,3,0))) | D31: 2ª RODADA - #28 | Q31: =IF(OR(H31="",F31=""),"",IF(H31=F31,1,IF(H31>F31,3,0)))
C32: =IF(OR(F32="",H32=""),"",IF(F32=H32,1,IF(F32>H32,3,0))) | Q32: =IF(OR(H32="",F32=""),"",IF(H32=F32,1,IF(H32>F32,3,0)))
C33: =IF(OR(F33="",H33=""),"",IF(F33=H33,1,IF(F33>H33,3,0))) | Q33: =IF(OR(H33="",F33=""),"",IF(H33=F33,1,IF(H33>F33,3,0)))
C34: =IF(OR(F34="",H34=""),"",IF(F34=H34,1,IF(F34>H34,3,0))) | D34: =V23 -> Grajaú F.C. | G34: x | I34: =V21 -> Alisando Cresce | Q34: =IF(OR(H34="",F34=""),"",IF(H34=F34,1,IF(H34>F34,3,0)))
C35: =IF(OR(F35="",H35=""),"",IF(F35=H35,1,IF(F35>H35,3,0))) | D35: =V22 -> FC Ladeira !!! | G35: x | I35: =V20 -> Al-Jazira F.c | Q35: =IF(OR(H35="",F35=""),"",IF(H35=F35,1,IF(H35>F35,3,0)))
C36: =IF(OR(F36="",H36=""),"",IF(F36=H36,1,IF(F36>H36,3,0))) | Q36: =IF(OR(H36="",F36=""),"",IF(H36=F36,1,IF(H36>F36,3,0)))
C37: =IF(OR(F37="",H37=""),"",IF(F37=H37,1,IF(F37>H37,3,0))) | D37: 3ª RODADA - #29 | Q37: =IF(OR(H37="",F37=""),"",IF(H37=F37,1,IF(H37>F37,3,0)))
C38: =IF(OR(F38="",H38=""),"",IF(F38=H38,1,IF(F38>H38,3,0))) | Q38: =IF(OR(H38="",F38=""),"",IF(H38=F38,1,IF(H38>F38,3,0)))
C39: =IF(OR(F39="",H39=""),"",IF(F39=H39,1,IF(F39>H39,3,0))) | Q39: =IF(OR(H39="",F39=""),"",IF(H39=F39,1,IF(H39>F39,3,0)))
C40: =IF(OR(F40="",H40=""),"",IF(F40=H40,1,IF(F40>H40,3,0))) | D40: =V23 -> Grajaú F.C. | G40: x | I40: =V22 -> FC Ladeira !!! | Q40: =IF(OR(H40="",F40=""),"",IF(H40=F40,1,IF(H40>F40,3,0)))
C41: =IF(OR(F41="",H41=""),"",IF(F41=H41,1,IF(F41>H41,3,0))) | D41: =V21 -> Alisando Cresce | G41: x | I41: =V20 -> Al-Jazira F.c | Q41: =IF(OR(H41="",F41=""),"",IF(H41=F41,1,IF(H41>F41,3,0)))
C42: =IF(OR(F42="",H42=""),"",IF(F42=H42,1,IF(F42>H42,3,0))) | Q42: =IF(OR(H42="",F42=""),"",IF(H42=F42,1,IF(H42>F42,3,0)))
C43: =IF(OR(F43="",H43=""),"",IF(F43=H43,1,IF(F43>H43,3,0))) | D43: 4ª RODADA - #30 | Q43: =IF(OR(H43="",F43=""),"",IF(H43=F43,1,IF(H43>F43,3,0)))
C44: =IF(OR(F44="",H44=""),"",IF(F44=H44,1,IF(F44>H44,3,0))) | Q44: =IF(OR(H44="",F44=""),"",IF(H44=F44,1,IF(H44>F44,3,0)))
C45: =IF(OR(F45="",H45=""),"",IF(F45=H45,1,IF(F45>H45,3,0))) | Q45: =IF(OR(H45="",F45=""),"",IF(H45=F45,1,IF(H45>F45,3,0)))
C46: =IF(OR(F46="",H46=""),"",IF(F46=H46,1,IF(F46>H46,3,0))) | D46: =V23 -> Grajaú F.C. | G46: x | I46: =V20 -> Al-Jazira F.c | Q46: =IF(OR(H46="",F46=""),"",IF(H46=F46,1,IF(H46>F46,3,0)))
C47: =IF(OR(F47="",H47=""),"",IF(F47=H47,1,IF(F47>H47,3,0))) | D47: =V22 -> FC Ladeira !!! | G47: x | I47: =V21 -> Alisando Cresce | Q47: =IF(OR(H47="",F47=""),"",IF(H47=F47,1,IF(H47>F47,3,0)))
C48: =IF(OR(F48="",H48=""),"",IF(F48=H48,1,IF(F48>H48,3,0))) | Q48: =IF(OR(H48="",F48=""),"",IF(H48=F48,1,IF(H48>F48,3,0)))
C49: =IF(OR(F49="",H49=""),"",IF(F49=H49,1,IF(F49>H49,3,0))) | D49: 5ª RODADA - #31 | Q49: =IF(OR(H49="",F49=""),"",IF(H49=F49,1,IF(H49>F49,3,0)))
C50: =IF(OR(F50="",H50=""),"",IF(F50=H50,1,IF(F50>H50,3,0))) | Q50: =IF(OR(H50="",F50=""),"",IF(H50=F50,1,IF(H50>F50,3,0)))
C51: =IF(OR(F51="",H51=""),"",IF(F51=H51,1,IF(F51>H51,3,0))) | Q51: =IF(OR(H51="",F51=""),"",IF(H51=F51,1,IF(H51>F51,3,0)))
C52: =IF(OR(F52="",H52=""),"",IF(F52=H52,1,IF(F52>H52,3,0))) | D52: =V23 -> Grajaú F.C. | G52: x | I52: =V21 -> Alisando Cresce | Q52: =IF(OR(H52="",F52=""),"",IF(H52=F52,1,IF(H52>F52,3,0)))
C53: =IF(OR(F53="",H53=""),"",IF(F53=H53,1,IF(F53>H53,3,0))) | D53: =V22 -> FC Ladeira !!! | G53: x | I53: =V20 -> Al-Jazira F.c | Q53: =IF(OR(H53="",F53=""),"",IF(H53=F53,1,IF(H53>F53,3,0)))
C54: =IF(OR(F54="",H54=""),"",IF(F54=H54,1,IF(F54>H54,3,0))) | Q54: =IF(OR(H54="",F54=""),"",IF(H54=F54,1,IF(H54>F54,3,0)))
C55: =IF(OR(F55="",H55=""),"",IF(F55=H55,1,IF(F55>H55,3,0))) | D55: 6ª RODADA - #32 | Q55: =IF(OR(H55="",F55=""),"",IF(H55=F55,1,IF(H55>F55,3,0)))
C56: =IF(OR(F56="",H56=""),"",IF(F56=H56,1,IF(F56>H56,3,0))) | Q56: =IF(OR(H56="",F56=""),"",IF(H56=F56,1,IF(H56>F56,3,0)))
C57: =IF(OR(F57="",H57=""),"",IF(F57=H57,1,IF(F57>H57,3,0))) | Q57: =IF(OR(H57="",F57=""),"",IF(H57=F57,1,IF(H57>F57,3,0)))
C58: =IF(OR(F58="",H58=""),"",IF(F58=H58,1,IF(F58>H58,3,0))) | D58: =V23 -> Grajaú F.C. | G58: x | I58: =V22 -> FC Ladeira !!! | Q58: =IF(OR(H58="",F58=""),"",IF(H58=F58,1,IF(H58>F58,3,0)))
C59: =IF(OR(F59="",H59=""),"",IF(F59=H59,1,IF(F59>H59,3,0))) | D59: =V21 -> Alisando Cresce | G59: x | I59: =V20 -> Al-Jazira F.c | Q59: =IF(OR(H59="",F59=""),"",IF(H59=F59,1,IF(H59>F59,3,0)))
C60: =IF(OR(F60="",H60=""),"",IF(F60=H60,1,IF(F60>H60,3,0))) | Q60: =IF(OR(H60="",F60=""),"",IF(H60=F60,1,IF(H60>F60,3,0)))
D61: GRUPO II
D63: Pos. | E63: CARTOLA | F63: P | H63: PP | J63: PC | L63: SP | O63: Legenda | U63: Pos. | V63: TIMES | W63: P | X63: GF | Y63: GC | Z63: SG | AA63: calc | AB63: maior | AC63: corresp
D64: 1º | E64: =VLOOKUP(AC64,$U$63:$AB$67,2) -> Forever2013 | F64: =VLOOKUP(AC64,$U$63:$AB$67,3) -> 3 | H64: =VLOOKUP(AC64,$U$63:$AB$67,4) -> 53.47 | J64: =VLOOKUP(AC64,$U$63:$AB$67,5) -> 26.29 | L64: =VLOOKUP(AC64,$U$63:$AB$67,6) -> 27.18 | O64: P - pontos | U64: 1 | V64: =IF(OR('4ª FASE - GRUPOS 1 a 8'!F323="",'4ª FASE - GRUPOS 1 a 8'!F323=""),"",'4ª FASE - GRUPOS 1 a 8'!E285) -> Forever2013 | W64: =SUM(Q72,Q79,Q85,Q90,Q96,Q103) -> 3 | X64: =SUM(H72,H79,H85,H90,H97,H103) -> 53.47 | Y64: =SUM(F72,F79,F85,F90,F97,F103) -> 26.29 | Z64: =X64-Y64 -> 27.18 | AA64: =(W64*10^10)+((Z64+5000)*10^6)+(X64*10)+U64 -> 3.5027181e+10 | AB64: =LARGE($AA$64:$AA$67,U64) -> 3.5027181e+10 | AC64: =MATCH(AB64,$AA$64:$AA$67,0) -> 1
D65: 2º | E65: =VLOOKUP(AC65,$U$63:$AB$67,2) -> Palestracas FC | F65: =VLOOKUP(AC65,$U$63:$AB$67,3) -> 3 | H65: =VLOOKUP(AC65,$U$63:$AB$67,4) -> 39.93 | J65: =VLOOKUP(AC65,$U$63:$AB$67,5) -> 38.03 | L65: =VLOOKUP(AC65,$U$63:$AB$67,6) -> 1.9 | O65: PCP - pontos Cartola pró | U65: 2 | V65: =IF(OR('4ª FASE - GRUPOS 1 a 8'!F103="",'4ª FASE - GRUPOS 1 a 8'!F103=""),"",'4ª FASE - GRUPOS 1 a 8'!E65) -> Palestracas FC | W65: =SUM(Q73,Q78,Q91,Q96,C85,C103) -> 3 | X65: =SUM(H73,H78,F85,H91,H96,F103) -> 39.93 | Y65: =SUM(F73,F78,H85,F91,F96,H103) -> 38.03 | Z65: =X65-Y65 -> 1.9 | AA65: =(W65*10^10)+((Z65+5000)*10^6)+(X65*10)+U65 -> 3.50019e+10 | AB65: =LARGE($AA$64:$AA$67,U65) -> 3.50019e+10 | AC65: =MATCH(AB65,$AA$64:$AA$67,0) -> 2
D66: 3º | E66: =VLOOKUP(AC66,$U$63:$AB$67,2) -> Casinha da Grazi | F66: =VLOOKUP(AC66,$U$63:$AB$67,3) -> 0 | H66: =VLOOKUP(AC66,$U$63:$AB$67,4) -> 38.03 | J66: =VLOOKUP(AC66,$U$63:$AB$67,5) -> 39.93 | L66: =VLOOKUP(AC66,$U$63:$AB$67,6) -> -1.9 | O66: PCC - pontos Cartola contra | U66: 3 | V66: =IF(OR('4ª FASE - GRUPOS 1 a 8'!F323="",'4ª FASE - GRUPOS 1 a 8'!F323=""),"",'4ª FASE - GRUPOS 1 a 8'!E284) -> Casinha da Grazi | W66: =SUM(C73,C79,Q84,C91,C97,Q102) -> 0 | X66: =SUM(F73,F79,H84,F91,F97,H102) -> 38.03 | Y66: =SUM(H73,H79,F84,H91,H97,F102) -> 39.93 | Z66: =X66-Y66 -> -1.9 | AA66: =(W66*10^10)+((Z66+5000)*10^6)+(X66*10)+U66 -> 4.9981004e+09 | AB66: =LARGE($AA$64:$AA$67,U66) -> 4.9981004e+09 | AC66: =MATCH(AB66,$AA$64:$AA$67,0) -> 3
D67: 4º | E67: =VLOOKUP(AC67,$U$63:$AB$67,2) -> PANZA FC | F67: =VLOOKUP(AC67,$U$63:$AB$67,3) -> 0 | H67: =VLOOKUP(AC67,$U$63:$AB$67,4) -> 26.29 | J67: =VLOOKUP(AC67,$U$63:$AB$67,5) -> 53.47 | L67: =VLOOKUP(AC67,$U$63:$AB$67,6) -> -27.18 | O67: SP - saldo de pontos | U67: 4 | V67: =IF(OR('4ª FASE - GRUPOS 1 a 8'!F103="",'4ª FASE - GRUPOS 1 a 8'!F103=""),"",'4ª FASE - GRUPOS 1 a 8'!E64) -> PANZA FC | W67: =SUM(C72,C78,C84,C90,C96,C102) -> 0 | X67: =SUM(F72,F78,F84,F90,F96,F102) -> 26.29 | Y67: =SUM(H72,H78,H84,H90,H96,H102) -> 53.47 | Z67: =X67-Y67 -> -27.18 | AA67: =(W67*10^10)+((Z67+5000)*10^6)+(X67*10)+U67 -> 4.9728203e+09 | AB67: =LARGE($AA$64:$AA$67,U67) -> 4.9728203e+09 | AC67: =MATCH(AB67,$AA$64:$AA$67,0) -> 4
D69: 1ª RODADA - #27
C72: =IF(OR(F72="",H72=""),"",IF(F72=H72,1,IF(F72>H72,3,0))) -> 0 | D72: =V67 -> PANZA FC | F72: 26.29 | G72: x | H72: 53.47 | I72: =V64 -> Forever2013 | Q72: =IF(OR(H72="",F72=""),"",IF(H72=F72,1,IF(H72>F72,3,0))) -> 3
C73: =IF(OR(F73="",H73=""),"",IF(F73=H73,1,IF(F73>H73,3,0))) -> 0 | D73: =V66 -> Casinha da Grazi | F73: 38.03 | G73: x | H73: 39.93 | I73: =V65 -> Palestracas FC | Q73: =IF(OR(H73="",F73=""),"",IF(H73=F73,1,IF(H73>F73,3,0))) -> 3
C74: =IF(OR(F74="",H74=""),"",IF(F74=H74,1,IF(F74>H74,3,0))) | Q74: =IF(OR(H74="",F74=""),"",IF(H74=F74,1,IF(H74>F74,3,0)))
C75: =IF(OR(F75="",H75=""),"",IF(F75=H75,1,IF(F75>H75,3,0))) | D75: 2ª RODADA - #28 | Q75: =IF(OR(H75="",F75=""),"",IF(H75=F75,1,IF(H75>F75,3,0)))
C76: =IF(OR(F76="",H76=""),"",IF(F76=H76,1,IF(F76>H76,3,0))) | Q76: =IF(OR(H76="",F76=""),"",IF(H76=F76,1,IF(H76>F76,3,0)))
C77: =IF(OR(F77="",H77=""),"",IF(F77=H77,1,IF(F77>H77,3,0))) | Q77: =IF(OR(H77="",F77=""),"",IF(H77=F77,1,IF(H77>F77,3,0)))
C78: =IF(OR(F78="",H78=""),"",IF(F78=H78,1,IF(F78>H78,3,0))) | D78: =V67 -> PANZA FC | G78: x | I78: =V65 -> Palestracas FC | Q78: =IF(OR(H78="",F78=""),"",IF(H78=F78,1,IF(H78>F78,3,0)))
C79: =IF(OR(F79="",H79=""),"",IF(F79=H79,1,IF(F79>H79,3,0))) | D79: =V66 -> Casinha da Grazi | G79: x | I79: =V64 -> Forever2013 | Q79: =IF(OR(H79="",F79=""),"",IF(H79=F79,1,IF(H79>F79,3,0)))
C80: =IF(OR(F80="",H80=""),"",IF(F80=H80,1,IF(F80>H80,3,0))) | Q80: =IF(OR(H80="",F80=""),"",IF(H80=F80,1,IF(H80>F80,3,0)))
C81: =IF(OR(F81="",H81=""),"",IF(F81=H81,1,IF(F81>H81,3,0))) | D81: 3ª RODADA - #29 | Q81: =IF(OR(H81="",F81=""),"",IF(H81=F81,1,IF(H81>F81,3,0)))
C82: =IF(OR(F82="",H82=""),"",IF(F82=H82,1,IF(F82>H82,3,0))) | Q82: =IF(OR(H82="",F82=""),"",IF(H82=F82,1,IF(H82>F82,3,0)))
C83: =IF(OR(F83="",H83=""),"",IF(F83=H83,1,IF(F83>H83,3,0))) | Q83: =IF(OR(H83="",F83=""),"",IF(H83=F83,1,IF(H83>F83,3,0)))
C84: =IF(OR(F84="",H84=""),"",IF(F84=H84,1,IF(F84>H84,3,0))) | D84: =V67 -> PANZA FC | G84: x | I84: =V66 -> Casinha da Grazi | Q84: =IF(OR(H84="",F84=""),"",IF(H84=F84,1,IF(H84>F84,3,0)))
C85: =IF(OR(F85="",H85=""),"",IF(F85=H85,1,IF(F85>H85,3,0))) | D85: =V65 -> Palestracas FC | G85: x | I85: =V64 -> Forever2013 | Q85: =IF(OR(H85="",F85=""),"",IF(H85=F85,1,IF(H85>F85,3,0)))
C86: =IF(OR(F86="",H86=""),"",IF(F86=H86,1,IF(F86>H86,3,0))) | Q86: =IF(OR(H86="",F86=""),"",IF(H86=F86,1,IF(H86>F86,3,0)))
C87: =IF(OR(F87="",H87=""),"",IF(F87=H87,1,IF(F87>H87,3,0))) | D87: 4ª RODADA - #30 | Q87: =IF(OR(H87="",F87=""),"",IF(H87=F87,1,IF(H87>F87,3,0)))
C88: =IF(OR(F88="",H88=""),"",IF(F88=H88,1,IF(F88>H88,3,0))) | Q88: =IF(OR(H88="",F88=""),"",IF(H88=F88,1,IF(H88>F88,3,0)))
C89: =IF(OR(F89="",H89=""),"",IF(F89=H89,1,IF(F89>H89,3,0))) | Q89: =IF(OR(H89="",F89=""),"",IF(H89=F89,1,IF(H89>F89,3,0)))
C90: =IF(OR(F90="",H90=""),"",IF(F90=H90,1,IF(F90>H90,3,0))) | D90: =V67 -> PANZA FC | G90: x | I90: =V64 -> Forever2013 | Q90: =IF(OR(H90="",F90=""),"",IF(H90=F90,1,IF(H90>F90,3,0)))
C91: =IF(OR(F91="",H91=""),"",IF(F91=H91,1,IF(F91>H91,3,0))) | D91: =V66 -> Casinha da Grazi | G91: x | I91: =V65 -> Palestracas FC | Q91: =IF(OR(H91="",F91=""),"",IF(H91=F91,1,IF(H91>F91,3,0)))
C92: =IF(OR(F92="",H92=""),"",IF(F92=H92,1,IF(F92>H92,3,0))) | Q92: =IF(OR(H92="",F92=""),"",IF(H92=F92,1,IF(H92>F92,3,0)))
C93: =IF(OR(F93="",H93=""),"",IF(F93=H93,1,IF(F93>H93,3,0))) | D93: 5ª RODADA - #31 | Q93: =IF(OR(H93="",F93=""),"",IF(H93=F93,1,IF(H93>F93,3,0)))
C94: =IF(OR(F94="",H94=""),"",IF(F94=H94,1,IF(F94>H94,3,0))) | Q94: =IF(OR(H94="",F94=""),"",IF(H94=F94,1,IF(H94>F94,3,0)))
C95: =IF(OR(F95="",H95=""),"",IF(F95=H95,1,IF(F95>H95,3,0))) | Q95: =IF(OR(H95="",F95=""),"",IF(H95=F95,1,IF(H95>F95,3,0)))
C96: =IF(OR(F96="",H96=""),"",IF(F96=H96,1,IF(F96>H96,3,0))) | D96: =V67 -> PANZA FC | G96: x | I96: =V65 -> Palestracas FC | Q96: =IF(OR(H96="",F96=""),"",IF(H96=F96,1,IF(H96>F96,3,0)))
C97: =IF(OR(F97="",H97=""),"",IF(F97=H97,1,IF(F97>H97,3,0))) | D97: =V66 -> Casinha da Grazi | G97: x | I97: =V64 -> Forever2013 | Q97: =IF(OR(H97="",F97=""),"",IF(H97=F97,1,IF(H97>F97,3,0)))
C98: =IF(OR(F98="",H98=""),"",IF(F98=H98,1,IF(F98>H98,3,0))) | Q98: =IF(OR(H98="",F98=""),"",IF(H98=F98,1,IF(H98>F98,3,0)))
C99: =IF(OR(F99="",H99=""),"",IF(F99=H99,1,IF(F99>H99,3,0))) | D99: 6ª RODADA - #32 | Q99: =IF(OR(H99="",F99=""),"",IF(H99=F99,1,IF(H99>F99,3,0)))
C100: =IF(OR(F100="",H100=""),"",IF(F100=H100,1,IF(F100>H100,3,0))) | Q100: =IF(OR(H100="",F100=""),"",IF(H100=F100,1,IF(H100>F100,3,0)))
C101: =IF(OR(F101="",H101=""),"",IF(F101=H101,1,IF(F101>H101,3,0))) | Q101: =IF(OR(H101="",F101=""),"",IF(H101=F101,1,IF(H101>F101,3,0)))
C102: =IF(OR(F102="",H102=""),"",IF(F102=H102,1,IF(F102>H102,3,0))) | D102: =V67 -> PANZA FC | G102: x | I102: =V66 -> Casinha da Grazi | Q102: =IF(OR(H102="",F102=""),"",IF(H102=F102,1,IF(H102>F102,3,0)))
C103: =IF(OR(F103="",H103=""),"",IF(F103=H103,1,IF(F103>H103,3,0))) | D103: =V65 -> Palestracas FC | G103: x | I103: =V64 -> Forever2013 | Q103: =IF(OR(H103="",F103=""),"",IF(H103=F103,1,IF(H103>F103,3,0)))
C104: =IF(OR(F104="",H104=""),"",IF(F104=H104,1,IF(F104>H104,3,0))) | Q104: =IF(OR(H104="",F104=""),"",IF(H104=F104,1,IF(H104>F104,3,0)))
D105: GRUPO III
D107: Pos. | E107: CARTOLA | F107: P | H107: PP | J107: PC | L107: SP | O107: Legenda | U107: Pos. | V107: TIMES | W107: P | X107: GF | Y107: GC | Z107: SG | AA107: calc | AB107: maior | AC107: corresp
D108: 1º | E108: =VLOOKUP(AC108,$U$107:$AB$111,2) -> Rosinha da Gabi | F108: =VLOOKUP(AC108,$U$107:$AB$111,3) -> 3 | H108: =VLOOKUP(AC108,$U$107:$AB$111,4) -> 38.2 | J108: =VLOOKUP(AC108,$U$107:$AB$111,5) -> 23.54 | L108: =VLOOKUP(AC108,$U$107:$AB$111,6) -> 14.66 | O108: P - pontos | U108: 1 | V108: =IF(OR('4ª FASE - GRUPOS 1 a 8'!F279="",'4ª FASE - GRUPOS 1 a 8'!F279=""),"",'4ª FASE - GRUPOS 1 a 8'!E241) -> Vetores F. C. | W108: =SUM(Q116,Q123,Q129,Q134,Q140,Q147) -> 0 | X108: =SUM(H116,H123,H129,H134,H141,H147) -> 51.2 | Y108: =SUM(F116,F123,F129,F134,F141,F147) -> 53.37 | Z108: =X108-Y108 -> -2.17 | AA108: =(W108*10^10)+((Z108+5000)*10^6)+(X108*10)+U108 -> 4997830513 | AB108: =LARGE($AA$108:$AA$111,U108) -> 35014660385 | AC108: =MATCH(AB108,$AA$108:$AA$111,0) -> 3
D109: 2º | E109: =VLOOKUP(AC109,$U$107:$AB$111,2) -> Brum DAngelo F.C. | F109: =VLOOKUP(AC109,$U$107:$AB$111,3) -> 3 | H109: =VLOOKUP(AC109,$U$107:$AB$111,4) -> 53.37 | J109: =VLOOKUP(AC109,$U$107:$AB$111,5) -> 51.2 | L109: =VLOOKUP(AC109,$U$107:$AB$111,6) -> 2.17 | O109: PCP - pontos Cartola pró | U109: 2 | V109: =IF(OR('4ª FASE - GRUPOS 1 a 8'!F147="",'4ª FASE - GRUPOS 1 a 8'!F147=""),"",'4ª FASE - GRUPOS 1 a 8'!E109) -> CAFÉ FC RJ | W109: =SUM(Q117,Q122,Q135,Q140,C129,C147) -> 0 | X109: =SUM(H117,H122,F129,H135,H140,F147) -> 23.54 | Y109: =SUM(F117,F122,H129,F135,F140,H147) -> 38.2 | Z109: =X109-Y109 -> -14.66 | AA109: =(W109*10^10)+((Z109+5000)*10^6)+(X109*10)+U109 -> 4.9853402e+09 | AB109: =LARGE($AA$108:$AA$111,U109) -> 3.5002171e+10 | AC109: =MATCH(AB109,$AA$108:$AA$111,0) -> 4
D110: 3º | E110: =VLOOKUP(AC110,$U$107:$AB$111,2) -> Vetores F. C. | F110: =VLOOKUP(AC110,$U$107:$AB$111,3) -> 0 | H110: =VLOOKUP(AC110,$U$107:$AB$111,4) -> 51.2 | J110: =VLOOKUP(AC110,$U$107:$AB$111,5) -> 53.37 | L110: =VLOOKUP(AC110,$U$107:$AB$111,6) -> -2.17 | O110: PCC - pontos Cartola contra | U110: 3 | V110: =IF(OR('4ª FASE - GRUPOS 1 a 8'!F279="",'4ª FASE - GRUPOS 1 a 8'!F279=""),"",'4ª FASE - GRUPOS 1 a 8'!E240) -> Rosinha da Gabi | W110: =SUM(C117,C123,Q128,C135,C141,Q146) -> 3 | X110: =SUM(F117,F123,H128,F135,F141,H146) -> 38.2 | Y110: =SUM(H117,H123,F128,H135,H141,F146) -> 23.54 | Z110: =X110-Y110 -> 14.66 | AA110: =(W110*10^10)+((Z110+5000)*10^6)+(X110*10)+U110 -> 35014660385 | AB110: =LARGE($AA$108:$AA$111,U110) -> 4997830513 | AC110: =MATCH(AB110,$AA$108:$AA$111,0) -> 1
D111: 4º | E111: =VLOOKUP(AC111,$U$107:$AB$111,2) -> CAFÉ FC RJ | F111: =VLOOKUP(AC111,$U$107:$AB$111,3) -> 0 | H111: =VLOOKUP(AC111,$U$107:$AB$111,4) -> 23.54 | J111: =VLOOKUP(AC111,$U$107:$AB$111,5) -> 38.2 | L111: =VLOOKUP(AC111,$U$107:$AB$111,6) -> -14.66 | O111: SP - saldo de pontos | U111: 4 | V111: =IF(OR('4ª FASE - GRUPOS 1 a 8'!F147="",'4ª FASE - GRUPOS 1 a 8'!F147=""),"",'4ª FASE - GRUPOS 1 a 8'!E108) -> Brum DAngelo F.C. | W111: =SUM(C116,C122,C128,C134,C140,C146) -> 3 | X111: =SUM(F116,F122,F128,F134,F140,F146) -> 53.37 | Y111: =SUM(H116,H122,H128,H134,H140,H146) -> 51.2 | Z111: =X111-Y111 -> 2.17 | AA111: =(W111*10^10)+((Z111+5000)*10^6)+(X111*10)+U111 -> 3.5002171e+10 | AB111: =LARGE($AA$108:$AA$111,U111) -> 4.9853402e+09 | AC111: =MATCH(AB111,$AA$108:$AA$111,0) -> 2
D113: 1ª RODADA - #27
C116: =IF(OR(F116="",H116=""),"",IF(F116=H116,1,IF(F116>H116,3,0))) -> 3 | D116: =V111 -> Brum DAngelo F.C. | F116: 53.37 | G116: x | H116: 51.2 | I116: =V108 -> Vetores F. C. | Q116: =IF(OR(H116="",F116=""),"",IF(H116=F116,1,IF(H116>F116,3,0))) -> 0
C117: =IF(OR(F117="",H117=""),"",IF(F117=H117,1,IF(F117>H117,3,0))) -> 3 | D117: =V110 -> Rosinha da Gabi | F117: 38.2 | G117: x | H117: 23.54 | I117: =V109 -> CAFÉ FC RJ | Q117: =IF(OR(H117="",F117=""),"",IF(H117=F117,1,IF(H117>F117,3,0))) -> 0
C118: =IF(OR(F118="",H118=""),"",IF(F118=H118,1,IF(F118>H118,3,0))) | Q118: =IF(OR(H118="",F118=""),"",IF(H118=F118,1,IF(H118>F118,3,0)))
C119: =IF(OR(F119="",H119=""),"",IF(F119=H119,1,IF(F119>H119,3,0))) | D119: 2ª RODADA - #28 | Q119: =IF(OR(H119="",F119=""),"",IF(H119=F119,1,IF(H119>F119,3,0)))
C120: =IF(OR(F120="",H120=""),"",IF(F120=H120,1,IF(F120>H120,3,0))) | Q120: =IF(OR(H120="",F120=""),"",IF(H120=F120,1,IF(H120>F120,3,0)))
C121: =IF(OR(F121="",H121=""),"",IF(F121=H121,1,IF(F121>H121,3,0))) | Q121: =IF(OR(H121="",F121=""),"",IF(H121=F121,1,IF(H121>F121,3,0)))
C122: =IF(OR(F122="",H122=""),"",IF(F122=H122,1,IF(F122>H122,3,0))) | D122: =V111 -> Brum DAngelo F.C. | G122: x | I122: =V109 -> CAFÉ FC RJ | Q122: =IF(OR(H122="",F122=""),"",IF(H122=F122,1,IF(H122>F122,3,0)))
C123: =IF(OR(F123="",H123=""),"",IF(F123=H123,1,IF(F123>H123,3,0))) | D123: =V110 -> Rosinha da Gabi | G123: x | I123: =V108 -> Vetores F. C. | Q123: =IF(OR(H123="",F123=""),"",IF(H123=F123,1,IF(H123>F123,3,0)))
C124: =IF(OR(F124="",H124=""),"",IF(F124=H124,1,IF(F124>H124,3,0))) | Q124: =IF(OR(H124="",F124=""),"",IF(H124=F124,1,IF(H124>F124,3,0)))
...

Sheet 6ª FASE - FINAIS
B2: 1º CAMPEONATO CARTOLA 2013
B6: 6ª FASE
B10: QUARTAS DE FINAIS
J13: RODADAS #33 e 34
B15: J1 | D15: =IF(OR('5ª FASE - GRUPOS I a IV'!F59="",'5ª FASE - GRUPOS I a IV'!F59=""),"",'5ª FASE - GRUPOS I a IV'!E20) | M15: X | O15: =IF(OR('5ª FASE - GRUPOS I a IV'!F191="",'5ª FASE - GRUPOS I a IV'!F191=""),"",'5ª FASE - GRUPOS I a IV'!E153) | Z15: =IF(OR(Q15="",O15=""),"",IF(Q15=O15,1,IF(Q15>O15,3,0)))
M16: X
L17: =IF(OR(L15="",N15=""),"",SUM(L15:L16)) | N17: =IF(OR(N15="",L15=""),"",SUM(N15:N16))
B18: J2 | D18: =IF(OR('5ª FASE - GRUPOS I a IV'!F103="",'5ª FASE - GRUPOS I a IV'!F103=""),"",'5ª FASE - GRUPOS I a IV'!E64) | M18: X | O18: =IF(OR('5ª FASE - GRUPOS I a IV'!F147="",'5ª FASE - GRUPOS I a IV'!F147=""),"",'5ª FASE - GRUPOS I a IV'!E109) | AB18: =IF(OR(S18="",Q18=""),"",IF(S18=Q18,1,IF(S18>Q18,3,0)))
M19: X
L20: =IF(OR(L18="",N18=""),"",SUM(L18:L19)) | N20: =IF(OR(L18="",N18=""),"",SUM(N18:N19))
B21: J3 | D21: =IF(OR('5ª FASE - GRUPOS I a IV'!G147="",'5ª FASE - GRUPOS I a IV'!F147=""),"",'5ª FASE - GRUPOS I a IV'!E108) | M21: X | O21: =IF(OR('5ª FASE - GRUPOS I a IV'!F103="",'5ª FASE - GRUPOS I a IV'!F103=""),"",'5ª FASE - GRUPOS I a IV'!E65)
M22: X
L23: =IF(OR(L21="",N21=""),"",SUM(L21:L22)) | N23: =IF(OR(N21="",L21=""),"",SUM(N21:N22))
B24: J4 | D24: =IF(OR('5ª FASE - GRUPOS I a IV'!F191="",'5ª FASE - GRUPOS I a IV'!F191=""),"",'5ª FASE - GRUPOS I a IV'!E152) | M24: X | O24: =IF(OR('5ª FASE - GRUPOS I a IV'!F59="",'5ª FASE - GRUPOS I a IV'!F59=""),"",'5ª FASE - GRUPOS I a IV'!E21)
M25: X
L26: =IF(OR(L24="",N24=""),"",SUM(L24:L25)) | N26: =IF(OR(L24="",N24=""),"",SUM(N24:N25))
B28: SEMI-FINAL
J31: RODADAS #35 e 36
B33: J5 | D33: =IF(OR(L17="",N17=""),"",IF(L17>N17,D15,O15)) | M33: X | O33: =IF(OR(L20="",N20=""),"",IF(L20>N20,D18,O18))
M34: X
L35: =IF(OR(L33="",N33=""),"",SUM(L33:L34)) | N35: =IF(OR(L33="",N33=""),"",SUM(N33:N34))
B36: J6 | D36: =IF(OR(L23="",N23=""),"",IF(L23>N23,D21,O21)) | M36: X | O36: =IF(OR(L26="",N26=""),"",IF(L26>N26,D24,O24))
M37: X
L38: =IF(OR(L36="",N36=""),"",SUM(L36:L37)) | N38: =IF(OR(L36="",N36=""),"",SUM(N36:N37))
B40: DISPUTA DO 3º LUGAR
J43: RODADAS #37 e 38
B45: J7 | D45: =IF(OR(L35="",N35=""),"",IF(L35<N35,D33,O33)) | M45: X | O45: =IF(OR(L38="",N38=""),"",IF(L38<N38,D36,O36))
M46: X
L47: =IF(OR(L45="",N45=""),"",SUM(L45:L46)) | N47: =IF(OR(L45="",N45=""),"",SUM(N45:N46))
B49: FINAL
J52: RODADAS #37 e 38
B54: J8 | D54: =IF(OR(L38="",N38=""),"",IF(L35>N35,D33,O33)) | M54: X | O54: =IF(OR(L38="",N38=""),"",IF(L38>N38,D36,O36))
M55: X
L56: =IF(OR(L54="",N54=""),"",SUM(L54:L55)) | N56: =IF(OR(L54="",N54=""),"",SUM(N54:N55))
