Workbook

Sheet GRUPO 1
B2: 1º SUPERSOCAMPEONATO 2013
B6: 1ª FASE
D10: CLASSIFICAÇÃO
D15: OBS: Os 4 melhores colocados no Grupo se classificarão para a Oitavas de Finais.
D17: GRUPO 1
D19: Pos. | E19: CARTOLA | F19: P | H19: PP | J19: PC | L19: SP | O19: Legenda | U19: Pos. | V19: TIMES | W19: P | X19: GF | Y19: GC | Z19: SG | AA19: calc | AB19: maior | AC19: corresp
D20: 1º | E20: =VLOOKUP(AC20,$U$20:$AB$31,2) -> GustavoTFP | F20: =VLOOKUP(AC20,$U$20:$AB$31,3) -> 24 | H20: =VLOOKUP(AC20,$U$20:$AB$31,4) -> 493.81 | J20: =VLOOKUP(AC20,$U$20:$AB$31,5) -> 268.28 | L20: =VLOOKUP(AC20,$U$20:$AB$31,6) -> 225.53 | O20: P - pontos | U20: 1 | V20: secapimenteira | W20: =SUM(C38,Q46,Q60,C71,Q78,C91,Q98,C108,C128,C140) -> 15 | X20: =SUM(F38,H46,H60,F71,H78,F91,H98,H120,F108,F128,F140) -> 385.27 | Y20: =SUM(H38,F46,F60,H71,F78,H91,F98,H108,F120,H128,H140) -> 310.55 | Z20: =X20-Y20 -> 74.72 | AA20: =(W20*10^10)+((Z20+5000)*10^6)+(X20*10)+U20 -> 1.5507472e+11 | AB20: =LARGE($AA$20:$AA$31,U20) -> 2.4522553e+11 | AC20: =MATCH(AB20,$AA$20:$AA$31,0) -> 10
D21: 2º | E21: =VLOOKUP(AC21,$U$20:$AB$31,2) -> Comicu | F21: =VLOOKUP(AC21,$U$20:$AB$31,3) -> 21 | H21: =VLOOKUP(AC21,$U$20:$AB$31,4) -> 394.51 | J21: =VLOOKUP(AC21,$U$20:$AB$31,5) -> 273.36 | L21: =VLOOKUP(AC21,$U$20:$AB$31,6) -> 121.15 | O21: PP - pontos pró | U21: 2 | V21: Vascaero FC | W21: =SUM(Q41,Q57,C69,C81,Q91,C50,C96,Q110,C118,C130,Q138) -> 12 | X21: =SUM(H41,F50,H57,F69,F81,H91,F96,H110,F118,F130,H138) -> 428.51 | Y21: =SUM(F41,H50,F57,H69,H81,F91,H96,F110,H118,H130,F138) -> 387.33 | Z21: =X21-Y21 -> 41.18 | AA21: =(W21*10^10)+((Z21+5000)*10^6)+(X21*10)+U21 -> 1.2504118e+11 | AB21: =LARGE($AA$20:$AA$31,U21) -> 2.1512115e+11 | AC21: =MATCH(AB21,$AA$20:$AA$31,0) -> 11
D22: 3º | E22: =VLOOKUP(AC22,$U$20:$AB$31,2) -> Engenheirense | F22: =VLOOKUP(AC22,$U$20:$AB$31,3) -> 18 | H22: =VLOOKUP(AC22,$U$20:$AB$31,4) -> 368.19 | J22: =VLOOKUP(AC22,$U$20:$AB$31,5) -> 354.53 | L22: =VLOOKUP(AC22,$U$20:$AB$31,6) -> 13.66 | O22: PC - pontos contra | U22: 3 | V22: Tribe of Gypsies | W22: =SUM(C39,Q50,C60,C67,C99,Q77,Q86,Q107,C121,Q129,C137) -> 6 | X22: =SUM(F39,H50,F60,F67,H77,H86,F99,H107,F121,H129,F137) -> 369.48 | Y22: =SUM(H39,F50,H60,H67,F77,F86,H99,F107,H121,F129,H137) -> 436.41 | Z22: =X22-Y22 -> -66.93 | AA22: =(W22*10^10)+((Z22+5000)*10^6)+(X22*10)+U22 -> 6.4933074e+10 | AB22: =LARGE($AA$20:$AA$31,U22) -> 1.8501366e+11 | AC22: =MATCH(AB22,$AA$20:$AA$31,0) -> 12
D23: 4º | E23: =VLOOKUP(AC23,$U$20:$AB$31,2) -> Spada C.R.F.C | F23: =VLOOKUP(AC23,$U$20:$AB$31,3) -> 15 | H23: =VLOOKUP(AC23,$U$20:$AB$31,4) -> 388.11 | J23: =VLOOKUP(AC23,$U$20:$AB$31,5) -> 283.65 | L23: =VLOOKUP(AC23,$U$20:$AB$31,6) -> 104.46 | U23: 4 | V23: Nao intendo futebol | W23: =SUM(C41,C46,C68,Q76,Q58,Q109,Q87,C101,Q121,C126,Q139) -> 6 | X23: =SUM(F41,F46,H58,F68,H87,H109,H76,F101,H121,F126,H139) -> 329.94 | Y23: =SUM(H41,H46,H68,F58,F76,F87,H101,F109,F121,H126,F139) -> 365.13 | Z23: =X23-Y23 -> -35.19 | AA23: =(W23*10^10)+((Z23+5000)*10^6)+(X23*10)+U23 -> 6.4964813e+10 | AB23: =LARGE($AA$20:$AA$31,U23) -> 1.5510446e+11 | AC23: =MATCH(AB23,$AA$20:$AA$31,0) -> 7
D24: 5º | E24: =VLOOKUP(AC24,$U$20:$AB$31,2) -> secapimenteira | F24: =VLOOKUP(AC24,$U$20:$AB$31,3) -> 15 | H24: =VLOOKUP(AC24,$U$20:$AB$31,4) -> 385.27 | J24: =VLOOKUP(AC24,$U$20:$AB$31,5) -> 310.55 | L24: =VLOOKUP(AC24,$U$20:$AB$31,6) -> 74.72 | O24: SP - saldo de pontos | U24: 5 | V24: Strenght a.L | W24: =SUM(Q36,C47,Q56,C70,Q79,C89,Q101,C107,Q118,C127,Q140) -> 6 | X24: =SUM(H36,F47,H56,F70,H79,F89,H101,F107,H118,F127,H140) -> 268.92 | Y24: =SUM(F36,H47,F56,H70,F79,H89,F101,H107,F118,H127,F140) -> 397.7 | Z24: =X24-Y24 -> -128.78 | AA24: =(W24*10^10)+((Z24+5000)*10^6)+(X24*10)+U24 -> 6.4871223e+10 | AB24: =LARGE($AA$20:$AA$31,U24) -> 1.5507472e+11 | AC24: =MATCH(AB24,$AA$20:$AA$31,0) -> 1
D25: 6º | E25: =VLOOKUP(AC25,$U$20:$AB$31,2) -> SADYMENGO | F25: =VLOOKUP(AC25,$U$20:$AB$31,3) -> 12 | H25: =VLOOKUP(AC25,$U$20:$AB$31,4) -> 354.43 | J25: =VLOOKUP(AC25,$U$20:$AB$31,5) -> 312.89 | L25: =VLOOKUP(AC25,$U$20:$AB$31,6) -> 41.54 | U25: 6 | V25: A.A Perdido no Mato | W25: =SUM(Q38,C49,C57,Q70,C76,Q90,C100,C111,Q117,C131,Q137) -> 6 | X25: =SUM(H38,F49,F57,H70,F76,H90,F100,F111,H117,F131,H137) -> 224.34 | Y25: =SUM(F38,H49,H57,F70,H76,F90,H100,H111,F117,H131,F137) -> 388.09 | Z25: =X25-Y25 -> -163.75 | AA25: =(W25*10^10)+((Z25+5000)*10^6)+(X25*10)+U25 -> 6.4836252e+10 | AB25: =LARGE($AA$20:$AA$31,U25) -> 1.2504154e+11 | AC25: =MATCH(AB25,$AA$20:$AA$31,0) -> 8
D26: 7º | E26: =VLOOKUP(AC26,$U$20:$AB$31,2) -> Vascaero FC | F26: =VLOOKUP(AC26,$U$20:$AB$31,3) -> 12 | H26: =VLOOKUP(AC26,$U$20:$AB$31,4) -> 428.51 | J26: =VLOOKUP(AC26,$U$20:$AB$31,5) -> 387.33 | L26: =VLOOKUP(AC26,$U$20:$AB$31,6) -> 41.18 | U26: 7 | V26: Spada C.R.F.C | W26: =SUM(Q40,Q47,C59,C66,Q81,C87,C98,Q111,Q119,C129,Q136) -> 15 | X26: =SUM(H40,H47,F59,F66,H81,F87,F98,H111,H119,F129,H136) -> 388.11 | Y26: =SUM(F40,F47,H59,H66,F81,H87,H98,F119,H129,F136) -> 283.65 | Z26: =X26-Y26 -> 104.46 | AA26: =(W26*10^10)+((Z26+5000)*10^6)+(X26*10)+U26 -> 1.5510446e+11 | AB26: =LARGE($AA$20:$AA$31,U26) -> 1.2504118e+11 | AC26: =MATCH(AB26,$AA$20:$AA$31,0) -> 2
D27: 8º | E27: =VLOOKUP(AC27,$U$20:$AB$31,2) -> Nao intendo futebol | F27: =VLOOKUP(AC27,$U$20:$AB$31,3) -> 6 | H27: =VLOOKUP(AC27,$U$20:$AB$31,4) -> 329.94 | J27: =VLOOKUP(AC27,$U$20:$AB$31,5) -> 365.13 | L27: =VLOOKUP(AC27,$U$20:$AB$31,6) -> -35.19 | U27: 8 | V27: SADYMENGO | W27: =SUM(Q39,Q48,C61,Q66,C79,C90,Q96,C106,C116,Q128,C139) -> 12 | X27: =SUM(H39,H48,F61,H66,F79,F90,H96,F106,F116,H128,F139) -> 354.43 | Y27: =SUM(F39,F48,F66,H61,H79,H90,F96,H106,H116,F128,H139) -> 312.89 | Z27: =X27-Y27 -> 41.54 | AA27: =(W27*10^10)+((Z27+5000)*10^6)+(X27*10)+U27 -> 1.2504154e+11 | AB27: =LARGE($AA$20:$AA$31,U27) -> 6.4964813e+10 | AC27: =MATCH(AB27,$AA$20:$AA$31,0) -> 4
D28: 9º | E28: =VLOOKUP(AC28,$U$20:$AB$31,2) -> Tribe of Gypsies | F28: =VLOOKUP(AC28,$U$20:$AB$31,3) -> 6 | H28: =VLOOKUP(AC28,$U$20:$AB$31,4) -> 369.48 | J28: =VLOOKUP(AC28,$U$20:$AB$31,5) -> 436.41 | L28: =VLOOKUP(AC28,$U$20:$AB$31,6) -> -66.93 | U28: 9 | V28: Time de segunda FC | W28: =SUM(C37,Q49,C56,Q69,C77,Q88,C97,Q106,C120,Q126,C136) -> 3 | X28: =SUM(F37,H49,F56,H69,F77,H88,F97,H106,F120,H126,F136) -> 243.2 | Y28: =SUM(H37,F49,H56,F69,H77,F88,H97,F106,H120,F126,H136) -> 437.82 | Z28: =X28-Y28 -> -194.62 | AA28: =(W28*10^10)+((Z28+5000)*10^6)+(X28*10)+U28 -> 34805382441 | AB28: =LARGE($AA$20:$AA$31,U28) -> 6.4933074e+10 | AC28: =MATCH(AB28,$AA$20:$AA$31,0) -> 3
D29: 10º | E29: =VLOOKUP(AC29,$U$20:$AB$31,2) -> Strenght a.L | F29: =VLOOKUP(AC29,$U$20:$AB$31,3) -> 6 | H29: =VLOOKUP(AC29,$U$20:$AB$31,4) -> 268.92 | J29: =VLOOKUP(AC29,$U$20:$AB$31,5) -> 397.7 | L29: =VLOOKUP(AC29,$U$20:$AB$31,6) -> -128.78 | U29: 10 | V29: GustavoTFP | W29: =SUM(Q37,C48,Q59,Q71,C80,Q89,Q99,C109,C117,Q130,Q141) -> 24 | X29: =SUM(H37,F48,H59,H71,F80,H89,H99,F109,F117,H130,H141) -> 493.81 | Y29: =SUM(F37,H48,F59,F71,H80,F89,F99,H109,H117,F130,F141) -> 268.28 | Z29: =X29-Y29 -> 225.53 | AA29: =(W29*10^10)+((Z29+5000)*10^6)+(X29*10)+U29 -> 2.4522553e+11 | AB29: =LARGE($AA$20:$AA$31,U29) -> 6.4871223e+10 | AC29: =MATCH(AB29,$AA$20:$AA$31,0) -> 5
D30: 11º | E30: =VLOOKUP(AC30,$U$20:$AB$31,2) -> A.A Perdido no Mato | F30: =VLOOKUP(AC30,$U$20:$AB$31,3) -> 6 | H30: =VLOOKUP(AC30,$U$20:$AB$31,4) -> 224.34 | J30: =VLOOKUP(AC30,$U$20:$AB$31,5) -> 388.09 | L30: =VLOOKUP(AC30,$U$20:$AB$31,6) -> -163.75 | U30: 11 | V30: Comicu | W30: =SUM(C40,Q51,C58,Q67,C78,C88,Q100,C110,Q116,Q127,C141) -> 21 | X30: =SUM(F40,H51,F58,H67,F78,H100,F110,H116,H127,F141,F88) -> 394.51 | Y30: =SUM(H40,F51,H58,F67,H78,H88,F100,H110,F116,F127,H141) -> 273.36 | Z30: =X30-Y30 -> 121.15 | AA30: =(W30*10^10)+((Z30+5000)*10^6)+(X30*10)+U30 -> 2.1512115e+11 | AB30: =LARGE($AA$20:$AA$31,U30) -> 6.4836252e+10 | AC30: =MATCH(AB30,$AA$20:$AA$31,0) -> 6
D31: 12º | E31: =VLOOKUP(AC31,$U$20:$AB$31,2) -> Time de segunda FC | F31: =VLOOKUP(AC31,$U$20:$AB$31,3) -> 3 | H31: =VLOOKUP(AC31,$U$20:$AB$31,4) -> 243.2 | J31: =VLOOKUP(AC31,$U$20:$AB$31,5) -> 437.82 | L31: =VLOOKUP(AC31,$U$20:$AB$31,6) -> -194.62 | U31: 12 | V31: Engenheirense | W31: =SUM(C36,C51,Q61,Q68,Q80,C86,Q97,Q108,C119,Q131,C138) -> 18 | X31: =SUM(F36,F51,H61,H68,H80,F86,H97,H108,F119,H131,F138) -> 368.19 | Y31: =SUM(H36,H51,F61,F68,F80,H86,F97,F108,H119,F131,H138) -> 354.53 | Z31: =X31-Y31 -> 13.66 | AA31: =(W31*10^10)+((Z31+5000)*10^6)+(X31*10)+U31 -> 1.8501366e+11 | AB31: =LARGE($AA$20:$AA$31,U31) -> 34805382441 | AC31: =MATCH(AB31,$AA$20:$AA$31,0) -> 9
D33: 1ª RODADA - #20
C36: =IF(OR(F36="",H36=""),"",IF(F36=H36,1,IF(F36>H36,3,0))) -> 3 | D36: =V31 -> Engenheirense | F36: 67.03 | G36: x | H36: 64.56 | I36: =V24 -> Strenght a.L | Q36: =IF(OR(H36="",F36=""),"",IF(H36=F36,1,IF(H36>F36,3,0))) -> 0
C37: =IF(OR(F37="",H37=""),"",IF(F37=H37,1,IF(F37>H37,3,0))) -> 0 | D37: =V28 -> Time de segunda FC | F37: 20.29 | G37: x | H37: 68.28 | I37: =V29 -> GustavoTFP | Q37: =IF(OR(H37="",F37=""),"",IF(H37=F37,1,IF(H37>F37,3,0))) -> 3
C38: =IF(OR(F38="",H38=""),"",IF(F38=H38,1,IF(F38>H38,3,0))) -> 3 | D38: =V20 -> secapimenteira | F38: 66.51 | G38: x | H38: 21.52 | I38: =V25 -> A.A Perdido no Mato | Q38: =IF(OR(H38="",F38=""),"",IF(H38=F38,1,IF(H38>F38,3,0))) -> 0
C39: =IF(OR(F39="",H39=""),"",IF(F39=H39,1,IF(F39>H39,3,0))) -> 0 | D39: =V22 -> Tribe of Gypsies | F39: 37.88 | G39: x | H39: 51.56 | I39: =V27 -> SADYMENGO | Q39: =IF(OR(H39="",F39=""),"",IF(H39=F39,1,IF(H39>F39,3,0))) -> 3
C40: =IF(OR(F40="",H40=""),"",IF(F40=H40,1,IF(F40>H40,3,0))) -> 3 | D40: =V30 -> Comicu | F40: 55.83 | G40: x | H40: 52.01 | I40: =V26 -> Spada C.R.F.C | Q40: =IF(OR(H40="",F40=""),"",IF(H40=F40,1,IF(H40>F40,3,0))) -> 0
C41: =IF(OR(F41="",H41=""),"",IF(F41=H41,1,IF(F41>H41,3,0))) -> 3 | D41: =V23 -> Nao intendo futebol | F41: 90.01 | G41: x | H41: 84.86 | I41: =V21 -> Vascaero FC | Q41: =IF(OR(H41="",F41=""),"",IF(H41=F41,1,IF(H41>F41,3,0))) -> 0
C42: =IF(OR(F42="",H42=""),"",IF(F42=H42,1,IF(F42>H42,3,0))) | Q42: =IF(OR(H42="",F42=""),"",IF(H42=F42,1,IF(H42>F42,3,0)))
C43: =IF(OR(F43="",H43=""),"",IF(F43=H43,1,IF(F43>H43,3,0))) | D43: 2ª RODADA - #21 | Q43: =IF(OR(H43="",F43=""),"",IF(H43=F43,1,IF(H43>F43,3,0)))
C44: =IF(OR(F44="",H44=""),"",IF(F44=H44,1,IF(F44>H44,3,0))) | Q44: =IF(OR(H44="",F44=""),"",IF(H44=F44,1,IF(H44>F44,3,0)))
C45: =IF(OR(F45="",H45=""),"",IF(F45=H45,1,IF(F45>H45,3,0))) | Q45: =IF(OR(H45="",F45=""),"",IF(H45=F45,1,IF(H45>F45,3,0)))
C46: =IF(OR(F46="",H46=""),"",IF(F46=H46,1,IF(F46>H46,3,0))) -> 0 | D46: =V23 -> Nao intendo futebol | F46: 40.04 | G46: x | H46: 50.39 | I46: =V20 -> secapimenteira | Q46: =IF(OR(H46="",F46=""),"",IF(H46=F46,1,IF(H46>F46,3,0))) -> 3
C47: =IF(OR(F47="",H47=""),"",IF(F47=H47,1,IF(F47>H47,3,0))) -> 0 | D47: =V24 -> Strenght a.L | F47: 1.04 | G47: x | H47: 52.77 | I47: =V26 -> Spada C.R.F.C | Q47: =IF(OR(H47="",F47=""),"",IF(H47=F47,1,IF(H47>F47,3,0))) -> 3
C48: =IF(OR(F48="",H48=""),"",IF(F48=H48,1,IF(F48>H48,3,0))) -> 3 | D48: =V29 -> GustavoTFP | F48: 63.62 | G48: x | H48: 38.34 | I48: =V27 -> SADYMENGO | Q48: =IF(OR(H48="",F48=""),"",IF(H48=F48,1,IF(H48>F48,3,0))) -> 0
C49: =IF(OR(F49="",H49=""),"",IF(F49=H49,1,IF(F49>H49,3,0))) -> 0 | D49: =V25 -> A.A Perdido no Mato | F49: 39.27 | G49: x | H49: 63.45 | I49: =V28 -> Time de segunda FC | Q49: =IF(OR(H49="",F49=""),"",IF(H49=F49,1,IF(H49>F49,3,0))) -> 3
C50: =IF(OR(F50="",H50=""),"",IF(F50=H50,1,IF(F50>H50,3,0))) -> 3 | D50: =V21 -> Vascaero FC | F50: 74.29 | G50: x | H50: 45.37 | I50: =V22 -> Tribe of Gypsies | Q50: =IF(OR(H50="",F50=""),"",IF(H50=F50,1,IF(H50>F50,3,0))) -> 0
C51: =IF(OR(F51="",H51=""),"",IF(F51=H51,1,IF(F51>H51,3,0))) -> 3 | D51: =V31 -> Engenheirense | F51: 43.25 | G51: x | H51: 32.72 | I51: =V30 -> Comicu | Q51: =IF(OR(H51="",F51=""),"",IF(H51=F51,1,IF(H51>F51,3,0))) -> 0
C52: =IF(OR(F52="",H52=""),"",IF(F52=H52,1,IF(F52>H52,3,0))) | Q52: =IF(OR(H52="",F52=""),"",IF(H52=F52,1,IF(H52>F52,3,0)))
C53: =IF(OR(F53="",H53=""),"",IF(F53=H53,1,IF(F53>H53,3,0))) | D53: 3ª RODADA - #22 | Q53: =IF(OR(H53="",F53=""),"",IF(H53=F53,1,IF(H53>F53,3,0)))
C54: =IF(OR(F54="",H54=""),"",IF(F54=H54,1,IF(F54>H54,3,0))) | Q54: =IF(OR(H54="",F54=""),"",IF(H54=F54,1,IF(H54>F54,3,0)))
C55: =IF(OR(F55="",H55=""),"",IF(F55=H55,1,IF(F55>H55,3,0))) | Q55: =IF(OR(H55="",F55=""),"",IF(H55=F55,1,IF(H55>F55,3,0)))
C56: =IF(OR(F56="",H56=""),"",IF(F56=H56,1,IF(F56>H56,3,0))) -> 0 | D56: =V28 -> Time de segunda FC | F56: 35.14 | G56: x | H56: 55.8 | I56: =V24 -> Strenght a.L | Q56: =IF(OR(H56="",F56=""),"",IF(H56=F56,1,IF(H56>F56,3,0))) -> 3
...

Sheet GRUPO 2
B2: 1º SUPERSOCAMPEONATO 2013
B6: 1ª FASE
D10: CLASSIFICAÇÃO
D15: OBS: Os 4 melhores colocados no Grupo se classificarão para a Oitavas de Finais.
D17: GRUPO 2
D19: Pos. | E19: CARTOLA | F19: P | H19: PP | J19: PC | L19: SP | O19: Legenda | U19: Pos. | V19: TIMES | W19: P | X19: GF | Y19: GC | Z19: SG | AA19: calc | AB19: maior | AC19: corresp
D20: 1º | E20: =VLOOKUP(AC20,$U$20:$AB$31,2) -> FC Ladeira !!! | F20: =VLOOKUP(AC20,$U$20:$AB$31,3) -> 18 | H20: =VLOOKUP(AC20,$U$20:$AB$31,4) -> 421.58 | J20: =VLOOKUP(AC20,$U$20:$AB$31,5) -> 418.05 | L20: =VLOOKUP(AC20,$U$20:$AB$31,6) -> 3.53 | O20: P - pontos | U20: 1 | V20: FC Ladeira !!! | W20: =SUM(C38,Q46,Q60,C71,Q78,C91,Q98,C108,C128,C140) -> 18 | X20: =SUM(F38,H46,H60,F71,H78,F91,H98,H120,F108,F128,F140) -> 421.58 | Y20: =SUM(H38,F46,F60,H71,F78,H91,F98,H108,F120,H128,H140) -> 418.05 | Z20: =X20-Y20 -> 3.53 | AA20: =(W20*10^10)+((Z20+5000)*10^6)+(X20*10)+U20 -> 1.8500353e+11 | AB20: =LARGE($AA$20:$AA$31,U20) -> 1.8500353e+11 | AC20: =MATCH(AB20,$AA$20:$AA$31,0) -> 1
D21: 2º | E21: =VLOOKUP(AC21,$U$20:$AB$31,2) -> hugofluzao | F21: =VLOOKUP(AC21,$U$20:$AB$31,3) -> 15 | H21: =VLOOKUP(AC21,$U$20:$AB$31,4) -> 419.5 | J21: =VLOOKUP(AC21,$U$20:$AB$31,5) -> 290.48 | L21: =VLOOKUP(AC21,$U$20:$AB$31,6) -> 129.02 | O21: PP - pontos pró | U21: 2 | V21: Bruno Duim FC | W21: =SUM(Q41,Q57,C69,C81,Q91,C50,C96,Q110,C118,C130,Q138) -> 12 | X21: =SUM(H41,F50,H57,F69,F81,H91,F96,H110,F118,F130,H138) -> 439.71 | Y21: =SUM(F41,H50,F57,H69,H81,F91,H96,F110,H118,H130,F138) -> 371.38 | Z21: =X21-Y21 -> 68.33 | AA21: =(W21*10^10)+((Z21+5000)*10^6)+(X21*10)+U21 -> 1.2506833e+11 | AB21: =LARGE($AA$20:$AA$31,U21) -> 155129024202 | AC21: =MATCH(AB21,$AA$20:$AA$31,0) -> 7
D22: 3º | E22: =VLOOKUP(AC22,$U$20:$AB$31,2) -> Us Karas | F22: =VLOOKUP(AC22,$U$20:$AB$31,3) -> 15 | H22: =VLOOKUP(AC22,$U$20:$AB$31,4) -> 434.33 | J22: =VLOOKUP(AC22,$U$20:$AB$31,5) -> 426.07 | L22: =VLOOKUP(AC22,$U$20:$AB$31,6) -> 8.26 | O22: PC - pontos contra | U22: 3 | V22: PAPAMIKE F.C. | W22: =SUM(C39,Q50,C60,C67,C99,Q77,Q86,Q107,C121,Q129,C137) -> 12 | X22: =SUM(F39,H50,F60,F67,H77,H86,F99,H107,F121,H129,F137) -> 300.16 | Y22: =SUM(H39,F50,H60,H67,F77,F86,H99,F107,H121,F129,H137) -> 365.1 | Z22: =X22-Y22 -> -64.94 | AA22: =(W22*10^10)+((Z22+5000)*10^6)+(X22*10)+U22 -> 1.2493506e+11 | AB22: =LARGE($AA$20:$AA$31,U22) -> 1.5500826e+11 | AC22: =MATCH(AB22,$AA$20:$AA$31,0) -> 8
D23: 4º | E23: =VLOOKUP(AC23,$U$20:$AB$31,2) -> Família Timóteo FC | F23: =VLOOKUP(AC23,$U$20:$AB$31,3) -> 15 | H23: =VLOOKUP(AC23,$U$20:$AB$31,4) -> 409.29 | J23: =VLOOKUP(AC23,$U$20:$AB$31,5) -> 436.35 | L23: =VLOOKUP(AC23,$U$20:$AB$31,6) -> -27.06 | U23: 4 | V23: Monet FC | W23: =SUM(C41,C46,C68,Q76,Q58,Q109,Q87,C101,Q121,C126,Q139) -> 3 | X23: =SUM(F41,F46,H58,F68,H87,H109,H76,F101,H121,F126,H139) -> 306.29 | Y23: =SUM(H41,H46,H68,F58,F76,F87,H101,F109,F121,H126,F139) -> 383.11 | Z23: =X23-Y23 -> -76.82 | AA23: =(W23*10^10)+((Z23+5000)*10^6)+(X23*10)+U23 -> 3.4923183e+10 | AB23: =LARGE($AA$20:$AA$31,U23) -> 1.5497294e+11 | AC23: =MATCH(AB23,$AA$20:$AA$31,0) -> 6
D24: 5º | E24: =VLOOKUP(AC24,$U$20:$AB$31,2) -> Bruno Duim FC | F24: =VLOOKUP(AC24,$U$20:$AB$31,3) -> 12 | H24: =VLOOKUP(AC24,$U$20:$AB$31,4) -> 439.71 | J24: =VLOOKUP(AC24,$U$20:$AB$31,5) -> 371.38 | L24: =VLOOKUP(AC24,$U$20:$AB$31,6) -> 68.33 | O24: SP - saldo de pontos | U24: 5 | V24: C.R RedBull FC | W24: =SUM(Q36,C47,Q56,C70,Q79,C89,Q101,C107,Q118,C127,Q140) -> 9 | X24: =SUM(H36,F47,H56,F70,H79,F89,H101,F107,H118,F127,H140) -> 345.99 | Y24: =SUM(F36,H47,F56,H70,F79,H89,F101,H107,F118,H127,F140) -> 395.47 | Z24: =X24-Y24 -> -49.48 | AA24: =(W24*10^10)+((Z24+5000)*10^6)+(X24*10)+U24 -> 9.4950523e+10 | AB24: =LARGE($AA$20:$AA$31,U24) -> 1.2506833e+11 | AC24: =MATCH(AB24,$AA$20:$AA$31,0) -> 2
D25: 6º | E25: =VLOOKUP(AC25,$U$20:$AB$31,2) -> Puro Malte F. C | F25: =VLOOKUP(AC25,$U$20:$AB$31,3) -> 12 | H25: =VLOOKUP(AC25,$U$20:$AB$31,4) -> 392.34 | J25: =VLOOKUP(AC25,$U$20:$AB$31,5) -> 351.35 | L25: =VLOOKUP(AC25,$U$20:$AB$31,6) -> 40.99 | U25: 6 | V25: Família Timóteo FC | W25: =SUM(Q38,C49,C57,Q70,C76,Q90,C100,C111,Q117,C131,Q137) -> 15 | X25: =SUM(H38,F49,F57,H70,F76,H90,F100,F111,H117,F131,H137) -> 409.29 | Y25: =SUM(F38,H49,H57,F70,H76,F90,H100,H111,F117,H131,F137) -> 436.35 | Z25: =X25-Y25 -> -27.06 | AA25: =(W25*10^10)+((Z25+5000)*10^6)+(X25*10)+U25 -> 1.5497294e+11 | AB25: =LARGE($AA$20:$AA$31,U25) -> 1.2504099e+11 | AC25: =MATCH(AB25,$AA$20:$AA$31,0) -> 11
D26: 7º | E26: =VLOOKUP(AC26,$U$20:$AB$31,2) -> Lucca Mengão | F26: =VLOOKUP(AC26,$U$20:$AB$31,3) -> 12 | H26: =VLOOKUP(AC26,$U$20:$AB$31,4) -> 405.55 | J26: =VLOOKUP(AC26,$U$20:$AB$31,5) -> 370.31 | L26: =VLOOKUP(AC26,$U$20:$AB$31,6) -> 35.24 | U26: 7 | V26: hugofluzao | W26: =SUM(Q40,Q47,C59,C66,Q81,C87,C98,Q111,Q119,C129,Q136) -> 15 | X26: =SUM(H40,H47,F59,F66,H81,F87,F98,H111,H119,F129,H136) -> 419.5 | Y26: =SUM(F40,F47,H59,H66,F81,H87,H98,F119,H129,F136) -> 290.48 | Z26: =X26-Y26 -> 129.02 | AA26: =(W26*10^10)+((Z26+5000)*10^6)+(X26*10)+U26 -> 155129024202 | AB26: =LARGE($AA$20:$AA$31,U26) -> 1.2503524e+11 | AC26: =MATCH(AB26,$AA$20:$AA$31,0) -> 12
D27: 8º | E27: =VLOOKUP(AC27,$U$20:$AB$31,2) -> Family paz f.c | F27: =VLOOKUP(AC27,$U$20:$AB$31,3) -> 12 | H27: =VLOOKUP(AC27,$U$20:$AB$31,4) -> 434.58 | J27: =VLOOKUP(AC27,$U$20:$AB$31,5) -> 454.98 | L27: =VLOOKUP(AC27,$U$20:$AB$31,6) -> -20.4 | U27: 8 | V27: Us Karas | W27: =SUM(Q39,Q48,C61,Q66,C79,C90,Q96,C106,C116,Q128,C139) -> 15 | X27: =SUM(H39,H48,F61,H66,F79,F90,H96,F106,F116,H128,F139) -> 434.33 | Y27: =SUM(F39,F48,F66,H61,H79,H90,F96,H106,H116,F128,H139) -> 426.07 | Z27: =X27-Y27 -> 8.26 | AA27: =(W27*10^10)+((Z27+5000)*10^6)+(X27*10)+U27 -> 1.5500826e+11 | AB27: =LARGE($AA$20:$AA$31,U27) -> 1.249796e+11 | AC27: =MATCH(AB27,$AA$20:$AA$31,0) -> 10
D28: 9º | E28: =VLOOKUP(AC28,$U$20:$AB$31,2) -> PAPAMIKE F.C. | F28: =VLOOKUP(AC28,$U$20:$AB$31,3) -> 12 | H28: =VLOOKUP(AC28,$U$20:$AB$31,4) -> 300.16 | J28: =VLOOKUP(AC28,$U$20:$AB$31,5) -> 365.1 | L28: =VLOOKUP(AC28,$U$20:$AB$31,6) -> -64.94 | U28: 9 | V28: Stars United C.F | W28: =SUM(C37,Q49,C56,Q69,C77,Q88,C97,Q106,C120,Q126,C136) -> 9 | X28: =SUM(F37,H49,F56,H69,F77,H88,F97,H106,F120,H126,F136) -> 328.71 | Y28: =SUM(H37,F49,H56,F69,H77,F88,H97,F106,H120,F126,H136) -> 321.71 | Z28: =X28-Y28 -> 7 | AA28: =(W28*10^10)+((Z28+5000)*10^6)+(X28*10)+U28 -> 9.5007003e+10 | AB28: =LARGE($AA$20:$AA$31,U28) -> 1.2493506e+11 | AC28: =MATCH(AB28,$AA$20:$AA$31,0) -> 3
D29: 10º | E29: =VLOOKUP(AC29,$U$20:$AB$31,2) -> Stars United C.F | F29: =VLOOKUP(AC29,$U$20:$AB$31,3) -> 9 | H29: =VLOOKUP(AC29,$U$20:$AB$31,4) -> 328.71 | J29: =VLOOKUP(AC29,$U$20:$AB$31,5) -> 321.71 | L29: =VLOOKUP(AC29,$U$20:$AB$31,6) -> 7 | U29: 10 | V29: Family paz f.c | W29: =SUM(Q37,C48,Q59,Q71,C80,Q89,Q99,C109,C117,Q130,Q141) -> 12 | X29: =SUM(H37,F48,H59,H71,F80,H89,H99,F109,F117,H130,H141) -> 434.58 | Y29: =SUM(F37,H48,F59,F71,H80,F89,F99,H109,H117,F130,F141) -> 454.98 | Z29: =X29-Y29 -> -20.4 | AA29: =(W29*10^10)+((Z29+5000)*10^6)+(X29*10)+U29 -> 1.249796e+11 | AB29: =LARGE($AA$20:$AA$31,U29) -> 9.5007003e+10 | AC29: =MATCH(AB29,$AA$20:$AA$31,0) -> 9
D30: 11º | E30: =VLOOKUP(AC30,$U$20:$AB$31,2) -> C.R RedBull FC | F30: =VLOOKUP(AC30,$U$20:$AB$31,3) -> 9 | H30: =VLOOKUP(AC30,$U$20:$AB$31,4) -> 345.99 | J30: =VLOOKUP(AC30,$U$20:$AB$31,5) -> 395.47 | L30: =VLOOKUP(AC30,$U$20:$AB$31,6) -> -49.48 | U30: 11 | V30: Puro Malte F. C | W30: =SUM(C40,Q51,C58,Q67,C78,C88,Q100,C110,Q116,Q127,C141) -> 12 | X30: =SUM(F40,H51,F58,H67,F78,H100,F110,H116,H127,F141,F88) -> 392.34 | Y30: =SUM(H40,F51,H58,F67,H78,H88,F100,H110,F116,F127,H141) -> 351.35 | Z30: =X30-Y30 -> 40.99 | AA30: =(W30*10^10)+((Z30+5000)*10^6)+(X30*10)+U30 -> 1.2504099e+11 | AB30: =LARGE($AA$20:$AA$31,U30) -> 9.4950523e+10 | AC30: =MATCH(AB30,$AA$20:$AA$31,0) -> 5
D31: 12º | E31: =VLOOKUP(AC31,$U$20:$AB$31,2) -> Monet FC | F31: =VLOOKUP(AC31,$U$20:$AB$31,3) -> 3 | H31: =VLOOKUP(AC31,$U$20:$AB$31,4) -> 306.29 | J31: =VLOOKUP(AC31,$U$20:$AB$31,5) -> 383.11 | L31: =VLOOKUP(AC31,$U$20:$AB$31,6) -> -76.82 | U31: 12 | V31: Lucca Mengão | W31: =SUM(C36,C51,Q61,Q68,Q80,C86,Q97,Q108,C119,Q131,C138) -> 12 | X31: =SUM(F36,F51,H61,H68,H80,F86,H97,H108,F119,H131,F138) -> 405.55 | Y31: =SUM(H36,H51,F61,F68,F80,H86,F97,F108,H119,F131,H138) -> 370.31 | Z31: =X31-Y31 -> 35.24 | AA31: =(W31*10^10)+((Z31+5000)*10^6)+(X31*10)+U31 -> 1.2503524e+11 | AB31: =LARGE($AA$20:$AA$31,U31) -> 3.4923183e+10 | AC31: =MATCH(AB31,$AA$20:$AA$31,0) -> 4
D33: 1ª RODADA - #20
C36: =IF(OR(F36="",H36=""),"",IF(F36=H36,1,IF(F36>H36,3,0))) -> 3 | D36: =V31 -> Lucca Mengão | F36: 69.03 | G36: x | H36: 33.79 | I36: =V24 -> C.R RedBull FC | Q36: =IF(OR(H36="",F36=""),"",IF(H36=F36,1,IF(H36>F36,3,0))) -> 0
C37: =IF(OR(F37="",H37=""),"",IF(F37=H37,1,IF(F37>H37,3,0))) -> 0 | D37: =V28 -> Stars United C.F | F37: 52.41 | G37: x | H37: 55.82 | I37: =V29 -> Family paz f.c | Q37: =IF(OR(H37="",F37=""),"",IF(H37=F37,1,IF(H37>F37,3,0))) -> 3
C38: =IF(OR(F38="",H38=""),"",IF(F38=H38,1,IF(F38>H38,3,0))) -> 3 | D38: =V20 -> FC Ladeira !!! | F38: 67.78 | G38: x | H38: 52.01 | I38: =V25 -> Família Timóteo FC | Q38: =IF(OR(H38="",F38=""),"",IF(H38=F38,1,IF(H38>F38,3,0))) -> 0
C39: =IF(OR(F39="",H39=""),"",IF(F39=H39,1,IF(F39>H39,3,0))) -> 0 | D39: =V22 -> PAPAMIKE F.C. | F39: 56.63 | G39: x | H39: 56.72 | I39: =V27 -> Us Karas | Q39: =IF(OR(H39="",F39=""),"",IF(H39=F39,1,IF(H39>F39,3,0))) -> 3
C40: =IF(OR(F40="",H40=""),"",IF(F40=H40,1,IF(F40>H40,3,0))) -> 3 | D40: =V30 -> Puro Malte F. C | F40: 52.31 | G40: x | H40: 45.03 | I40: =V26 -> hugofluzao | Q40: =IF(OR(H40="",F40=""),"",IF(H40=F40,1,IF(H40>F40,3,0))) -> 0
C41: =IF(OR(F41="",H41=""),"",IF(F41=H41,1,IF(F41>H41,3,0))) -> 3 | D41: =V23 -> Monet FC | F41: 68.53 | G41: x | H41: 49.13 | I41: =V21 -> Bruno Duim FC | Q41: =IF(OR(H41="",F41=""),"",IF(H41=F41,1,IF(H41>F41,3,0))) -> 0
C42: =IF(OR(F42="",H42=""),"",IF(F42=H42,1,IF(F42>H42,3,0))) | Q42: =IF(OR(H42="",F42=""),"",IF(H42=F42,1,IF(H42>F42,3,0)))
C43: =IF(OR(F43="",H43=""),"",IF(F43=H43,1,IF(F43>H43,3,0))) | D43: 2ª RODADA - #21 | Q43: =IF(OR(H43="",F43=""),"",IF(H43=F43,1,IF(H43>F43,3,0)))
C44: =IF(OR(F44="",H44=""),"",IF(F44=H44,1,IF(F44>H44,3,0))) | Q44: =IF(OR(H44="",F44=""),"",IF(H44=F44,1,IF(H44>F44,3,0)))
C45: =IF(OR(F45="",H45=""),"",IF(F45=H45,1,IF(F45>H45,3,0))) | Q45: =IF(OR(H45="",F45=""),"",IF(H45=F45,1,IF(H45>F45,3,0)))
C46: =IF(OR(F46="",H46=""),"",IF(F46=H46,1,IF(F46>H46,3,0))) -> 0 | D46: =V23 -> Monet FC | F46: 20.22 | G46: x | H46: 28.69 | I46: =V20 -> FC Ladeira !!! | Q46: =IF(OR(H46="",F46=""),"",IF(H46=F46,1,IF(H46>F46,3,0))) -> 3
C47: =IF(OR(F47="",H47=""),"",IF(F47=H47,1,IF(F47>H47,3,0))) -> 0 | D47: =V24 -> C.R RedBull FC | F47: 43.52 | G47: x | H47: 59.57 | I47: =V26 -> hugofluzao | Q47: =IF(OR(H47="",F47=""),"",IF(H47=F47,1,IF(H47>F47,3,0))) -> 3
C48: =IF(OR(F48="",H48=""),"",IF(F48=H48,1,IF(F48>H48,3,0))) -> 0 | D48: =V29 -> Family paz f.c | F48: 62.17 | G48: x | H48: 83.69 | I48: =V27 -> Us Karas | Q48: =IF(OR(H48="",F48=""),"",IF(H48=F48,1,IF(H48>F48,3,0))) -> 3
C49: =IF(OR(F49="",H49=""),"",IF(F49=H49,1,IF(F49>H49,3,0))) -> 3 | D49: =V25 -> Família Timóteo FC | F49: 50.82 | G49: x | H49: 38.05 | I49: =V28 -> Stars United C.F | Q49: =IF(OR(H49="",F49=""),"",IF(H49=F49,1,IF(H49>F49,3,0))) -> 0
C50: =IF(OR(F50="",H50=""),"",IF(F50=H50,1,IF(F50>H50,3,0))) -> 3 | D50: =V21 -> Bruno Duim FC | F50: 66.75 | G50: x | H50: 13.39 | I50: =V22 -> PAPAMIKE F.C. | Q50: =IF(OR(H50="",F50=""),"",IF(H50=F50,1,IF(H50>F50,3,0))) -> 0
C51: =IF(OR(F51="",H51=""),"",IF(F51=H51,1,IF(F51>H51,3,0))) -> 0 | D51: =V31 -> Lucca Mengão | F51: 33.65 | G51: x | H51: 53.14 | I51: =V30 -> Puro Malte F. C | Q51: =IF(OR(H51="",F51=""),"",IF(H51=F51,1,IF(H51>F51,3,0))) -> 3
C52: =IF(OR(F52="",H52=""),"",IF(F52=H52,1,IF(F52>H52,3,0))) | Q52: =IF(OR(H52="",F52=""),"",IF(H52=F52,1,IF(H52>F52,3,0)))
C53: =IF(OR(F53="",H53=""),"",IF(F53=H53,1,IF(F53>H53,3,0))) | D53: 3ª RODADA - #22 | Q53: =IF(OR(H53="",F53=""),"",IF(H53=F53,1,IF(H53>F53,3,0)))
C54: =IF(OR(F54="",H54=""),"",IF(F54=H54,1,IF(F54>H54,3,0))) | Q54: =IF(OR(H54="",F54=""),"",IF(H54=F54,1,IF(H54>F54,3,0)))
C55: =IF(OR(F55="",H55=""),"",IF(F55=H55,1,IF(F55>H55,3,0))) | Q55: =IF(OR(H55="",F55=""),"",IF(H55=F55,1,IF(H55>F55,3,0)))
C56: =IF(OR(F56="",H56=""),"",IF(F56=H56,1,IF(F56>H56,3,0))) -> 0 | D56: =V28 -> Stars United C.F | F56: 33.14 | G56: x | H56: 44 | I56: =V24 -> C.R RedBull FC | Q56: =IF(OR(H56="",F56=""),"",IF(H56=F56,1,IF(H56>F56,3,0))) -> 3
...

Sheet GRUPO 3
B2: 1º SUPERSOCAMPEONATO 2013
B6: 1ª FASE
D10: CLASSIFICAÇÃO
D15: OBS: Os 4 melhores colocados no Grupo se classificarão para a Oitavas de Finais.
D17: GRUPO 3
D19: Pos. | E19: CARTOLA | F19: P | H19: PP | J19: PC | L19: SP | O19: Legenda | U19: Pos. | V19: TIMES | W19: P | X19: GF | Y19: GC | Z19: SG | AA19: calc | AB19: maior | AC19: corresp
D20: 1º | E20: =VLOOKUP(AC20,$U$20:$AB$31,2) -> Grajaú F.C. | F20: =VLOOKUP(AC20,$U$20:$AB$31,3) -> 21 | H20: =VLOOKUP(AC20,$U$20:$AB$31,4) -> 453.2 | J20: =VLOOKUP(AC20,$U$20:$AB$31,5) -> 344.32 | L20: =VLOOKUP(AC20,$U$20:$AB$31,6) -> 108.88 | O20: P - pontos | U20: 1 | V20: WillianBalao | W20: =SUM(C38,Q46,Q60,C71,Q78,C91,Q98,C108,C128,C140) -> 15 | X20: =SUM(F38,H46,H60,F71,H78,F91,H98,H120,F108,F128,F140) -> 354.43 | Y20: =SUM(H38,F46,F60,H71,F78,H91,F98,H108,F120,H128,H140) -> 249.71 | Z20: =X20-Y20 -> 104.72 | AA20: =(W20*10^10)+((Z20+5000)*10^6)+(X20*10)+U20 -> 1.5510472e+11 | AB20: =LARGE($AA$20:$AA$31,U20) -> 215108884540 | AC20: =MATCH(AB20,$AA$20:$AA$31,0) -> 8
D21: 2º | E21: =VLOOKUP(AC21,$U$20:$AB$31,2) -> Marrecos F.C . | F21: =VLOOKUP(AC21,$U$20:$AB$31,3) -> 18 | H21: =VLOOKUP(AC21,$U$20:$AB$31,4) -> 406.45 | J21: =VLOOKUP(AC21,$U$20:$AB$31,5) -> 340.79 | L21: =VLOOKUP(AC21,$U$20:$AB$31,6) -> 65.66 | O21: PP - pontos pró | U21: 2 | V21: RJFC Unitedd | W21: =SUM(Q41,Q57,C69,C81,Q91,C50,C96,Q110,C118,C130,Q138) -> 12 | X21: =SUM(H41,F50,H57,F69,F81,H91,F96,H110,F118,F130,H138) -> 338.51 | Y21: =SUM(F41,H50,F57,H69,H81,F91,H96,F110,H118,H130,F138) -> 348.81 | Z21: =X21-Y21 -> -10.3 | AA21: =(W21*10^10)+((Z21+5000)*10^6)+(X21*10)+U21 -> 1.249897e+11 | AB21: =LARGE($AA$20:$AA$31,U21) -> 1.8506566e+11 | AC21: =MATCH(AB21,$AA$20:$AA$31,0) -> 5
D22: 3º | E22: =VLOOKUP(AC22,$U$20:$AB$31,2) -> WillianBalao | F22: =VLOOKUP(AC22,$U$20:$AB$31,3) -> 15 | H22: =VLOOKUP(AC22,$U$20:$AB$31,4) -> 354.43 | J22: =VLOOKUP(AC22,$U$20:$AB$31,5) -> 249.71 | L22: =VLOOKUP(AC22,$U$20:$AB$31,6) -> 104.72 | O22: PC - pontos contra | U22: 3 | V22: Taay BFR | W22: =SUM(C39,Q50,C60,C67,C99,Q77,Q86,Q107,C121,Q129,C137) -> 15 | X22: =SUM(F39,H50,F60,F67,H77,H86,F99,H107,F121,H129,F137) -> 331.02 | Y22: =SUM(H39,F50,H60,H67,F77,F86,H99,F107,H121,F129,H137) -> 325.21 | Z22: =X22-Y22 -> 5.81 | AA22: =(W22*10^10)+((Z22+5000)*10^6)+(X22*10)+U22 -> 1.5500581e+11 | AB22: =LARGE($AA$20:$AA$31,U22) -> 1.5510472e+11 | AC22: =MATCH(AB22,$AA$20:$AA$31,0) -> 1
D23: 4º | E23: =VLOOKUP(AC23,$U$20:$AB$31,2) -> Casinha da Grazi | F23: =VLOOKUP(AC23,$U$20:$AB$31,3) -> 15 | H23: =VLOOKUP(AC23,$U$20:$AB$31,4) -> 378.18 | J23: =VLOOKUP(AC23,$U$20:$AB$31,5) -> 292.95 | L23: =VLOOKUP(AC23,$U$20:$AB$31,6) -> 85.23 | U23: 4 | V23: Al-Jazira F.c | W23: =SUM(C41,C46,C68,Q76,Q58,Q109,Q87,C101,Q121,C126,Q139) -> 9 | X23: =SUM(F41,F46,H58,F68,H87,H109,H76,F101,H121,F126,H139) -> 357.29 | Y23: =SUM(H41,H46,H68,F58,F76,F87,H101,F109,F121,H126,F139) -> 352.47 | Z23: =X23-Y23 -> 4.82 | AA23: =(W23*10^10)+((Z23+5000)*10^6)+(X23*10)+U23 -> 9.5004824e+10 | AB23: =LARGE($AA$20:$AA$31,U23) -> 1.5508523e+11 | AC23: =MATCH(AB23,$AA$20:$AA$31,0) -> 12
D24: 5º | E24: =VLOOKUP(AC24,$U$20:$AB$31,2) -> Taay BFR | F24: =VLOOKUP(AC24,$U$20:$AB$31,3) -> 15 | H24: =VLOOKUP(AC24,$U$20:$AB$31,4) -> 331.02 | J24: =VLOOKUP(AC24,$U$20:$AB$31,5) -> 325.21 | L24: =VLOOKUP(AC24,$U$20:$AB$31,6) -> 5.81 | O24: SP - saldo de pontos | U24: 5 | V24: Marrecos F.C . | W24: =SUM(Q36,C47,Q56,C70,Q79,C89,Q101,C107,Q118,C127,Q140) -> 18 | X24: =SUM(H36,F47,H56,F70,H79,F89,H101,F107,H118,F127,H140) -> 406.45 | Y24: =SUM(F36,H47,F56,H70,F79,H89,F101,H107,F118,H127,F140) -> 340.79 | Z24: =X24-Y24 -> 65.66 | AA24: =(W24*10^10)+((Z24+5000)*10^6)+(X24*10)+U24 -> 1.8506566e+11 | AB24: =LARGE($AA$20:$AA$31,U24) -> 1.5500581e+11 | AC24: =MATCH(AB24,$AA$20:$AA$31,0) -> 3
D25: 6º | E25: =VLOOKUP(AC25,$U$20:$AB$31,2) -> Alisando Cresce | F25: =VLOOKUP(AC25,$U$20:$AB$31,3) -> 12 | H25: =VLOOKUP(AC25,$U$20:$AB$31,4) -> 359.17 | J25: =VLOOKUP(AC25,$U$20:$AB$31,5) -> 310.17 | L25: =VLOOKUP(AC25,$U$20:$AB$31,6) -> 49 | U25: 6 | V25: leitemoça 3 | W25: =SUM(Q38,C49,C57,Q70,C76,Q90,C100,C111,Q117,C131,Q137) -> 6 | X25: =SUM(H38,F49,F57,H70,F76,H90,F100,F111,H117,F131,H137) -> 281.59 | Y25: =SUM(F38,H49,H57,F70,H76,F90,H100,H111,F117,H131,F137) -> 390.32 | Z25: =X25-Y25 -> -108.73 | AA25: =(W25*10^10)+((Z25+5000)*10^6)+(X25*10)+U25 -> 6.4891273e+10 | AB25: =LARGE($AA$20:$AA$31,U25) -> 1.25049e+11 | AC25: =MATCH(AB25,$AA$20:$AA$31,0) -> 7
D26: 7º | E26: =VLOOKUP(AC26,$U$20:$AB$31,2) -> RJFC Unitedd | F26: =VLOOKUP(AC26,$U$20:$AB$31,3) -> 12 | H26: =VLOOKUP(AC26,$U$20:$AB$31,4) -> 338.51 | J26: =VLOOKUP(AC26,$U$20:$AB$31,5) -> 348.81 | L26: =VLOOKUP(AC26,$U$20:$AB$31,6) -> -10.3 | U26: 7 | V26: Alisando Cresce | W26: =SUM(Q40,Q47,C59,C66,Q81,C87,C98,Q111,Q119,C129,Q136) -> 12 | X26: =SUM(H40,H47,F59,F66,H81,F87,F98,H111,H119,F129,H136) -> 359.17 | Y26: =SUM(F40,F47,H59,H66,F81,H87,H98,F119,H129,F136) -> 310.17 | Z26: =X26-Y26 -> 49 | AA26: =(W26*10^10)+((Z26+5000)*10^6)+(X26*10)+U26 -> 1.25049e+11 | AB26: =LARGE($AA$20:$AA$31,U26) -> 1.249897e+11 | AC26: =MATCH(AB26,$AA$20:$AA$31,0) -> 2
D27: 8º | E27: =VLOOKUP(AC27,$U$20:$AB$31,2) -> Seringueira Mecânica | F27: =VLOOKUP(AC27,$U$20:$AB$31,3) -> 12 | H27: =VLOOKUP(AC27,$U$20:$AB$31,4) -> 221.59 | J27: =VLOOKUP(AC27,$U$20:$AB$31,5) -> 271.33 | L27: =VLOOKUP(AC27,$U$20:$AB$31,6) -> -49.74 | U27: 8 | V27: Grajaú F.C. | W27: =SUM(Q39,Q48,C61,Q66,C79,C90,Q96,C106,C116,Q128,C139) -> 21 | X27: =SUM(H39,H48,F61,H66,F79,F90,H96,F106,F116,H128,F139) -> 453.2 | Y27: =SUM(F39,F48,F66,H61,H79,H90,F96,H106,H116,F128,H139) -> 344.32 | Z27: =X27-Y27 -> 108.88 | AA27: =(W27*10^10)+((Z27+5000)*10^6)+(X27*10)+U27 -> 215108884540 | AB27: =LARGE($AA$20:$AA$31,U27) -> 1.2495026e+11 | AC27: =MATCH(AB27,$AA$20:$AA$31,0) -> 9
D28: 9º | E28: =VLOOKUP(AC28,$U$20:$AB$31,2) -> Al-Jazira F.c | F28: =VLOOKUP(AC28,$U$20:$AB$31,3) -> 9 | H28: =VLOOKUP(AC28,$U$20:$AB$31,4) -> 357.29 | J28: =VLOOKUP(AC28,$U$20:$AB$31,5) -> 352.47 | L28: =VLOOKUP(AC28,$U$20:$AB$31,6) -> 4.82 | U28: 9 | V28: Seringueira Mecânica | W28: =SUM(C37,Q49,C56,Q69,C77,Q88,C97,Q106,C120,Q126,C136) -> 12 | X28: =SUM(F37,H49,F56,H69,F77,H88,F97,H106,F120,H126,F136) -> 221.59 | Y28: =SUM(H37,F49,H56,F69,H77,F88,H97,F106,H120,F126,H136) -> 271.33 | Z28: =X28-Y28 -> -49.74 | AA28: =(W28*10^10)+((Z28+5000)*10^6)+(X28*10)+U28 -> 1.2495026e+11 | AB28: =LARGE($AA$20:$AA$31,U28) -> 9.5004824e+10 | AC28: =MATCH(AB28,$AA$20:$AA$31,0) -> 4
D29: 10º | E29: =VLOOKUP(AC29,$U$20:$AB$31,2) -> André fogão | F29: =VLOOKUP(AC29,$U$20:$AB$31,3) -> 6 | H29: =VLOOKUP(AC29,$U$20:$AB$31,4) -> 275.57 | J29: =VLOOKUP(AC29,$U$20:$AB$31,5) -> 344.3 | L29: =VLOOKUP(AC29,$U$20:$AB$31,6) -> -68.73 | U29: 10 | V29: André fogão | W29: =SUM(Q37,C48,Q59,Q71,C80,Q89,Q99,C109,C117,Q130,Q141) -> 6 | X29: =SUM(H37,F48,H59,H71,F80,H89,H99,F109,F117,H130,H141) -> 275.57 | Y29: =SUM(F37,H48,F59,F71,H80,F89,F99,H109,H117,F130,F141) -> 344.3 | Z29: =X29-Y29 -> -68.73 | AA29: =(W29*10^10)+((Z29+5000)*10^6)+(X29*10)+U29 -> 6.4931273e+10 | AB29: =LARGE($AA$20:$AA$31,U29) -> 6.4931273e+10 | AC29: =MATCH(AB29,$AA$20:$AA$31,0) -> 10
D30: 11º | E30: =VLOOKUP(AC30,$U$20:$AB$31,2) -> leitemoça 3 | F30: =VLOOKUP(AC30,$U$20:$AB$31,3) -> 6 | H30: =VLOOKUP(AC30,$U$20:$AB$31,4) -> 281.59 | J30: =VLOOKUP(AC30,$U$20:$AB$31,5) -> 390.32 | L30: =VLOOKUP(AC30,$U$20:$AB$31,6) -> -108.73 | U30: 11 | V30: bayern in rio | W30: =SUM(C40,Q51,C58,Q67,C78,C88,Q100,C110,Q116,Q127,C141) -> 3 | X30: =SUM(F40,H51,F58,H67,F78,H100,F110,H116,H127,F141,F88) -> 224.8 | Y30: =SUM(H40,F51,H58,F67,H78,H88,F100,H110,F116,F127,H141) -> 379.03 | Z30: =X30-Y30 -> -154.23 | AA30: =(W30*10^10)+((Z30+5000)*10^6)+(X30*10)+U30 -> 34845772259 | AB30: =LARGE($AA$20:$AA$31,U30) -> 6.4891273e+10 | AC30: =MATCH(AB30,$AA$20:$AA$31,0) -> 6
D31: 12º | E31: =VLOOKUP(AC31,$U$20:$AB$31,2) -> bayern in rio | F31: =VLOOKUP(AC31,$U$20:$AB$31,3) -> 3 | H31: =VLOOKUP(AC31,$U$20:$AB$31,4) -> 224.8 | J31: =VLOOKUP(AC31,$U$20:$AB$31,5) -> 379.03 | L31: =VLOOKUP(AC31,$U$20:$AB$31,6) -> -154.23 | U31: 12 | V31: Casinha da Grazi | W31: =SUM(C36,C51,Q61,Q68,Q80,C86,Q97,Q108,C119,Q131,C138) -> 15 | X31: =SUM(F36,F51,H61,H68,H80,F86,H97,H108,F119,H131,F138) -> 378.18 | Y31: =SUM(H36,H51,F61,F68,F80,H86,F97,F108,H119,F131,H138) -> 292.95 | Z31: =X31-Y31 -> 85.23 | AA31: =(W31*10^10)+((Z31+5000)*10^6)+(X31*10)+U31 -> 1.5508523e+11 | AB31: =LARGE($AA$20:$AA$31,U31) -> 34845772259 | AC31: =MATCH(AB31,$AA$20:$AA$31,0) -> 11
D33: 1ª RODADA - #20
C36: =IF(OR(F36="",H36=""),"",IF(F36=H36,1,IF(F36>H36,3,0))) -> 0 | D36: =V31 -> Casinha da Grazi | F36: 47.23 | G36: x | H36: 59.66 | I36: =V24 -> Marrecos F.C . | Q36: =IF(OR(H36="",F36=""),"",IF(H36=F36,1,IF(H36>F36,3,0))) -> 3
C37: =IF(OR(F37="",H37=""),"",IF(F37=H37,1,IF(F37>H37,3,0))) -> 3 | D37: =V28 -> Seringueira Mecânica | F37: 40.36 | G37: x | H37: 29.33 | I37: =V29 -> André fogão | Q37: =IF(OR(H37="",F37=""),"",IF(H37=F37,1,IF(H37>F37,3,0))) -> 0
C38: =IF(OR(F38="",H38=""),"",IF(F38=H38,1,IF(F38>H38,3,0))) -> 3 | D38: =V20 -> WillianBalao | F38: 55.22 | G38: x | H38: 31.19 | I38: =V25 -> leitemoça 3 | Q38: =IF(OR(H38="",F38=""),"",IF(H38=F38,1,IF(H38>F38,3,0))) -> 0
C39: =IF(OR(F39="",H39=""),"",IF(F39=H39,1,IF(F39>H39,3,0))) -> 3 | D39: =V22 -> Taay BFR | F39: 72.13 | G39: x | H39: 66.91 | I39: =V27 -> Grajaú F.C. | Q39: =IF(OR(H39="",F39=""),"",IF(H39=F39,1,IF(H39>F39,3,0))) -> 0
C40: =IF(OR(F40="",H40=""),"",IF(F40=H40,1,IF(F40>H40,3,0))) -> 0 | D40: =V30 -> bayern in rio | F40: 35.7 | G40: x | H40: 71.41 | I40: =V26 -> Alisando Cresce | Q40: =IF(OR(H40="",F40=""),"",IF(H40=F40,1,IF(H40>F40,3,0))) -> 3
C41: =IF(OR(F41="",H41=""),"",IF(F41=H41,1,IF(F41>H41,3,0))) -> 0 | D41: =V23 -> Al-Jazira F.c | F41: 28.63 | G41: x | H41: 56.51 | I41: =V21 -> RJFC Unitedd | Q41: =IF(OR(H41="",F41=""),"",IF(H41=F41,1,IF(H41>F41,3,0))) -> 3
C42: =IF(OR(F42="",H42=""),"",IF(F42=H42,1,IF(F42>H42,3,0))) | Q42: =IF(OR(H42="",F42=""),"",IF(H42=F42,1,IF(H42>F42,3,0)))
C43: =IF(OR(F43="",H43=""),"",IF(F43=H43,1,IF(F43>H43,3,0))) | D43: 2ª RODADA - #21 | Q43: =IF(OR(H43="",F43=""),"",IF(H43=F43,1,IF(H43>F43,3,0)))
C44: =IF(OR(F44="",H44=""),"",IF(F44=H44,1,IF(F44>H44,3,0))) | Q44: =IF(OR(H44="",F44=""),"",IF(H44=F44,1,IF(H44>F44,3,0)))
C45: =IF(OR(F45="",H45=""),"",IF(F45=H45,1,IF(F45>H45,3,0))) | Q45: =IF(OR(H45="",F45=""),"",IF(H45=F45,1,IF(H45>F45,3,0)))
C46: =IF(OR(F46="",H46=""),"",IF(F46=H46,1,IF(F46>H46,3,0))) -> 0 | D46: =V23 -> Al-Jazira F.c | F46: 31.82 | G46: x | H46: 52.99 | I46: =V20 -> WillianBalao | Q46: =IF(OR(H46="",F46=""),"",IF(H46=F46,1,IF(H46>F46,3,0))) -> 3
C47: =IF(OR(F47="",H47=""),"",IF(F47=H47,1,IF(F47>H47,3,0))) -> 0 | D47: =V24 -> Marrecos F.C . | F47: 42.64 | G47: x | H47: 45.39 | I47: =V26 -> Alisando Cresce | Q47: =IF(OR(H47="",F47=""),"",IF(H47=F47,1,IF(H47>F47,3,0))) -> 3
C48: =IF(OR(F48="",H48=""),"",IF(F48=H48,1,IF(F48>H48,3,0))) -> 0 | D48: =V29 -> André fogão | F48: 50.42 | G48: x | H48: 65.24 | I48: =V27 -> Grajaú F.C. | Q48: =IF(OR(H48="",F48=""),"",IF(H48=F48,1,IF(H48>F48,3,0))) -> 3
C49: =IF(OR(F49="",H49=""),"",IF(F49=H49,1,IF(F49>H49,3,0))) -> 0 | D49: =V25 -> leitemoça 3 | F49: 9.41 | G49: x | H49: 33.19 | I49: =V28 -> Seringueira Mecânica | Q49: =IF(OR(H49="",F49=""),"",IF(H49=F49,1,IF(H49>F49,3,0))) -> 3
C50: =IF(OR(F50="",H50=""),"",IF(F50=H50,1,IF(F50>H50,3,0))) -> 3 | D50: =V21 -> RJFC Unitedd | F50: 58.69 | G50: x | H50: 32.34 | I50: =V22 -> Taay BFR | Q50: =IF(OR(H50="",F50=""),"",IF(H50=F50,1,IF(H50>F50,3,0))) -> 0
C51: =IF(OR(F51="",H51=""),"",IF(F51=H51,1,IF(F51>H51,3,0))) -> 3 | D51: =V31 -> Casinha da Grazi | F51: 47.52 | G51: x | H51: 34.7 | I51: =V30 -> bayern in rio | Q51: =IF(OR(H51="",F51=""),"",IF(H51=F51,1,IF(H51>F51,3,0))) -> 0
C52: =IF(OR(F52="",H52=""),"",IF(F52=H52,1,IF(F52>H52,3,0))) | Q52: =IF(OR(H52="",F52=""),"",IF(H52=F52,1,IF(H52>F52,3,0)))
C53: =IF(OR(F53="",H53=""),"",IF(F53=H53,1,IF(F53>H53,3,0))) | D53: 3ª RODADA - #22 | Q53: =IF(OR(H53="",F53=""),"",IF(H53=F53,1,IF(H53>F53,3,0)))
C54: =IF(OR(F54="",H54=""),"",IF(F54=H54,1,IF(F54>H54,3,0))) | Q54: =IF(OR(H54="",F54=""),"",IF(H54=F54,1,IF(H54>F54,3,0)))
C55: =IF(OR(F55="",H55=""),"",IF(F55=H55,1,IF(F55>H55,3,0))) | Q55: =IF(OR(H55="",F55=""),"",IF(H55=F55,1,IF(H55>F55,3,0)))
C56: =IF(OR(F56="",H56=""),"",IF(F56=H56,1,IF(F56>H56,3,0))) -> 0 | D56: =V28 -> Seringueira Mecânica | F56: 30.03 | G56: x | H56: 69.8 | I56: =V24 -> Marrecos F.C . | Q56: =IF(OR(H56="",F56=""),"",IF(H56=F56,1,IF(H56>F56,3,0))) -> 3
...

Sheet GRUPO 4
B2: 1º SUPERSOCAMPEONATO 2013
B6: 1ª FASE
D10: CLASSIFICAÇÃO
D15: OBS: Os 4 melhores colocados no Grupo se classificarão para a Oitavas de Finais.
D17: GRUPO 4
D19: Pos. | E19: CARTOLA | F19: P | H19: PP | J19: PC | L19: SP | O19: Legenda | U19: Pos. | V19: TIMES | W19: P | X19: GF | Y19: GC | Z19: SG | AA19: calc | AB19: maior | AC19: corresp
D20: 1º | E20: =VLOOKUP(AC20,$U$20:$AB$31,2) -> PANZA FC | F20: =VLOOKUP(AC20,$U$20:$AB$31,3) -> 18 | H20: =VLOOKUP(AC20,$U$20:$AB$31,4) -> 424.43 | J20: =VLOOKUP(AC20,$U$20:$AB$31,5) -> 308.05 | L20: =VLOOKUP(AC20,$U$20:$AB$31,6) -> 116.38 | O20: P - pontos | U20: 1 | V20: Atlético Bempostense | W20: =SUM(C38,Q46,Q60,C71,Q78,C91,Q98,C108,C128,C140) -> 12 | X20: =SUM(F38,H46,H60,F71,H78,F91,H98,H120,F108,F128,F140) -> 444.29 | Y20: =SUM(H38,F46,F60,H71,F78,H91,F98,H108,F120,H128,H140) -> 380.88 | Z20: =X20-Y20 -> 63.41 | AA20: =(W20*10^10)+((Z20+5000)*10^6)+(X20*10)+U20 -> 1.2506341e+11 | AB20: =LARGE($AA$20:$AA$31,U20) -> 1.8511638e+11 | AC20: =MATCH(AB20,$AA$20:$AA$31,0) -> 8
D21: 2º | E21: =VLOOKUP(AC21,$U$20:$AB$31,2) -> Forever2013 | F21: =VLOOKUP(AC21,$U$20:$AB$31,3) -> 18 | H21: =VLOOKUP(AC21,$U$20:$AB$31,4) -> 436.47 | J21: =VLOOKUP(AC21,$U$20:$AB$31,5) -> 338.03 | L21: =VLOOKUP(AC21,$U$20:$AB$31,6) -> 98.44 | O21: PP - pontos pró | U21: 2 | V21: MagoLitos F.C | W21: =SUM(Q41,Q57,C69,C81,Q91,C50,C96,Q110,C118,C130,Q138) -> 18 | X21: =SUM(H41,F50,H57,F69,F81,H91,F96,H110,F118,F130,H138) -> 414.35 | Y21: =SUM(F41,H50,F57,H69,H81,F91,H96,F110,H118,H130,F138) -> 362.07 | Z21: =X21-Y21 -> 52.28 | AA21: =(W21*10^10)+((Z21+5000)*10^6)+(X21*10)+U21 -> 1.8505228e+11 | AB21: =LARGE($AA$20:$AA$31,U21) -> 1.8509844e+11 | AC21: =MATCH(AB21,$AA$20:$AA$31,0) -> 11
D22: 3º | E22: =VLOOKUP(AC22,$U$20:$AB$31,2) -> MagoLitos F.C | F22: =VLOOKUP(AC22,$U$20:$AB$31,3) -> 18 | H22: =VLOOKUP(AC22,$U$20:$AB$31,4) -> 414.35 | J22: =VLOOKUP(AC22,$U$20:$AB$31,5) -> 362.07 | L22: =VLOOKUP(AC22,$U$20:$AB$31,6) -> 52.28 | O22: PC - pontos contra | U22: 3 | V22: SUPER CARIOCA | W22: =SUM(C39,Q50,C60,C67,C99,Q77,Q86,Q107,C121,Q129,C137) -> 9 | X22: =SUM(F39,H50,F60,F67,H77,H86,F99,H107,F121,H129,F137) -> 320.17 | Y22: =SUM(H39,F50,H60,H67,F77,F86,H99,F107,H121,F129,H137) -> 384.53 | Z22: =X22-Y22 -> -64.36 | AA22: =(W22*10^10)+((Z22+5000)*10^6)+(X22*10)+U22 -> 9.4935643e+10 | AB22: =LARGE($AA$20:$AA$31,U22) -> 1.8505228e+11 | AC22: =MATCH(AB22,$AA$20:$AA$31,0) -> 2
D23: 4º | E23: =VLOOKUP(AC23,$U$20:$AB$31,2) -> Celtic fc 2011 | F23: =VLOOKUP(AC23,$U$20:$AB$31,3) -> 15 | H23: =VLOOKUP(AC23,$U$20:$AB$31,4) -> 437.08 | J23: =VLOOKUP(AC23,$U$20:$AB$31,5) -> 349.15 | L23: =VLOOKUP(AC23,$U$20:$AB$31,6) -> 87.93 | U23: 4 | V23: Celtic fc 2011 | W23: =SUM(C41,C46,C68,Q76,Q58,Q109,Q87,C101,Q121,C126,Q139) -> 15 | X23: =SUM(F41,F46,H58,F68,H87,H109,H76,F101,H121,F126,H139) -> 437.08 | Y23: =SUM(H41,H46,H68,F58,F76,F87,H101,F109,F121,H126,F139) -> 349.15 | Z23: =X23-Y23 -> 87.93 | AA23: =(W23*10^10)+((Z23+5000)*10^6)+(X23*10)+U23 -> 1.5508793e+11 | AB23: =LARGE($AA$20:$AA$31,U23) -> 1.5508793e+11 | AC23: =MATCH(AB23,$AA$20:$AA$31,0) -> 4
D24: 5º | E24: =VLOOKUP(AC24,$U$20:$AB$31,2) -> Agora eh | F24: =VLOOKUP(AC24,$U$20:$AB$31,3) -> 15 | H24: =VLOOKUP(AC24,$U$20:$AB$31,4) -> 359.75 | J24: =VLOOKUP(AC24,$U$20:$AB$31,5) -> 362.5 | L24: =VLOOKUP(AC24,$U$20:$AB$31,6) -> -2.75 | O24: SP - saldo de pontos | U24: 5 | V24: Glaa.VascodaaGamaa | W24: =SUM(Q36,C47,Q56,C70,Q79,C89,Q101,C107,Q118,C127,Q140) -> 15 | X24: =SUM(H36,F47,H56,F70,H79,F89,H101,F107,H118,F127,H140) -> 398.51 | Y24: =SUM(F36,H47,F56,H70,F79,H89,F101,H107,F118,H127,F140) -> 409.78 | Z24: =X24-Y24 -> -11.27 | AA24: =(W24*10^10)+((Z24+5000)*10^6)+(X24*10)+U24 -> 1.5498873e+11 | AB24: =LARGE($AA$20:$AA$31,U24) -> 1.5499725e+11 | AC24: =MATCH(AB24,$AA$20:$AA$31,0) -> 9
D25: 6º | E25: =VLOOKUP(AC25,$U$20:$AB$31,2) -> Glaa.VascodaaGamaa | F25: =VLOOKUP(AC25,$U$20:$AB$31,3) -> 15 | H25: =VLOOKUP(AC25,$U$20:$AB$31,4) -> 398.51 | J25: =VLOOKUP(AC25,$U$20:$AB$31,5) -> 409.78 | L25: =VLOOKUP(AC25,$U$20:$AB$31,6) -> -11.27 | U25: 6 | V25: Shahade F.C | W25: =SUM(Q38,C49,C57,Q70,C76,Q90,C100,C111,Q117,C131,Q137) -> 6 | X25: =SUM(H38,F49,F57,H70,F76,H90,F100,F111,H117,F131,H137) -> 344.21 | Y25: =SUM(F38,H49,H57,F70,H76,F90,H100,H111,F117,H131,F137) -> 460.99 | Z25: =X25-Y25 -> -116.78 | AA25: =(W25*10^10)+((Z25+5000)*10^6)+(X25*10)+U25 -> 6.4883223e+10 | AB25: =LARGE($AA$20:$AA$31,U25) -> 1.5498873e+11 | AC25: =MATCH(AB25,$AA$20:$AA$31,0) -> 5
D26: 7º | E26: =VLOOKUP(AC26,$U$20:$AB$31,2) -> Atlético Bempostense | F26: =VLOOKUP(AC26,$U$20:$AB$31,3) -> 12 | H26: =VLOOKUP(AC26,$U$20:$AB$31,4) -> 444.29 | J26: =VLOOKUP(AC26,$U$20:$AB$31,5) -> 380.88 | L26: =VLOOKUP(AC26,$U$20:$AB$31,6) -> 63.41 | U26: 7 | V26: O Glorioso BFR F.C | W26: =SUM(Q40,Q47,C59,C66,Q81,C87,C98,Q111,Q119,C129,Q136) -> 9 | X26: =SUM(H40,H47,F59,F66,H81,F87,F98,H111,H119,F129,H136) -> 407.02 | Y26: =SUM(F40,F47,H59,H66,F81,H87,H98,F119,H129,F136) -> 346.99 | Z26: =X26-Y26 -> 60.03 | AA26: =(W26*10^10)+((Z26+5000)*10^6)+(X26*10)+U26 -> 9.5060034e+10 | AB26: =LARGE($AA$20:$AA$31,U26) -> 1.2506341e+11 | AC26: =MATCH(AB26,$AA$20:$AA$31,0) -> 1
D27: 8º | E27: =VLOOKUP(AC27,$U$20:$AB$31,2) -> O Glorioso BFR F.C | F27: =VLOOKUP(AC27,$U$20:$AB$31,3) -> 9 | H27: =VLOOKUP(AC27,$U$20:$AB$31,4) -> 407.02 | J27: =VLOOKUP(AC27,$U$20:$AB$31,5) -> 346.99 | L27: =VLOOKUP(AC27,$U$20:$AB$31,6) -> 60.03 | U27: 8 | V27: PANZA FC | W27: =SUM(Q39,Q48,C61,Q66,C79,C90,Q96,C106,C116,Q128,C139) -> 18 | X27: =SUM(H39,H48,F61,H66,F79,F90,H96,F106,F116,H128,F139) -> 424.43 | Y27: =SUM(F39,F48,F66,H61,H79,H90,F96,H106,H116,F128,H139) -> 308.05 | Z27: =X27-Y27 -> 116.38 | AA27: =(W27*10^10)+((Z27+5000)*10^6)+(X27*10)+U27 -> 1.8511638e+11 | AB27: =LARGE($AA$20:$AA$31,U27) -> 9.5060034e+10 | AC27: =MATCH(AB27,$AA$20:$AA$31,0) -> 7
D28: 9º | E28: =VLOOKUP(AC28,$U$20:$AB$31,2) -> SUPER CARIOCA | F28: =VLOOKUP(AC28,$U$20:$AB$31,3) -> 9 | H28: =VLOOKUP(AC28,$U$20:$AB$31,4) -> 320.17 | J28: =VLOOKUP(AC28,$U$20:$AB$31,5) -> 384.53 | L28: =VLOOKUP(AC28,$U$20:$AB$31,6) -> -64.36 | U28: 9 | V28: Agora eh | W28: =SUM(C37,Q49,C56,Q69,C77,Q88,C97,Q106,C120,Q126,C136) -> 15 | X28: =SUM(F37,H49,F56,H69,F77,H88,F97,H106,F120,H126,F136) -> 359.75 | Y28: =SUM(H37,F49,H56,F69,H77,F88,H97,F106,H120,F126,H136) -> 362.5 | Z28: =X28-Y28 -> -2.75 | AA28: =(W28*10^10)+((Z28+5000)*10^6)+(X28*10)+U28 -> 1.5499725e+11 | AB28: =LARGE($AA$20:$AA$31,U28) -> 9.4935643e+10 | AC28: =MATCH(AB28,$AA$20:$AA$31,0) -> 3
D29: 10º | E29: =VLOOKUP(AC29,$U$20:$AB$31,2) -> Rosinha da Gabi | F29: =VLOOKUP(AC29,$U$20:$AB$31,3) -> 6 | H29: =VLOOKUP(AC29,$U$20:$AB$31,4) -> 340.26 | J29: =VLOOKUP(AC29,$U$20:$AB$31,5) -> 359.11 | L29: =VLOOKUP(AC29,$U$20:$AB$31,6) -> -18.85 | U29: 10 | V29: Amigosdoagustinho | W29: =SUM(Q37,C48,Q59,Q71,C80,Q89,Q99,C109,C117,Q130,Q141) -> 3 | X29: =SUM(H37,F48,H59,H71,F80,H89,H99,F109,F117,H130,H141) -> 184.1 | Y29: =SUM(F37,H48,F59,F71,H80,F89,F99,H109,H117,F130,F141) -> 395.26 | Z29: =X29-Y29 -> -211.16 | AA29: =(W29*10^10)+((Z29+5000)*10^6)+(X29*10)+U29 -> 34788841851 | AB29: =LARGE($AA$20:$AA$31,U29) -> 6.4981153e+10 | AC29: =MATCH(AB29,$AA$20:$AA$31,0) -> 12
D30: 11º | E30: =VLOOKUP(AC30,$U$20:$AB$31,2) -> Shahade F.C | F30: =VLOOKUP(AC30,$U$20:$AB$31,3) -> 6 | H30: =VLOOKUP(AC30,$U$20:$AB$31,4) -> 344.21 | J30: =VLOOKUP(AC30,$U$20:$AB$31,5) -> 460.99 | L30: =VLOOKUP(AC30,$U$20:$AB$31,6) -> -116.78 | U30: 11 | V30: Forever2013 | W30: =SUM(C40,Q51,C58,Q67,C78,C88,Q100,C110,Q116,Q127,C141) -> 18 | X30: =SUM(F40,H51,F58,H67,F78,H100,F110,H116,H127,F141,F88) -> 436.47 | Y30: =SUM(H40,F51,H58,F67,H78,H88,F100,H110,F116,F127,H141) -> 338.03 | Z30: =X30-Y30 -> 98.44 | AA30: =(W30*10^10)+((Z30+5000)*10^6)+(X30*10)+U30 -> 1.8509844e+11 | AB30: =LARGE($AA$20:$AA$31,U30) -> 6.4883223e+10 | AC30: =MATCH(AB30,$AA$20:$AA$31,0) -> 6
D31: 12º | E31: =VLOOKUP(AC31,$U$20:$AB$31,2) -> Amigosdoagustinho | F31: =VLOOKUP(AC31,$U$20:$AB$31,3) -> 3 | H31: =VLOOKUP(AC31,$U$20:$AB$31,4) -> 184.1 | J31: =VLOOKUP(AC31,$U$20:$AB$31,5) -> 395.26 | L31: =VLOOKUP(AC31,$U$20:$AB$31,6) -> -211.16 | U31: 12 | V31: Rosinha da Gabi | W31: =SUM(C36,C51,Q61,Q68,Q80,C86,Q97,Q108,C119,Q131,C138) -> 6 | X31: =SUM(F36,F51,H61,H68,H80,F86,H97,H108,F119,H131,F138) -> 340.26 | Y31: =SUM(H36,H51,F61,F68,F80,H86,F97,F108,H119,F131,H138) -> 359.11 | Z31: =X31-Y31 -> -18.85 | AA31: =(W31*10^10)+((Z31+5000)*10^6)+(X31*10)+U31 -> 6.4981153e+10 | AB31: =LARGE($AA$20:$AA$31,U31) -> 34788841851 | AC31: =MATCH(AB31,$AA$20:$AA$31,0) -> 10
D33: 1ª RODADA - #20
C36: =IF(OR(F36="",H36=""),"",IF(F36=H36,1,IF(F36>H36,3,0))) -> 0 | D36: =V31 -> Rosinha da Gabi | F36: 50.03 | G36: x | H36: 52.33 | I36: =V24 -> Glaa.VascodaaGamaa | Q36: =IF(OR(H36="",F36=""),"",IF(H36=F36,1,IF(H36>F36,3,0))) -> 3
C37: =IF(OR(F37="",H37=""),"",IF(F37=H37,1,IF(F37>H37,3,0))) -> 3 | D37: =V28 -> Agora eh | F37: 54.57 | G37: x | H37: 39.5 | I37: =V29 -> Amigosdoagustinho | Q37: =IF(OR(H37="",F37=""),"",IF(H37=F37,1,IF(H37>F37,3,0))) -> 0
C38: =IF(OR(F38="",H38=""),"",IF(F38=H38,1,IF(F38>H38,3,0))) -> 0 | D38: =V20 -> Atlético Bempostense | F38: 59.42 | G38: x | H38: 60.12 | I38: =V25 -> Shahade F.C | Q38: =IF(OR(H38="",F38=""),"",IF(H38=F38,1,IF(H38>F38,3,0))) -> 3
C39: =IF(OR(F39="",H39=""),"",IF(F39=H39,1,IF(F39>H39,3,0))) -> 0 | D39: =V22 -> SUPER CARIOCA | F39: 31.83 | G39: x | H39: 50.41 | I39: =V27 -> PANZA FC | Q39: =IF(OR(H39="",F39=""),"",IF(H39=F39,1,IF(H39>F39,3,0))) -> 3
C40: =IF(OR(F40="",H40=""),"",IF(F40=H40,1,IF(F40>H40,3,0))) -> 3 | D40: =V30 -> Forever2013 | F40: 70.63 | G40: x | H40: 68.86 | I40: =V26 -> O Glorioso BFR F.C | Q40: =IF(OR(H40="",F40=""),"",IF(H40=F40,1,IF(H40>F40,3,0))) -> 0
C41: =IF(OR(F41="",H41=""),"",IF(F41=H41,1,IF(F41>H41,3,0))) -> 0 | D41: =V23 -> Celtic fc 2011 | F41: 61.56 | G41: x | H41: 64.98 | I41: =V21 -> MagoLitos F.C | Q41: =IF(OR(H41="",F41=""),"",IF(H41=F41,1,IF(H41>F41,3,0))) -> 3
C42: =IF(OR(F42="",H42=""),"",IF(F42=H42,1,IF(F42>H42,3,0))) | Q42: =IF(OR(H42="",F42=""),"",IF(H42=F42,1,IF(H42>F42,3,0)))
C43: =IF(OR(F43="",H43=""),"",IF(F43=H43,1,IF(F43>H43,3,0))) | D43: 2ª RODADA - #21 | Q43: =IF(OR(H43="",F43=""),"",IF(H43=F43,1,IF(H43>F43,3,0)))
C44: =IF(OR(F44="",H44=""),"",IF(F44=H44,1,IF(F44>H44,3,0))) | Q44: =IF(OR(H44="",F44=""),"",IF(H44=F44,1,IF(H44>F44,3,0)))
C45: =IF(OR(F45="",H45=""),"",IF(F45=H45,1,IF(F45>H45,3,0))) | Q45: =IF(OR(H45="",F45=""),"",IF(H45=F45,1,IF(H45>F45,3,0)))
C46: =IF(OR(F46="",H46=""),"",IF(F46=H46,1,IF(F46>H46,3,0))) -> 0 | D46: =V23 -> Celtic fc 2011 | F46: 39.04 | G46: x | H46: 63.79 | I46: =V20 -> Atlético Bempostense | Q46: =IF(OR(H46="",F46=""),"",IF(H46=F46,1,IF(H46>F46,3,0))) -> 3
C47: =IF(OR(F47="",H47=""),"",IF(F47=H47,1,IF(F47>H47,3,0))) -> 3 | D47: =V24 -> Glaa.VascodaaGamaa | F47: 75.12 | G47: x | H47: 74.21 | I47: =V26 -> O Glorioso BFR F.C | Q47: =IF(OR(H47="",F47=""),"",IF(H47=F47,1,IF(H47>F47,3,0))) -> 0
C48: =IF(OR(F48="",H48=""),"",IF(F48=H48,1,IF(F48>H48,3,0))) -> 0 | D48: =V29 -> Amigosdoagustinho | F48: 20.8 | G48: x | H48: 65.24 | I48: =V27 -> PANZA FC | Q48: =IF(OR(H48="",F48=""),"",IF(H48=F48,1,IF(H48>F48,3,0))) -> 3
C49: =IF(OR(F49="",H49=""),"",IF(F49=H49,1,IF(F49>H49,3,0))) -> 0 | D49: =V25 -> Shahade F.C | F49: 47.87 | G49: x | H49: 81.72 | I49: =V28 -> Agora eh | Q49: =IF(OR(H49="",F49=""),"",IF(H49=F49,1,IF(H49>F49,3,0))) -> 3
C50: =IF(OR(F50="",H50=""),"",IF(F50=H50,1,IF(F50>H50,3,0))) -> 3 | D50: =V21 -> MagoLitos F.C | F50: 62.69 | G50: x | H50: 42.95 | I50: =V22 -> SUPER CARIOCA | Q50: =IF(OR(H50="",F50=""),"",IF(H50=F50,1,IF(H50>F50,3,0))) -> 0
C51: =IF(OR(F51="",H51=""),"",IF(F51=H51,1,IF(F51>H51,3,0))) -> 0 | D51: =V31 -> Rosinha da Gabi | F51: 18.49 | G51: x | H51: 29.29 | I51: =V30 -> Forever2013 | Q51: =IF(OR(H51="",F51=""),"",IF(H51=F51,1,IF(H51>F51,3,0))) -> 3
C52: =IF(OR(F52="",H52=""),"",IF(F52=H52,1,IF(F52>H52,3,0))) | Q52: =IF(OR(H52="",F52=""),"",IF(H52=F52,1,IF(H52>F52,3,0)))
C53: =IF(OR(F53="",H53=""),"",IF(F53=H53,1,IF(F53>H53,3,0))) | D53: 3ª RODADA - #22 | Q53: =IF(OR(H53="",F53=""),"",IF(H53=F53,1,IF(H53>F53,3,0)))
C54: =IF(OR(F54="",H54=""),"",IF(F54=H54,1,IF(F54>H54,3,0))) | Q54: =IF(OR(H54="",F54=""),"",IF(H54=F54,1,IF(H54>F54,3,0)))
C55: =IF(OR(F55="",H55=""),"",IF(F55=H55,1,IF(F55>H55,3,0))) | Q55: =IF(OR(H55="",F55=""),"",IF(H55=F55,1,IF(H55>F55,3,0)))
C56: =IF(OR(F56="",H56=""),"",IF(F56=H56,1,IF(F56>H56,3,0))) -> 0 | D56: =V28 -> Agora eh | F56: 35.9 | G56: x | H56: 51.3 | I56: =V24 -> Glaa.VascodaaGamaa | Q56: =IF(OR(H56="",F56=""),"",IF(H56=F56,1,IF(H56>F56,3,0))) -> 3
...

Sheet FINAIS
B2: 1º CAMPEONATO CARTOLA 2013
B6: OITAVAS DE FINAIS
J9: RODADAS #31 e 32
B11: J1 | D11: =IF(OR('GRUPO 1'!F141="",'GRUPO 1'!F141=""),"",'GRUPO 1'!E20) | M11: X | O11: =IF(OR('GRUPO 4'!F141="",'GRUPO 4'!F141=""),"",'GRUPO 4'!E23)
M12: X | AB12: OITAVAS
L13: =IF(OR(L11="",N11=""),"",SUM(L11:L12)) | N13: =IF(OR(L11="",N11=""),"",SUM(N11:N12)) | AA13: 1º 1 | AB13: X | AC13: 4º 4
B14: J2 | D14: =IF(OR('GRUPO 3'!F141="",'GRUPO 3'!F141=""),"",'GRUPO 3'!E21) | M14: X | O14: =IF(OR('GRUPO 2'!F141="",'GRUPO 2'!F141=""),"",'GRUPO 2'!E22) | AA14: 2º 3 | AB14: X | AC14: 3º 2
M15: X | AA15: 1º 2 | AB15: X | AC15: 4º 3
L16: =IF(OR(L14="",N14=""),"",SUM(L14:L15)) | N16: =IF(OR(L14="",N14=""),"",SUM(N14:N15)) | AA16: 2º 4 | AB16: X | AC16: 3º 1
B17: J3 | D17: =IF(OR('GRUPO 2'!F141="",'GRUPO 2'!F141=""),"",'GRUPO 2'!E20) | M17: X | O17: =IF(OR('GRUPO 3'!F141="",'GRUPO 3'!F141=""),"",'GRUPO 3'!E23) | AA17: 1º 3 | AB17: X | AC17: 4º 2
M18: X | AA18: 2º 2 | AB18: X | AC18: 3º 3
L19: =IF(OR(L17="",N17=""),"",SUM(L17:L18)) | N19: =IF(OR(L17="",N17=""),"",SUM(N17:N18)) | AA19: 1º 4 | AB19: X | AC19: 4º 1
B20: J4 | D20: =IF(OR('GRUPO 4'!F141="",'GRUPO 4'!F141=""),"",'GRUPO 4'!E21) | M20: X | O20: =IF(OR('GRUPO 1'!F141="",'GRUPO 1'!F141=""),"",'GRUPO 1'!E22) | AA20: 2º 1 | AB20: X | AC20: 3º 4
M21: X
L22: =IF(OR(L20="",N20=""),"",SUM(L20:L21)) | N22: =IF(OR(L20="",N20=""),"",SUM(N20:N21))
B23: J5 | D23: =IF(OR('GRUPO 3'!F141="",'GRUPO 3'!F141=""),"",'GRUPO 3'!E20) | M23: X | O23: =IF(OR('GRUPO 2'!F141="",'GRUPO 2'!F141=""),"",'GRUPO 2'!E23)
M24: X
L25: =IF(OR(L23="",N23=""),"",SUM(L23:L24)) | N25: =IF(OR(L23="",N23=""),"",SUM(N23:N24))
B26: J6 | D26: =IF(OR('GRUPO 2'!F141="",'GRUPO 2'!F141=""),"",'GRUPO 2'!E21) | M26: X | O26: =IF(OR('GRUPO 3'!F141="",'GRUPO 3'!F141=""),"",'GRUPO 3'!E22)
M27: X
L28: =IF(OR(L26="",N26=""),"",SUM(L26:L27)) | N28: =IF(OR(L26="",N26=""),"",SUM(N26:N27))
B29: J7 | D29: =IF(OR('GRUPO 4'!F141="",'GRUPO 4'!F141=""),"",'GRUPO 4'!E20) | M29: X | O29: =IF(OR('GRUPO 1'!F141="",'GRUPO 1'!F141=""),"",'GRUPO 1'!E23)
M30: X
L31: =IF(OR(L29="",N29=""),"",SUM(L29:L30)) | N31: =IF(OR(L29="",N29=""),"",SUM(N29:N30))
B32: J8 | D32: =IF(OR('GRUPO 1'!F141="",'GRUPO 1'!F141=""),"",'GRUPO 1'!E21) | M32: X | O32: =IF(OR('GRUPO 4'!F141="",'GRUPO 4'!F141=""),"",'GRUPO 4'!E22)
M33: X
L34: =IF(OR(L32="",N32=""),"",SUM(L32:L33)) | N34: =IF(OR(L32="",N32=""),"",SUM(N32:N33))
B36: QUARTAS DE FINAIS
J39: RODADAS #33 e 34
B41: J9 | D41: =IF(OR(L13="",N13=""),"",IF(L13>N13,D11,O11)) | M41: X | O41: =IF(OR(L16="",N16=""),"",IF(L16>N16,D14,O14))
M42: X
L43: =IF(OR(L41="",N41=""),"",SUM(L41:L42)) | N43: =IF(OR(L41="",N41=""),"",SUM(N41:N42))
B44: J10 | D44: =IF(OR(L19="",N19=""),"",IF(L19>N19,D17,O17)) | M44: X | O44: =IF(OR(L22="",N22=""),"",IF(L22>N22,D20,O20))
M45: X
L46: =IF(OR(L44="",N44=""),"",SUM(L44:L45)) | N46: =IF(OR(L44="",N44=""),"",SUM(N44:N45))
B47: J11 | D47: =IF(OR(L25="",N25=""),"",IF(L25>N25,D23,O23)) | M47: X | O47: =IF(OR(L28="",N28=""),"",IF(L28>N28,D26,O26))
M48: X
L49: =IF(OR(L47="",N47=""),"",SUM(L47:L48)) | N49: =IF(OR(L47="",N47=""),"",SUM(N47:N48))
B50: J12 | D50: =IF(OR(L31="",N31=""),"",IF(L31>N31,D29,O29)) | M50: X | O50: =IF(OR(L34="",N34=""),"",IF(L34>N34,D32,O32))
M51: X
...
