Workbook

Sheet GRUPO 1
B2: 1º SUPERSOCAMPEONATO 2013
B6: 1ª FASE
D10: CLASSIFICAÇÃO
D15: OBS: Os 4 melhores colocados no Grupo se classificarão para a Oitavas de Finais.
D17: GRUPO 1
D19: Pos. | E19: CARTOLA | F19: P | H19: PP | J19: PC | L19: SP | O19: Legenda | U19: Pos. | V19: TIMES | W19: P | X19: GF | Y19: GC | Z19: SG | AA19: calc | AB19: maior | AC19: corresp
D20: 1º | E20: =VLOOKUP(AC20,$U$20:$AB$31,2) -> TriangagemFC | F20: =VLOOKUP(AC20,$U$20:$AB$31,3) -> 13 | H20: =VLOOKUP(AC20,$U$20:$AB$31,4) -> 314 | J20: =VLOOKUP(AC20,$U$20:$AB$31,5) -> 247 | L20: =VLOOKUP(AC20,$U$20:$AB$31,6) -> 67 | O20: P - pontos | U20: 1 | V20: Barbosinhaas | W20: =SUM(C38,Q46,Q60,C71,Q78,C91,Q98,C108,Q120,C128,C140) -> 8 | X20: =SUM(F38,H46,H60,F71,H78,F91,H98,H120,F108,F128,F140) -> 270 | Y20: =SUM(H38,F46,F60,H71,F78,H91,F98,H108,F120,H128,H140) -> 325 | Z20: =X20-Y20 -> -55 | AA20: =(W20*10^10)+((X20+5000)*10^6)+(Z20*10)+U20 -> 85269999451 | AB20: =LARGE($AA$20:$AA$31,U20) -> 135314000674 | AC20: =MATCH(AB20,$AA$20:$AA$31,0) -> 4
D21: 2º | E21: =VLOOKUP(AC21,$U$20:$AB$31,2) -> Us Karas | F21: =VLOOKUP(AC21,$U$20:$AB$31,3) -> 12 | H21: =VLOOKUP(AC21,$U$20:$AB$31,4) -> 383 | J21: =VLOOKUP(AC21,$U$20:$AB$31,5) -> 287 | L21: =VLOOKUP(AC21,$U$20:$AB$31,6) -> 96 | O21: PPC - pontos pró Cartola | U21: 2 | V21: flurocha fc | W21: =SUM(Q41,Q57,C69,C81,Q91,C50,C96,Q110,C118,C130,Q138) -> 9 | X21: =SUM(H41,F50,H57,F69,F81,H91,F96,H110,F118,F130,H138) -> 322 | Y21: =SUM(F41,H50,F57,H69,H81,F91,H96,F110,H118,H130,F138) -> 236 | Z21: =X21-Y21 -> 86 | AA21: =(W21*10^10)+((X21+5000)*10^6)+(Z21*10)+U21 -> 95322000862 | AB21: =LARGE($AA$20:$AA$31,U21) -> 125383000966 | AC21: =MATCH(AB21,$AA$20:$AA$31,0) -> 6
D22: 3º | E22: =VLOOKUP(AC22,$U$20:$AB$31,2) -> Botafogo do HG | F22: =VLOOKUP(AC22,$U$20:$AB$31,3) -> 11 | H22: =VLOOKUP(AC22,$U$20:$AB$31,4) -> 277 | J22: =VLOOKUP(AC22,$U$20:$AB$31,5) -> 223 | L22: =VLOOKUP(AC22,$U$20:$AB$31,6) -> 54 | O22: PC - pontos contra Cartola | U22: 3 | V22: FC Casablanca | W22: =SUM(C39,Q50,C60,C67,C99,Q77,Q86,Q107,C121,Q129,C137) -> 5 | X22: =SUM(F39,H50,F60,F67,H77,H86,F99,H107,F121,H129,F137) -> 200 | Y22: =SUM(H39,F50,H60,H67,F77,F86,H99,F107,H121,F129,H137) -> 348 | Z22: =X22-Y22 -> -148 | AA22: =(W22*10^10)+((X22+5000)*10^6)+(Z22*10)+U22 -> 55199998523 | AB22: =LARGE($AA$20:$AA$31,U22) -> 115277000551 | AC22: =MATCH(AB22,$AA$20:$AA$31,0) -> 11
D23: 4º | E23: =VLOOKUP(AC23,$U$20:$AB$31,2) -> flurocha fc | F23: =VLOOKUP(AC23,$U$20:$AB$31,3) -> 9 | H23: =VLOOKUP(AC23,$U$20:$AB$31,4) -> 322 | J23: =VLOOKUP(AC23,$U$20:$AB$31,5) -> 236 | L23: =VLOOKUP(AC23,$U$20:$AB$31,6) -> 86 | O23: SP - saldo de pontos | U23: 4 | V23: TriangagemFC | W23: =SUM(C41,C46,C68,Q76,Q58,Q109,Q87,C101,Q121,C126,Q139) -> 13 | X23: =SUM(F41,F46,H58,F68,H87,H109,H76,F101,H121,F126,H139) -> 314 | Y23: =SUM(H41,H46,H68,F58,F76,F87,H101,F109,F121,H126,F139) -> 247 | Z23: =X23-Y23 -> 67 | AA23: =(W23*10^10)+((X23+5000)*10^6)+(Z23*10)+U23 -> 135314000674 | AB23: =LARGE($AA$20:$AA$31,U23) -> 95322000862 | AC23: =MATCH(AB23,$AA$20:$AA$31,0) -> 2
D24: 5º | E24: =VLOOKUP(AC24,$U$20:$AB$31,2) -> PANZA FC | F24: =VLOOKUP(AC24,$U$20:$AB$31,3) -> 9 | H24: =VLOOKUP(AC24,$U$20:$AB$31,4) -> 298 | J24: =VLOOKUP(AC24,$U$20:$AB$31,5) -> 273 | L24: =VLOOKUP(AC24,$U$20:$AB$31,6) -> 25 | U24: 5 | V24: Stars United C.F. | W24: =SUM(Q36,C47,Q56,C70,Q79,C89,Q101,C107,Q118,C127,Q140) -> 6 | X24: =SUM(H36,F47,H56,F70,H79,F89,H101,F107,H118,F127,H140) -> 219 | Y24: =SUM(F36,H47,F56,H70,F79,H89,F101,H107,F118,H127,F140) -> 215 | Z24: =X24-Y24 -> 4 | AA24: =(W24*10^10)+((X24+5000)*10^6)+(Z24*10)+U24 -> 65219000045 | AB24: =LARGE($AA$20:$AA$31,U24) -> 95298000259 | AC24: =MATCH(AB24,$AA$20:$AA$31,0) -> 9
D25: 6º | E25: =VLOOKUP(AC25,$U$20:$AB$31,2) -> Vascão Carangola | F25: =VLOOKUP(AC25,$U$20:$AB$31,3) -> 9 | H25: =VLOOKUP(AC25,$U$20:$AB$31,4) -> 215 | J25: =VLOOKUP(AC25,$U$20:$AB$31,5) -> 219 | L25: =VLOOKUP(AC25,$U$20:$AB$31,6) -> -4 | O25: CRITÉRIO DE DESEMPATE | U25: 6 | V25: Us Karas | W25: =SUM(Q38,C49,C57,Q70,C76,Q90,C100,C111,Q117,C131,Q137) -> 12 | X25: =SUM(H38,F49,F57,H70,F76,H90,F100,F111,H117,F131,H137) -> 383 | Y25: =SUM(F38,H49,H57,F70,H76,F90,H100,H111,F117,H131,F137) -> 287 | Z25: =X25-Y25 -> 96 | AA25: =(W25*10^10)+((X25+5000)*10^6)+(Z25*10)+U25 -> 125383000966 | AB25: =LARGE($AA$20:$AA$31,U25) -> 95214999972 | AC25: =MATCH(AB25,$AA$20:$AA$31,0) -> 12
D26: 7º | E26: =VLOOKUP(AC26,$U$20:$AB$31,2) -> Barbosinhaas | F26: =VLOOKUP(AC26,$U$20:$AB$31,3) -> 8 | H26: =VLOOKUP(AC26,$U$20:$AB$31,4) -> 270 | J26: =VLOOKUP(AC26,$U$20:$AB$31,5) -> 325 | L26: =VLOOKUP(AC26,$U$20:$AB$31,6) -> -55 | O26: 1 - pontos | U26: 7 | V26: NICKA SC | W26: =SUM(Q40,Q47,C59,C66,Q81,C87,C98,Q111,Q119,C129,Q136) -> 5 | X26: =SUM(H40,H47,F59,F66,H81,F87,F98,H111,H119,F129,H136) -> 239 | Y26: =SUM(F40,F47,H59,H66,F81,H87,H98,F119,H129,F136) -> 306 | Z26: =X26-Y26 -> -67 | AA26: =(W26*10^10)+((X26+5000)*10^6)+(Z26*10)+U26 -> 55238999337 | AB26: =LARGE($AA$20:$AA$31,U26) -> 85269999451 | AC26: =MATCH(AB26,$AA$20:$AA$31,0) -> 1
D27: 8º | E27: =VLOOKUP(AC27,$U$20:$AB$31,2) -> Glaa.VascodaaGamaa | F27: =VLOOKUP(AC27,$U$20:$AB$31,3) -> 6 | H27: =VLOOKUP(AC27,$U$20:$AB$31,4) -> 292 | J27: =VLOOKUP(AC27,$U$20:$AB$31,5) -> 277 | L27: =VLOOKUP(AC27,$U$20:$AB$31,6) -> 15 | O27: 2 - pontos pró Cartola | U27: 8 | V27: Glaa.VascodaaGamaa | W27: =SUM(Q39,Q48,C61,Q66,C79,C90,Q96,C106,C116,Q128,C139) -> 6 | X27: =SUM(H39,H48,F61,H66,F79,F90,H96,F106,F116,H128,F139) -> 292 | Y27: =SUM(F39,F48,F66,H61,H79,H90,F96,H106,H116,F128,H139) -> 277 | Z27: =X27-Y27 -> 15 | AA27: =(W27*10^10)+((X27+5000)*10^6)+(Z27*10)+U27 -> 65292000158 | AB27: =LARGE($AA$20:$AA$31,U27) -> 65292000158 | AC27: =MATCH(AB27,$AA$20:$AA$31,0) -> 8
D28: 9º | E28: =VLOOKUP(AC28,$U$20:$AB$31,2) -> Stars United C.F. | F28: =VLOOKUP(AC28,$U$20:$AB$31,3) -> 6 | H28: =VLOOKUP(AC28,$U$20:$AB$31,4) -> 219 | J28: =VLOOKUP(AC28,$U$20:$AB$31,5) -> 215 | L28: =VLOOKUP(AC28,$U$20:$AB$31,6) -> 4 | O28: 3 - saldo de pontos | U28: 9 | V28: PANZA FC | W28: =SUM(C37,Q49,C56,Q69,C77,Q88,C97,Q106,C120,Q126,C136) -> 9 | X28: =SUM(F37,H49,F56,H69,F77,H88,F97,H106,F120,H126,F136) -> 298 | Y28: =SUM(H37,F49,H56,F69,H77,F88,H97,F106,H120,F126,H136) -> 273 | Z28: =X28-Y28 -> 25 | AA28: =(W28*10^10)+((X28+5000)*10^6)+(Z28*10)+U28 -> 95298000259 | AB28: =LARGE($AA$20:$AA$31,U28) -> 65219000045 | AC28: =MATCH(AB28,$AA$20:$AA$31,0) -> 5
D29: 10º | E29: =VLOOKUP(AC29,$U$20:$AB$31,2) -> NICKA SC | F29: =VLOOKUP(AC29,$U$20:$AB$31,3) -> 5 | H29: =VLOOKUP(AC29,$U$20:$AB$31,4) -> 239 | J29: =VLOOKUP(AC29,$U$20:$AB$31,5) -> 306 | L29: =VLOOKUP(AC29,$U$20:$AB$31,6) -> -67 | O29: 4 - pontos contra Cartola | U29: 10 | V29: Barreirinha FC | W29: =SUM(Q37,C48,Q59,Q71,C80,Q89,Q99,C109,C117,Q130,Q141) -> 4 | X29: =SUM(H37,F48,H59,H71,F80,H89,H99,F109,F117,H130,H141) -> 277 | Y29: =SUM(F37,H48,F59,F71,H80,F89,F99,H109,H117,F130,F141) -> 350 | Z29: =X29-Y29 -> -73 | AA29: =(W29*10^10)+((X29+5000)*10^6)+(Z29*10)+U29 -> 45276999280 | AB29: =LARGE($AA$20:$AA$31,U29) -> 55238999337 | AC29: =MATCH(AB29,$AA$20:$AA$31,0) -> 7
D30: 11º | E30: =VLOOKUP(AC30,$U$20:$AB$31,2) -> FC Casablanca | F30: =VLOOKUP(AC30,$U$20:$AB$31,3) -> 5 | H30: =VLOOKUP(AC30,$U$20:$AB$31,4) -> 200 | J30: =VLOOKUP(AC30,$U$20:$AB$31,5) -> 348 | L30: =VLOOKUP(AC30,$U$20:$AB$31,6) -> -148 | U30: 11 | V30: Botafogo do HG | W30: =SUM(C40,Q51,C58,Q67,C78,C88,Q100,C110,Q116,Q127,C141) -> 11 | X30: =SUM(F40,H51,F58,H67,F78,H100,F110,H116,H127,F141,F88) -> 277 | Y30: =SUM(H40,F51,H58,F67,H78,H88,F100,H110,F116,F127,H141) -> 223 | Z30: =X30-Y30 -> 54 | AA30: =(W30*10^10)+((X30+5000)*10^6)+(Z30*10)+U30 -> 115277000551 | AB30: =LARGE($AA$20:$AA$31,U30) -> 55199998523 | AC30: =MATCH(AB30,$AA$20:$AA$31,0) -> 3
D31: 12º | E31: =VLOOKUP(AC31,$U$20:$AB$31,2) -> Barreirinha FC | F31: =VLOOKUP(AC31,$U$20:$AB$31,3) -> 4 | H31: =VLOOKUP(AC31,$U$20:$AB$31,4) -> 277 | J31: =VLOOKUP(AC31,$U$20:$AB$31,5) -> 350 | L31: =VLOOKUP(AC31,$U$20:$AB$31,6) -> -73 | U31: 12 | V31: Vascão Carangola | W31: =SUM(C36,C51,Q61,Q68,Q80,C86,Q97,Q108,C119,Q131,C138) -> 9 | X31: =SUM(F36,F51,H61,H68,H80,F86,H97,H108,F119,H131,F138) -> 215 | Y31: =SUM(H36,H51,F61,F68,F80,H86,F97,F108,H119,F131,H138) -> 219 | Z31: =X31-Y31 -> -4 | AA31: =(W31*10^10)+((X31+5000)*10^6)+(Z31*10)+U31 -> 95214999972 | AB31: =LARGE($AA$20:$AA$31,U31) -> 45276999280 | AC31: =MATCH(AB31,$AA$20:$AA$31,0) -> 10
D33: 1ª RODADA - #20
C36: =IF(OR(F36="",H36=""),"",IF(F36=H36,1,IF(F36<H36,0,IF(F36-H36<10,2,IF(F36>H36,3,SE))))) -> 0 | D36: =V31 -> Vascão Carangola | F36: 0 | G36: x | H36: 49 | I36: =V24 -> Stars United C.F. | Q36: =IF(OR(H36="",F36=""),"",IF(H36=F36,1,IF(H36<F36,0,IF(H36-F36<10,2,IF(H36>F36,3,SE))))) -> 3
C37: =IF(OR(F37="",H37=""),"",IF(F37=H37,1,IF(F37<H37,0,IF(F37-H37<10,2,IF(F37>H37,3,SE))))) -> 3 | D37: =V28 -> PANZA FC | F37: 54 | G37: x | H37: 41 | I37: =V29 -> Barreirinha FC | Q37: =IF(OR(H37="",F37=""),"",IF(H37=F37,1,IF(H37<F37,0,IF(H37-F37<10,2,IF(H37>F37,3,SE))))) -> 0
C38: =IF(OR(F38="",H38=""),"",IF(F38=H38,1,IF(F38<H38,0,IF(F38-H38<10,2,IF(F38>H38,3,SE))))) -> 2 | D38: =V20 -> Barbosinhaas | F38: 58 | G38: x | H38: 49 | I38: =V25 -> Us Karas | Q38: =IF(OR(H38="",F38=""),"",IF(H38=F38,1,IF(H38<F38,0,IF(H38-F38<10,2,IF(H38>F38,3,SE))))) -> 0
C39: =IF(OR(F39="",H39=""),"",IF(F39=H39,1,IF(F39<H39,0,IF(F39-H39<10,2,IF(F39>H39,3,SE))))) -> 2 | D39: =V22 -> FC Casablanca | F39: 47 | G39: x | H39: 38 | I39: =V27 -> Glaa.VascodaaGamaa | Q39: =IF(OR(H39="",F39=""),"",IF(H39=F39,1,IF(H39<F39,0,IF(H39-F39<10,2,IF(H39>F39,3,SE))))) -> 0
C40: =IF(OR(F40="",H40=""),"",IF(F40=H40,1,IF(F40<H40,0,IF(F40-H40<10,2,IF(F40>H40,3,SE))))) -> 3 | D40: =V30 -> Botafogo do HG | F40: 60 | G40: x | H40: 33 | I40: =V26 -> NICKA SC | Q40: =IF(OR(H40="",F40=""),"",IF(H40=F40,1,IF(H40<F40,0,IF(H40-F40<10,2,IF(H40>F40,3,SE))))) -> 0
C41: =IF(OR(F41="",H41=""),"",IF(F41=H41,1,IF(F41<H41,0,IF(F41-H41<10,2,IF(F41>H41,3,SE))))) -> 3 | D41: =V23 -> TriangagemFC | F41: 59 | G41: x | H41: 36 | I41: =V21 -> flurocha fc | Q41: =IF(OR(H41="",F41=""),"",IF(H41=F41,1,IF(H41<F41,0,IF(H41-F41<10,2,IF(H41>F41,3,SE))))) -> 0
C42: =IF(OR(F42="",H42=""),"",IF(F42=H42,1,IF(F42<H42,0,IF(F42-H42<10,2,IF(F42>H42,3,SE))))) | Q42: =IF(OR(H42="",F42=""),"",IF(H42=F42,1,IF(H42<F42,0,IF(H42-F42<10,2,IF(H42>F42,3,SE)))))
C43: =IF(OR(F43="",H43=""),"",IF(F43=H43,1,IF(F43<H43,0,IF(F43-H43<10,2,IF(F43>H43,3,SE))))) | D43: 2ª RODADA - #21 | Q43: =IF(OR(H43="",F43=""),"",IF(H43=F43,1,IF(H43<F43,0,IF(H43-F43<10,2,IF(H43>F43,3,SE)))))
C44: =IF(OR(F44="",H44=""),"",IF(F44=H44,1,IF(F44<H44,0,IF(F44-H44<10,2,IF(F44>H44,3,SE))))) | Q44: =IF(OR(H44="",F44=""),"",IF(H44=F44,1,IF(H44<F44,0,IF(H44-F44<10,2,IF(H44>F44,3,SE)))))
C45: =IF(OR(F45="",H45=""),"",IF(F45=H45,1,IF(F45<H45,0,IF(F45-H45<10,2,IF(F45>H45,3,SE))))) | Q45: =IF(OR(H45="",F45=""),"",IF(H45=F45,1,IF(H45<F45,0,IF(H45-F45<10,2,IF(H45>F45,3,SE)))))
C46: =IF(OR(F46="",H46=""),"",IF(F46=H46,1,IF(F46<H46,0,IF(F46-H46<10,2,IF(F46>H46,3,SE))))) -> 3 | D46: =V23 -> TriangagemFC | F46: 69 | G46: x | H46: 25 | I46: =V20 -> Barbosinhaas | Q46: =IF(OR(H46="",F46=""),"",IF(H46=F46,1,IF(H46<F46,0,IF(H46-F46<10,2,IF(H46>F46,3,SE))))) -> 0
C47: =IF(OR(F47="",H47=""),"",IF(F47=H47,1,IF(F47<H47,0,IF(F47-H47<10,2,IF(F47>H47,3,SE))))) -> 0 | D47: =V24 -> Stars United C.F. | F47: 35 | G47: x | H47: 40 | I47: =V26 -> NICKA SC | Q47: =IF(OR(H47="",F47=""),"",IF(H47=F47,1,IF(H47<F47,0,IF(H47-F47<10,2,IF(H47>F47,3,SE))))) -> 2
C48: =IF(OR(F48="",H48=""),"",IF(F48=H48,1,IF(F48<H48,0,IF(F48-H48<10,2,IF(F48>H48,3,SE))))) -> 2 | D48: =V29 -> Barreirinha FC | F48: 67 | G48: x | H48: 63 | I48: =V27 -> Glaa.VascodaaGamaa | Q48: =IF(OR(H48="",F48=""),"",IF(H48=F48,1,IF(H48<F48,0,IF(H48-F48<10,2,IF(H48>F48,3,SE))))) -> 0
C49: =IF(OR(F49="",H49=""),"",IF(F49=H49,1,IF(F49<H49,0,IF(F49-H49<10,2,IF(F49>H49,3,SE))))) -> 3 | D49: =V25 -> Us Karas | F49: 106 | G49: x | H49: 69 | I49: =V28 -> PANZA FC | Q49: =IF(OR(H49="",F49=""),"",IF(H49=F49,1,IF(H49<F49,0,IF(H49-F49<10,2,IF(H49>F49,3,SE))))) -> 0
C50: =IF(OR(F50="",H50=""),"",IF(F50=H50,1,IF(F50<H50,0,IF(F50-H50<10,2,IF(F50>H50,3,SE))))) -> 3 | D50: =V21 -> flurocha fc | F50: 101 | G50: x | H50: 25 | I50: =V22 -> FC Casablanca | Q50: =IF(OR(H50="",F50=""),"",IF(H50=F50,1,IF(H50<F50,0,IF(H50-F50<10,2,IF(H50>F50,3,SE))))) -> 0
C51: =IF(OR(F51="",H51=""),"",IF(F51=H51,1,IF(F51<H51,0,IF(F51-H51<10,2,IF(F51>H51,3,SE))))) -> 0 | D51: =V31 -> Vascão Carangola | F51: 0 | G51: x | H51: 41 | I51: =V30 -> Botafogo do HG | Q51: =IF(OR(H51="",F51=""),"",IF(H51=F51,1,IF(H51<F51,0,IF(H51-F51<10,2,IF(H51>F51,3,SE))))) -> 3
C52: =IF(OR(F52="",H52=""),"",IF(F52=H52,1,IF(F52<H52,0,IF(F52-H52<10,2,IF(F52>H52,3,SE))))) | Q52: =IF(OR(H52="",F52=""),"",IF(H52=F52,1,IF(H52<F52,0,IF(H52-F52<10,2,IF(H52>F52,3,SE)))))
C53: =IF(OR(F53="",H53=""),"",IF(F53=H53,1,IF(F53<H53,0,IF(F53-H53<10,2,IF(F53>H53,3,SE))))) | D53: 3ª RODADA - #22 | Q53: =IF(OR(H53="",F53=""),"",IF(H53=F53,1,IF(H53<F53,0,IF(H53-F53<10,2,IF(H53>F53,3,SE)))))
C54: =IF(OR(F54="",H54=""),"",IF(F54=H54,1,IF(F54<H54,0,IF(F54-H54<10,2,IF(F54>H54,3,SE))))) | Q54: =IF(OR(H54="",F54=""),"",IF(H54=F54,1,IF(H54<F54,0,IF(H54-F54<10,2,IF(H54>F54,3,SE)))))
C55: =IF(OR(F55="",H55=""),"",IF(F55=H55,1,IF(F55<H55,0,IF(F55-H55<10,2,IF(F55>H55,3,SE))))) | Q55: =IF(OR(H55="",F55=""),"",IF(H55=F55,1,IF(H55<F55,0,IF(H55-F55<10,2,IF(H55>F55,3,SE)))))
C56: =IF(OR(F56="",H56=""),"",IF(F56=H56,1,IF(F56<H56,0,IF(F56-H56<10,2,IF(F56>H56,3,SE))))) -> 0 | D56: =V28 -> PANZA FC | F56: 25 | G56: x | H56: 28 | I56: =V24 -> Stars United C.F. | Q56: =IF(OR(H56="",F56=""),"",IF(H56=F56,1,IF(H56<F56,0,IF(H56-F56<10,2,IF(H56>F56,3,SE))))) -> 2
C57: =IF(OR(F57="",H57=""),"",IF(F57=H57,1,IF(F57<H57,0,IF(F57-H57<10,2,IF(F57>H57,3,SE))))) -> 3 | D57: =V25 -> Us Karas | F57: 53 | G57: x | H57: 27 | I57: =V21 -> flurocha fc | Q57: =IF(OR(H57="",F57=""),"",IF(H57=F57,1,IF(H57<F57,0,IF(H57-F57<10,2,IF(H57>F57,3,SE))))) -> 0
C58: =IF(OR(F58="",H58=""),"",IF(F58=H58,1,IF(F58<H58,0,IF(F58-H58<10,2,IF(F58>H58,3,SE))))) -> 0 | D58: =V30 -> Botafogo do HG | F58: 28 | G58: x | H58: 35 | I58: =V23 -> TriangagemFC | Q58: =IF(OR(H58="",F58=""),"",IF(H58=F58,1,IF(H58<F58,0,IF(H58-F58<10,2,IF(H58>F58,3,SE))))) -> 2
C59: =IF(OR(F59="",H59=""),"",IF(F59=H59,1,IF(F59<H59,0,IF(F59-H59<10,2,IF(F59>H59,3,SE))))) -> 3 | D59: =V26 -> NICKA SC | F59: 53 | G59: x | H59: 31 | I59: =V29 -> Barreirinha FC | Q59: =IF(OR(H59="",F59=""),"",IF(H59=F59,1,IF(H59<F59,0,IF(H59-F59<10,2,IF(H59>F59,3,SE))))) -> 0
C60: =IF(OR(F60="",H60=""),"",IF(F60=H60,1,IF(F60<H60,0,IF(F60-H60<10,2,IF(F60>H60,3,SE))))) -> 3 | D60: =V22 -> FC Casablanca | F60: 53 | G60: x | H60: 26 | I60: =V20 -> Barbosinhaas | Q60: =IF(OR(H60="",F60=""),"",IF(H60=F60,1,IF(H60<F60,0,IF(H60-F60<10,2,IF(H60>F60,3,SE))))) -> 0
C61: =IF(OR(F61="",H61=""),"",IF(F61=H61,1,IF(F61<H61,0,IF(F61-H61<10,2,IF(F61>H61,3,SE))))) -> 3 | D61: =V27 -> Glaa.VascodaaGamaa | F61: 38 | G61: x | H61: 0 | I61: =V31 -> Vascão Carangola | Q61: =IF(OR(H61="",F61=""),"",IF(H61=F61,1,IF(H61<F61,0,IF(H61-F61<10,2,IF(H61>F61,3,SE))))) -> 0
C62: =IF(OR(F62="",H62=""),"",IF(F62=H62,1,IF(F62<H62,0,IF(F62-H62<10,2,IF(F62>H62,3,SE))))) | Q62: =IF(OR(H62="",F62=""),"",IF(H62=F62,1,IF(H62<F62,0,IF(H62-F62<10,2,IF(H62>F62,3,SE)))))
C63: =IF(OR(F63="",H63=""),"",IF(F63=H63,1,IF(F63<H63,0,IF(F63-H63<10,2,IF(F63>H63,3,SE))))) | D63: 4ª RODADA - #23 | Q63: =IF(OR(H63="",F63=""),"",IF(H63=F63,1,IF(H63<F63,0,IF(H63-F63<10,2,IF(H63>F63,3,SE)))))
C64: =IF(OR(F64="",H64=""),"",IF(F64=H64,1,IF(F64<H64,0,IF(F64-H64<10,2,IF(F64>H64,3,SE))))) | Q64: =IF(OR(H64="",F64=""),"",IF(H64=F64,1,IF(H64<F64,0,IF(H64-F64<10,2,IF(H64>F64,3,SE)))))
C65: =IF(OR(F65="",H65=""),"",IF(F65=H65,1,IF(F65<H65,0,IF(F65-H65<10,2,IF(F65>H65,3,SE))))) | Q65: =IF(OR(H65="",F65=""),"",IF(H65=F65,1,IF(H65<F65,0,IF(H65-F65<10,2,IF(H65>F65,3,SE)))))
C66: =IF(OR(F66="",H66=""),"",IF(F66=H66,1,IF(F66<H66,0,IF(F66-H66<10,2,IF(F66>H66,3,SE))))) -> 0 | D66: =V26 -> NICKA SC | F66: 51 | G66: x | H66: 58 | I66: =V27 -> Glaa.VascodaaGamaa | Q66: =IF(OR(H66="",F66=""),"",IF(H66=F66,1,IF(H66<F66,0,IF(H66-F66<10,2,IF(H66>F66,3,SE))))) -> 2
C67: =IF(OR(F67="",H67=""),"",IF(F67=H67,1,IF(F67<H67,0,IF(F67-H67<10,2,IF(F67>H67,3,SE))))) -> 0 | D67: =V22 -> FC Casablanca | F67: 50 | G67: x | H67: 51 | I67: =V30 -> Botafogo do HG | Q67: =IF(OR(H67="",F67=""),"",IF(H67=F67,1,IF(H67<F67,0,IF(H67-F67<10,2,IF(H67>F67,3,SE))))) -> 2
C68: =IF(OR(F68="",H68=""),"",IF(F68=H68,1,IF(F68<H68,0,IF(F68-H68<10,2,IF(F68>H68,3,SE))))) -> 0 | D68: =V23 -> TriangagemFC | F68: 46 | G68: x | H68: 74 | I68: =V31 -> Vascão Carangola | Q68: =IF(OR(H68="",F68=""),"",IF(H68=F68,1,IF(H68<F68,0,IF(H68-F68<10,2,IF(H68>F68,3,SE))))) -> 3
C69: =IF(OR(F69="",H69=""),"",IF(F69=H69,1,IF(F69<H69,0,IF(F69-H69<10,2,IF(F69>H69,3,SE))))) -> 0 | D69: =V21 -> flurocha fc | F69: 32 | G69: x | H69: 53 | I69: =V28 -> PANZA FC | Q69: =IF(OR(H69="",F69=""),"",IF(H69=F69,1,IF(H69<F69,0,IF(H69-F69<10,2,IF(H69>F69,3,SE))))) -> 3
C70: =IF(OR(F70="",H70=""),"",IF(F70=H70,1,IF(F70<H70,0,IF(F70-H70<10,2,IF(F70>H70,3,SE))))) -> 0 | D70: =V24 -> Stars United C.F. | F70: 25 | G70: x | H70: 59 | I70: =V25 -> Us Karas | Q70: =IF(OR(H70="",F70=""),"",IF(H70=F70,1,IF(H70<F70,0,IF(H70-F70<10,2,IF(H70>F70,3,SE))))) -> 3
C71: =IF(OR(F71="",H71=""),"",IF(F71=H71,1,IF(F71<H71,0,IF(F71-H71<10,2,IF(F71>H71,3,SE))))) -> 3 | D71: =V20 -> Barbosinhaas | F71: 68 | G71: x | H71: 53 | I71: =V29 -> Barreirinha FC | Q71: =IF(OR(H71="",F71=""),"",IF(H71=F71,1,IF(H71<F71,0,IF(H71-F71<10,2,IF(H71>F71,3,SE))))) -> 0
C72: =IF(OR(F72="",H72=""),"",IF(F72=H72,1,IF(F72<H72,0,IF(F72-H72<10,2,IF(F72>H72,3,SE))))) | Q72: =IF(OR(H72="",F72=""),"",IF(H72=F72,1,IF(H72<F72,0,IF(H72-F72<10,2,IF(H72>F72,3,SE)))))
C73: =IF(OR(F73="",H73=""),"",IF(F73=H73,1,IF(F73<H73,0,IF(F73-H73<10,2,IF(F73>H73,3,SE))))) | D73: 5ª RODADA - #24 | Q73: =IF(OR(H73="",F73=""),"",IF(H73=F73,1,IF(H73<F73,0,IF(H73-F73<10,2,IF(H73>F73,3,SE)))))
C74: =IF(OR(F74="",H74=""),"",IF(F74=H74,1,IF(F74<H74,0,IF(F74-H74<10,2,IF(F74>H74,3,SE))))) | Q74: =IF(OR(H74="",F74=""),"",IF(H74=F74,1,IF(H74<F74,0,IF(H74-F74<10,2,IF(H74>F74,3,SE)))))
C75: =IF(OR(F75="",H75=""),"",IF(F75=H75,1,IF(F75<H75,0,IF(F75-H75<10,2,IF(F75>H75,3,SE))))) | Q75: =IF(OR(H75="",F75=""),"",IF(H75=F75,1,IF(H75<F75,0,IF(H75-F75<10,2,IF(H75>F75,3,SE)))))
C76: =IF(OR(F76="",H76=""),"",IF(F76=H76,1,IF(F76<H76,0,IF(F76-H76<10,2,IF(F76>H76,3,SE))))) -> 0 | D76: =V25 -> Us Karas | F76: 42 | G76: x | H76: 51 | I76: =V23 -> TriangagemFC | Q76: =IF(OR(H76="",F76=""),"",IF(H76=F76,1,IF(H76<F76,0,IF(H76-F76<10,2,IF(H76>F76,3,SE))))) -> 2
C77: =IF(OR(F77="",H77=""),"",IF(F77=H77,1,IF(F77<H77,0,IF(F77-H77<10,2,IF(F77>H77,3,SE))))) -> 3 | D77: =V28 -> PANZA FC | F77: 59 | G77: x | H77: 12 | I77: =V22 -> FC Casablanca | Q77: =IF(OR(H77="",F77=""),"",IF(H77=F77,1,IF(H77<F77,0,IF(H77-F77<10,2,IF(H77>F77,3,SE))))) -> 0
C78: =IF(OR(F78="",H78=""),"",IF(F78=H78,1,IF(F78<H78,0,IF(F78-H78<10,2,IF(F78>H78,3,SE))))) -> 0 | D78: =V30 -> Botafogo do HG | F78: 43 | G78: x | H78: 67 | I78: =V20 -> Barbosinhaas | Q78: =IF(OR(H78="",F78=""),"",IF(H78=F78,1,IF(H78<F78,0,IF(H78-F78<10,2,IF(H78>F78,3,SE))))) -> 3
C79: =IF(OR(F79="",H79=""),"",IF(F79=H79,1,IF(F79<H79,0,IF(F79-H79<10,2,IF(F79>H79,3,SE))))) -> 1 | D79: =V27 -> Glaa.VascodaaGamaa | F79: 38 | G79: x | H79: 38 | I79: =V24 -> Stars United C.F. | Q79: =IF(OR(H79="",F79=""),"",IF(H79=F79,1,IF(H79<F79,0,IF(H79-F79<10,2,IF(H79>F79,3,SE))))) -> 1
C80: =IF(OR(F80="",H80=""),"",IF(F80=H80,1,IF(F80<H80,0,IF(F80-H80<10,2,IF(F80>H80,3,SE))))) -> 0 | D80: =V29 -> Barreirinha FC | F80: 32 | G80: x | H80: 68 | I80: =V31 -> Vascão Carangola | Q80: =IF(OR(H80="",F80=""),"",IF(H80=F80,1,IF(H80<F80,0,IF(H80-F80<10,2,IF(H80>F80,3,SE))))) -> 3
C81: =IF(OR(F81="",H81=""),"",IF(F81=H81,1,IF(F81<H81,0,IF(F81-H81<10,2,IF(F81>H81,3,SE))))) -> 3 | D81: =V21 -> flurocha fc | F81: 68 | G81: x | H81: 20 | I81: =V26 -> NICKA SC | Q81: =IF(OR(H81="",F81=""),"",IF(H81=F81,1,IF(H81<F81,0,IF(H81-F81<10,2,IF(H81>F81,3,SE))))) -> 0
C82: =IF(OR(F82="",H82=""),"",IF(F82=H82,1,IF(F82<H82,0,IF(F82-H82<10,2,IF(F82>H82,3,SE))))) | Q82: =IF(OR(H82="",F82=""),"",IF(H82=F82,1,IF(H82<F82,0,IF(H82-F82<10,2,IF(H82>F82,3,SE)))))
C83: =IF(OR(F83="",H83=""),"",IF(F83=H83,1,IF(F83<H83,0,IF(F83-H83<10,2,IF(F83>H83,3,SE))))) | D83: 6ª RODADA - #25 | Q83: =IF(OR(H83="",F83=""),"",IF(H83=F83,1,IF(H83<F83,0,IF(H83-F83<10,2,IF(H83>F83,3,SE)))))
C84: =IF(OR(F84="",H84=""),"",IF(F84=H84,1,IF(F84<H84,0,IF(F84-H84<10,2,IF(F84>H84,3,SE))))) | Q84: =IF(OR(H84="",F84=""),"",IF(H84=F84,1,IF(H84<F84,0,IF(H84-F84<10,2,IF(H84>F84,3,SE)))))
C85: =IF(OR(F85="",H85=""),"",IF(F85=H85,1,IF(F85<H85,0,IF(F85-H85<10,2,IF(F85>H85,3,SE))))) | Q85: =IF(OR(H85="",F85=""),"",IF(H85=F85,1,IF(H85<F85,0,IF(H85-F85<10,2,IF(H85>F85,3,SE)))))
C86: =IF(OR(F86="",H86=""),"",IF(F86=H86,1,IF(F86<H86,0,IF(F86-H86<10,2,IF(F86>H86,3,SE))))) -> 3 | D86: =V31 -> Vascão Carangola | F86: 73 | G86: x | H86: 13 | I86: =V22 -> FC Casablanca | Q86: =IF(OR(H86="",F86=""),"",IF(H86=F86,1,IF(H86<F86,0,IF(H86-F86<10,2,IF(H86>F86,3,SE))))) -> 0
C87: =IF(OR(F87="",H87=""),"",IF(F87=H87,1,IF(F87<H87,0,IF(F87-H87<10,2,IF(F87>H87,3,SE))))) -> 0 | D87: =V26 -> NICKA SC | F87: 42 | G87: x | H87: 54 | I87: =V23 -> TriangagemFC | Q87: =IF(OR(H87="",F87=""),"",IF(H87=F87,1,IF(H87<F87,0,IF(H87-F87<10,2,IF(H87>F87,3,SE))))) -> 3
C88: =IF(OR(F88="",H88=""),"",IF(F88=H88,1,IF(F88<H88,0,IF(F88-H88<10,2,IF(F88>H88,3,SE))))) -> 3 | D88: =V30 -> Botafogo do HG | F88: 54 | G88: x | H88: 38 | I88: =V28 -> PANZA FC | Q88: =IF(OR(H88="",F88=""),"",IF(H88=F88,1,IF(H88<F88,0,IF(H88-F88<10,2,IF(H88>F88,3,SE))))) -> 0
C89: =IF(OR(F89="",H89=""),"",IF(F89=H89,1,IF(F89<H89,0,IF(F89-H89<10,2,IF(F89>H89,3,SE))))) -> 0 | D89: =V24 -> Stars United C.F. | F89: 44 | G89: x | H89: 53 | I89: =V29 -> Barreirinha FC | Q89: =IF(OR(H89="",F89=""),"",IF(H89=F89,1,IF(H89<F89,0,IF(H89-F89<10,2,IF(H89>F89,3,SE))))) -> 2
C90: =IF(OR(F90="",H90=""),"",IF(F90=H90,1,IF(F90<H90,0,IF(F90-H90<10,2,IF(F90>H90,3,SE))))) -> 0 | D90: =V27 -> Glaa.VascodaaGamaa | F90: 57 | G90: x | H90: 74 | I90: =V25 -> Us Karas | Q90: =IF(OR(H90="",F90=""),"",IF(H90=F90,1,IF(H90<F90,0,IF(H90-F90<10,2,IF(H90>F90,3,SE))))) -> 3
C91: =IF(OR(F91="",H91=""),"",IF(F91=H91,1,IF(F91<H91,0,IF(F91-H91<10,2,IF(F91>H91,3,SE))))) -> 0 | D91: =V20 -> Barbosinhaas | F91: 26 | G91: x | H91: 58 | I91: =V21 -> flurocha fc | Q91: =IF(OR(H91="",F91=""),"",IF(H91=F91,1,IF(H91<F91,0,IF(H91-F91<10,2,IF(H91>F91,3,SE))))) -> 3
C92: =IF(OR(F92="",H92=""),"",IF(F92=H92,1,IF(F92<H92,0,IF(F92-H92<10,2,IF(F92>H92,3,SE))))) | Q92: =IF(OR(H92="",F92=""),"",IF(H92=F92,1,IF(H92<F92,0,IF(H92-F92<10,2,IF(H92>F92,3,SE)))))
C93: =IF(OR(F93="",H93=""),"",IF(F93=H93,1,IF(F93<H93,0,IF(F93-H93<10,2,IF(F93>H93,3,SE))))) | D93: 7ª RODADA - #26 | Q93: =IF(OR(H93="",F93=""),"",IF(H93=F93,1,IF(H93<F93,0,IF(H93-F93<10,2,IF(H93>F93,3,SE)))))
C94: =IF(OR(F94="",H94=""),"",IF(F94=H94,1,IF(F94<H94,0,IF(F94-H94<10,2,IF(F94>H94,3,SE))))) | Q94: =IF(OR(H94="",F94=""),"",IF(H94=F94,1,IF(H94<F94,0,IF(H94-F94<10,2,IF(H94>F94,3,SE)))))
C95: =IF(OR(F95="",H95=""),"",IF(F95=H95,1,IF(F95<H95,0,IF(F95-H95<10,2,IF(F95>H95,3,SE))))) | Q95: =IF(OR(H95="",F95=""),"",IF(H95=F95,1,IF(H95<F95,0,IF(H95-F95<10,2,IF(H95>F95,3,SE)))))
C96: =IF(OR(F96="",H96=""),"",IF(F96=H96,1,IF(F96<H96,0,IF(F96-H96<10,2,IF(F96>H96,3,SE))))) | D96: =V21 -> flurocha fc | G96: x | I96: =V27 -> Glaa.VascodaaGamaa | Q96: =IF(OR(H96="",F96=""),"",IF(H96=F96,1,IF(H96<F96,0,IF(H96-F96<10,2,IF(H96>F96,3,SE)))))
C97: =IF(OR(F97="",H97=""),"",IF(F97=H97,1,IF(F97<H97,0,IF(F97-H97<10,2,IF(F97>H97,3,SE))))) | D97: =V28 -> PANZA FC | G97: x | I97: =V31 -> Vascão Carangola | Q97: =IF(OR(H97="",F97=""),"",IF(H97=F97,1,IF(H97<F97,0,IF(H97-F97<10,2,IF(H97>F97,3,SE)))))
C98: =IF(OR(F98="",H98=""),"",IF(F98=H98,1,IF(F98<H98,0,IF(F98-H98<10,2,IF(F98>H98,3,SE))))) | D98: =V26 -> NICKA SC | G98: x | I98: =V20 -> Barbosinhaas | Q98: =IF(OR(H98="",F98=""),"",IF(H98=F98,1,IF(H98<F98,0,IF(H98-F98<10,2,IF(H98>F98,3,SE)))))
C99: =IF(OR(F99="",H99=""),"",IF(F99=H99,1,IF(F99<H99,0,IF(F99-H99<10,2,IF(F99>H99,3,SE))))) | D99: =V22 -> FC Casablanca | G99: x | I99: =V29 -> Barreirinha FC | Q99: =IF(OR(H99="",F99=""),"",IF(H99=F99,1,IF(H99<F99,0,IF(H99-F99<10,2,IF(H99>F99,3,SE)))))
C100: =IF(OR(F100="",H100=""),"",IF(F100=H100,1,IF(F100<H100,0,IF(F100-H100<10,2,IF(F100>H100,3,SE))))) | D100: =V25 -> Us Karas | G100: x | I100: =V30 -> Botafogo do HG | Q100: =IF(OR(H100="",F100=""),"",IF(H100=F100,1,IF(H100<F100,0,IF(H100-F100<10,2,IF(H100>F100,3,SE)))))
C101: =IF(OR(F101="",H101=""),"",IF(F101=H101,1,IF(F101<H101,0,IF(F101-H101<10,2,IF(F101>H101,3,SE))))) | D101: =V23 -> TriangagemFC | G101: x | I101: =V24 -> Stars United C.F. | Q101: =IF(OR(H101="",F101=""),"",IF(H101=F101,1,IF(H101<F101,0,IF(H101-F101<10,2,IF(H101>F101,3,SE)))))
C102: =IF(OR(F102="",H102=""),"",IF(F102=H102,1,IF(F102<H102,0,IF(F102-H102<10,2,IF(F102>H102,3,SE))))) | Q102: =IF(OR(H102="",F102=""),"",IF(H102=F102,1,IF(H102<F102,0,IF(H102-F102<10,2,IF(H102>F102,3,SE)))))
C103: =IF(OR(F103="",H103=""),"",IF(F103=H103,1,IF(F103<H103,0,IF(F103-H103<10,2,IF(F103>H103,3,SE))))) | D103: 8ª RODADA - #27 | Q103: =IF(OR(H103="",F103=""),"",IF(H103=F103,1,IF(H103<F103,0,IF(H103-F103<10,2,IF(H103>F103,3,SE)))))
C104: =IF(OR(F104="",H104=""),"",IF(F104=H104,1,IF(F104<H104,0,IF(F104-H104<10,2,IF(F104>H104,3,SE))))) | Q104: =IF(OR(H104="",F104=""),"",IF(H104=F104,1,IF(H104<F104,0,IF(H104-F104<10,2,IF(H104>F104,3,SE)))))
C105: =IF(OR(F105="",H105=""),"",IF(F105=H105,1,IF(F105<H105,0,IF(F105-H105<10,2,IF(F105>H105,3,SE))))) | Q105: =IF(OR(H105="",F105=""),"",IF(H105=F105,1,IF(H105<F105,0,IF(H105-F105<10,2,IF(H105>F105,3,SE)))))
C106: =IF(OR(F106="",H106=""),"",IF(F106=H106,1,IF(F106<H106,0,IF(F106-H106<10,2,IF(F106>H106,3,SE))))) | D106: =V27 -> Glaa.VascodaaGamaa | G106: x | I106: =V28 -> PANZA FC | Q106: =IF(OR(H106="",F106=""),"",IF(H106=F106,1,IF(H106<F106,0,IF(H106-F106<10,2,IF(H106>F106,3,SE)))))
C107: =IF(OR(F107="",H107=""),"",IF(F107=H107,1,IF(F107<H107,0,IF(F107-H107<10,2,IF(F107>H107,3,SE))))) | D107: =V24 -> Stars United C.F. | G107: x | I107: =V22 -> FC Casablanca | Q107: =IF(OR(H107="",F107=""),"",IF(H107=F107,1,IF(H107<F107,0,IF(H107-F107<10,2,IF(H107>F107,3,SE)))))
C108: =IF(OR(F108="",H108=""),"",IF(F108=H108,1,IF(F108<H108,0,IF(F108-H108<10,2,IF(F108>H108,3,SE))))) | D108: =V20 -> Barbosinhaas | G108: x | I108: =V31 -> Vascão Carangola | Q108: =IF(OR(H108="",F108=""),"",IF(H108=F108,1,IF(H108<F108,0,IF(H108-F108<10,2,IF(H108>F108,3,SE)))))
C109: =IF(OR(F109="",H109=""),"",IF(F109=H109,1,IF(F109<H109,0,IF(F109-H109<10,2,IF(F109>H109,3,SE))))) | D109: =V29 -> Barreirinha FC | G109: x | I109: =V23 -> TriangagemFC | Q109: =IF(OR(H109="",F109=""),"",IF(H109=F109,1,IF(H109<F109,0,IF(H109-F109<10,2,IF(H109>F109,3,SE)))))
C110: =IF(OR(F110="",H110=""),"",IF(F110=H110,1,IF(F110<H110,0,IF(F110-H110<10,2,IF(F110>H110,3,SE))))) | D110: =V30 -> Botafogo do HG | G110: x | I110: =V21 -> flurocha fc | Q110: =IF(OR(H110="",F110=""),"",IF(H110=F110,1,IF(H110<F110,0,IF(H110-F110<10,2,IF(H110>F110,3,SE)))))
C111: =IF(OR(F111="",H111=""),"",IF(F111=H111,1,IF(F111<H111,0,IF(F111-H111<10,2,IF(F111>H111,3,SE))))) | D111: =V25 -> Us Karas | G111: x | I111: =V26 -> NICKA SC | Q111: =IF(OR(H111="",F111=""),"",IF(H111=F111,1,IF(H111<F111,0,IF(H111-F111<10,2,IF(H111>F111,3,SE)))))
C112: =IF(OR(F112="",H112=""),"",IF(F112=H112,1,IF(F112<H112,0,IF(F112-H112<10,2,IF(F112>H112,3,SE))))) | Q112: =IF(OR(H112="",F112=""),"",IF(H112=F112,1,IF(H112<F112,0,IF(H112-F112<10,2,IF(H112>F112,3,SE)))))
C113: =IF(OR(F113="",H113=""),"",IF(F113=H113,1,IF(F113<H113,0,IF(F113-H113<10,2,IF(F113>H113,3,SE))))) | D113: 9ª RODADA - #28 | Q113: =IF(OR(H113="",F113=""),"",IF(H113=F113,1,IF(H113<F113,0,IF(H113-F113<10,2,IF(H113>F113,3,SE)))))
C114: =IF(OR(F114="",H114=""),"",IF(F114=H114,1,IF(F114<H114,0,IF(F114-H114<10,2,IF(F114>H114,3,SE))))) | Q114: =IF(OR(H114="",F114=""),"",IF(H114=F114,1,IF(H114<F114,0,IF(H114-F114<10,2,IF(H114>F114,3,SE)))))
C115: =IF(OR(F115="",H115=""),"",IF(F115=H115,1,IF(F115<H115,0,IF(F115-H115<10,2,IF(F115>H115,3,SE))))) | Q115: =IF(OR(H115="",F115=""),"",IF(H115=F115,1,IF(H115<F115,0,IF(H115-F115<10,2,IF(H115>F115,3,SE)))))
C116: =IF(OR(F116="",H116=""),"",IF(F116=H116,1,IF(F116<H116,0,IF(F116-H116<10,2,IF(F116>H116,3,SE))))) | D116: =V27 -> Glaa.VascodaaGamaa | G116: x | I116: =V30 -> Botafogo do HG | Q116: =IF(OR(H116="",F116=""),"",IF(H116=F116,1,IF(H116<F116,0,IF(H116-F116<10,2,IF(H116>F116,3,SE)))))
...

Sheet GRUPO 2
B2: 1º SUPERSOCAMPEONATO 2013
B6: 1ª FASE
D10: CLASSIFICAÇÃO
D15: OBS: Os 4 melhores colocados no Grupo se classificarão para a Oitavas de Finais.
D17: GRUPO 2
D19: Pos. | E19: CARTOLA | F19: P | H19: PP | J19: PC | L19: SP | O19: Legenda | U19: Pos. | V19: TIMES | W19: P | X19: GF | Y19: GC | Z19: SG | AA19: calc | AB19: maior | AC19: corresp
D20: 1º | E20: =VLOOKUP(AC20,$U$20:$AB$31,2) -> Bahia aju | F20: =VLOOKUP(AC20,$U$20:$AB$31,3) -> 14 | H20: =VLOOKUP(AC20,$U$20:$AB$31,4) -> 382 | J20: =VLOOKUP(AC20,$U$20:$AB$31,5) -> 306 | L20: =VLOOKUP(AC20,$U$20:$AB$31,6) -> 76 | O20: P - pontos | U20: 1 | V20: mathpalestra | W20: =SUM(C38,Q46,Q60,C71,Q78,C91,Q98,C108,Q120,C128,C140) -> 6 | X20: =SUM(F38,H46,H60,F71,H78,F91,H98,H120,F108,F128,F140) -> 199 | Y20: =SUM(H38,F46,F60,H71,F78,H91,F98,H108,F120,H128,H140) -> 339 | Z20: =X20-Y20 -> -140 | AA20: =(W20*10^10)+((X20+5000)*10^6)+(Z20*10)+U20 -> 65198998601 | AB20: =LARGE($AA$20:$AA$31,U20) -> 145382000768 | AC20: =MATCH(AB20,$AA$20:$AA$31,0) -> 8
D21: 2º | E21: =VLOOKUP(AC21,$U$20:$AB$31,2) -> Driblador F.C | F21: =VLOOKUP(AC21,$U$20:$AB$31,3) -> 13 | H21: =VLOOKUP(AC21,$U$20:$AB$31,4) -> 341 | J21: =VLOOKUP(AC21,$U$20:$AB$31,5) -> 207 | L21: =VLOOKUP(AC21,$U$20:$AB$31,6) -> 134 | O21: PPC - pontos pró Cartola | U21: 2 | V21: Marvada da cachaça | W21: =SUM(Q41,Q57,C69,C81,Q91,C50,C96,Q110,C118,C130,Q138) -> 8 | X21: =SUM(H41,F50,H57,F69,F81,H91,F96,H110,F118,F130,H138) -> 219 | Y21: =SUM(F41,H50,F57,H69,H81,F91,H96,F110,H118,H130,F138) -> 263 | Z21: =X21-Y21 -> -44 | AA21: =(W21*10^10)+((X21+5000)*10^6)+(Z21*10)+U21 -> 85218999562 | AB21: =LARGE($AA$20:$AA$31,U21) -> 135341001344 | AC21: =MATCH(AB21,$AA$20:$AA$31,0) -> 4
D22: 3º | E22: =VLOOKUP(AC22,$U$20:$AB$31,2) -> Sekishiki Mekai Ha | F22: =VLOOKUP(AC22,$U$20:$AB$31,3) -> 10 | H22: =VLOOKUP(AC22,$U$20:$AB$31,4) -> 338 | J22: =VLOOKUP(AC22,$U$20:$AB$31,5) -> 291 | L22: =VLOOKUP(AC22,$U$20:$AB$31,6) -> 47 | O22: PC - pontos contra Cartola | U22: 3 | V22: Xavecos UFC | W22: =SUM(C39,Q50,C60,C67,C99,Q77,Q86,Q107,C121,Q129,C137) -> 5 | X22: =SUM(F39,H50,F60,F67,H77,H86,F99,H107,F121,H129,F137) -> 241 | Y22: =SUM(H39,F50,H60,H67,F77,F86,H99,F107,H121,F129,H137) -> 315 | Z22: =X22-Y22 -> -74 | AA22: =(W22*10^10)+((X22+5000)*10^6)+(Z22*10)+U22 -> 55240999263 | AB22: =LARGE($AA$20:$AA$31,U22) -> 105338000476 | AC22: =MATCH(AB22,$AA$20:$AA$31,0) -> 6
D23: 4º | E23: =VLOOKUP(AC23,$U$20:$AB$31,2) -> ousadia e alegriaa1 | F23: =VLOOKUP(AC23,$U$20:$AB$31,3) -> 10 | H23: =VLOOKUP(AC23,$U$20:$AB$31,4) -> 317 | J23: =VLOOKUP(AC23,$U$20:$AB$31,5) -> 273 | L23: =VLOOKUP(AC23,$U$20:$AB$31,6) -> 44 | O23: SP - saldo de pontos | U23: 4 | V23: Driblador F.C | W23: =SUM(C41,C46,C68,Q76,Q58,Q109,Q87,C101,Q121,C126,Q139) -> 13 | X23: =SUM(F41,F46,H58,F68,H87,H109,H76,F101,H121,F126,H139) -> 341 | Y23: =SUM(H41,H46,H68,F58,F76,F87,H101,F109,F121,H126,F139) -> 207 | Z23: =X23-Y23 -> 134 | AA23: =(W23*10^10)+((X23+5000)*10^6)+(Z23*10)+U23 -> 135341001344 | AB23: =LARGE($AA$20:$AA$31,U23) -> 105317000450 | AC23: =MATCH(AB23,$AA$20:$AA$31,0) -> 10
D24: 5º | E24: =VLOOKUP(AC24,$U$20:$AB$31,2) -> É o ki tu merece | F24: =VLOOKUP(AC24,$U$20:$AB$31,3) -> 9 | H24: =VLOOKUP(AC24,$U$20:$AB$31,4) -> 347 | J24: =VLOOKUP(AC24,$U$20:$AB$31,5) -> 296 | L24: =VLOOKUP(AC24,$U$20:$AB$31,6) -> 51 | U24: 5 | V24: Botafogo Rocha | W24: =SUM(Q36,C47,Q56,C70,Q79,C89,Q101,C107,Q118,C127,Q140) -> 6 | X24: =SUM(H36,F47,H56,F70,H79,F89,H101,F107,H118,F127,H140) -> 262 | Y24: =SUM(F36,H47,F56,H70,F79,H89,F101,H107,F118,H127,F140) -> 335 | Z24: =X24-Y24 -> -73 | AA24: =(W24*10^10)+((X24+5000)*10^6)+(Z24*10)+U24 -> 65261999275 | AB24: =LARGE($AA$20:$AA$31,U24) -> 95347000519 | AC24: =MATCH(AB24,$AA$20:$AA$31,0) -> 9
D25: 6º | E25: =VLOOKUP(AC25,$U$20:$AB$31,2) -> Soccer Italy | F25: =VLOOKUP(AC25,$U$20:$AB$31,3) -> 9 | H25: =VLOOKUP(AC25,$U$20:$AB$31,4) -> 334 | J25: =VLOOKUP(AC25,$U$20:$AB$31,5) -> 319 | L25: =VLOOKUP(AC25,$U$20:$AB$31,6) -> 15 | O25: CRITÉRIO DE DESEMPATE | U25: 6 | V25: Sekishiki Mekai Ha | W25: =SUM(Q38,C49,C57,Q70,C76,Q90,C100,C111,Q117,C131,Q137) -> 10 | X25: =SUM(H38,F49,F57,H70,F76,H90,F100,F111,H117,F131,H137) -> 338 | Y25: =SUM(F38,H49,H57,F70,H76,F90,H100,H111,F117,H131,F137) -> 291 | Z25: =X25-Y25 -> 47 | AA25: =(W25*10^10)+((X25+5000)*10^6)+(Z25*10)+U25 -> 105338000476 | AB25: =LARGE($AA$20:$AA$31,U25) -> 95334000162 | AC25: =MATCH(AB25,$AA$20:$AA$31,0) -> 12
D26: 7º | E26: =VLOOKUP(AC26,$U$20:$AB$31,2) -> comicu | F26: =VLOOKUP(AC26,$U$20:$AB$31,3) -> 8 | H26: =VLOOKUP(AC26,$U$20:$AB$31,4) -> 355 | J26: =VLOOKUP(AC26,$U$20:$AB$31,5) -> 290 | L26: =VLOOKUP(AC26,$U$20:$AB$31,6) -> 65 | O26: 1 - pontos | U26: 7 | V26: comicu | W26: =SUM(Q40,Q47,C59,C66,Q81,C87,C98,Q111,Q119,C129,Q136) -> 8 | X26: =SUM(H40,H47,F59,F66,H81,F87,F98,H111,H119,F129,H136) -> 355 | Y26: =SUM(F40,F47,H59,H66,F81,H87,H98,F119,H129,F136) -> 290 | Z26: =X26-Y26 -> 65 | AA26: =(W26*10^10)+((X26+5000)*10^6)+(Z26*10)+U26 -> 85355000657 | AB26: =LARGE($AA$20:$AA$31,U26) -> 85355000657 | AC26: =MATCH(AB26,$AA$20:$AA$31,0) -> 7
D27: 8º | E27: =VLOOKUP(AC27,$U$20:$AB$31,2) -> Marvada da cachaça | F27: =VLOOKUP(AC27,$U$20:$AB$31,3) -> 8 | H27: =VLOOKUP(AC27,$U$20:$AB$31,4) -> 219 | J27: =VLOOKUP(AC27,$U$20:$AB$31,5) -> 263 | L27: =VLOOKUP(AC27,$U$20:$AB$31,6) -> -44 | O27: 2 - pontos pró Cartola | U27: 8 | V27: Bahia aju | W27: =SUM(Q39,Q48,C61,Q66,C79,C90,Q96,C106,C116,Q128,C139) -> 14 | X27: =SUM(H39,H48,F61,H66,F79,F90,H96,F106,F116,H128,F139) -> 382 | Y27: =SUM(F39,F48,F66,H61,H79,H90,F96,H106,H116,F128,H139) -> 306 | Z27: =X27-Y27 -> 76 | AA27: =(W27*10^10)+((X27+5000)*10^6)+(Z27*10)+U27 -> 145382000768 | AB27: =LARGE($AA$20:$AA$31,U27) -> 85218999562 | AC27: =MATCH(AB27,$AA$20:$AA$31,0) -> 2
D28: 9º | E28: =VLOOKUP(AC28,$U$20:$AB$31,2) -> Botafogo Rocha | F28: =VLOOKUP(AC28,$U$20:$AB$31,3) -> 6 | H28: =VLOOKUP(AC28,$U$20:$AB$31,4) -> 262 | J28: =VLOOKUP(AC28,$U$20:$AB$31,5) -> 335 | L28: =VLOOKUP(AC28,$U$20:$AB$31,6) -> -73 | O28: 3 - saldo de pontos | U28: 9 | V28: É o ki tu merece | W28: =SUM(C37,Q49,C56,Q69,C77,Q88,C97,Q106,C120,Q126,C136) -> 9 | X28: =SUM(F37,H49,F56,H69,F77,H88,F97,H106,F120,H126,F136) -> 347 | Y28: =SUM(H37,F49,H56,F69,H77,F88,H97,F106,H120,F126,H136) -> 296 | Z28: =X28-Y28 -> 51 | AA28: =(W28*10^10)+((X28+5000)*10^6)+(Z28*10)+U28 -> 95347000519 | AB28: =LARGE($AA$20:$AA$31,U28) -> 65261999275 | AC28: =MATCH(AB28,$AA$20:$AA$31,0) -> 5
D29: 10º | E29: =VLOOKUP(AC29,$U$20:$AB$31,2) -> mathpalestra | F29: =VLOOKUP(AC29,$U$20:$AB$31,3) -> 6 | H29: =VLOOKUP(AC29,$U$20:$AB$31,4) -> 199 | J29: =VLOOKUP(AC29,$U$20:$AB$31,5) -> 339 | L29: =VLOOKUP(AC29,$U$20:$AB$31,6) -> -140 | O29: 4 - pontos contra Cartola | U29: 10 | V29: ousadia e alegriaa1 | W29: =SUM(Q37,C48,Q59,Q71,C80,Q89,Q99,C109,C117,Q130,Q141) -> 10 | X29: =SUM(H37,F48,H59,H71,F80,H89,H99,F109,F117,H130,H141) -> 317 | Y29: =SUM(F37,H48,F59,F71,H80,F89,F99,H109,H117,F130,F141) -> 273 | Z29: =X29-Y29 -> 44 | AA29: =(W29*10^10)+((X29+5000)*10^6)+(Z29*10)+U29 -> 105317000450 | AB29: =LARGE($AA$20:$AA$31,U29) -> 65198998601 | AC29: =MATCH(AB29,$AA$20:$AA$31,0) -> 1
D30: 11º | E30: =VLOOKUP(AC30,$U$20:$AB$31,2) -> Xavecos UFC | F30: =VLOOKUP(AC30,$U$20:$AB$31,3) -> 5 | H30: =VLOOKUP(AC30,$U$20:$AB$31,4) -> 241 | J30: =VLOOKUP(AC30,$U$20:$AB$31,5) -> 315 | L30: =VLOOKUP(AC30,$U$20:$AB$31,6) -> -74 | U30: 11 | V30: Engenheirense | W30: =SUM(C40,Q51,C58,Q67,C78,C88,Q100,C110,Q116,Q127,C141) -> 0 | X30: =SUM(F40,H51,F58,H67,F78,H100,F110,H116,H127,F141,F88) -> 289 | Y30: =SUM(H40,F51,H58,F67,H78,H88,F100,H110,F116,F127,H141) -> 390 | Z30: =X30-Y30 -> -101 | AA30: =(W30*10^10)+((X30+5000)*10^6)+(Z30*10)+U30 -> 5288999001 | AB30: =LARGE($AA$20:$AA$31,U30) -> 55240999263 | AC30: =MATCH(AB30,$AA$20:$AA$31,0) -> 3
D31: 12º | E31: =VLOOKUP(AC31,$U$20:$AB$31,2) -> Engenheirense | F31: =VLOOKUP(AC31,$U$20:$AB$31,3) -> 0 | H31: =VLOOKUP(AC31,$U$20:$AB$31,4) -> 289 | J31: =VLOOKUP(AC31,$U$20:$AB$31,5) -> 390 | L31: =VLOOKUP(AC31,$U$20:$AB$31,6) -> -101 | U31: 12 | V31: Soccer Italy | W31: =SUM(C36,C51,Q61,Q68,Q80,C86,Q97,Q108,C119,Q131,C138) -> 9 | X31: =SUM(F36,F51,H61,H68,H80,F86,H97,H108,F119,H131,F138) -> 334 | Y31: =SUM(H36,H51,F61,F68,F80,H86,F97,F108,H119,F131,H138) -> 319 | Z31: =X31-Y31 -> 15 | AA31: =(W31*10^10)+((X31+5000)*10^6)+(Z31*10)+U31 -> 95334000162 | AB31: =LARGE($AA$20:$AA$31,U31) -> 5288999001 | AC31: =MATCH(AB31,$AA$20:$AA$31,0) -> 11
D33: 1ª RODADA - #20
C36: =IF(OR(F36="",H36=""),"",IF(F36=H36,1,IF(F36<H36,0,IF(F36-H36<10,2,IF(F36>H36,3,SE))))) -> 0 | D36: =V31 -> Soccer Italy | F36: 37 | G36: x | H36: 47 | I36: =V24 -> Botafogo Rocha | Q36: =IF(OR(H36="",F36=""),"",IF(H36=F36,1,IF(H36<F36,0,IF(H36-F36<10,2,IF(H36>F36,3,SE))))) -> 3
C37: =IF(OR(F37="",H37=""),"",IF(F37=H37,1,IF(F37<H37,0,IF(F37-H37<10,2,IF(F37>H37,3,SE))))) -> 0 | D37: =V28 -> É o ki tu merece | F37: 59 | G37: x | H37: 68 | I37: =V29 -> ousadia e alegriaa1 | Q37: =IF(OR(H37="",F37=""),"",IF(H37=F37,1,IF(H37<F37,0,IF(H37-F37<10,2,IF(H37>F37,3,SE))))) -> 2
C38: =IF(OR(F38="",H38=""),"",IF(F38=H38,1,IF(F38<H38,0,IF(F38-H38<10,2,IF(F38>H38,3,SE))))) -> 0 | D38: =V20 -> mathpalestra | F38: 21 | G38: x | H38: 59 | I38: =V25 -> Sekishiki Mekai Ha | Q38: =IF(OR(H38="",F38=""),"",IF(H38=F38,1,IF(H38<F38,0,IF(H38-F38<10,2,IF(H38>F38,3,SE))))) -> 3
C39: =IF(OR(F39="",H39=""),"",IF(F39=H39,1,IF(F39<H39,0,IF(F39-H39<10,2,IF(F39>H39,3,SE))))) -> 0 | D39: =V22 -> Xavecos UFC | F39: 29 | G39: x | H39: 62 | I39: =V27 -> Bahia aju | Q39: =IF(OR(H39="",F39=""),"",IF(H39=F39,1,IF(H39<F39,0,IF(H39-F39<10,2,IF(H39>F39,3,SE))))) -> 3
C40: =IF(OR(F40="",H40=""),"",IF(F40=H40,1,IF(F40<H40,0,IF(F40-H40<10,2,IF(F40>H40,3,SE))))) -> 0 | D40: =V30 -> Engenheirense | F40: 51 | G40: x | H40: 53 | I40: =V26 -> comicu | Q40: =IF(OR(H40="",F40=""),"",IF(H40=F40,1,IF(H40<F40,0,IF(H40-F40<10,2,IF(H40>F40,3,SE))))) -> 2
C41: =IF(OR(F41="",H41=""),"",IF(F41=H41,1,IF(F41<H41,0,IF(F41-H41<10,2,IF(F41>H41,3,SE))))) -> 3 | D41: =V23 -> Driblador F.C | F41: 63 | G41: x | H41: 15 | I41: =V21 -> Marvada da cachaça | Q41: =IF(OR(H41="",F41=""),"",IF(H41=F41,1,IF(H41<F41,0,IF(H41-F41<10,2,IF(H41>F41,3,SE))))) -> 0
C42: =IF(OR(F42="",H42=""),"",IF(F42=H42,1,IF(F42<H42,0,IF(F42-H42<10,2,IF(F42>H42,3,SE))))) | Q42: =IF(OR(H42="",F42=""),"",IF(H42=F42,1,IF(H42<F42,0,IF(H42-F42<10,2,IF(H42>F42,3,SE)))))
C43: =IF(OR(F43="",H43=""),"",IF(F43=H43,1,IF(F43<H43,0,IF(F43-H43<10,2,IF(F43>H43,3,SE))))) | D43: 2ª RODADA - #21 | Q43: =IF(OR(H43="",F43=""),"",IF(H43=F43,1,IF(H43<F43,0,IF(H43-F43<10,2,IF(H43>F43,3,SE)))))
C44: =IF(OR(F44="",H44=""),"",IF(F44=H44,1,IF(F44<H44,0,IF(F44-H44<10,2,IF(F44>H44,3,SE))))) | Q44: =IF(OR(H44="",F44=""),"",IF(H44=F44,1,IF(H44<F44,0,IF(H44-F44<10,2,IF(H44>F44,3,SE)))))
C45: =IF(OR(F45="",H45=""),"",IF(F45=H45,1,IF(F45<H45,0,IF(F45-H45<10,2,IF(F45>H45,3,SE))))) | Q45: =IF(OR(H45="",F45=""),"",IF(H45=F45,1,IF(H45<F45,0,IF(H45-F45<10,2,IF(H45>F45,3,SE)))))
C46: =IF(OR(F46="",H46=""),"",IF(F46=H46,1,IF(F46<H46,0,IF(F46-H46<10,2,IF(F46>H46,3,SE))))) -> 3 | D46: =V23 -> Driblador F.C | F46: 91 | G46: x | H46: 15 | I46: =V20 -> mathpalestra | Q46: =IF(OR(H46="",F46=""),"",IF(H46=F46,1,IF(H46<F46,0,IF(H46-F46<10,2,IF(H46>F46,3,SE))))) -> 0
C47: =IF(OR(F47="",H47=""),"",IF(F47=H47,1,IF(F47<H47,0,IF(F47-H47<10,2,IF(F47>H47,3,SE))))) -> 0 | D47: =V24 -> Botafogo Rocha | F47: 42 | G47: x | H47: 79 | I47: =V26 -> comicu | Q47: =IF(OR(H47="",F47=""),"",IF(H47=F47,1,IF(H47<F47,0,IF(H47-F47<10,2,IF(H47>F47,3,SE))))) -> 3
C48: =IF(OR(F48="",H48=""),"",IF(F48=H48,1,IF(F48<H48,0,IF(F48-H48<10,2,IF(F48>H48,3,SE))))) -> 0 | D48: =V29 -> ousadia e alegriaa1 | F48: 55 | G48: x | H48: 69 | I48: =V27 -> Bahia aju | Q48: =IF(OR(H48="",F48=""),"",IF(H48=F48,1,IF(H48<F48,0,IF(H48-F48<10,2,IF(H48>F48,3,SE))))) -> 3
C49: =IF(OR(F49="",H49=""),"",IF(F49=H49,1,IF(F49<H49,0,IF(F49-H49<10,2,IF(F49>H49,3,SE))))) -> 0 | D49: =V25 -> Sekishiki Mekai Ha | F49: 63 | G49: x | H49: 73 | I49: =V28 -> É o ki tu merece | Q49: =IF(OR(H49="",F49=""),"",IF(H49=F49,1,IF(H49<F49,0,IF(H49-F49<10,2,IF(H49>F49,3,SE))))) -> 3
C50: =IF(OR(F50="",H50=""),"",IF(F50=H50,1,IF(F50<H50,0,IF(F50-H50<10,2,IF(F50>H50,3,SE))))) -> 3 | D50: =V21 -> Marvada da cachaça | F50: 68 | G50: x | H50: 29 | I50: =V22 -> Xavecos UFC | Q50: =IF(OR(H50="",F50=""),"",IF(H50=F50,1,IF(H50<F50,0,IF(H50-F50<10,2,IF(H50>F50,3,SE))))) -> 0
C51: =IF(OR(F51="",H51=""),"",IF(F51=H51,1,IF(F51<H51,0,IF(F51-H51<10,2,IF(F51>H51,3,SE))))) -> 3 | D51: =V31 -> Soccer Italy | F51: 101 | G51: x | H51: 68 | I51: =V30 -> Engenheirense | Q51: =IF(OR(H51="",F51=""),"",IF(H51=F51,1,IF(H51<F51,0,IF(H51-F51<10,2,IF(H51>F51,3,SE))))) -> 0
C52: =IF(OR(F52="",H52=""),"",IF(F52=H52,1,IF(F52<H52,0,IF(F52-H52<10,2,IF(F52>H52,3,SE))))) | Q52: =IF(OR(H52="",F52=""),"",IF(H52=F52,1,IF(H52<F52,0,IF(H52-F52<10,2,IF(H52>F52,3,SE)))))
C53: =IF(OR(F53="",H53=""),"",IF(F53=H53,1,IF(F53<H53,0,IF(F53-H53<10,2,IF(F53>H53,3,SE))))) | D53: 3ª RODADA - #22 | Q53: =IF(OR(H53="",F53=""),"",IF(H53=F53,1,IF(H53<F53,0,IF(H53-F53<10,2,IF(H53>F53,3,SE)))))
C54: =IF(OR(F54="",H54=""),"",IF(F54=H54,1,IF(F54<H54,0,IF(F54-H54<10,2,IF(F54>H54,3,SE))))) | Q54: =IF(OR(H54="",F54=""),"",IF(H54=F54,1,IF(H54<F54,0,IF(H54-F54<10,2,IF(H54>F54,3,SE)))))
C55: =IF(OR(F55="",H55=""),"",IF(F55=H55,1,IF(F55<H55,0,IF(F55-H55<10,2,IF(F55>H55,3,SE))))) | Q55: =IF(OR(H55="",F55=""),"",IF(H55=F55,1,IF(H55<F55,0,IF(H55-F55<10,2,IF(H55>F55,3,SE)))))
C56: =IF(OR(F56="",H56=""),"",IF(F56=H56,1,IF(F56<H56,0,IF(F56-H56<10,2,IF(F56>H56,3,SE))))) -> 3 | D56: =V28 -> É o ki tu merece | F56: 56 | G56: x | H56: 26 | I56: =V24 -> Botafogo Rocha | Q56: =IF(OR(H56="",F56=""),"",IF(H56=F56,1,IF(H56<F56,0,IF(H56-F56<10,2,IF(H56>F56,3,SE))))) -> 0
C57: =IF(OR(F57="",H57=""),"",IF(F57=H57,1,IF(F57<H57,0,IF(F57-H57<10,2,IF(F57>H57,3,SE))))) -> 1 | D57: =V25 -> Sekishiki Mekai Ha | F57: 36 | G57: x | H57: 36 | I57: =V21 -> Marvada da cachaça | Q57: =IF(OR(H57="",F57=""),"",IF(H57=F57,1,IF(H57<F57,0,IF(H57-F57<10,2,IF(H57>F57,3,SE))))) -> 1
C58: =IF(OR(F58="",H58=""),"",IF(F58=H58,1,IF(F58<H58,0,IF(F58-H58<10,2,IF(F58>H58,3,SE))))) -> 0 | D58: =V30 -> Engenheirense | F58: 25 | G58: x | H58: 34 | I58: =V23 -> Driblador F.C | Q58: =IF(OR(H58="",F58=""),"",IF(H58=F58,1,IF(H58<F58,0,IF(H58-F58<10,2,IF(H58>F58,3,SE))))) -> 2
C59: =IF(OR(F59="",H59=""),"",IF(F59=H59,1,IF(F59<H59,0,IF(F59-H59<10,2,IF(F59>H59,3,SE))))) -> 0 | D59: =V26 -> comicu | F59: 40 | G59: x | H59: 46 | I59: =V29 -> ousadia e alegriaa1 | Q59: =IF(OR(H59="",F59=""),"",IF(H59=F59,1,IF(H59<F59,0,IF(H59-F59<10,2,IF(H59>F59,3,SE))))) -> 2
C60: =IF(OR(F60="",H60=""),"",IF(F60=H60,1,IF(F60<H60,0,IF(F60-H60<10,2,IF(F60>H60,3,SE))))) -> 0 | D60: =V22 -> Xavecos UFC | F60: 46 | G60: x | H60: 47 | I60: =V20 -> mathpalestra | Q60: =IF(OR(H60="",F60=""),"",IF(H60=F60,1,IF(H60<F60,0,IF(H60-F60<10,2,IF(H60>F60,3,SE))))) -> 2
C61: =IF(OR(F61="",H61=""),"",IF(F61=H61,1,IF(F61<H61,0,IF(F61-H61<10,2,IF(F61>H61,3,SE))))) -> 0 | D61: =V27 -> Bahia aju | F61: 33 | G61: x | H61: 45 | I61: =V31 -> Soccer Italy | Q61: =IF(OR(H61="",F61=""),"",IF(H61=F61,1,IF(H61<F61,0,IF(H61-F61<10,2,IF(H61>F61,3,SE))))) -> 3
C62: =IF(OR(F62="",H62=""),"",IF(F62=H62,1,IF(F62<H62,0,IF(F62-H62<10,2,IF(F62>H62,3,SE))))) | Q62: =IF(OR(H62="",F62=""),"",IF(H62=F62,1,IF(H62<F62,0,IF(H62-F62<10,2,IF(H62>F62,3,SE)))))
C63: =IF(OR(F63="",H63=""),"",IF(F63=H63,1,IF(F63<H63,0,IF(F63-H63<10,2,IF(F63>H63,3,SE))))) | D63: 4ª RODADA - #23 | Q63: =IF(OR(H63="",F63=""),"",IF(H63=F63,1,IF(H63<F63,0,IF(H63-F63<10,2,IF(H63>F63,3,SE)))))
C64: =IF(OR(F64="",H64=""),"",IF(F64=H64,1,IF(F64<H64,0,IF(F64-H64<10,2,IF(F64>H64,3,SE))))) | Q64: =IF(OR(H64="",F64=""),"",IF(H64=F64,1,IF(H64<F64,0,IF(H64-F64<10,2,IF(H64>F64,3,SE)))))
C65: =IF(OR(F65="",H65=""),"",IF(F65=H65,1,IF(F65<H65,0,IF(F65-H65<10,2,IF(F65>H65,3,SE))))) | Q65: =IF(OR(H65="",F65=""),"",IF(H65=F65,1,IF(H65<F65,0,IF(H65-F65<10,2,IF(H65>F65,3,SE)))))
C66: =IF(OR(F66="",H66=""),"",IF(F66=H66,1,IF(F66<H66,0,IF(F66-H66<10,2,IF(F66>H66,3,SE))))) -> 0 | D66: =V26 -> comicu | F66: 72 | G66: x | H66: 79 | I66: =V27 -> Bahia aju | Q66: =IF(OR(H66="",F66=""),"",IF(H66=F66,1,IF(H66<F66,0,IF(H66-F66<10,2,IF(H66>F66,3,SE))))) -> 2
C67: =IF(OR(F67="",H67=""),"",IF(F67=H67,1,IF(F67<H67,0,IF(F67-H67<10,2,IF(F67>H67,3,SE))))) -> 2 | D67: =V22 -> Xavecos UFC | F67: 50 | G67: x | H67: 49 | I67: =V30 -> Engenheirense | Q67: =IF(OR(H67="",F67=""),"",IF(H67=F67,1,IF(H67<F67,0,IF(H67-F67<10,2,IF(H67>F67,3,SE))))) -> 0
C68: =IF(OR(F68="",H68=""),"",IF(F68=H68,1,IF(F68<H68,0,IF(F68-H68<10,2,IF(F68>H68,3,SE))))) -> 3 | D68: =V23 -> Driblador F.C | F68: 75 | G68: x | H68: 64 | I68: =V31 -> Soccer Italy | Q68: =IF(OR(H68="",F68=""),"",IF(H68=F68,1,IF(H68<F68,0,IF(H68-F68<10,2,IF(H68>F68,3,SE))))) -> 0
C69: =IF(OR(F69="",H69=""),"",IF(F69=H69,1,IF(F69<H69,0,IF(F69-H69<10,2,IF(F69>H69,3,SE))))) -> 3 | D69: =V21 -> Marvada da cachaça | F69: 40 | G69: x | H69: 30 | I69: =V28 -> É o ki tu merece | Q69: =IF(OR(H69="",F69=""),"",IF(H69=F69,1,IF(H69<F69,0,IF(H69-F69<10,2,IF(H69>F69,3,SE))))) -> 0
C70: =IF(OR(F70="",H70=""),"",IF(F70=H70,1,IF(F70<H70,0,IF(F70-H70<10,2,IF(F70>H70,3,SE))))) -> 0 | D70: =V24 -> Botafogo Rocha | F70: 53 | G70: x | H70: 73 | I70: =V25 -> Sekishiki Mekai Ha | Q70: =IF(OR(H70="",F70=""),"",IF(H70=F70,1,IF(H70<F70,0,IF(H70-F70<10,2,IF(H70>F70,3,SE))))) -> 3
C71: =IF(OR(F71="",H71=""),"",IF(F71=H71,1,IF(F71<H71,0,IF(F71-H71<10,2,IF(F71>H71,3,SE))))) -> 0 | D71: =V20 -> mathpalestra | F71: 14 | G71: x | H71: 55 | I71: =V29 -> ousadia e alegriaa1 | Q71: =IF(OR(H71="",F71=""),"",IF(H71=F71,1,IF(H71<F71,0,IF(H71-F71<10,2,IF(H71>F71,3,SE))))) -> 3
C72: =IF(OR(F72="",H72=""),"",IF(F72=H72,1,IF(F72<H72,0,IF(F72-H72<10,2,IF(F72>H72,3,SE))))) | Q72: =IF(OR(H72="",F72=""),"",IF(H72=F72,1,IF(H72<F72,0,IF(H72-F72<10,2,IF(H72>F72,3,SE)))))
C73: =IF(OR(F73="",H73=""),"",IF(F73=H73,1,IF(F73<H73,0,IF(F73-H73<10,2,IF(F73>H73,3,SE))))) | D73: 5ª RODADA - #24 | Q73: =IF(OR(H73="",F73=""),"",IF(H73=F73,1,IF(H73<F73,0,IF(H73-F73<10,2,IF(H73>F73,3,SE)))))
C74: =IF(OR(F74="",H74=""),"",IF(F74=H74,1,IF(F74<H74,0,IF(F74-H74<10,2,IF(F74>H74,3,SE))))) | Q74: =IF(OR(H74="",F74=""),"",IF(H74=F74,1,IF(H74<F74,0,IF(H74-F74<10,2,IF(H74>F74,3,SE)))))
C75: =IF(OR(F75="",H75=""),"",IF(F75=H75,1,IF(F75<H75,0,IF(F75-H75<10,2,IF(F75>H75,3,SE))))) | Q75: =IF(OR(H75="",F75=""),"",IF(H75=F75,1,IF(H75<F75,0,IF(H75-F75<10,2,IF(H75>F75,3,SE)))))
C76: =IF(OR(F76="",H76=""),"",IF(F76=H76,1,IF(F76<H76,0,IF(F76-H76<10,2,IF(F76>H76,3,SE))))) -> 3 | D76: =V25 -> Sekishiki Mekai Ha | F76: 46 | G76: x | H76: 30 | I76: =V23 -> Driblador F.C | Q76: =IF(OR(H76="",F76=""),"",IF(H76=F76,1,IF(H76<F76,0,IF(H76-F76<10,2,IF(H76>F76,3,SE))))) -> 0
C77: =IF(OR(F77="",H77=""),"",IF(F77=H77,1,IF(F77<H77,0,IF(F77-H77<10,2,IF(F77>H77,3,SE))))) -> 0 | D77: =V28 -> É o ki tu merece | F77: 43 | G77: x | H77: 55 | I77: =V22 -> Xavecos UFC | Q77: =IF(OR(H77="",F77=""),"",IF(H77=F77,1,IF(H77<F77,0,IF(H77-F77<10,2,IF(H77>F77,3,SE))))) -> 3
C78: =IF(OR(F78="",H78=""),"",IF(F78=H78,1,IF(F78<H78,0,IF(F78-H78<10,2,IF(F78>H78,3,SE))))) -> 0 | D78: =V30 -> Engenheirense | F78: 52 | G78: x | H78: 66 | I78: =V20 -> mathpalestra | Q78: =IF(OR(H78="",F78=""),"",IF(H78=F78,1,IF(H78<F78,0,IF(H78-F78<10,2,IF(H78>F78,3,SE))))) -> 3
C79: =IF(OR(F79="",H79=""),"",IF(F79=H79,1,IF(F79<H79,0,IF(F79-H79<10,2,IF(F79>H79,3,SE))))) -> 3 | D79: =V27 -> Bahia aju | F79: 61 | G79: x | H79: 44 | I79: =V24 -> Botafogo Rocha | Q79: =IF(OR(H79="",F79=""),"",IF(H79=F79,1,IF(H79<F79,0,IF(H79-F79<10,2,IF(H79>F79,3,SE))))) -> 0
C80: =IF(OR(F80="",H80=""),"",IF(F80=H80,1,IF(F80<H80,0,IF(F80-H80<10,2,IF(F80>H80,3,SE))))) -> 3 | D80: =V29 -> ousadia e alegriaa1 | F80: 64 | G80: x | H80: 41 | I80: =V31 -> Soccer Italy | Q80: =IF(OR(H80="",F80=""),"",IF(H80=F80,1,IF(H80<F80,0,IF(H80-F80<10,2,IF(H80>F80,3,SE))))) -> 0
C81: =IF(OR(F81="",H81=""),"",IF(F81=H81,1,IF(F81<H81,0,IF(F81-H81<10,2,IF(F81>H81,3,SE))))) -> 0 | D81: =V21 -> Marvada da cachaça | F81: 24 | G81: x | H81: 69 | I81: =V26 -> comicu | Q81: =IF(OR(H81="",F81=""),"",IF(H81=F81,1,IF(H81<F81,0,IF(H81-F81<10,2,IF(H81>F81,3,SE))))) -> 3
C82: =IF(OR(F82="",H82=""),"",IF(F82=H82,1,IF(F82<H82,0,IF(F82-H82<10,2,IF(F82>H82,3,SE))))) | Q82: =IF(OR(H82="",F82=""),"",IF(H82=F82,1,IF(H82<F82,0,IF(H82-F82<10,2,IF(H82>F82,3,SE)))))
C83: =IF(OR(F83="",H83=""),"",IF(F83=H83,1,IF(F83<H83,0,IF(F83-H83<10,2,IF(F83>H83,3,SE))))) | D83: 6ª RODADA - #25 | Q83: =IF(OR(H83="",F83=""),"",IF(H83=F83,1,IF(H83<F83,0,IF(H83-F83<10,2,IF(H83>F83,3,SE)))))
C84: =IF(OR(F84="",H84=""),"",IF(F84=H84,1,IF(F84<H84,0,IF(F84-H84<10,2,IF(F84>H84,3,SE))))) | Q84: =IF(OR(H84="",F84=""),"",IF(H84=F84,1,IF(H84<F84,0,IF(H84-F84<10,2,IF(H84>F84,3,SE)))))
C85: =IF(OR(F85="",H85=""),"",IF(F85=H85,1,IF(F85<H85,0,IF(F85-H85<10,2,IF(F85>H85,3,SE))))) | Q85: =IF(OR(H85="",F85=""),"",IF(H85=F85,1,IF(H85<F85,0,IF(H85-F85<10,2,IF(H85>F85,3,SE)))))
C86: =IF(OR(F86="",H86=""),"",IF(F86=H86,1,IF(F86<H86,0,IF(F86-H86<10,2,IF(F86>H86,3,SE))))) -> 3 | D86: =V31 -> Soccer Italy | F86: 46 | G86: x | H86: 32 | I86: =V22 -> Xavecos UFC | Q86: =IF(OR(H86="",F86=""),"",IF(H86=F86,1,IF(H86<F86,0,IF(H86-F86<10,2,IF(H86>F86,3,SE))))) -> 0
C87: =IF(OR(F87="",H87=""),"",IF(F87=H87,1,IF(F87<H87,0,IF(F87-H87<10,2,IF(F87>H87,3,SE))))) -> 0 | D87: =V26 -> comicu | F87: 42 | G87: x | H87: 48 | I87: =V23 -> Driblador F.C | Q87: =IF(OR(H87="",F87=""),"",IF(H87=F87,1,IF(H87<F87,0,IF(H87-F87<10,2,IF(H87>F87,3,SE))))) -> 2
C88: =IF(OR(F88="",H88=""),"",IF(F88=H88,1,IF(F88<H88,0,IF(F88-H88<10,2,IF(F88>H88,3,SE))))) -> 0 | D88: =V30 -> Engenheirense | F88: 44 | G88: x | H88: 86 | I88: =V28 -> É o ki tu merece | Q88: =IF(OR(H88="",F88=""),"",IF(H88=F88,1,IF(H88<F88,0,IF(H88-F88<10,2,IF(H88>F88,3,SE))))) -> 3
C89: =IF(OR(F89="",H89=""),"",IF(F89=H89,1,IF(F89<H89,0,IF(F89-H89<10,2,IF(F89>H89,3,SE))))) -> 3 | D89: =V24 -> Botafogo Rocha | F89: 50 | G89: x | H89: 29 | I89: =V29 -> ousadia e alegriaa1 | Q89: =IF(OR(H89="",F89=""),"",IF(H89=F89,1,IF(H89<F89,0,IF(H89-F89<10,2,IF(H89>F89,3,SE))))) -> 0
C90: =IF(OR(F90="",H90=""),"",IF(F90=H90,1,IF(F90<H90,0,IF(F90-H90<10,2,IF(F90>H90,3,SE))))) -> 3 | D90: =V27 -> Bahia aju | F90: 78 | G90: x | H90: 61 | I90: =V25 -> Sekishiki Mekai Ha | Q90: =IF(OR(H90="",F90=""),"",IF(H90=F90,1,IF(H90<F90,0,IF(H90-F90<10,2,IF(H90>F90,3,SE))))) -> 0
C91: =IF(OR(F91="",H91=""),"",IF(F91=H91,1,IF(F91<H91,0,IF(F91-H91<10,2,IF(F91>H91,3,SE))))) -> 1 | D91: =V20 -> mathpalestra | F91: 36 | G91: x | H91: 36 | I91: =V21 -> Marvada da cachaça | Q91: =IF(OR(H91="",F91=""),"",IF(H91=F91,1,IF(H91<F91,0,IF(H91-F91<10,2,IF(H91>F91,3,SE))))) -> 1
C92: =IF(OR(F92="",H92=""),"",IF(F92=H92,1,IF(F92<H92,0,IF(F92-H92<10,2,IF(F92>H92,3,SE))))) | Q92: =IF(OR(H92="",F92=""),"",IF(H92=F92,1,IF(H92<F92,0,IF(H92-F92<10,2,IF(H92>F92,3,SE)))))
C93: =IF(OR(F93="",H93=""),"",IF(F93=H93,1,IF(F93<H93,0,IF(F93-H93<10,2,IF(F93>H93,3,SE))))) | D93: 7ª RODADA - #26 | Q93: =IF(OR(H93="",F93=""),"",IF(H93=F93,1,IF(H93<F93,0,IF(H93-F93<10,2,IF(H93>F93,3,SE)))))
C94: =IF(OR(F94="",H94=""),"",IF(F94=H94,1,IF(F94<H94,0,IF(F94-H94<10,2,IF(F94>H94,3,SE))))) | Q94: =IF(OR(H94="",F94=""),"",IF(H94=F94,1,IF(H94<F94,0,IF(H94-F94<10,2,IF(H94>F94,3,SE)))))
C95: =IF(OR(F95="",H95=""),"",IF(F95=H95,1,IF(F95<H95,0,IF(F95-H95<10,2,IF(F95>H95,3,SE))))) | Q95: =IF(OR(H95="",F95=""),"",IF(H95=F95,1,IF(H95<F95,0,IF(H95-F95<10,2,IF(H95>F95,3,SE)))))
C96: =IF(OR(F96="",H96=""),"",IF(F96=H96,1,IF(F96<H96,0,IF(F96-H96<10,2,IF(F96>H96,3,SE))))) | D96: =V21 -> Marvada da cachaça | G96: x | I96: =V27 -> Bahia aju | Q96: =IF(OR(H96="",F96=""),"",IF(H96=F96,1,IF(H96<F96,0,IF(H96-F96<10,2,IF(H96>F96,3,SE)))))
C97: =IF(OR(F97="",H97=""),"",IF(F97=H97,1,IF(F97<H97,0,IF(F97-H97<10,2,IF(F97>H97,3,SE))))) | D97: =V28 -> É o ki tu merece | G97: x | I97: =V31 -> Soccer Italy | Q97: =IF(OR(H97="",F97=""),"",IF(H97=F97,1,IF(H97<F97,0,IF(H97-F97<10,2,IF(H97>F97,3,SE)))))
C98: =IF(OR(F98="",H98=""),"",IF(F98=H98,1,IF(F98<H98,0,IF(F98-H98<10,2,IF(F98>H98,3,SE))))) | D98: =V26 -> comicu | G98: x | I98: =V20 -> mathpalestra | Q98: =IF(OR(H98="",F98=""),"",IF(H98=F98,1,IF(H98<F98,0,IF(H98-F98<10,2,IF(H98>F98,3,SE)))))
C99: =IF(OR(F99="",H99=""),"",IF(F99=H99,1,IF(F99<H99,0,IF(F99-H99<10,2,IF(F99>H99,3,SE))))) | D99: =V22 -> Xavecos UFC | G99: x | I99: =V29 -> ousadia e alegriaa1 | Q99: =IF(OR(H99="",F99=""),"",IF(H99=F99,1,IF(H99<F99,0,IF(H99-F99<10,2,IF(H99>F99,3,SE)))))
C100: =IF(OR(F100="",H100=""),"",IF(F100=H100,1,IF(F100<H100,0,IF(F100-H100<10,2,IF(F100>H100,3,SE))))) | D100: =V25 -> Sekishiki Mekai Ha | G100: x | I100: =V30 -> Engenheirense | Q100: =IF(OR(H100="",F100=""),"",IF(H100=F100,1,IF(H100<F100,0,IF(H100-F100<10,2,IF(H100>F100,3,SE)))))
C101: =IF(OR(F101="",H101=""),"",IF(F101=H101,1,IF(F101<H101,0,IF(F101-H101<10,2,IF(F101>H101,3,SE))))) | D101: =V23 -> Driblador F.C | G101: x | I101: =V24 -> Botafogo Rocha | Q101: =IF(OR(H101="",F101=""),"",IF(H101=F101,1,IF(H101<F101,0,IF(H101-F101<10,2,IF(H101>F101,3,SE)))))
C102: =IF(OR(F102="",H102=""),"",IF(F102=H102,1,IF(F102<H102,0,IF(F102-H102<10,2,IF(F102>H102,3,SE))))) | Q102: =IF(OR(H102="",F102=""),"",IF(H102=F102,1,IF(H102<F102,0,IF(H102-F102<10,2,IF(H102>F102,3,SE)))))
C103: =IF(OR(F103="",H103=""),"",IF(F103=H103,1,IF(F103<H103,0,IF(F103-H103<10,2,IF(F103>H103,3,SE))))) | D103: 8ª RODADA - #27 | Q103: =IF(OR(H103="",F103=""),"",IF(H103=F103,1,IF(H103<F103,0,IF(H103-F103<10,2,IF(H103>F103,3,SE)))))
C104: =IF(OR(F104="",H104=""),"",IF(F104=H104,1,IF(F104<H104,0,IF(F104-H104<10,2,IF(F104>H104,3,SE))))) | Q104: =IF(OR(H104="",F104=""),"",IF(H104=F104,1,IF(H104<F104,0,IF(H104-F104<10,2,IF(H104>F104,3,SE)))))
C105: =IF(OR(F105="",H105=""),"",IF(F105=H105,1,IF(F105<H105,0,IF(F105-H105<10,2,IF(F105>H105,3,SE))))) | Q105: =IF(OR(H105="",F105=""),"",IF(H105=F105,1,IF(H105<F105,0,IF(H105-F105<10,2,IF(H105>F105,3,SE)))))
C106: =IF(OR(F106="",H106=""),"",IF(F106=H106,1,IF(F106<H106,0,IF(F106-H106<10,2,IF(F106>H106,3,SE))))) | D106: =V27 -> Bahia aju | G106: x | I106: =V28 -> É o ki tu merece | Q106: =IF(OR(H106="",F106=""),"",IF(H106=F106,1,IF(H106<F106,0,IF(H106-F106<10,2,IF(H106>F106,3,SE)))))
C107: =IF(OR(F107="",H107=""),"",IF(F107=H107,1,IF(F107<H107,0,IF(F107-H107<10,2,IF(F107>H107,3,SE))))) | D107: =V24 -> Botafogo Rocha | G107: x | I107: =V22 -> Xavecos UFC | Q107: =IF(OR(H107="",F107=""),"",IF(H107=F107,1,IF(H107<F107,0,IF(H107-F107<10,2,IF(H107>F107,3,SE)))))
C108: =IF(OR(F108="",H108=""),"",IF(F108=H108,1,IF(F108<H108,0,IF(F108-H108<10,2,IF(F108>H108,3,SE))))) | D108: =V20 -> mathpalestra | G108: x | I108: =V31 -> Soccer Italy | Q108: =IF(OR(H108="",F108=""),"",IF(H108=F108,1,IF(H108<F108,0,IF(H108-F108<10,2,IF(H108>F108,3,SE)))))
C109: =IF(OR(F109="",H109=""),"",IF(F109=H109,1,IF(F109<H109,0,IF(F109-H109<10,2,IF(F109>H109,3,SE))))) | D109: =V29 -> ousadia e alegriaa1 | G109: x | I109: =V23 -> Driblador F.C | Q109: =IF(OR(H109="",F109=""),"",IF(H109=F109,1,IF(H109<F109,0,IF(H109-F109<10,2,IF(H109>F109,3,SE)))))
C110: =IF(OR(F110="",H110=""),"",IF(F110=H110,1,IF(F110<H110,0,IF(F110-H110<10,2,IF(F110>H110,3,SE))))) | D110: =V30 -> Engenheirense | G110: x | I110: =V21 -> Marvada da cachaça | Q110: =IF(OR(H110="",F110=""),"",IF(H110=F110,1,IF(H110<F110,0,IF(H110-F110<10,2,IF(H110>F110,3,SE)))))
C111: =IF(OR(F111="",H111=""),"",IF(F111=H111,1,IF(F111<H111,0,IF(F111-H111<10,2,IF(F111>H111,3,SE))))) | D111: =V25 -> Sekishiki Mekai Ha | G111: x | I111: =V26 -> comicu | Q111: =IF(OR(H111="",F111=""),"",IF(H111=F111,1,IF(H111<F111,0,IF(H111-F111<10,2,IF(H111>F111,3,SE)))))
C112: =IF(OR(F112="",H112=""),"",IF(F112=H112,1,IF(F112<H112,0,IF(F112-H112<10,2,IF(F112>H112,3,SE))))) | Q112: =IF(OR(H112="",F112=""),"",IF(H112=F112,1,IF(H112<F112,0,IF(H112-F112<10,2,IF(H112>F112,3,SE)))))
C113: =IF(OR(F113="",H113=""),"",IF(F113=H113,1,IF(F113<H113,0,IF(F113-H113<10,2,IF(F113>H113,3,SE))))) | D113: 9ª RODADA - #28 | Q113: =IF(OR(H113="",F113=""),"",IF(H113=F113,1,IF(H113<F113,0,IF(H113-F113<10,2,IF(H113>F113,3,SE)))))
C114: =IF(OR(F114="",H114=""),"",IF(F114=H114,1,IF(F114<H114,0,IF(F114-H114<10,2,IF(F114>H114,3,SE))))) | Q114: =IF(OR(H114="",F114=""),"",IF(H114=F114,1,IF(H114<F114,0,IF(H114-F114<10,2,IF(H114>F114,3,SE)))))
C115: =IF(OR(F115="",H115=""),"",IF(F115=H115,1,IF(F115<H115,0,IF(F115-H115<10,2,IF(F115>H115,3,SE))))) | Q115: =IF(OR(H115="",F115=""),"",IF(H115=F115,1,IF(H115<F115,0,IF(H115-F115<10,2,IF(H115>F115,3,SE)))))
C116: =IF(OR(F116="",H116=""),"",IF(F116=H116,1,IF(F116<H116,0,IF(F116-H116<10,2,IF(F116>H116,3,SE))))) | D116: =V27 -> Bahia aju | G116: x | I116: =V30 -> Engenheirense | Q116: =IF(OR(H116="",F116=""),"",IF(H116=F116,1,IF(H116<F116,0,IF(H116-F116<10,2,IF(H116>F116,3,SE)))))
...

Sheet GRUPO 3
B2: 1º SUPERSOCAMPEONATO 2013
B6: 1ª FASE
D10: CLASSIFICAÇÃO
D15: OBS: Os 4 melhores colocados no Grupo se classificarão para a Oitavas de Finais.
D17: GRUPO 3
D19: Pos. | E19: CARTOLA | F19: P | H19: PP | J19: PC | L19: SP | O19: Legenda | U19: Pos. | V19: TIMES | W19: P | X19: GF | Y19: GC | Z19: SG | AA19: calc | AB19: maior | AC19: corresp
D20: 1º | E20: =VLOOKUP(AC20,$U$20:$AB$31,2) -> Forever2014 | F20: =VLOOKUP(AC20,$U$20:$AB$31,3) -> 13 | H20: =VLOOKUP(AC20,$U$20:$AB$31,4) -> 327 | J20: =VLOOKUP(AC20,$U$20:$AB$31,5) -> 219 | L20: =VLOOKUP(AC20,$U$20:$AB$31,6) -> 108 | O20: P - pontos | U20: 1 | V20: secapimenteira | W20: =SUM(C38,Q46,Q60,C71,Q78,C91,Q98,C108,Q120,C128,C140) -> 7 | X20: =SUM(F38,H46,H60,F71,H78,F91,H98,H120,F108,F128,F140) -> 205 | Y20: =SUM(H38,F46,F60,H71,F78,H91,F98,H108,F120,H128,H140) -> 284 | Z20: =X20-Y20 -> -79 | AA20: =(W20*10^10)+((X20+5000)*10^6)+(Z20*10)+U20 -> 75204999211 | AB20: =LARGE($AA$20:$AA$31,U20) -> 135327001091 | AC20: =MATCH(AB20,$AA$20:$AA$31,0) -> 11
D21: 2º | E21: =VLOOKUP(AC21,$U$20:$AB$31,2) -> La Bestia Negra_Z | F21: =VLOOKUP(AC21,$U$20:$AB$31,3) -> 12 | H21: =VLOOKUP(AC21,$U$20:$AB$31,4) -> 314 | J21: =VLOOKUP(AC21,$U$20:$AB$31,5) -> 251 | L21: =VLOOKUP(AC21,$U$20:$AB$31,6) -> 63 | O21: PPC - pontos pró Cartola | U21: 2 | V21: itaipavacervejaclube | W21: =SUM(Q41,Q57,C69,C81,Q91,C50,C96,Q110,C118,C130,Q138) -> 1 | X21: =SUM(H41,F50,H57,F69,F81,H91,F96,H110,F118,F130,H138) -> 219 | Y21: =SUM(F41,H50,F57,H69,H81,F91,H96,F110,H118,H130,F138) -> 301 | Z21: =X21-Y21 -> -82 | AA21: =(W21*10^10)+((X21+5000)*10^6)+(Z21*10)+U21 -> 15218999182 | AB21: =LARGE($AA$20:$AA$31,U21) -> 125314000640 | AC21: =MATCH(AB21,$AA$20:$AA$31,0) -> 10
D22: 3º | E22: =VLOOKUP(AC22,$U$20:$AB$31,2) -> Lucca Mengão | F22: =VLOOKUP(AC22,$U$20:$AB$31,3) -> 12 | H22: =VLOOKUP(AC22,$U$20:$AB$31,4) -> 290 | J22: =VLOOKUP(AC22,$U$20:$AB$31,5) -> 253 | L22: =VLOOKUP(AC22,$U$20:$AB$31,6) -> 37 | O22: PC - pontos contra Cartola | U22: 3 | V22: Family Paz F.C. | W22: =SUM(C39,Q50,C60,C67,C99,Q77,Q86,Q107,C121,Q129,C137) -> 3 | X22: =SUM(F39,H50,F60,F67,H77,H86,F99,H107,F121,H129,F137) -> 269 | Y22: =SUM(H39,F50,H60,H67,F77,F86,H99,F107,H121,F129,H137) -> 338 | Z22: =X22-Y22 -> -69 | AA22: =(W22*10^10)+((X22+5000)*10^6)+(Z22*10)+U22 -> 35268999313 | AB22: =LARGE($AA$20:$AA$31,U22) -> 125290000378 | AC22: =MATCH(AB22,$AA$20:$AA$31,0) -> 8
D23: 4º | E23: =VLOOKUP(AC23,$U$20:$AB$31,2) -> Rosinha da Gabi | F23: =VLOOKUP(AC23,$U$20:$AB$31,3) -> 11 | H23: =VLOOKUP(AC23,$U$20:$AB$31,4) -> 318 | J23: =VLOOKUP(AC23,$U$20:$AB$31,5) -> 272 | L23: =VLOOKUP(AC23,$U$20:$AB$31,6) -> 46 | O23: SP - saldo de pontos | U23: 4 | V23: PHVT F.C. | W23: =SUM(C41,C46,C68,Q76,Q58,Q109,Q87,C101,Q121,C126,Q139) -> 6 | X23: =SUM(F41,F46,H58,F68,H87,H109,H76,F101,H121,F126,H139) -> 211 | Y23: =SUM(H41,H46,H68,F58,F76,F87,H101,F109,F121,H126,F139) -> 273 | Z23: =X23-Y23 -> -62 | AA23: =(W23*10^10)+((X23+5000)*10^6)+(Z23*10)+U23 -> 65210999384 | AB23: =LARGE($AA$20:$AA$31,U23) -> 115318000469 | AC23: =MATCH(AB23,$AA$20:$AA$31,0) -> 9
D24: 5º | E24: =VLOOKUP(AC24,$U$20:$AB$31,2) -> BFR Igor Costa | F24: =VLOOKUP(AC24,$U$20:$AB$31,3) -> 10 | H24: =VLOOKUP(AC24,$U$20:$AB$31,4) -> 327 | J24: =VLOOKUP(AC24,$U$20:$AB$31,5) -> 263 | L24: =VLOOKUP(AC24,$U$20:$AB$31,6) -> 64 | U24: 5 | V24: Tribe of Gypsies | W24: =SUM(Q36,C47,Q56,C70,Q79,C89,Q101,C107,Q118,C127,Q140) -> 7 | X24: =SUM(H36,F47,H56,F70,H79,F89,H101,F107,H118,F127,H140) -> 226 | Y24: =SUM(F36,H47,F56,H70,F79,H89,F101,H107,F118,H127,F140) -> 244 | Z24: =X24-Y24 -> -18 | AA24: =(W24*10^10)+((X24+5000)*10^6)+(Z24*10)+U24 -> 75225999825 | AB24: =LARGE($AA$20:$AA$31,U24) -> 105327000652 | AC24: =MATCH(AB24,$AA$20:$AA$31,0) -> 12
D25: 6º | E25: =VLOOKUP(AC25,$U$20:$AB$31,2) -> Puro Malte F. C. | F25: =VLOOKUP(AC25,$U$20:$AB$31,3) -> 10 | H25: =VLOOKUP(AC25,$U$20:$AB$31,4) -> 289 | J25: =VLOOKUP(AC25,$U$20:$AB$31,5) -> 226 | L25: =VLOOKUP(AC25,$U$20:$AB$31,6) -> 63 | O25: CRITÉRIO DE DESEMPATE | U25: 6 | V25: Puro Malte F. C. | W25: =SUM(Q38,C49,C57,Q70,C76,Q90,C100,C111,Q117,C131,Q137) -> 10 | X25: =SUM(H38,F49,F57,H70,F76,H90,F100,F111,H117,F131,H137) -> 289 | Y25: =SUM(F38,H49,H57,F70,H76,F90,H100,H111,F117,H131,F137) -> 226 | Z25: =X25-Y25 -> 63 | AA25: =(W25*10^10)+((X25+5000)*10^6)+(Z25*10)+U25 -> 105289000636 | AB25: =LARGE($AA$20:$AA$31,U25) -> 105289000636 | AC25: =MATCH(AB25,$AA$20:$AA$31,0) -> 6
D26: 7º | E26: =VLOOKUP(AC26,$U$20:$AB$31,2) -> Tribe of Gypsies | F26: =VLOOKUP(AC26,$U$20:$AB$31,3) -> 7 | H26: =VLOOKUP(AC26,$U$20:$AB$31,4) -> 226 | J26: =VLOOKUP(AC26,$U$20:$AB$31,5) -> 244 | L26: =VLOOKUP(AC26,$U$20:$AB$31,6) -> -18 | O26: 1 - pontos | U26: 7 | V26: santo onofre E C | W26: =SUM(Q40,Q47,C59,C66,Q81,C87,C98,Q111,Q119,C129,Q136) -> 5 | X26: =SUM(H40,H47,F59,F66,H81,F87,F98,H111,H119,F129,H136) -> 184 | Y26: =SUM(F40,F47,H59,H66,F81,H87,H98,F119,H129,F136) -> 255 | Z26: =X26-Y26 -> -71 | AA26: =(W26*10^10)+((X26+5000)*10^6)+(Z26*10)+U26 -> 55183999297 | AB26: =LARGE($AA$20:$AA$31,U26) -> 75225999825 | AC26: =MATCH(AB26,$AA$20:$AA$31,0) -> 5
D27: 8º | E27: =VLOOKUP(AC27,$U$20:$AB$31,2) -> secapimenteira | F27: =VLOOKUP(AC27,$U$20:$AB$31,3) -> 7 | H27: =VLOOKUP(AC27,$U$20:$AB$31,4) -> 205 | J27: =VLOOKUP(AC27,$U$20:$AB$31,5) -> 284 | L27: =VLOOKUP(AC27,$U$20:$AB$31,6) -> -79 | O27: 2 - pontos pró Cartola | U27: 8 | V27: Lucca Mengão | W27: =SUM(Q39,Q48,C61,Q66,C79,C90,Q96,C106,C116,Q128,C139) -> 12 | X27: =SUM(H39,H48,F61,H66,F79,F90,H96,F106,F116,H128,F139) -> 290 | Y27: =SUM(F39,F48,F66,H61,H79,H90,F96,H106,H116,F128,H139) -> 253 | Z27: =X27-Y27 -> 37 | AA27: =(W27*10^10)+((X27+5000)*10^6)+(Z27*10)+U27 -> 125290000378 | AB27: =LARGE($AA$20:$AA$31,U27) -> 75204999211 | AC27: =MATCH(AB27,$AA$20:$AA$31,0) -> 1
D28: 9º | E28: =VLOOKUP(AC28,$U$20:$AB$31,2) -> PHVT F.C. | F28: =VLOOKUP(AC28,$U$20:$AB$31,3) -> 6 | H28: =VLOOKUP(AC28,$U$20:$AB$31,4) -> 211 | J28: =VLOOKUP(AC28,$U$20:$AB$31,5) -> 273 | L28: =VLOOKUP(AC28,$U$20:$AB$31,6) -> -62 | O28: 3 - saldo de pontos | U28: 9 | V28: Rosinha da Gabi | W28: =SUM(C37,Q49,C56,Q69,C77,Q88,C97,Q106,C120,Q126,C136) -> 11 | X28: =SUM(F37,H49,F56,H69,F77,H88,F97,H106,F120,H126,F136) -> 318 | Y28: =SUM(H37,F49,H56,F69,H77,F88,H97,F106,H120,F126,H136) -> 272 | Z28: =X28-Y28 -> 46 | AA28: =(W28*10^10)+((X28+5000)*10^6)+(Z28*10)+U28 -> 115318000469 | AB28: =LARGE($AA$20:$AA$31,U28) -> 65210999384 | AC28: =MATCH(AB28,$AA$20:$AA$31,0) -> 4
D29: 10º | E29: =VLOOKUP(AC29,$U$20:$AB$31,2) -> santo onofre E C | F29: =VLOOKUP(AC29,$U$20:$AB$31,3) -> 5 | H29: =VLOOKUP(AC29,$U$20:$AB$31,4) -> 184 | J29: =VLOOKUP(AC29,$U$20:$AB$31,5) -> 255 | L29: =VLOOKUP(AC29,$U$20:$AB$31,6) -> -71 | O29: 4 - pontos contra Cartola | U29: 10 | V29: La Bestia Negra_Z | W29: =SUM(Q37,C48,Q59,Q71,C80,Q89,Q99,C109,C117,Q130,Q141) -> 12 | X29: =SUM(H37,F48,H59,H71,F80,H89,H99,F109,F117,H130,H141) -> 314 | Y29: =SUM(F37,H48,F59,F71,H80,F89,F99,H109,H117,F130,F141) -> 251 | Z29: =X29-Y29 -> 63 | AA29: =(W29*10^10)+((X29+5000)*10^6)+(Z29*10)+U29 -> 125314000640 | AB29: =LARGE($AA$20:$AA$31,U29) -> 55183999297 | AC29: =MATCH(AB29,$AA$20:$AA$31,0) -> 7
D30: 11º | E30: =VLOOKUP(AC30,$U$20:$AB$31,2) -> Family Paz F.C. | F30: =VLOOKUP(AC30,$U$20:$AB$31,3) -> 3 | H30: =VLOOKUP(AC30,$U$20:$AB$31,4) -> 269 | J30: =VLOOKUP(AC30,$U$20:$AB$31,5) -> 338 | L30: =VLOOKUP(AC30,$U$20:$AB$31,6) -> -69 | U30: 11 | V30: Forever2014 | W30: =SUM(C40,Q51,C58,Q67,C78,C88,Q100,C110,Q116,Q127,C141) -> 13 | X30: =SUM(F40,H51,F58,H67,F78,H100,F110,H116,H127,F141,F88) -> 327 | Y30: =SUM(H40,F51,H58,F67,H78,H88,F100,H110,F116,F127,H141) -> 219 | Z30: =X30-Y30 -> 108 | AA30: =(W30*10^10)+((X30+5000)*10^6)+(Z30*10)+U30 -> 135327001091 | AB30: =LARGE($AA$20:$AA$31,U30) -> 35268999313 | AC30: =MATCH(AB30,$AA$20:$AA$31,0) -> 3
D31: 12º | E31: =VLOOKUP(AC31,$U$20:$AB$31,2) -> itaipavacervejaclube | F31: =VLOOKUP(AC31,$U$20:$AB$31,3) -> 1 | H31: =VLOOKUP(AC31,$U$20:$AB$31,4) -> 219 | J31: =VLOOKUP(AC31,$U$20:$AB$31,5) -> 301 | L31: =VLOOKUP(AC31,$U$20:$AB$31,6) -> -82 | U31: 12 | V31: BFR Igor Costa | W31: =SUM(C36,C51,Q61,Q68,Q80,C86,Q97,Q108,C119,Q131,C138) -> 10 | X31: =SUM(F36,F51,H61,H68,H80,F86,H97,H108,F119,H131,F138) -> 327 | Y31: =SUM(H36,H51,F61,F68,F80,H86,F97,F108,H119,F131,H138) -> 263 | Z31: =X31-Y31 -> 64 | AA31: =(W31*10^10)+((X31+5000)*10^6)+(Z31*10)+U31 -> 105327000652 | AB31: =LARGE($AA$20:$AA$31,U31) -> 15218999182 | AC31: =MATCH(AB31,$AA$20:$AA$31,0) -> 2
D33: 1ª RODADA - #20
C36: =IF(OR(F36="",H36=""),"",IF(F36=H36,1,IF(F36<H36,0,IF(F36-H36<10,2,IF(F36>H36,3,SE))))) -> 0 | D36: =V31 -> BFR Igor Costa | F36: 43 | G36: x | H36: 45 | I36: =V24 -> Tribe of Gypsies | Q36: =IF(OR(H36="",F36=""),"",IF(H36=F36,1,IF(H36<F36,0,IF(H36-F36<10,2,IF(H36>F36,3,SE))))) -> 2
C37: =IF(OR(F37="",H37=""),"",IF(F37=H37,1,IF(F37<H37,0,IF(F37-H37<10,2,IF(F37>H37,3,SE))))) -> 0 | D37: =V28 -> Rosinha da Gabi | F37: 31 | G37: x | H37: 48 | I37: =V29 -> La Bestia Negra_Z | Q37: =IF(OR(H37="",F37=""),"",IF(H37=F37,1,IF(H37<F37,0,IF(H37-F37<10,2,IF(H37>F37,3,SE))))) -> 3
C38: =IF(OR(F38="",H38=""),"",IF(F38=H38,1,IF(F38<H38,0,IF(F38-H38<10,2,IF(F38>H38,3,SE))))) -> 0 | D38: =V20 -> secapimenteira | F38: 16 | G38: x | H38: 56 | I38: =V25 -> Puro Malte F. C. | Q38: =IF(OR(H38="",F38=""),"",IF(H38=F38,1,IF(H38<F38,0,IF(H38-F38<10,2,IF(H38>F38,3,SE))))) -> 3
C39: =IF(OR(F39="",H39=""),"",IF(F39=H39,1,IF(F39<H39,0,IF(F39-H39<10,2,IF(F39>H39,3,SE))))) -> 0 | D39: =V22 -> Family Paz F.C. | F39: 32 | G39: x | H39: 45 | I39: =V27 -> Lucca Mengão | Q39: =IF(OR(H39="",F39=""),"",IF(H39=F39,1,IF(H39<F39,0,IF(H39-F39<10,2,IF(H39>F39,3,SE))))) -> 3
C40: =IF(OR(F40="",H40=""),"",IF(F40=H40,1,IF(F40<H40,0,IF(F40-H40<10,2,IF(F40>H40,3,SE))))) -> 3 | D40: =V30 -> Forever2014 | F40: 57 | G40: x | H40: 28 | I40: =V26 -> santo onofre E C | Q40: =IF(OR(H40="",F40=""),"",IF(H40=F40,1,IF(H40<F40,0,IF(H40-F40<10,2,IF(H40>F40,3,SE))))) -> 0
C41: =IF(OR(F41="",H41=""),"",IF(F41=H41,1,IF(F41<H41,0,IF(F41-H41<10,2,IF(F41>H41,3,SE))))) -> 3 | D41: =V23 -> PHVT F.C. | F41: 58 | G41: x | H41: 34 | I41: =V21 -> itaipavacervejaclube | Q41: =IF(OR(H41="",F41=""),"",IF(H41=F41,1,IF(H41<F41,0,IF(H41-F41<10,2,IF(H41>F41,3,SE))))) -> 0
C42: =IF(OR(F42="",H42=""),"",IF(F42=H42,1,IF(F42<H42,0,IF(F42-H42<10,2,IF(F42>H42,3,SE))))) | Q42: =IF(OR(H42="",F42=""),"",IF(H42=F42,1,IF(H42<F42,0,IF(H42-F42<10,2,IF(H42>F42,3,SE)))))
C43: =IF(OR(F43="",H43=""),"",IF(F43=H43,1,IF(F43<H43,0,IF(F43-H43<10,2,IF(F43>H43,3,SE))))) | D43: 2ª RODADA - #21 | Q43: =IF(OR(H43="",F43=""),"",IF(H43=F43,1,IF(H43<F43,0,IF(H43-F43<10,2,IF(H43>F43,3,SE)))))
C44: =IF(OR(F44="",H44=""),"",IF(F44=H44,1,IF(F44<H44,0,IF(F44-H44<10,2,IF(F44>H44,3,SE))))) | Q44: =IF(OR(H44="",F44=""),"",IF(H44=F44,1,IF(H44<F44,0,IF(H44-F44<10,2,IF(H44>F44,3,SE)))))
C45: =IF(OR(F45="",H45=""),"",IF(F45=H45,1,IF(F45<H45,0,IF(F45-H45<10,2,IF(F45>H45,3,SE))))) | Q45: =IF(OR(H45="",F45=""),"",IF(H45=F45,1,IF(H45<F45,0,IF(H45-F45<10,2,IF(H45>F45,3,SE)))))
C46: =IF(OR(F46="",H46=""),"",IF(F46=H46,1,IF(F46<H46,0,IF(F46-H46<10,2,IF(F46>H46,3,SE))))) -> 0 | D46: =V23 -> PHVT F.C. | F46: 28 | G46: x | H46: 55 | I46: =V20 -> secapimenteira | Q46: =IF(OR(H46="",F46=""),"",IF(H46=F46,1,IF(H46<F46,0,IF(H46-F46<10,2,IF(H46>F46,3,SE))))) -> 3
C47: =IF(OR(F47="",H47=""),"",IF(F47=H47,1,IF(F47<H47,0,IF(F47-H47<10,2,IF(F47>H47,3,SE))))) -> 3 | D47: =V24 -> Tribe of Gypsies | F47: 51 | G47: x | H47: 38 | I47: =V26 -> santo onofre E C | Q47: =IF(OR(H47="",F47=""),"",IF(H47=F47,1,IF(H47<F47,0,IF(H47-F47<10,2,IF(H47>F47,3,SE))))) -> 0
C48: =IF(OR(F48="",H48=""),"",IF(F48=H48,1,IF(F48<H48,0,IF(F48-H48<10,2,IF(F48>H48,3,SE))))) -> 0 | D48: =V29 -> La Bestia Negra_Z | F48: 70 | G48: x | H48: 81 | I48: =V27 -> Lucca Mengão | Q48: =IF(OR(H48="",F48=""),"",IF(H48=F48,1,IF(H48<F48,0,IF(H48-F48<10,2,IF(H48>F48,3,SE))))) -> 3
C49: =IF(OR(F49="",H49=""),"",IF(F49=H49,1,IF(F49<H49,0,IF(F49-H49<10,2,IF(F49>H49,3,SE))))) -> 0 | D49: =V25 -> Puro Malte F. C. | F49: 64 | G49: x | H49: 71 | I49: =V28 -> Rosinha da Gabi | Q49: =IF(OR(H49="",F49=""),"",IF(H49=F49,1,IF(H49<F49,0,IF(H49-F49<10,2,IF(H49>F49,3,SE))))) -> 2
C50: =IF(OR(F50="",H50=""),"",IF(F50=H50,1,IF(F50<H50,0,IF(F50-H50<10,2,IF(F50>H50,3,SE))))) -> 0 | D50: =V21 -> itaipavacervejaclube | F50: 60 | G50: x | H50: 89 | I50: =V22 -> Family Paz F.C. | Q50: =IF(OR(H50="",F50=""),"",IF(H50=F50,1,IF(H50<F50,0,IF(H50-F50<10,2,IF(H50>F50,3,SE))))) -> 3
C51: =IF(OR(F51="",H51=""),"",IF(F51=H51,1,IF(F51<H51,0,IF(F51-H51<10,2,IF(F51>H51,3,SE))))) -> 0 | D51: =V31 -> BFR Igor Costa | F51: 53 | G51: x | H51: 77 | I51: =V30 -> Forever2014 | Q51: =IF(OR(H51="",F51=""),"",IF(H51=F51,1,IF(H51<F51,0,IF(H51-F51<10,2,IF(H51>F51,3,SE))))) -> 3
C52: =IF(OR(F52="",H52=""),"",IF(F52=H52,1,IF(F52<H52,0,IF(F52-H52<10,2,IF(F52>H52,3,SE))))) | Q52: =IF(OR(H52="",F52=""),"",IF(H52=F52,1,IF(H52<F52,0,IF(H52-F52<10,2,IF(H52>F52,3,SE)))))
C53: =IF(OR(F53="",H53=""),"",IF(F53=H53,1,IF(F53<H53,0,IF(F53-H53<10,2,IF(F53>H53,3,SE))))) | D53: 3ª RODADA - #22 | Q53: =IF(OR(H53="",F53=""),"",IF(H53=F53,1,IF(H53<F53,0,IF(H53-F53<10,2,IF(H53>F53,3,SE)))))
C54: =IF(OR(F54="",H54=""),"",IF(F54=H54,1,IF(F54<H54,0,IF(F54-H54<10,2,IF(F54>H54,3,SE))))) | Q54: =IF(OR(H54="",F54=""),"",IF(H54=F54,1,IF(H54<F54,0,IF(H54-F54<10,2,IF(H54>F54,3,SE)))))
C55: =IF(OR(F55="",H55=""),"",IF(F55=H55,1,IF(F55<H55,0,IF(F55-H55<10,2,IF(F55>H55,3,SE))))) | Q55: =IF(OR(H55="",F55=""),"",IF(H55=F55,1,IF(H55<F55,0,IF(H55-F55<10,2,IF(H55>F55,3,SE)))))
C56: =IF(OR(F56="",H56=""),"",IF(F56=H56,1,IF(F56<H56,0,IF(F56-H56<10,2,IF(F56>H56,3,SE))))) -> 0 | D56: =V28 -> Rosinha da Gabi | F56: 36 | G56: x | H56: 39 | I56: =V24 -> Tribe of Gypsies | Q56: =IF(OR(H56="",F56=""),"",IF(H56=F56,1,IF(H56<F56,0,IF(H56-F56<10,2,IF(H56>F56,3,SE))))) -> 2
C57: =IF(OR(F57="",H57=""),"",IF(F57=H57,1,IF(F57<H57,0,IF(F57-H57<10,2,IF(F57>H57,3,SE))))) -> 2 | D57: =V25 -> Puro Malte F. C. | F57: 38 | G57: x | H57: 31 | I57: =V21 -> itaipavacervejaclube | Q57: =IF(OR(H57="",F57=""),"",IF(H57=F57,1,IF(H57<F57,0,IF(H57-F57<10,2,IF(H57>F57,3,SE))))) -> 0
C58: =IF(OR(F58="",H58=""),"",IF(F58=H58,1,IF(F58<H58,0,IF(F58-H58<10,2,IF(F58>H58,3,SE))))) -> 1 | D58: =V30 -> Forever2014 | F58: 39 | G58: x | H58: 39 | I58: =V23 -> PHVT F.C. | Q58: =IF(OR(H58="",F58=""),"",IF(H58=F58,1,IF(H58<F58,0,IF(H58-F58<10,2,IF(H58>F58,3,SE))))) -> 1
C59: =IF(OR(F59="",H59=""),"",IF(F59=H59,1,IF(F59<H59,0,IF(F59-H59<10,2,IF(F59>H59,3,SE))))) -> 0 | D59: =V26 -> santo onofre E C | F59: 14 | G59: x | H59: 43 | I59: =V29 -> La Bestia Negra_Z | Q59: =IF(OR(H59="",F59=""),"",IF(H59=F59,1,IF(H59<F59,0,IF(H59-F59<10,2,IF(H59>F59,3,SE))))) -> 3
C60: =IF(OR(F60="",H60=""),"",IF(F60=H60,1,IF(F60<H60,0,IF(F60-H60<10,2,IF(F60>H60,3,SE))))) -> 0 | D60: =V22 -> Family Paz F.C. | F60: 39 | G60: x | H60: 49 | I60: =V20 -> secapimenteira | Q60: =IF(OR(H60="",F60=""),"",IF(H60=F60,1,IF(H60<F60,0,IF(H60-F60<10,2,IF(H60>F60,3,SE))))) -> 3
C61: =IF(OR(F61="",H61=""),"",IF(F61=H61,1,IF(F61<H61,0,IF(F61-H61<10,2,IF(F61>H61,3,SE))))) -> 0 | D61: =V27 -> Lucca Mengão | F61: 38 | G61: x | H61: 51 | I61: =V31 -> BFR Igor Costa | Q61: =IF(OR(H61="",F61=""),"",IF(H61=F61,1,IF(H61<F61,0,IF(H61-F61<10,2,IF(H61>F61,3,SE))))) -> 3
C62: =IF(OR(F62="",H62=""),"",IF(F62=H62,1,IF(F62<H62,0,IF(F62-H62<10,2,IF(F62>H62,3,SE))))) | Q62: =IF(OR(H62="",F62=""),"",IF(H62=F62,1,IF(H62<F62,0,IF(H62-F62<10,2,IF(H62>F62,3,SE)))))
C63: =IF(OR(F63="",H63=""),"",IF(F63=H63,1,IF(F63<H63,0,IF(F63-H63<10,2,IF(F63>H63,3,SE))))) | D63: 4ª RODADA - #23 | Q63: =IF(OR(H63="",F63=""),"",IF(H63=F63,1,IF(H63<F63,0,IF(H63-F63<10,2,IF(H63>F63,3,SE)))))
C64: =IF(OR(F64="",H64=""),"",IF(F64=H64,1,IF(F64<H64,0,IF(F64-H64<10,2,IF(F64>H64,3,SE))))) | Q64: =IF(OR(H64="",F64=""),"",IF(H64=F64,1,IF(H64<F64,0,IF(H64-F64<10,2,IF(H64>F64,3,SE)))))
C65: =IF(OR(F65="",H65=""),"",IF(F65=H65,1,IF(F65<H65,0,IF(F65-H65<10,2,IF(F65>H65,3,SE))))) | Q65: =IF(OR(H65="",F65=""),"",IF(H65=F65,1,IF(H65<F65,0,IF(H65-F65<10,2,IF(H65>F65,3,SE)))))
C66: =IF(OR(F66="",H66=""),"",IF(F66=H66,1,IF(F66<H66,0,IF(F66-H66<10,2,IF(F66>H66,3,SE))))) -> 0 | D66: =V26 -> santo onofre E C | F66: 34 | G66: x | H66: 61 | I66: =V27 -> Lucca Mengão | Q66: =IF(OR(H66="",F66=""),"",IF(H66=F66,1,IF(H66<F66,0,IF(H66-F66<10,2,IF(H66>F66,3,SE))))) -> 3
C67: =IF(OR(F67="",H67=""),"",IF(F67=H67,1,IF(F67<H67,0,IF(F67-H67<10,2,IF(F67>H67,3,SE))))) -> 0 | D67: =V22 -> Family Paz F.C. | F67: 30 | G67: x | H67: 52 | I67: =V30 -> Forever2014 | Q67: =IF(OR(H67="",F67=""),"",IF(H67=F67,1,IF(H67<F67,0,IF(H67-F67<10,2,IF(H67>F67,3,SE))))) -> 3
C68: =IF(OR(F68="",H68=""),"",IF(F68=H68,1,IF(F68<H68,0,IF(F68-H68<10,2,IF(F68>H68,3,SE))))) -> 0 | D68: =V23 -> PHVT F.C. | F68: 27 | G68: x | H68: 70 | I68: =V31 -> BFR Igor Costa | Q68: =IF(OR(H68="",F68=""),"",IF(H68=F68,1,IF(H68<F68,0,IF(H68-F68<10,2,IF(H68>F68,3,SE))))) -> 3
C69: =IF(OR(F69="",H69=""),"",IF(F69=H69,1,IF(F69<H69,0,IF(F69-H69<10,2,IF(F69>H69,3,SE))))) -> 0 | D69: =V21 -> itaipavacervejaclube | F69: 44 | G69: x | H69: 62 | I69: =V28 -> Rosinha da Gabi | Q69: =IF(OR(H69="",F69=""),"",IF(H69=F69,1,IF(H69<F69,0,IF(H69-F69<10,2,IF(H69>F69,3,SE))))) -> 3
C70: =IF(OR(F70="",H70=""),"",IF(F70=H70,1,IF(F70<H70,0,IF(F70-H70<10,2,IF(F70>H70,3,SE))))) -> 0 | D70: =V24 -> Tribe of Gypsies | F70: 38 | G70: x | H70: 46 | I70: =V25 -> Puro Malte F. C. | Q70: =IF(OR(H70="",F70=""),"",IF(H70=F70,1,IF(H70<F70,0,IF(H70-F70<10,2,IF(H70>F70,3,SE))))) -> 2
C71: =IF(OR(F71="",H71=""),"",IF(F71=H71,1,IF(F71<H71,0,IF(F71-H71<10,2,IF(F71>H71,3,SE))))) -> 0 | D71: =V20 -> secapimenteira | F71: 42 | G71: x | H71: 63 | I71: =V29 -> La Bestia Negra_Z | Q71: =IF(OR(H71="",F71=""),"",IF(H71=F71,1,IF(H71<F71,0,IF(H71-F71<10,2,IF(H71>F71,3,SE))))) -> 3
C72: =IF(OR(F72="",H72=""),"",IF(F72=H72,1,IF(F72<H72,0,IF(F72-H72<10,2,IF(F72>H72,3,SE))))) | Q72: =IF(OR(H72="",F72=""),"",IF(H72=F72,1,IF(H72<F72,0,IF(H72-F72<10,2,IF(H72>F72,3,SE)))))
C73: =IF(OR(F73="",H73=""),"",IF(F73=H73,1,IF(F73<H73,0,IF(F73-H73<10,2,IF(F73>H73,3,SE))))) | D73: 5ª RODADA - #24 | Q73: =IF(OR(H73="",F73=""),"",IF(H73=F73,1,IF(H73<F73,0,IF(H73-F73<10,2,IF(H73>F73,3,SE)))))
C74: =IF(OR(F74="",H74=""),"",IF(F74=H74,1,IF(F74<H74,0,IF(F74-H74<10,2,IF(F74>H74,3,SE))))) | Q74: =IF(OR(H74="",F74=""),"",IF(H74=F74,1,IF(H74<F74,0,IF(H74-F74<10,2,IF(H74>F74,3,SE)))))
C75: =IF(OR(F75="",H75=""),"",IF(F75=H75,1,IF(F75<H75,0,IF(F75-H75<10,2,IF(F75>H75,3,SE))))) | Q75: =IF(OR(H75="",F75=""),"",IF(H75=F75,1,IF(H75<F75,0,IF(H75-F75<10,2,IF(H75>F75,3,SE)))))
C76: =IF(OR(F76="",H76=""),"",IF(F76=H76,1,IF(F76<H76,0,IF(F76-H76<10,2,IF(F76>H76,3,SE))))) -> 0 | D76: =V25 -> Puro Malte F. C. | F76: 30 | G76: x | H76: 37 | I76: =V23 -> PHVT F.C. | Q76: =IF(OR(H76="",F76=""),"",IF(H76=F76,1,IF(H76<F76,0,IF(H76-F76<10,2,IF(H76>F76,3,SE))))) -> 2
C77: =IF(OR(F77="",H77=""),"",IF(F77=H77,1,IF(F77<H77,0,IF(F77-H77<10,2,IF(F77>H77,3,SE))))) -> 3 | D77: =V28 -> Rosinha da Gabi | F77: 63 | G77: x | H77: 44 | I77: =V22 -> Family Paz F.C. | Q77: =IF(OR(H77="",F77=""),"",IF(H77=F77,1,IF(H77<F77,0,IF(H77-F77<10,2,IF(H77>F77,3,SE))))) -> 0
C78: =IF(OR(F78="",H78=""),"",IF(F78=H78,1,IF(F78<H78,0,IF(F78-H78<10,2,IF(F78>H78,3,SE))))) -> 3 | D78: =V30 -> Forever2014 | F78: 69 | G78: x | H78: 14 | I78: =V20 -> secapimenteira | Q78: =IF(OR(H78="",F78=""),"",IF(H78=F78,1,IF(H78<F78,0,IF(H78-F78<10,2,IF(H78>F78,3,SE))))) -> 0
C79: =IF(OR(F79="",H79=""),"",IF(F79=H79,1,IF(F79<H79,0,IF(F79-H79<10,2,IF(F79>H79,3,SE))))) -> 3 | D79: =V27 -> Lucca Mengão | F79: 32 | G79: x | H79: 11 | I79: =V24 -> Tribe of Gypsies | Q79: =IF(OR(H79="",F79=""),"",IF(H79=F79,1,IF(H79<F79,0,IF(H79-F79<10,2,IF(H79>F79,3,SE))))) -> 0
C80: =IF(OR(F80="",H80=""),"",IF(F80=H80,1,IF(F80<H80,0,IF(F80-H80<10,2,IF(F80>H80,3,SE))))) -> 1 | D80: =V29 -> La Bestia Negra_Z | F80: 41 | G80: x | H80: 41 | I80: =V31 -> BFR Igor Costa | Q80: =IF(OR(H80="",F80=""),"",IF(H80=F80,1,IF(H80<F80,0,IF(H80-F80<10,2,IF(H80>F80,3,SE))))) -> 1
C81: =IF(OR(F81="",H81=""),"",IF(F81=H81,1,IF(F81<H81,0,IF(F81-H81<10,2,IF(F81>H81,3,SE))))) -> 0 | D81: =V21 -> itaipavacervejaclube | F81: 21 | G81: x | H81: 25 | I81: =V26 -> santo onofre E C | Q81: =IF(OR(H81="",F81=""),"",IF(H81=F81,1,IF(H81<F81,0,IF(H81-F81<10,2,IF(H81>F81,3,SE))))) -> 2
C82: =IF(OR(F82="",H82=""),"",IF(F82=H82,1,IF(F82<H82,0,IF(F82-H82<10,2,IF(F82>H82,3,SE))))) | Q82: =IF(OR(H82="",F82=""),"",IF(H82=F82,1,IF(H82<F82,0,IF(H82-F82<10,2,IF(H82>F82,3,SE)))))
C83: =IF(OR(F83="",H83=""),"",IF(F83=H83,1,IF(F83<H83,0,IF(F83-H83<10,2,IF(F83>H83,3,SE))))) | D83: 6ª RODADA - #25 | Q83: =IF(OR(H83="",F83=""),"",IF(H83=F83,1,IF(H83<F83,0,IF(H83-F83<10,2,IF(H83>F83,3,SE)))))
C84: =IF(OR(F84="",H84=""),"",IF(F84=H84,1,IF(F84<H84,0,IF(F84-H84<10,2,IF(F84>H84,3,SE))))) | Q84: =IF(OR(H84="",F84=""),"",IF(H84=F84,1,IF(H84<F84,0,IF(H84-F84<10,2,IF(H84>F84,3,SE)))))
C85: =IF(OR(F85="",H85=""),"",IF(F85=H85,1,IF(F85<H85,0,IF(F85-H85<10,2,IF(F85>H85,3,SE))))) | Q85: =IF(OR(H85="",F85=""),"",IF(H85=F85,1,IF(H85<F85,0,IF(H85-F85<10,2,IF(H85>F85,3,SE)))))
C86: =IF(OR(F86="",H86=""),"",IF(F86=H86,1,IF(F86<H86,0,IF(F86-H86<10,2,IF(F86>H86,3,SE))))) -> 3 | D86: =V31 -> BFR Igor Costa | F86: 69 | G86: x | H86: 35 | I86: =V22 -> Family Paz F.C. | Q86: =IF(OR(H86="",F86=""),"",IF(H86=F86,1,IF(H86<F86,0,IF(H86-F86<10,2,IF(H86>F86,3,SE))))) -> 0
C87: =IF(OR(F87="",H87=""),"",IF(F87=H87,1,IF(F87<H87,0,IF(F87-H87<10,2,IF(F87>H87,3,SE))))) -> 3 | D87: =V26 -> santo onofre E C | F87: 45 | G87: x | H87: 22 | I87: =V23 -> PHVT F.C. | Q87: =IF(OR(H87="",F87=""),"",IF(H87=F87,1,IF(H87<F87,0,IF(H87-F87<10,2,IF(H87>F87,3,SE))))) -> 0
C88: =IF(OR(F88="",H88=""),"",IF(F88=H88,1,IF(F88<H88,0,IF(F88-H88<10,2,IF(F88>H88,3,SE))))) -> 0 | D88: =V30 -> Forever2014 | F88: 33 | G88: x | H88: 55 | I88: =V28 -> Rosinha da Gabi | Q88: =IF(OR(H88="",F88=""),"",IF(H88=F88,1,IF(H88<F88,0,IF(H88-F88<10,2,IF(H88>F88,3,SE))))) -> 3
C89: =IF(OR(F89="",H89=""),"",IF(F89=H89,1,IF(F89<H89,0,IF(F89-H89<10,2,IF(F89>H89,3,SE))))) -> 0 | D89: =V24 -> Tribe of Gypsies | F89: 42 | G89: x | H89: 49 | I89: =V29 -> La Bestia Negra_Z | Q89: =IF(OR(H89="",F89=""),"",IF(H89=F89,1,IF(H89<F89,0,IF(H89-F89<10,2,IF(H89>F89,3,SE))))) -> 2
C90: =IF(OR(F90="",H90=""),"",IF(F90=H90,1,IF(F90<H90,0,IF(F90-H90<10,2,IF(F90>H90,3,SE))))) -> 0 | D90: =V27 -> Lucca Mengão | F90: 33 | G90: x | H90: 55 | I90: =V25 -> Puro Malte F. C. | Q90: =IF(OR(H90="",F90=""),"",IF(H90=F90,1,IF(H90<F90,0,IF(H90-F90<10,2,IF(H90>F90,3,SE))))) -> 3
C91: =IF(OR(F91="",H91=""),"",IF(F91=H91,1,IF(F91<H91,0,IF(F91-H91<10,2,IF(F91>H91,3,SE))))) -> 1 | D91: =V20 -> secapimenteira | F91: 29 | G91: x | H91: 29 | I91: =V21 -> itaipavacervejaclube | Q91: =IF(OR(H91="",F91=""),"",IF(H91=F91,1,IF(H91<F91,0,IF(H91-F91<10,2,IF(H91>F91,3,SE))))) -> 1
C92: =IF(OR(F92="",H92=""),"",IF(F92=H92,1,IF(F92<H92,0,IF(F92-H92<10,2,IF(F92>H92,3,SE))))) | Q92: =IF(OR(H92="",F92=""),"",IF(H92=F92,1,IF(H92<F92,0,IF(H92-F92<10,2,IF(H92>F92,3,SE)))))
C93: =IF(OR(F93="",H93=""),"",IF(F93=H93,1,IF(F93<H93,0,IF(F93-H93<10,2,IF(F93>H93,3,SE))))) | D93: 7ª RODADA - #26 | Q93: =IF(OR(H93="",F93=""),"",IF(H93=F93,1,IF(H93<F93,0,IF(H93-F93<10,2,IF(H93>F93,3,SE)))))
C94: =IF(OR(F94="",H94=""),"",IF(F94=H94,1,IF(F94<H94,0,IF(F94-H94<10,2,IF(F94>H94,3,SE))))) | Q94: =IF(OR(H94="",F94=""),"",IF(H94=F94,1,IF(H94<F94,0,IF(H94-F94<10,2,IF(H94>F94,3,SE)))))
C95: =IF(OR(F95="",H95=""),"",IF(F95=H95,1,IF(F95<H95,0,IF(F95-H95<10,2,IF(F95>H95,3,SE))))) | Q95: =IF(OR(H95="",F95=""),"",IF(H95=F95,1,IF(H95<F95,0,IF(H95-F95<10,2,IF(H95>F95,3,SE)))))
C96: =IF(OR(F96="",H96=""),"",IF(F96=H96,1,IF(F96<H96,0,IF(F96-H96<10,2,IF(F96>H96,3,SE))))) | D96: =V21 -> itaipavacervejaclube | G96: x | I96: =V27 -> Lucca Mengão | Q96: =IF(OR(H96="",F96=""),"",IF(H96=F96,1,IF(H96<F96,0,IF(H96-F96<10,2,IF(H96>F96,3,SE)))))
C97: =IF(OR(F97="",H97=""),"",IF(F97=H97,1,IF(F97<H97,0,IF(F97-H97<10,2,IF(F97>H97,3,SE))))) | D97: =V28 -> Rosinha da Gabi | G97: x | I97: =V31 -> BFR Igor Costa | Q97: =IF(OR(H97="",F97=""),"",IF(H97=F97,1,IF(H97<F97,0,IF(H97-F97<10,2,IF(H97>F97,3,SE)))))
C98: =IF(OR(F98="",H98=""),"",IF(F98=H98,1,IF(F98<H98,0,IF(F98-H98<10,2,IF(F98>H98,3,SE))))) | D98: =V26 -> santo onofre E C | G98: x | I98: =V20 -> secapimenteira | Q98: =IF(OR(H98="",F98=""),"",IF(H98=F98,1,IF(H98<F98,0,IF(H98-F98<10,2,IF(H98>F98,3,SE)))))
C99: =IF(OR(F99="",H99=""),"",IF(F99=H99,1,IF(F99<H99,0,IF(F99-H99<10,2,IF(F99>H99,3,SE))))) | D99: =V22 -> Family Paz F.C. | G99: x | I99: =V29 -> La Bestia Negra_Z | Q99: =IF(OR(H99="",F99=""),"",IF(H99=F99,1,IF(H99<F99,0,IF(H99-F99<10,2,IF(H99>F99,3,SE)))))
C100: =IF(OR(F100="",H100=""),"",IF(F100=H100,1,IF(F100<H100,0,IF(F100-H100<10,2,IF(F100>H100,3,SE))))) | D100: =V25 -> Puro Malte F. C. | G100: x | I100: =V30 -> Forever2014 | Q100: =IF(OR(H100="",F100=""),"",IF(H100=F100,1,IF(H100<F100,0,IF(H100-F100<10,2,IF(H100>F100,3,SE)))))
C101: =IF(OR(F101="",H101=""),"",IF(F101=H101,1,IF(F101<H101,0,IF(F101-H101<10,2,IF(F101>H101,3,SE))))) | D101: =V23 -> PHVT F.C. | G101: x | I101: =V24 -> Tribe of Gypsies | Q101: =IF(OR(H101="",F101=""),"",IF(H101=F101,1,IF(H101<F101,0,IF(H101-F101<10,2,IF(H101>F101,3,SE)))))
C102: =IF(OR(F102="",H102=""),"",IF(F102=H102,1,IF(F102<H102,0,IF(F102-H102<10,2,IF(F102>H102,3,SE))))) | Q102: =IF(OR(H102="",F102=""),"",IF(H102=F102,1,IF(H102<F102,0,IF(H102-F102<10,2,IF(H102>F102,3,SE)))))
C103: =IF(OR(F103="",H103=""),"",IF(F103=H103,1,IF(F103<H103,0,IF(F103-H103<10,2,IF(F103>H103,3,SE))))) | D103: 8ª RODADA - #27 | Q103: =IF(OR(H103="",F103=""),"",IF(H103=F103,1,IF(H103<F103,0,IF(H103-F103<10,2,IF(H103>F103,3,SE)))))
C104: =IF(OR(F104="",H104=""),"",IF(F104=H104,1,IF(F104<H104,0,IF(F104-H104<10,2,IF(F104>H104,3,SE))))) | Q104: =IF(OR(H104="",F104=""),"",IF(H104=F104,1,IF(H104<F104,0,IF(H104-F104<10,2,IF(H104>F104,3,SE)))))
C105: =IF(OR(F105="",H105=""),"",IF(F105=H105,1,IF(F105<H105,0,IF(F105-H105<10,2,IF(F105>H105,3,SE))))) | Q105: =IF(OR(H105="",F105=""),"",IF(H105=F105,1,IF(H105<F105,0,IF(H105-F105<10,2,IF(H105>F105,3,SE)))))
C106: =IF(OR(F106="",H106=""),"",IF(F106=H106,1,IF(F106<H106,0,IF(F106-H106<10,2,IF(F106>H106,3,SE))))) | D106: =V27 -> Lucca Mengão | G106: x | I106: =V28 -> Rosinha da Gabi | Q106: =IF(OR(H106="",F106=""),"",IF(H106=F106,1,IF(H106<F106,0,IF(H106-F106<10,2,IF(H106>F106,3,SE)))))
C107: =IF(OR(F107="",H107=""),"",IF(F107=H107,1,IF(F107<H107,0,IF(F107-H107<10,2,IF(F107>H107,3,SE))))) | D107: =V24 -> Tribe of Gypsies | G107: x | I107: =V22 -> Family Paz F.C. | Q107: =IF(OR(H107="",F107=""),"",IF(H107=F107,1,IF(H107<F107,0,IF(H107-F107<10,2,IF(H107>F107,3,SE)))))
C108: =IF(OR(F108="",H108=""),"",IF(F108=H108,1,IF(F108<H108,0,IF(F108-H108<10,2,IF(F108>H108,3,SE))))) | D108: =V20 -> secapimenteira | G108: x | I108: =V31 -> BFR Igor Costa | Q108: =IF(OR(H108="",F108=""),"",IF(H108=F108,1,IF(H108<F108,0,IF(H108-F108<10,2,IF(H108>F108,3,SE)))))
C109: =IF(OR(F109="",H109=""),"",IF(F109=H109,1,IF(F109<H109,0,IF(F109-H109<10,2,IF(F109>H109,3,SE))))) | D109: =V29 -> La Bestia Negra_Z | G109: x | I109: =V23 -> PHVT F.C. | Q109: =IF(OR(H109="",F109=""),"",IF(H109=F109,1,IF(H109<F109,0,IF(H109-F109<10,2,IF(H109>F109,3,SE)))))
C110: =IF(OR(F110="",H110=""),"",IF(F110=H110,1,IF(F110<H110,0,IF(F110-H110<10,2,IF(F110>H110,3,SE))))) | D110: =V30 -> Forever2014 | G110: x | I110: =V21 -> itaipavacervejaclube | Q110: =IF(OR(H110="",F110=""),"",IF(H110=F110,1,IF(H110<F110,0,IF(H110-F110<10,2,IF(H110>F110,3,SE)))))
C111: =IF(OR(F111="",H111=""),"",IF(F111=H111,1,IF(F111<H111,0,IF(F111-H111<10,2,IF(F111>H111,3,SE))))) | D111: =V25 -> Puro Malte F. C. | G111: x | I111: =V26 -> santo onofre E C | Q111: =IF(OR(H111="",F111=""),"",IF(H111=F111,1,IF(H111<F111,0,IF(H111-F111<10,2,IF(H111>F111,3,SE)))))
C112: =IF(OR(F112="",H112=""),"",IF(F112=H112,1,IF(F112<H112,0,IF(F112-H112<10,2,IF(F112>H112,3,SE))))) | Q112: =IF(OR(H112="",F112=""),"",IF(H112=F112,1,IF(H112<F112,0,IF(H112-F112<10,2,IF(H112>F112,3,SE)))))
C113: =IF(OR(F113="",H113=""),"",IF(F113=H113,1,IF(F113<H113,0,IF(F113-H113<10,2,IF(F113>H113,3,SE))))) | D113: 9ª RODADA - #28 | Q113: =IF(OR(H113="",F113=""),"",IF(H113=F113,1,IF(H113<F113,0,IF(H113-F113<10,2,IF(H113>F113,3,SE)))))
C114: =IF(OR(F114="",H114=""),"",IF(F114=H114,1,IF(F114<H114,0,IF(F114-H114<10,2,IF(F114>H114,3,SE))))) | Q114: =IF(OR(H114="",F114=""),"",IF(H114=F114,1,IF(H114<F114,0,IF(H114-F114<10,2,IF(H114>F114,3,SE)))))
C115: =IF(OR(F115="",H115=""),"",IF(F115=H115,1,IF(F115<H115,0,IF(F115-H115<10,2,IF(F115>H115,3,SE))))) | Q115: =IF(OR(H115="",F115=""),"",IF(H115=F115,1,IF(H115<F115,0,IF(H115-F115<10,2,IF(H115>F115,3,SE)))))
C116: =IF(OR(F116="",H116=""),"",IF(F116=H116,1,IF(F116<H116,0,IF(F116-H116<10,2,IF(F116>H116,3,SE))))) | D116: =V27 -> Lucca Mengão | G116: x | I116: =V30 -> Forever2014 | Q116: =IF(OR(H116="",F116=""),"",IF(H116=F116,1,IF(H116<F116,0,IF(H116-F116<10,2,IF(H116>F116,3,SE)))))
...

Sheet GRUPO 4
B2: 1º SUPERSOCAMPEONATO 2013
B6: 1ª FASE
D10: CLASSIFICAÇÃO
D15: OBS: Os 4 melhores colocados no Grupo se classificarão para a Oitavas de Finais.
D17: GRUPO 4
D19: Pos. | E19: CARTOLA | F19: P | H19: PP | J19: PC | L19: SP | O19: Legenda | U19: Pos. | V19: TIMES | W19: P | X19: GF | Y19: GC | Z19: SG | AA19: calc | AB19: maior | AC19: corresp
D20: 1º | E20: =VLOOKUP(AC20,$U$20:$AB$31,2) -> MJ Predador F.C. | F20: =VLOOKUP(AC20,$U$20:$AB$31,3) -> 13 | H20: =VLOOKUP(AC20,$U$20:$AB$31,4) -> 332 | J20: =VLOOKUP(AC20,$U$20:$AB$31,5) -> 230 | L20: =VLOOKUP(AC20,$U$20:$AB$31,6) -> 102 | O20: P - pontos | U20: 1 | V20: MJ Predador F.C. | W20: =SUM(C38,Q46,Q60,C71,Q78,C91,Q98,C108,Q120,C128,C140) -> 13 | X20: =SUM(F38,H46,H60,F71,H78,F91,H98,H120,F108,F128,F140) -> 332 | Y20: =SUM(H38,F46,F60,H71,F78,H91,F98,H108,F120,H128,H140) -> 230 | Z20: =X20-Y20 -> 102 | AA20: =(W20*10^10)+((X20+5000)*10^6)+(Z20*10)+U20 -> 135332001021 | AB20: =LARGE($AA$20:$AA$31,U20) -> 135332001021 | AC20: =MATCH(AB20,$AA$20:$AA$31,0) -> 1
D21: 2º | E21: =VLOOKUP(AC21,$U$20:$AB$31,2) -> Casinha da Grazi | F21: =VLOOKUP(AC21,$U$20:$AB$31,3) -> 13 | H21: =VLOOKUP(AC21,$U$20:$AB$31,4) -> 283 | J21: =VLOOKUP(AC21,$U$20:$AB$31,5) -> 247 | L21: =VLOOKUP(AC21,$U$20:$AB$31,6) -> 36 | O21: PPC - pontos pró Cartola | U21: 2 | V21: JUGULI Fc | W21: =SUM(Q41,Q57,C69,C81,Q91,C50,C96,Q110,C118,C130,Q138) -> 0 | X21: =SUM(H41,F50,H57,F69,F81,H91,F96,H110,F118,F130,H138) -> 153 | Y21: =SUM(F41,H50,F57,H69,H81,F91,H96,F110,H118,H130,F138) -> 268 | Z21: =X21-Y21 -> -115 | AA21: =(W21*10^10)+((X21+5000)*10^6)+(Z21*10)+U21 -> 5152998852 | AB21: =LARGE($AA$20:$AA$31,U21) -> 135283000367 | AC21: =MATCH(AB21,$AA$20:$AA$31,0) -> 7
D22: 3º | E22: =VLOOKUP(AC22,$U$20:$AB$31,2) -> Vitullo soccer clube | F22: =VLOOKUP(AC22,$U$20:$AB$31,3) -> 12 | H22: =VLOOKUP(AC22,$U$20:$AB$31,4) -> 357 | J22: =VLOOKUP(AC22,$U$20:$AB$31,5) -> 247 | L22: =VLOOKUP(AC22,$U$20:$AB$31,6) -> 110 | O22: PC - pontos contra Cartola | U22: 3 | V22: Vitullo soccer clube | W22: =SUM(C39,Q50,C60,C67,C99,Q77,Q86,Q107,C121,Q129,C137) -> 12 | X22: =SUM(F39,H50,F60,F67,H77,H86,F99,H107,F121,H129,F137) -> 357 | Y22: =SUM(H39,F50,H60,H67,F77,F86,H99,F107,H121,F129,H137) -> 247 | Z22: =X22-Y22 -> 110 | AA22: =(W22*10^10)+((X22+5000)*10^6)+(Z22*10)+U22 -> 125357001103 | AB22: =LARGE($AA$20:$AA$31,U22) -> 125357001103 | AC22: =MATCH(AB22,$AA$20:$AA$31,0) -> 3
D23: 4º | E23: =VLOOKUP(AC23,$U$20:$AB$31,2) -> hugofluzao | F23: =VLOOKUP(AC23,$U$20:$AB$31,3) -> 10 | H23: =VLOOKUP(AC23,$U$20:$AB$31,4) -> 333 | J23: =VLOOKUP(AC23,$U$20:$AB$31,5) -> 327 | L23: =VLOOKUP(AC23,$U$20:$AB$31,6) -> 6 | O23: SP - saldo de pontos | U23: 4 | V23: tico sto fc | W23: =SUM(C41,C46,C68,Q76,Q58,Q109,Q87,C101,Q121,C126,Q139) -> 6 | X23: =SUM(F41,F46,H58,F68,H87,H109,H76,F101,H121,F126,H139) -> 233 | Y23: =SUM(H41,H46,H68,F58,F76,F87,H101,F109,F121,H126,F139) -> 289 | Z23: =X23-Y23 -> -56 | AA23: =(W23*10^10)+((X23+5000)*10^6)+(Z23*10)+U23 -> 65232999444 | AB23: =LARGE($AA$20:$AA$31,U23) -> 105333000070 | AC23: =MATCH(AB23,$AA$20:$AA$31,0) -> 10
D24: 5º | E24: =VLOOKUP(AC24,$U$20:$AB$31,2) -> VivaCR.FC | F24: =VLOOKUP(AC24,$U$20:$AB$31,3) -> 9 | H24: =VLOOKUP(AC24,$U$20:$AB$31,4) -> 303 | J24: =VLOOKUP(AC24,$U$20:$AB$31,5) -> 293 | L24: =VLOOKUP(AC24,$U$20:$AB$31,6) -> 10 | U24: 5 | V24: Espamengo | W24: =SUM(Q36,C47,Q56,C70,Q79,C89,Q101,C107,Q118,C127,Q140) -> 3 | X24: =SUM(H36,F47,H56,F70,H79,F89,H101,F107,H118,F127,H140) -> 263 | Y24: =SUM(F36,H47,F56,H70,F79,H89,F101,H107,F118,H127,F140) -> 301 | Z24: =X24-Y24 -> -38 | AA24: =(W24*10^10)+((X24+5000)*10^6)+(Z24*10)+U24 -> 35262999625 | AB24: =LARGE($AA$20:$AA$31,U24) -> 95303000111 | AC24: =MATCH(AB24,$AA$20:$AA$31,0) -> 11
D25: 6º | E25: =VLOOKUP(AC25,$U$20:$AB$31,2) -> Grajaú F.C. | F25: =VLOOKUP(AC25,$U$20:$AB$31,3) -> 8 | H25: =VLOOKUP(AC25,$U$20:$AB$31,4) -> 324 | J25: =VLOOKUP(AC25,$U$20:$AB$31,5) -> 295 | L25: =VLOOKUP(AC25,$U$20:$AB$31,6) -> 29 | O25: CRITÉRIO DE DESEMPATE | U25: 6 | V25: Bayern do Cartola | W25: =SUM(Q38,C49,C57,Q70,C76,Q90,C100,C111,Q117,C131,Q137) -> 8 | X25: =SUM(H38,F49,F57,H70,F76,H90,F100,F111,H117,F131,H137) -> 295 | Y25: =SUM(F38,H49,H57,F70,H76,F90,H100,H111,F117,H131,F137) -> 299 | Z25: =X25-Y25 -> -4 | AA25: =(W25*10^10)+((X25+5000)*10^6)+(Z25*10)+U25 -> 85294999966 | AB25: =LARGE($AA$20:$AA$31,U25) -> 85324000298 | AC25: =MATCH(AB25,$AA$20:$AA$31,0) -> 8
D26: 7º | E26: =VLOOKUP(AC26,$U$20:$AB$31,2) -> Bayern do Cartola | F26: =VLOOKUP(AC26,$U$20:$AB$31,3) -> 8 | H26: =VLOOKUP(AC26,$U$20:$AB$31,4) -> 295 | J26: =VLOOKUP(AC26,$U$20:$AB$31,5) -> 299 | L26: =VLOOKUP(AC26,$U$20:$AB$31,6) -> -4 | O26: 1 - pontos | U26: 7 | V26: Casinha da Grazi | W26: =SUM(Q40,Q47,C59,C66,Q81,C87,C98,Q111,Q119,C129,Q136) -> 13 | X26: =SUM(H40,H47,F59,F66,H81,F87,F98,H111,H119,F129,H136) -> 283 | Y26: =SUM(F40,F47,H59,H66,F81,H87,H98,F119,H129,F136) -> 247 | Z26: =X26-Y26 -> 36 | AA26: =(W26*10^10)+((X26+5000)*10^6)+(Z26*10)+U26 -> 135283000367 | AB26: =LARGE($AA$20:$AA$31,U26) -> 85294999966 | AC26: =MATCH(AB26,$AA$20:$AA$31,0) -> 6
D27: 8º | E27: =VLOOKUP(AC27,$U$20:$AB$31,2) -> VascoPaulo F.C. | F27: =VLOOKUP(AC27,$U$20:$AB$31,3) -> 8 | H27: =VLOOKUP(AC27,$U$20:$AB$31,4) -> 284 | J27: =VLOOKUP(AC27,$U$20:$AB$31,5) -> 331 | L27: =VLOOKUP(AC27,$U$20:$AB$31,6) -> -47 | O27: 2 - pontos pró Cartola | U27: 8 | V27: Grajaú F.C. | W27: =SUM(Q39,Q48,C61,Q66,C79,C90,Q96,C106,C116,Q128,C139) -> 8 | X27: =SUM(H39,H48,F61,H66,F79,F90,H96,F106,F116,H128,F139) -> 324 | Y27: =SUM(F39,F48,F66,H61,H79,H90,F96,H106,H116,F128,H139) -> 295 | Z27: =X27-Y27 -> 29 | AA27: =(W27*10^10)+((X27+5000)*10^6)+(Z27*10)+U27 -> 85324000298 | AB27: =LARGE($AA$20:$AA$31,U27) -> 85283999542 | AC27: =MATCH(AB27,$AA$20:$AA$31,0) -> 12
D28: 9º | E28: =VLOOKUP(AC28,$U$20:$AB$31,2) -> André fogão | F28: =VLOOKUP(AC28,$U$20:$AB$31,3) -> 7 | H28: =VLOOKUP(AC28,$U$20:$AB$31,4) -> 254 | J28: =VLOOKUP(AC28,$U$20:$AB$31,5) -> 287 | L28: =VLOOKUP(AC28,$U$20:$AB$31,6) -> -33 | O28: 3 - saldo de pontos | U28: 9 | V28: André fogão | W28: =SUM(C37,Q49,C56,Q69,C77,Q88,C97,Q106,C120,Q126,C136) -> 7 | X28: =SUM(F37,H49,F56,H69,F77,H88,F97,H106,F120,H126,F136) -> 254 | Y28: =SUM(H37,F49,H56,F69,H77,F88,H97,F106,H120,F126,H136) -> 287 | Z28: =X28-Y28 -> -33 | AA28: =(W28*10^10)+((X28+5000)*10^6)+(Z28*10)+U28 -> 75253999679 | AB28: =LARGE($AA$20:$AA$31,U28) -> 75253999679 | AC28: =MATCH(AB28,$AA$20:$AA$31,0) -> 9
D29: 10º | E29: =VLOOKUP(AC29,$U$20:$AB$31,2) -> tico sto fc | F29: =VLOOKUP(AC29,$U$20:$AB$31,3) -> 6 | H29: =VLOOKUP(AC29,$U$20:$AB$31,4) -> 233 | J29: =VLOOKUP(AC29,$U$20:$AB$31,5) -> 289 | L29: =VLOOKUP(AC29,$U$20:$AB$31,6) -> -56 | O29: 4 - pontos contra Cartola | U29: 10 | V29: hugofluzao | W29: =SUM(Q37,C48,Q59,Q71,C80,Q89,Q99,C109,C117,Q130,Q141) -> 10 | X29: =SUM(H37,F48,H59,H71,F80,H89,H99,F109,F117,H130,H141) -> 333 | Y29: =SUM(F37,H48,F59,F71,H80,F89,F99,H109,H117,F130,F141) -> 327 | Z29: =X29-Y29 -> 6 | AA29: =(W29*10^10)+((X29+5000)*10^6)+(Z29*10)+U29 -> 105333000070 | AB29: =LARGE($AA$20:$AA$31,U29) -> 65232999444 | AC29: =MATCH(AB29,$AA$20:$AA$31,0) -> 4
D30: 11º | E30: =VLOOKUP(AC30,$U$20:$AB$31,2) -> Espamengo | F30: =VLOOKUP(AC30,$U$20:$AB$31,3) -> 3 | H30: =VLOOKUP(AC30,$U$20:$AB$31,4) -> 263 | J30: =VLOOKUP(AC30,$U$20:$AB$31,5) -> 301 | L30: =VLOOKUP(AC30,$U$20:$AB$31,6) -> -38 | U30: 11 | V30: VivaCR.FC | W30: =SUM(C40,Q51,C58,Q67,C78,C88,Q100,C110,Q116,Q127,C141) -> 9 | X30: =SUM(F40,H51,F58,H67,F78,H100,F110,H116,H127,F141,F88) -> 303 | Y30: =SUM(H40,F51,H58,F67,H78,H88,F100,H110,F116,F127,H141) -> 293 | Z30: =X30-Y30 -> 10 | AA30: =(W30*10^10)+((X30+5000)*10^6)+(Z30*10)+U30 -> 95303000111 | AB30: =LARGE($AA$20:$AA$31,U30) -> 35262999625 | AC30: =MATCH(AB30,$AA$20:$AA$31,0) -> 5
D31: 12º | E31: =VLOOKUP(AC31,$U$20:$AB$31,2) -> JUGULI Fc | F31: =VLOOKUP(AC31,$U$20:$AB$31,3) -> 0 | H31: =VLOOKUP(AC31,$U$20:$AB$31,4) -> 153 | J31: =VLOOKUP(AC31,$U$20:$AB$31,5) -> 268 | L31: =VLOOKUP(AC31,$U$20:$AB$31,6) -> -115 | U31: 12 | V31: VascoPaulo F.C. | W31: =SUM(C36,C51,Q61,Q68,Q80,C86,Q97,Q108,C119,Q131,C138) -> 8 | X31: =SUM(F36,F51,H61,H68,H80,F86,H97,H108,F119,H131,F138) -> 284 | Y31: =SUM(H36,H51,F61,F68,F80,H86,F97,F108,H119,F131,H138) -> 331 | Z31: =X31-Y31 -> -47 | AA31: =(W31*10^10)+((X31+5000)*10^6)+(Z31*10)+U31 -> 85283999542 | AB31: =LARGE($AA$20:$AA$31,U31) -> 5152998852 | AC31: =MATCH(AB31,$AA$20:$AA$31,0) -> 2
D33: 1ª RODADA - #20
C36: =IF(OR(F36="",H36=""),"",IF(F36=H36,1,IF(F36<H36,0,IF(F36-H36<10,2,IF(F36>H36,3,SE))))) -> 3 | D36: =V31 -> VascoPaulo F.C. | F36: 53 | G36: x | H36: 37 | I36: =V24 -> Espamengo | Q36: =IF(OR(H36="",F36=""),"",IF(H36=F36,1,IF(H36<F36,0,IF(H36-F36<10,2,IF(H36>F36,3,SE))))) -> 0
C37: =IF(OR(F37="",H37=""),"",IF(F37=H37,1,IF(F37<H37,0,IF(F37-H37<10,2,IF(F37>H37,3,SE))))) -> 0 | D37: =V28 -> André fogão | F37: 60 | G37: x | H37: 61 | I37: =V29 -> hugofluzao | Q37: =IF(OR(H37="",F37=""),"",IF(H37=F37,1,IF(H37<F37,0,IF(H37-F37<10,2,IF(H37>F37,3,SE))))) -> 2
C38: =IF(OR(F38="",H38=""),"",IF(F38=H38,1,IF(F38<H38,0,IF(F38-H38<10,2,IF(F38>H38,3,SE))))) -> 3 | D38: =V20 -> MJ Predador F.C. | F38: 59 | G38: x | H38: 38 | I38: =V25 -> Bayern do Cartola | Q38: =IF(OR(H38="",F38=""),"",IF(H38=F38,1,IF(H38<F38,0,IF(H38-F38<10,2,IF(H38>F38,3,SE))))) -> 0
C39: =IF(OR(F39="",H39=""),"",IF(F39=H39,1,IF(F39<H39,0,IF(F39-H39<10,2,IF(F39>H39,3,SE))))) -> 3 | D39: =V22 -> Vitullo soccer clube | F39: 82 | G39: x | H39: 63 | I39: =V27 -> Grajaú F.C. | Q39: =IF(OR(H39="",F39=""),"",IF(H39=F39,1,IF(H39<F39,0,IF(H39-F39<10,2,IF(H39>F39,3,SE))))) -> 0
C40: =IF(OR(F40="",H40=""),"",IF(F40=H40,1,IF(F40<H40,0,IF(F40-H40<10,2,IF(F40>H40,3,SE))))) -> 0 | D40: =V30 -> VivaCR.FC | F40: 47 | G40: x | H40: 57 | I40: =V26 -> Casinha da Grazi | Q40: =IF(OR(H40="",F40=""),"",IF(H40=F40,1,IF(H40<F40,0,IF(H40-F40<10,2,IF(H40>F40,3,SE))))) -> 3
C41: =IF(OR(F41="",H41=""),"",IF(F41=H41,1,IF(F41<H41,0,IF(F41-H41<10,2,IF(F41>H41,3,SE))))) -> 3 | D41: =V23 -> tico sto fc | F41: 35 | G41: x | H41: 25 | I41: =V21 -> JUGULI Fc | Q41: =IF(OR(H41="",F41=""),"",IF(H41=F41,1,IF(H41<F41,0,IF(H41-F41<10,2,IF(H41>F41,3,SE))))) -> 0
C42: =IF(OR(F42="",H42=""),"",IF(F42=H42,1,IF(F42<H42,0,IF(F42-H42<10,2,IF(F42>H42,3,SE))))) | Q42: =IF(OR(H42="",F42=""),"",IF(H42=F42,1,IF(H42<F42,0,IF(H42-F42<10,2,IF(H42>F42,3,SE)))))
C43: =IF(OR(F43="",H43=""),"",IF(F43=H43,1,IF(F43<H43,0,IF(F43-H43<10,2,IF(F43>H43,3,SE))))) | D43: 2ª RODADA - #21 | Q43: =IF(OR(H43="",F43=""),"",IF(H43=F43,1,IF(H43<F43,0,IF(H43-F43<10,2,IF(H43>F43,3,SE)))))
C44: =IF(OR(F44="",H44=""),"",IF(F44=H44,1,IF(F44<H44,0,IF(F44-H44<10,2,IF(F44>H44,3,SE))))) | Q44: =IF(OR(H44="",F44=""),"",IF(H44=F44,1,IF(H44<F44,0,IF(H44-F44<10,2,IF(H44>F44,3,SE)))))
C45: =IF(OR(F45="",H45=""),"",IF(F45=H45,1,IF(F45<H45,0,IF(F45-H45<10,2,IF(F45>H45,3,SE))))) | Q45: =IF(OR(H45="",F45=""),"",IF(H45=F45,1,IF(H45<F45,0,IF(H45-F45<10,2,IF(H45>F45,3,SE)))))
C46: =IF(OR(F46="",H46=""),"",IF(F46=H46,1,IF(F46<H46,0,IF(F46-H46<10,2,IF(F46>H46,3,SE))))) -> 0 | D46: =V23 -> tico sto fc | F46: 22 | G46: x | H46: 85 | I46: =V20 -> MJ Predador F.C. | Q46: =IF(OR(H46="",F46=""),"",IF(H46=F46,1,IF(H46<F46,0,IF(H46-F46<10,2,IF(H46>F46,3,SE))))) -> 3
C47: =IF(OR(F47="",H47=""),"",IF(F47=H47,1,IF(F47<H47,0,IF(F47-H47<10,2,IF(F47>H47,3,SE))))) -> 0 | D47: =V24 -> Espamengo | F47: 62 | G47: x | H47: 63 | I47: =V26 -> Casinha da Grazi | Q47: =IF(OR(H47="",F47=""),"",IF(H47=F47,1,IF(H47<F47,0,IF(H47-F47<10,2,IF(H47>F47,3,SE))))) -> 2
C48: =IF(OR(F48="",H48=""),"",IF(F48=H48,1,IF(F48<H48,0,IF(F48-H48<10,2,IF(F48>H48,3,SE))))) -> 3 | D48: =V29 -> hugofluzao | F48: 80 | G48: x | H48: 67 | I48: =V27 -> Grajaú F.C. | Q48: =IF(OR(H48="",F48=""),"",IF(H48=F48,1,IF(H48<F48,0,IF(H48-F48<10,2,IF(H48>F48,3,SE))))) -> 0
C49: =IF(OR(F49="",H49=""),"",IF(F49=H49,1,IF(F49<H49,0,IF(F49-H49<10,2,IF(F49>H49,3,SE))))) -> 0 | D49: =V25 -> Bayern do Cartola | F49: 38 | G49: x | H49: 46 | I49: =V28 -> André fogão | Q49: =IF(OR(H49="",F49=""),"",IF(H49=F49,1,IF(H49<F49,0,IF(H49-F49<10,2,IF(H49>F49,3,SE))))) -> 2
C50: =IF(OR(F50="",H50=""),"",IF(F50=H50,1,IF(F50<H50,0,IF(F50-H50<10,2,IF(F50>H50,3,SE))))) -> 0 | D50: =V21 -> JUGULI Fc | F50: 25 | G50: x | H50: 63 | I50: =V22 -> Vitullo soccer clube | Q50: =IF(OR(H50="",F50=""),"",IF(H50=F50,1,IF(H50<F50,0,IF(H50-F50<10,2,IF(H50>F50,3,SE))))) -> 3
C51: =IF(OR(F51="",H51=""),"",IF(F51=H51,1,IF(F51<H51,0,IF(F51-H51<10,2,IF(F51>H51,3,SE))))) -> 3 | D51: =V31 -> VascoPaulo F.C. | F51: 84 | G51: x | H51: 63 | I51: =V30 -> VivaCR.FC | Q51: =IF(OR(H51="",F51=""),"",IF(H51=F51,1,IF(H51<F51,0,IF(H51-F51<10,2,IF(H51>F51,3,SE))))) -> 0
C52: =IF(OR(F52="",H52=""),"",IF(F52=H52,1,IF(F52<H52,0,IF(F52-H52<10,2,IF(F52>H52,3,SE))))) | Q52: =IF(OR(H52="",F52=""),"",IF(H52=F52,1,IF(H52<F52,0,IF(H52-F52<10,2,IF(H52>F52,3,SE)))))
C53: =IF(OR(F53="",H53=""),"",IF(F53=H53,1,IF(F53<H53,0,IF(F53-H53<10,2,IF(F53>H53,3,SE))))) | D53: 3ª RODADA - #22 | Q53: =IF(OR(H53="",F53=""),"",IF(H53=F53,1,IF(H53<F53,0,IF(H53-F53<10,2,IF(H53>F53,3,SE)))))
C54: =IF(OR(F54="",H54=""),"",IF(F54=H54,1,IF(F54<H54,0,IF(F54-H54<10,2,IF(F54>H54,3,SE))))) | Q54: =IF(OR(H54="",F54=""),"",IF(H54=F54,1,IF(H54<F54,0,IF(H54-F54<10,2,IF(H54>F54,3,SE)))))
C55: =IF(OR(F55="",H55=""),"",IF(F55=H55,1,IF(F55<H55,0,IF(F55-H55<10,2,IF(F55>H55,3,SE))))) | Q55: =IF(OR(H55="",F55=""),"",IF(H55=F55,1,IF(H55<F55,0,IF(H55-F55<10,2,IF(H55>F55,3,SE)))))
C56: =IF(OR(F56="",H56=""),"",IF(F56=H56,1,IF(F56<H56,0,IF(F56-H56<10,2,IF(F56>H56,3,SE))))) -> 2 | D56: =V28 -> André fogão | F56: 23 | G56: x | H56: 21 | I56: =V24 -> Espamengo | Q56: =IF(OR(H56="",F56=""),"",IF(H56=F56,1,IF(H56<F56,0,IF(H56-F56<10,2,IF(H56>F56,3,SE))))) -> 0
C57: =IF(OR(F57="",H57=""),"",IF(F57=H57,1,IF(F57<H57,0,IF(F57-H57<10,2,IF(F57>H57,3,SE))))) -> 3 | D57: =V25 -> Bayern do Cartola | F57: 55 | G57: x | H57: 37 | I57: =V21 -> JUGULI Fc | Q57: =IF(OR(H57="",F57=""),"",IF(H57=F57,1,IF(H57<F57,0,IF(H57-F57<10,2,IF(H57>F57,3,SE))))) -> 0
C58: =IF(OR(F58="",H58=""),"",IF(F58=H58,1,IF(F58<H58,0,IF(F58-H58<10,2,IF(F58>H58,3,SE))))) -> 3 | D58: =V30 -> VivaCR.FC | F58: 46 | G58: x | H58: 36 | I58: =V23 -> tico sto fc | Q58: =IF(OR(H58="",F58=""),"",IF(H58=F58,1,IF(H58<F58,0,IF(H58-F58<10,2,IF(H58>F58,3,SE))))) -> 0
C59: =IF(OR(F59="",H59=""),"",IF(F59=H59,1,IF(F59<H59,0,IF(F59-H59<10,2,IF(F59>H59,3,SE))))) -> 3 | D59: =V26 -> Casinha da Grazi | F59: 42 | G59: x | H59: 26 | I59: =V29 -> hugofluzao | Q59: =IF(OR(H59="",F59=""),"",IF(H59=F59,1,IF(H59<F59,0,IF(H59-F59<10,2,IF(H59>F59,3,SE))))) -> 0
C60: =IF(OR(F60="",H60=""),"",IF(F60=H60,1,IF(F60<H60,0,IF(F60-H60<10,2,IF(F60>H60,3,SE))))) -> 3 | D60: =V22 -> Vitullo soccer clube | F60: 54 | G60: x | H60: 29 | I60: =V20 -> MJ Predador F.C. | Q60: =IF(OR(H60="",F60=""),"",IF(H60=F60,1,IF(H60<F60,0,IF(H60-F60<10,2,IF(H60>F60,3,SE))))) -> 0
C61: =IF(OR(F61="",H61=""),"",IF(F61=H61,1,IF(F61<H61,0,IF(F61-H61<10,2,IF(F61>H61,3,SE))))) -> 3 | D61: =V27 -> Grajaú F.C. | F61: 47 | G61: x | H61: 16 | I61: =V31 -> VascoPaulo F.C. | Q61: =IF(OR(H61="",F61=""),"",IF(H61=F61,1,IF(H61<F61,0,IF(H61-F61<10,2,IF(H61>F61,3,SE))))) -> 0
C62: =IF(OR(F62="",H62=""),"",IF(F62=H62,1,IF(F62<H62,0,IF(F62-H62<10,2,IF(F62>H62,3,SE))))) | Q62: =IF(OR(H62="",F62=""),"",IF(H62=F62,1,IF(H62<F62,0,IF(H62-F62<10,2,IF(H62>F62,3,SE)))))
C63: =IF(OR(F63="",H63=""),"",IF(F63=H63,1,IF(F63<H63,0,IF(F63-H63<10,2,IF(F63>H63,3,SE))))) | D63: 4ª RODADA - #23 | Q63: =IF(OR(H63="",F63=""),"",IF(H63=F63,1,IF(H63<F63,0,IF(H63-F63<10,2,IF(H63>F63,3,SE)))))
C64: =IF(OR(F64="",H64=""),"",IF(F64=H64,1,IF(F64<H64,0,IF(F64-H64<10,2,IF(F64>H64,3,SE))))) | Q64: =IF(OR(H64="",F64=""),"",IF(H64=F64,1,IF(H64<F64,0,IF(H64-F64<10,2,IF(H64>F64,3,SE)))))
C65: =IF(OR(F65="",H65=""),"",IF(F65=H65,1,IF(F65<H65,0,IF(F65-H65<10,2,IF(F65>H65,3,SE))))) | Q65: =IF(OR(H65="",F65=""),"",IF(H65=F65,1,IF(H65<F65,0,IF(H65-F65<10,2,IF(H65>F65,3,SE)))))
C66: =IF(OR(F66="",H66=""),"",IF(F66=H66,1,IF(F66<H66,0,IF(F66-H66<10,2,IF(F66>H66,3,SE))))) -> 0 | D66: =V26 -> Casinha da Grazi | F66: 50 | G66: x | H66: 58 | I66: =V27 -> Grajaú F.C. | Q66: =IF(OR(H66="",F66=""),"",IF(H66=F66,1,IF(H66<F66,0,IF(H66-F66<10,2,IF(H66>F66,3,SE))))) -> 2
C67: =IF(OR(F67="",H67=""),"",IF(F67=H67,1,IF(F67<H67,0,IF(F67-H67<10,2,IF(F67>H67,3,SE))))) -> 0 | D67: =V22 -> Vitullo soccer clube | F67: 18 | G67: x | H67: 43 | I67: =V30 -> VivaCR.FC | Q67: =IF(OR(H67="",F67=""),"",IF(H67=F67,1,IF(H67<F67,0,IF(H67-F67<10,2,IF(H67>F67,3,SE))))) -> 3
C68: =IF(OR(F68="",H68=""),"",IF(F68=H68,1,IF(F68<H68,0,IF(F68-H68<10,2,IF(F68>H68,3,SE))))) -> 3 | D68: =V23 -> tico sto fc | F68: 68 | G68: x | H68: 37 | I68: =V31 -> VascoPaulo F.C. | Q68: =IF(OR(H68="",F68=""),"",IF(H68=F68,1,IF(H68<F68,0,IF(H68-F68<10,2,IF(H68>F68,3,SE))))) -> 0
C69: =IF(OR(F69="",H69=""),"",IF(F69=H69,1,IF(F69<H69,0,IF(F69-H69<10,2,IF(F69>H69,3,SE))))) -> 0 | D69: =V21 -> JUGULI Fc | F69: 34 | G69: x | H69: 52 | I69: =V28 -> André fogão | Q69: =IF(OR(H69="",F69=""),"",IF(H69=F69,1,IF(H69<F69,0,IF(H69-F69<10,2,IF(H69>F69,3,SE))))) -> 3
C70: =IF(OR(F70="",H70=""),"",IF(F70=H70,1,IF(F70<H70,0,IF(F70-H70<10,2,IF(F70>H70,3,SE))))) -> 3 | D70: =V24 -> Espamengo | F70: 75 | G70: x | H70: 60 | I70: =V25 -> Bayern do Cartola | Q70: =IF(OR(H70="",F70=""),"",IF(H70=F70,1,IF(H70<F70,0,IF(H70-F70<10,2,IF(H70>F70,3,SE))))) -> 0
C71: =IF(OR(F71="",H71=""),"",IF(F71=H71,1,IF(F71<H71,0,IF(F71-H71<10,2,IF(F71>H71,3,SE))))) -> 3 | D71: =V20 -> MJ Predador F.C. | F71: 58 | G71: x | H71: 36 | I71: =V29 -> hugofluzao | Q71: =IF(OR(H71="",F71=""),"",IF(H71=F71,1,IF(H71<F71,0,IF(H71-F71<10,2,IF(H71>F71,3,SE))))) -> 0
C72: =IF(OR(F72="",H72=""),"",IF(F72=H72,1,IF(F72<H72,0,IF(F72-H72<10,2,IF(F72>H72,3,SE))))) | Q72: =IF(OR(H72="",F72=""),"",IF(H72=F72,1,IF(H72<F72,0,IF(H72-F72<10,2,IF(H72>F72,3,SE)))))
C73: =IF(OR(F73="",H73=""),"",IF(F73=H73,1,IF(F73<H73,0,IF(F73-H73<10,2,IF(F73>H73,3,SE))))) | D73: 5ª RODADA - #24 | Q73: =IF(OR(H73="",F73=""),"",IF(H73=F73,1,IF(H73<F73,0,IF(H73-F73<10,2,IF(H73>F73,3,SE)))))
C74: =IF(OR(F74="",H74=""),"",IF(F74=H74,1,IF(F74<H74,0,IF(F74-H74<10,2,IF(F74>H74,3,SE))))) | Q74: =IF(OR(H74="",F74=""),"",IF(H74=F74,1,IF(H74<F74,0,IF(H74-F74<10,2,IF(H74>F74,3,SE)))))
C75: =IF(OR(F75="",H75=""),"",IF(F75=H75,1,IF(F75<H75,0,IF(F75-H75<10,2,IF(F75>H75,3,SE))))) | Q75: =IF(OR(H75="",F75=""),"",IF(H75=F75,1,IF(H75<F75,0,IF(H75-F75<10,2,IF(H75>F75,3,SE)))))
C76: =IF(OR(F76="",H76=""),"",IF(F76=H76,1,IF(F76<H76,0,IF(F76-H76<10,2,IF(F76>H76,3,SE))))) -> 3 | D76: =V25 -> Bayern do Cartola | F76: 52 | G76: x | H76: 35 | I76: =V23 -> tico sto fc | Q76: =IF(OR(H76="",F76=""),"",IF(H76=F76,1,IF(H76<F76,0,IF(H76-F76<10,2,IF(H76>F76,3,SE))))) -> 0
C77: =IF(OR(F77="",H77=""),"",IF(F77=H77,1,IF(F77<H77,0,IF(F77-H77<10,2,IF(F77>H77,3,SE))))) -> 0 | D77: =V28 -> André fogão | F77: 40 | G77: x | H77: 94 | I77: =V22 -> Vitullo soccer clube | Q77: =IF(OR(H77="",F77=""),"",IF(H77=F77,1,IF(H77<F77,0,IF(H77-F77<10,2,IF(H77>F77,3,SE))))) -> 3
C78: =IF(OR(F78="",H78=""),"",IF(F78=H78,1,IF(F78<H78,0,IF(F78-H78<10,2,IF(F78>H78,3,SE))))) -> 1 | D78: =V30 -> VivaCR.FC | F78: 65 | G78: x | H78: 65 | I78: =V20 -> MJ Predador F.C. | Q78: =IF(OR(H78="",F78=""),"",IF(H78=F78,1,IF(H78<F78,0,IF(H78-F78<10,2,IF(H78>F78,3,SE))))) -> 1
C79: =IF(OR(F79="",H79=""),"",IF(F79=H79,1,IF(F79<H79,0,IF(F79-H79<10,2,IF(F79>H79,3,SE))))) -> 3 | D79: =V27 -> Grajaú F.C. | F79: 42 | G79: x | H79: 15 | I79: =V24 -> Espamengo | Q79: =IF(OR(H79="",F79=""),"",IF(H79=F79,1,IF(H79<F79,0,IF(H79-F79<10,2,IF(H79>F79,3,SE))))) -> 0
C80: =IF(OR(F80="",H80=""),"",IF(F80=H80,1,IF(F80<H80,0,IF(F80-H80<10,2,IF(F80>H80,3,SE))))) -> 3 | D80: =V29 -> hugofluzao | F80: 70 | G80: x | H80: 47 | I80: =V31 -> VascoPaulo F.C. | Q80: =IF(OR(H80="",F80=""),"",IF(H80=F80,1,IF(H80<F80,0,IF(H80-F80<10,2,IF(H80>F80,3,SE))))) -> 0
C81: =IF(OR(F81="",H81=""),"",IF(F81=H81,1,IF(F81<H81,0,IF(F81-H81<10,2,IF(F81>H81,3,SE))))) -> 0 | D81: =V21 -> JUGULI Fc | F81: 17 | G81: x | H81: 27 | I81: =V26 -> Casinha da Grazi | Q81: =IF(OR(H81="",F81=""),"",IF(H81=F81,1,IF(H81<F81,0,IF(H81-F81<10,2,IF(H81>F81,3,SE))))) -> 3
C82: =IF(OR(F82="",H82=""),"",IF(F82=H82,1,IF(F82<H82,0,IF(F82-H82<10,2,IF(F82>H82,3,SE))))) | Q82: =IF(OR(H82="",F82=""),"",IF(H82=F82,1,IF(H82<F82,0,IF(H82-F82<10,2,IF(H82>F82,3,SE)))))
C83: =IF(OR(F83="",H83=""),"",IF(F83=H83,1,IF(F83<H83,0,IF(F83-H83<10,2,IF(F83>H83,3,SE))))) | D83: 6ª RODADA - #25 | Q83: =IF(OR(H83="",F83=""),"",IF(H83=F83,1,IF(H83<F83,0,IF(H83-F83<10,2,IF(H83>F83,3,SE)))))
C84: =IF(OR(F84="",H84=""),"",IF(F84=H84,1,IF(F84<H84,0,IF(F84-H84<10,2,IF(F84>H84,3,SE))))) | Q84: =IF(OR(H84="",F84=""),"",IF(H84=F84,1,IF(H84<F84,0,IF(H84-F84<10,2,IF(H84>F84,3,SE)))))
C85: =IF(OR(F85="",H85=""),"",IF(F85=H85,1,IF(F85<H85,0,IF(F85-H85<10,2,IF(F85>H85,3,SE))))) | Q85: =IF(OR(H85="",F85=""),"",IF(H85=F85,1,IF(H85<F85,0,IF(H85-F85<10,2,IF(H85>F85,3,SE)))))
C86: =IF(OR(F86="",H86=""),"",IF(F86=H86,1,IF(F86<H86,0,IF(F86-H86<10,2,IF(F86>H86,3,SE))))) -> 2 | D86: =V31 -> VascoPaulo F.C. | F86: 47 | G86: x | H86: 46 | I86: =V22 -> Vitullo soccer clube | Q86: =IF(OR(H86="",F86=""),"",IF(H86=F86,1,IF(H86<F86,0,IF(H86-F86<10,2,IF(H86>F86,3,SE))))) -> 0
C87: =IF(OR(F87="",H87=""),"",IF(F87=H87,1,IF(F87<H87,0,IF(F87-H87<10,2,IF(F87>H87,3,SE))))) -> 2 | D87: =V26 -> Casinha da Grazi | F87: 44 | G87: x | H87: 37 | I87: =V23 -> tico sto fc | Q87: =IF(OR(H87="",F87=""),"",IF(H87=F87,1,IF(H87<F87,0,IF(H87-F87<10,2,IF(H87>F87,3,SE))))) -> 0
C88: =IF(OR(F88="",H88=""),"",IF(F88=H88,1,IF(F88<H88,0,IF(F88-H88<10,2,IF(F88>H88,3,SE))))) -> 2 | D88: =V30 -> VivaCR.FC | F88: 39 | G88: x | H88: 33 | I88: =V28 -> André fogão | Q88: =IF(OR(H88="",F88=""),"",IF(H88=F88,1,IF(H88<F88,0,IF(H88-F88<10,2,IF(H88>F88,3,SE))))) -> 0
C89: =IF(OR(F89="",H89=""),"",IF(F89=H89,1,IF(F89<H89,0,IF(F89-H89<10,2,IF(F89>H89,3,SE))))) -> 0 | D89: =V24 -> Espamengo | F89: 53 | G89: x | H89: 60 | I89: =V29 -> hugofluzao | Q89: =IF(OR(H89="",F89=""),"",IF(H89=F89,1,IF(H89<F89,0,IF(H89-F89<10,2,IF(H89>F89,3,SE))))) -> 2
C90: =IF(OR(F90="",H90=""),"",IF(F90=H90,1,IF(F90<H90,0,IF(F90-H90<10,2,IF(F90>H90,3,SE))))) -> 0 | D90: =V27 -> Grajaú F.C. | F90: 47 | G90: x | H90: 52 | I90: =V25 -> Bayern do Cartola | Q90: =IF(OR(H90="",F90=""),"",IF(H90=F90,1,IF(H90<F90,0,IF(H90-F90<10,2,IF(H90>F90,3,SE))))) -> 2
C91: =IF(OR(F91="",H91=""),"",IF(F91=H91,1,IF(F91<H91,0,IF(F91-H91<10,2,IF(F91>H91,3,SE))))) -> 3 | D91: =V20 -> MJ Predador F.C. | F91: 36 | G91: x | H91: 15 | I91: =V21 -> JUGULI Fc | Q91: =IF(OR(H91="",F91=""),"",IF(H91=F91,1,IF(H91<F91,0,IF(H91-F91<10,2,IF(H91>F91,3,SE))))) -> 0
C92: =IF(OR(F92="",H92=""),"",IF(F92=H92,1,IF(F92<H92,0,IF(F92-H92<10,2,IF(F92>H92,3,SE))))) | Q92: =IF(OR(H92="",F92=""),"",IF(H92=F92,1,IF(H92<F92,0,IF(H92-F92<10,2,IF(H92>F92,3,SE)))))
C93: =IF(OR(F93="",H93=""),"",IF(F93=H93,1,IF(F93<H93,0,IF(F93-H93<10,2,IF(F93>H93,3,SE))))) | D93: 7ª RODADA - #26 | Q93: =IF(OR(H93="",F93=""),"",IF(H93=F93,1,IF(H93<F93,0,IF(H93-F93<10,2,IF(H93>F93,3,SE)))))
C94: =IF(OR(F94="",H94=""),"",IF(F94=H94,1,IF(F94<H94,0,IF(F94-H94<10,2,IF(F94>H94,3,SE))))) | Q94: =IF(OR(H94="",F94=""),"",IF(H94=F94,1,IF(H94<F94,0,IF(H94-F94<10,2,IF(H94>F94,3,SE)))))
C95: =IF(OR(F95="",H95=""),"",IF(F95=H95,1,IF(F95<H95,0,IF(F95-H95<10,2,IF(F95>H95,3,SE))))) | Q95: =IF(OR(H95="",F95=""),"",IF(H95=F95,1,IF(H95<F95,0,IF(H95-F95<10,2,IF(H95>F95,3,SE)))))
C96: =IF(OR(F96="",H96=""),"",IF(F96=H96,1,IF(F96<H96,0,IF(F96-H96<10,2,IF(F96>H96,3,SE))))) | D96: =V21 -> JUGULI Fc | G96: x | I96: =V27 -> Grajaú F.C. | Q96: =IF(OR(H96="",F96=""),"",IF(H96=F96,1,IF(H96<F96,0,IF(H96-F96<10,2,IF(H96>F96,3,SE)))))
C97: =IF(OR(F97="",H97=""),"",IF(F97=H97,1,IF(F97<H97,0,IF(F97-H97<10,2,IF(F97>H97,3,SE))))) | D97: =V28 -> André fogão | G97: x | I97: =V31 -> VascoPaulo F.C. | Q97: =IF(OR(H97="",F97=""),"",IF(H97=F97,1,IF(H97<F97,0,IF(H97-F97<10,2,IF(H97>F97,3,SE)))))
C98: =IF(OR(F98="",H98=""),"",IF(F98=H98,1,IF(F98<H98,0,IF(F98-H98<10,2,IF(F98>H98,3,SE))))) | D98: =V26 -> Casinha da Grazi | G98: x | I98: =V20 -> MJ Predador F.C. | Q98: =IF(OR(H98="",F98=""),"",IF(H98=F98,1,IF(H98<F98,0,IF(H98-F98<10,2,IF(H98>F98,3,SE)))))
C99: =IF(OR(F99="",H99=""),"",IF(F99=H99,1,IF(F99<H99,0,IF(F99-H99<10,2,IF(F99>H99,3,SE))))) | D99: =V22 -> Vitullo soccer clube | G99: x | I99: =V29 -> hugofluzao | Q99: =IF(OR(H99="",F99=""),"",IF(H99=F99,1,IF(H99<F99,0,IF(H99-F99<10,2,IF(H99>F99,3,SE)))))
C100: =IF(OR(F100="",H100=""),"",IF(F100=H100,1,IF(F100<H100,0,IF(F100-H100<10,2,IF(F100>H100,3,SE))))) | D100: =V25 -> Bayern do Cartola | G100: x | I100: =V30 -> VivaCR.FC | Q100: =IF(OR(H100="",F100=""),"",IF(H100=F100,1,IF(H100<F100,0,IF(H100-F100<10,2,IF(H100>F100,3,SE)))))
C101: =IF(OR(F101="",H101=""),"",IF(F101=H101,1,IF(F101<H101,0,IF(F101-H101<10,2,IF(F101>H101,3,SE))))) | D101: =V23 -> tico sto fc | G101: x | I101: =V24 -> Espamengo | Q101: =IF(OR(H101="",F101=""),"",IF(H101=F101,1,IF(H101<F101,0,IF(H101-F101<10,2,IF(H101>F101,3,SE)))))
C102: =IF(OR(F102="",H102=""),"",IF(F102=H102,1,IF(F102<H102,0,IF(F102-H102<10,2,IF(F102>H102,3,SE))))) | Q102: =IF(OR(H102="",F102=""),"",IF(H102=F102,1,IF(H102<F102,0,IF(H102-F102<10,2,IF(H102>F102,3,SE)))))
C103: =IF(OR(F103="",H103=""),"",IF(F103=H103,1,IF(F103<H103,0,IF(F103-H103<10,2,IF(F103>H103,3,SE))))) | D103: 8ª RODADA - #27 | Q103: =IF(OR(H103="",F103=""),"",IF(H103=F103,1,IF(H103<F103,0,IF(H103-F103<10,2,IF(H103>F103,3,SE)))))
C104: =IF(OR(F104="",H104=""),"",IF(F104=H104,1,IF(F104<H104,0,IF(F104-H104<10,2,IF(F104>H104,3,SE))))) | Q104: =IF(OR(H104="",F104=""),"",IF(H104=F104,1,IF(H104<F104,0,IF(H104-F104<10,2,IF(H104>F104,3,SE)))))
C105: =IF(OR(F105="",H105=""),"",IF(F105=H105,1,IF(F105<H105,0,IF(F105-H105<10,2,IF(F105>H105,3,SE))))) | Q105: =IF(OR(H105="",F105=""),"",IF(H105=F105,1,IF(H105<F105,0,IF(H105-F105<10,2,IF(H105>F105,3,SE)))))
C106: =IF(OR(F106="",H106=""),"",IF(F106=H106,1,IF(F106<H106,0,IF(F106-H106<10,2,IF(F106>H106,3,SE))))) | D106: =V27 -> Grajaú F.C. | G106: x | I106: =V28 -> André fogão | Q106: =IF(OR(H106="",F106=""),"",IF(H106=F106,1,IF(H106<F106,0,IF(H106-F106<10,2,IF(H106>F106,3,SE)))))
C107: =IF(OR(F107="",H107=""),"",IF(F107=H107,1,IF(F107<H107,0,IF(F107-H107<10,2,IF(F107>H107,3,SE))))) | D107: =V24 -> Espamengo | G107: x | I107: =V22 -> Vitullo soccer clube | Q107: =IF(OR(H107="",F107=""),"",IF(H107=F107,1,IF(H107<F107,0,IF(H107-F107<10,2,IF(H107>F107,3,SE)))))
C108: =IF(OR(F108="",H108=""),"",IF(F108=H108,1,IF(F108<H108,0,IF(F108-H108<10,2,IF(F108>H108,3,SE))))) | D108: =V20 -> MJ Predador F.C. | G108: x | I108: =V31 -> VascoPaulo F.C. | Q108: =IF(OR(H108="",F108=""),"",IF(H108=F108,1,IF(H108<F108,0,IF(H108-F108<10,2,IF(H108>F108,3,SE)))))
C109: =IF(OR(F109="",H109=""),"",IF(F109=H109,1,IF(F109<H109,0,IF(F109-H109<10,2,IF(F109>H109,3,SE))))) | D109: =V29 -> hugofluzao | G109: x | I109: =V23 -> tico sto fc | Q109: =IF(OR(H109="",F109=""),"",IF(H109=F109,1,IF(H109<F109,0,IF(H109-F109<10,2,IF(H109>F109,3,SE)))))
C110: =IF(OR(F110="",H110=""),"",IF(F110=H110,1,IF(F110<H110,0,IF(F110-H110<10,2,IF(F110>H110,3,SE))))) | D110: =V30 -> VivaCR.FC | G110: x | I110: =V21 -> JUGULI Fc | Q110: =IF(OR(H110="",F110=""),"",IF(H110=F110,1,IF(H110<F110,0,IF(H110-F110<10,2,IF(H110>F110,3,SE)))))
C111: =IF(OR(F111="",H111=""),"",IF(F111=H111,1,IF(F111<H111,0,IF(F111-H111<10,2,IF(F111>H111,3,SE))))) | D111: =V25 -> Bayern do Cartola | G111: x | I111: =V26 -> Casinha da Grazi | Q111: =IF(OR(H111="",F111=""),"",IF(H111=F111,1,IF(H111<F111,0,IF(H111-F111<10,2,IF(H111>F111,3,SE)))))
C112: =IF(OR(F112="",H112=""),"",IF(F112=H112,1,IF(F112<H112,0,IF(F112-H112<10,2,IF(F112>H112,3,SE))))) | Q112: =IF(OR(H112="",F112=""),"",IF(H112=F112,1,IF(H112<F112,0,IF(H112-F112<10,2,IF(H112>F112,3,SE)))))
C113: =IF(OR(F113="",H113=""),"",IF(F113=H113,1,IF(F113<H113,0,IF(F113-H113<10,2,IF(F113>H113,3,SE))))) | D113: 9ª RODADA - #28 | Q113: =IF(OR(H113="",F113=""),"",IF(H113=F113,1,IF(H113<F113,0,IF(H113-F113<10,2,IF(H113>F113,3,SE)))))
C114: =IF(OR(F114="",H114=""),"",IF(F114=H114,1,IF(F114<H114,0,IF(F114-H114<10,2,IF(F114>H114,3,SE))))) | Q114: =IF(OR(H114="",F114=""),"",IF(H114=F114,1,IF(H114<F114,0,IF(H114-F114<10,2,IF(H114>F114,3,SE)))))
C115: =IF(OR(F115="",H115=""),"",IF(F115=H115,1,IF(F115<H115,0,IF(F115-H115<10,2,IF(F115>H115,3,SE))))) | Q115: =IF(OR(H115="",F115=""),"",IF(H115=F115,1,IF(H115<F115,0,IF(H115-F115<10,2,IF(H115>F115,3,SE)))))
C116: =IF(OR(F116="",H116=""),"",IF(F116=H116,1,IF(F116<H116,0,IF(F116-H116<10,2,IF(F116>H116,3,SE))))) | D116: =V27 -> Grajaú F.C. | G116: x | I116: =V30 -> VivaCR.FC | Q116: =IF(OR(H116="",F116=""),"",IF(H116=F116,1,IF(H116<F116,0,IF(H116-F116<10,2,IF(H116>F116,3,SE)))))
...

Sheet FINAIS
B2: 1º CAMPEONATO CARTOLA 2013
B6: OITAVAS DE FINAIS
J9: RODADAS #31 e 32
B11: J1 | D11: =IF(OR('GRUPO 1'!F141="",'GRUPO 1'!F141=""),"",'GRUPO 1'!E20) | M11: X | O11: =IF(OR('GRUPO 4'!F141="",'GRUPO 4'!F141=""),"",'GRUPO 4'!E23)
M12: X | AB12: OITAVAS
L13: =IF(OR(L11="",N11=""),"",SUM(L11:L12)) | N13: =IF(OR(L11="",N11=""),"",SUM(N11:N12)) | AA13: 1º 1 | AB13: X | AC13: 4º 4
B14: J2 | D14: =IF(OR('GRUPO 3'!F141="",'GRUPO 3'!F141=""),"",'GRUPO 3'!E21) | M14: X | O14: =IF(OR('GRUPO 2'!F141="",'GRUPO 2'!F141=""),"",'GRUPO 2'!E22) | AA14: 2º 3 | AB14: X | AC14: 3º 2
M15: X | AA15: 1º 2 | AB15: X | AC15: 4º 3
L16: =IF(OR(L14="",N14=""),"",SUM(L14:L15)) | N16: =IF(OR(L14="",N14=""),"",SUM(N14:N15)) | AA16: 2º 4 | AB16: X | AC16: 3º 1
B17: J3 | D17: =IF(OR('GRUPO 2'!F141="",'GRUPO 2'!F141=""),"",'GRUPO 2'!E20) | M17: X | O17: =IF(OR('GRUPO 3'!F141="",'GRUPO 3'!F141=""),"",'GRUPO 3'!E23) | AA17: 1º 3 | AB17: X | AC17: 4º 2
M18: X | AA18: 2º 2 | AB18: X | AC18: 3º 3
L19: =IF(OR(L17="",N17=""),"",SUM(L17:L18)) | N19: =IF(OR(L17="",N17=""),"",SUM(N17:N18)) | AA19: 1º 4 | AB19: X | AC19: 4º 1
B20: J4 | D20: =IF(OR('GRUPO 4'!F141="",'GRUPO 4'!F141=""),"",'GRUPO 4'!E21) | M20: X | O20: =IF(OR('GRUPO 1'!F141="",'GRUPO 1'!F141=""),"",'GRUPO 1'!E22) | AA20: 2º 1 | AB20: X | AC20: 3º 4
M21: X
L22: =IF(OR(L20="",N20=""),"",SUM(L20:L21)) | N22: =IF(OR(L20="",N20=""),"",SUM(N20:N21))
B23: J5 | D23: =IF(OR('GRUPO 3'!F141="",'GRUPO 3'!F141=""),"",'GRUPO 3'!E20) | M23: X | O23: =IF(OR('GRUPO 2'!F141="",'GRUPO 2'!F141=""),"",'GRUPO 2'!E23)
M24: X
L25: =IF(OR(L23="",N23=""),"",SUM(L23:L24)) | N25: =IF(OR(L23="",N23=""),"",SUM(N23:N24))
B26: J6 | D26: =IF(OR('GRUPO 2'!F141="",'GRUPO 2'!F141=""),"",'GRUPO 2'!E21) | M26: X | O26: =IF(OR('GRUPO 3'!F141="",'GRUPO 3'!F141=""),"",'GRUPO 3'!E22)
M27: X
L28: =IF(OR(L26="",N26=""),"",SUM(L26:L27)) | N28: =IF(OR(L26="",N26=""),"",SUM(N26:N27))
B29: J7 | D29: =IF(OR('GRUPO 4'!F141="",'GRUPO 4'!F141=""),"",'GRUPO 4'!E20) | M29: X | O29: =IF(OR('GRUPO 1'!F141="",'GRUPO 1'!F141=""),"",'GRUPO 1'!E23)
M30: X
L31: =IF(OR(L29="",N29=""),"",SUM(L29:L30)) | N31: =IF(OR(L29="",N29=""),"",SUM(N29:N30))
B32: J8 | D32: =IF(OR('GRUPO 1'!F141="",'GRUPO 1'!F141=""),"",'GRUPO 1'!E21) | M32: X | O32: =IF(OR('GRUPO 4'!F141="",'GRUPO 4'!F141=""),"",'GRUPO 4'!E22)
M33: X
L34: =IF(OR(L32="",N32=""),"",SUM(L32:L33)) | N34: =IF(OR(L32="",N32=""),"",SUM(N32:N33))
B36: QUARTAS DE FINAIS
J39: RODADAS #33 e 34
B41: J9 | D41: =IF(OR(L13="",N13=""),"",IF(L13>N13,D11,O11)) | M41: X | O41: =IF(OR(L16="",N16=""),"",IF(L16>N16,D14,O14))
M42: X
L43: =IF(OR(L41="",N41=""),"",SUM(L41:L42)) | N43: =IF(OR(L41="",N41=""),"",SUM(N41:N42))
B44: J10 | D44: =IF(OR(L19="",N19=""),"",IF(L19>N19,D17,O17)) | M44: X | O44: =IF(OR(L22="",N22=""),"",IF(L22>N22,D20,O20))
M45: X
L46: =IF(OR(L44="",N44=""),"",SUM(L44:L45)) | N46: =IF(OR(L44="",N44=""),"",SUM(N44:N45))
B47: J11 | D47: =IF(OR(L25="",N25=""),"",IF(L25>N25,D23,O23)) | M47: X | O47: =IF(OR(L28="",N28=""),"",IF(L28>N28,D26,O26))
M48: X
L49: =IF(OR(L47="",N47=""),"",SUM(L47:L48)) | N49: =IF(OR(L47="",N47=""),"",SUM(N47:N48))
B50: J12 | D50: =IF(OR(L31="",N31=""),"",IF(L31>N31,D29,O29)) | M50: X | O50: =IF(OR(L34="",N34=""),"",IF(L34>N34,D32,O32))
M51: X
L52: =IF(OR(L50="",N50=""),"",SUM(L50:L51)) | N52: =IF(OR(L50="",N50=""),"",SUM(N50:N51))
B54: SEMI FINAL
J57: RODADAS #35 e 36
B59: J13 | D59: =IF(OR(L43="",N43=""),"",IF(L43>N43,D41,O41)) | M59: X | O59: =IF(OR(L46="",N46=""),"",IF(L46>N46,D44,O44))
M60: X
L61: =IF(OR(L59="",N59=""),"",SUM(L59:L60)) | N61: =IF(OR(L59="",N59=""),"",SUM(N59:N60))
B62: J14 | D62: =IF(OR(L49="",N49=""),"",IF(L49>N49,D47,O47)) | M62: X | O62: =IF(OR(L52="",N52=""),"",IF(L52>N52,D50,O50))
M63: X
L64: =IF(OR(L62="",N62=""),"",SUM(L62:L63)) | N64: =IF(OR(L62="",N62=""),"",SUM(N62:N63))
B66: DISPUTA DO 3º LUGAR
J69: RODADAS #37 e 38
B71: J15 | D71: =IF(OR(L61="",N61=""),"",IF(L61<N61,D59,O59)) | M71: X | O71: =IF(OR(L64="",N64=""),"",IF(L64<N64,D62,O62))
M72: X
L73: =IF(OR(L71="",N71=""),"",SUM(L71:L72)) | N73: =IF(OR(L71="",N71=""),"",SUM(N71:N72))
B75: FINAL
J78: RODADAS #37 e 38
B80: J16 | D80: =IF(OR(L61="",N61=""),"",IF(L61>N61,D59,O59)) | M80: X | O80: =IF(OR(L64="",N64=""),"",IF(L64>N64,D62,O62))
M81: X
L82: =IF(OR(L80="",N80=""),"",SUM(L80:L81)) | N82: =IF(OR(L80="",N80=""),"",SUM(N80:N81))

Sheet SEERIE A, B e C
B3: SERIE | C3: CARTOLA | E3: P | F3: PPC | G3: PCC | H3: SP
B4: SERIE A | C4: 1º | D4: ='GRUPO 1'!V20 -> Barbosinhaas | E4: ='GRUPO 1'!W20 -> 8 | F4: ='GRUPO 1'!X20 -> 270 | G4: ='GRUPO 1'!Y20 -> 325 | H4: ='GRUPO 1'!Z20 -> -55
C5: 2º | D5: ='GRUPO 1'!V21 -> flurocha fc | E5: ='GRUPO 1'!W21 -> 9 | F5: ='GRUPO 1'!X21 -> 322 | G5: ='GRUPO 1'!Y21 -> 236 | H5: ='GRUPO 1'!Z21 -> 86
C6: 3º | D6: ='GRUPO 1'!V22 -> FC Casablanca | E6: ='GRUPO 1'!W22 -> 5 | F6: ='GRUPO 1'!X22 -> 200 | G6: ='GRUPO 1'!Y22 -> 348 | H6: ='GRUPO 1'!Z22 -> -148
C7: 4º | D7: ='GRUPO 1'!V23 -> TriangagemFC | E7: ='GRUPO 1'!W23 -> 13 | F7: ='GRUPO 1'!X23 -> 314 | G7: ='GRUPO 1'!Y23 -> 247 | H7: ='GRUPO 1'!Z23 -> 67
C8: 5º | D8: ='GRUPO 1'!V24 -> Stars United C.F. | E8: ='GRUPO 1'!W24 -> 6 | F8: ='GRUPO 1'!X24 -> 219 | G8: ='GRUPO 1'!Y24 -> 215 | H8: ='GRUPO 1'!Z24 -> 4
C9: 6º | D9: ='GRUPO 1'!V25 -> Us Karas | E9: ='GRUPO 1'!W25 -> 12 | F9: ='GRUPO 1'!X25 -> 383 | G9: ='GRUPO 1'!Y25 -> 287 | H9: ='GRUPO 1'!Z25 -> 96
C10: 7º | D10: ='GRUPO 1'!V26 -> NICKA SC | E10: ='GRUPO 1'!W26 -> 5 | F10: ='GRUPO 1'!X26 -> 239 | G10: ='GRUPO 1'!Y26 -> 306 | H10: ='GRUPO 1'!Z26 -> -67
C11: 8º | D11: ='GRUPO 1'!V27 -> Glaa.VascodaaGamaa | E11: ='GRUPO 1'!W27 -> 6 | F11: ='GRUPO 1'!X27 -> 292 | G11: ='GRUPO 1'!Y27 -> 277 | H11: ='GRUPO 1'!Z27 -> 15
C12: 9º | D12: ='GRUPO 1'!V28 -> PANZA FC | E12: ='GRUPO 1'!W28 -> 9 | F12: ='GRUPO 1'!X28 -> 298 | G12: ='GRUPO 1'!Y28 -> 273 | H12: ='GRUPO 1'!Z28 -> 25
C13: 10º | D13: ='GRUPO 1'!V29 -> Barreirinha FC | E13: ='GRUPO 1'!W29 -> 4 | F13: ='GRUPO 1'!X29 -> 277 | G13: ='GRUPO 1'!Y29 -> 350 | H13: ='GRUPO 1'!Z29 -> -73
C14: 11º | D14: ='GRUPO 1'!V30 -> Botafogo do HG | E14: ='GRUPO 1'!W30 -> 11 | F14: ='GRUPO 1'!X30 -> 277 | G14: ='GRUPO 1'!Y30 -> 223 | H14: ='GRUPO 1'!Z30 -> 54
C15: 12º | D15: ='GRUPO 1'!V31 -> Vascão Carangola | E15: ='GRUPO 1'!W31 -> 9 | F15: ='GRUPO 1'!X31 -> 215 | G15: ='GRUPO 1'!Y31 -> 219 | H15: ='GRUPO 1'!Z31 -> -4
C16: 13º | D16: ='GRUPO 2'!V20 -> mathpalestra | E16: ='GRUPO 2'!W20 -> 6 | F16: ='GRUPO 2'!X20 -> 199 | G16: ='GRUPO 2'!Y20 -> 339 | H16: ='GRUPO 2'!Z20 -> -140
C17: 14º | D17: ='GRUPO 2'!V21 -> Marvada da cachaça | E17: ='GRUPO 2'!W21 -> 8 | F17: ='GRUPO 2'!X21 -> 219 | G17: ='GRUPO 2'!Y21 -> 263 | H17: ='GRUPO 2'!Z21 -> -44
C18: 15º | D18: ='GRUPO 2'!V22 -> Xavecos UFC | E18: ='GRUPO 2'!W22 -> 5 | F18: ='GRUPO 2'!X22 -> 241 | G18: ='GRUPO 2'!Y22 -> 315 | H18: ='GRUPO 2'!Z22 -> -74
C19: 16º | D19: ='GRUPO 2'!V23 -> Driblador F.C | E19: ='GRUPO 2'!W23 -> 13 | F19: ='GRUPO 2'!X23 -> 341 | G19: ='GRUPO 2'!Y23 -> 207 | H19: ='GRUPO 2'!Z23 -> 134
B20: SERIE B | C20: 17º | D20: ='GRUPO 2'!V24 -> Botafogo Rocha | E20: ='GRUPO 2'!W24 -> 6 | F20: ='GRUPO 2'!X24 -> 262 | G20: ='GRUPO 2'!Y24 -> 335 | H20: ='GRUPO 2'!Z24 -> -73
C21: 18º | D21: ='GRUPO 2'!V25 -> Sekishiki Mekai Ha | E21: ='GRUPO 2'!W25 -> 10 | F21: ='GRUPO 2'!X25 -> 338 | G21: ='GRUPO 2'!Y25 -> 291 | H21: ='GRUPO 2'!Z25 -> 47
C22: 19º | D22: ='GRUPO 2'!V26 -> comicu | E22: ='GRUPO 2'!W26 -> 8 | F22: ='GRUPO 2'!X26 -> 355 | G22: ='GRUPO 2'!Y26 -> 290 | H22: ='GRUPO 2'!Z26 -> 65
C23: 20º | D23: ='GRUPO 2'!V27 -> Bahia aju | E23: ='GRUPO 2'!W27 -> 14 | F23: ='GRUPO 2'!X27 -> 382 | G23: ='GRUPO 2'!Y27 -> 306 | H23: ='GRUPO 2'!Z27 -> 76
C24: 21º | D24: ='GRUPO 2'!V28 -> É o ki tu merece | E24: ='GRUPO 2'!W28 -> 9 | F24: ='GRUPO 2'!X28 -> 347 | G24: ='GRUPO 2'!Y28 -> 296 | H24: ='GRUPO 2'!Z28 -> 51
C25: 22º | D25: ='GRUPO 2'!V29 -> ousadia e alegriaa1 | E25: ='GRUPO 2'!W29 -> 10 | F25: ='GRUPO 2'!X29 -> 317 | G25: ='GRUPO 2'!Y29 -> 273 | H25: ='GRUPO 2'!Z29 -> 44
C26: 23º | D26: ='GRUPO 2'!V30 -> Engenheirense | E26: ='GRUPO 2'!W30 -> 0 | F26: ='GRUPO 2'!X30 -> 289 | G26: ='GRUPO 2'!Y30 -> 390 | H26: ='GRUPO 2'!Z30 -> -101
C27: 24º | D27: ='GRUPO 2'!V31 -> Soccer Italy | E27: ='GRUPO 2'!W31 -> 9 | F27: ='GRUPO 2'!X31 -> 334 | G27: ='GRUPO 2'!Y31 -> 319 | H27: ='GRUPO 2'!Z31 -> 15
C28: 25º | D28: ='GRUPO 3'!V20 -> secapimenteira | E28: ='GRUPO 3'!W20 -> 7 | F28: ='GRUPO 3'!X20 -> 205 | G28: ='GRUPO 3'!Y20 -> 284 | H28: ='GRUPO 3'!Z20 -> -79
C29: 26º | D29: ='GRUPO 3'!V21 -> itaipavacervejaclube | E29: ='GRUPO 3'!W21 -> 1 | F29: ='GRUPO 3'!X21 -> 219 | G29: ='GRUPO 3'!Y21 -> 301 | H29: ='GRUPO 3'!Z21 -> -82
C30: 27º | D30: ='GRUPO 3'!V22 -> Family Paz F.C. | E30: ='GRUPO 3'!W22 -> 3 | F30: ='GRUPO 3'!X22 -> 269 | G30: ='GRUPO 3'!Y22 -> 338 | H30: ='GRUPO 3'!Z22 -> -69
C31: 28º | D31: ='GRUPO 3'!V23 -> PHVT F.C. | E31: ='GRUPO 3'!W23 -> 6 | F31: ='GRUPO 3'!X23 -> 211 | G31: ='GRUPO 3'!Y23 -> 273 | H31: ='GRUPO 3'!Z23 -> -62
C32: 29º | D32: ='GRUPO 3'!V24 -> Tribe of Gypsies | E32: ='GRUPO 3'!W24 -> 7 | F32: ='GRUPO 3'!X24 -> 226 | G32: ='GRUPO 3'!Y24 -> 244 | H32: ='GRUPO 3'!Z24 -> -18
C33: 30º | D33: ='GRUPO 3'!V25 -> Puro Malte F. C. | E33: ='GRUPO 3'!W25 -> 10 | F33: ='GRUPO 3'!X25 -> 289 | G33: ='GRUPO 3'!Y25 -> 226 | H33: ='GRUPO 3'!Z25 -> 63
C34: 31º | D34: ='GRUPO 3'!V26 -> santo onofre E C | E34: ='GRUPO 3'!W26 -> 5 | F34: ='GRUPO 3'!X26 -> 184 | G34: ='GRUPO 3'!Y26 -> 255 | H34: ='GRUPO 3'!Z26 -> -71
C35: 32º | D35: ='GRUPO 3'!V27 -> Lucca Mengão | E35: ='GRUPO 3'!W27 -> 12 | F35: ='GRUPO 3'!X27 -> 290 | G35: ='GRUPO 3'!Y27 -> 253 | H35: ='GRUPO 3'!Z27 -> 37
B36: SERIE C | C36: 33º | D36: ='GRUPO 3'!V28 -> Rosinha da Gabi | E36: ='GRUPO 3'!W28 -> 11 | F36: ='GRUPO 3'!X28 -> 318 | G36: ='GRUPO 3'!Y28 -> 272 | H36: ='GRUPO 3'!Z28 -> 46
C37: 34º | D37: ='GRUPO 3'!V29 -> La Bestia Negra_Z | E37: ='GRUPO 3'!W29 -> 12 | F37: ='GRUPO 3'!X29 -> 314 | G37: ='GRUPO 3'!Y29 -> 251 | H37: ='GRUPO 3'!Z29 -> 63
C38: 35º | D38: ='GRUPO 3'!V30 -> Forever2014 | E38: ='GRUPO 3'!W30 -> 13 | F38: ='GRUPO 3'!X30 -> 327 | G38: ='GRUPO 3'!Y30 -> 219 | H38: ='GRUPO 3'!Z30 -> 108
C39: 36º | D39: ='GRUPO 3'!V31 -> BFR Igor Costa | E39: ='GRUPO 3'!W31 -> 10 | F39: ='GRUPO 3'!X31 -> 327 | G39: ='GRUPO 3'!Y31 -> 263 | H39: ='GRUPO 3'!Z31 -> 64
C40: 37º | D40: ='GRUPO 4'!V20 -> MJ Predador F.C. | E40: ='GRUPO 4'!W20 -> 13 | F40: ='GRUPO 4'!X20 -> 332 | G40: ='GRUPO 4'!Y20 -> 230 | H40: ='GRUPO 4'!Z20 -> 102
C41: 38º | D41: ='GRUPO 4'!V21 -> JUGULI Fc | E41: ='GRUPO 4'!W21 -> 0 | F41: ='GRUPO 4'!X21 -> 153 | G41: ='GRUPO 4'!Y21 -> 268 | H41: ='GRUPO 4'!Z21 -> -115
C42: 39º | D42: ='GRUPO 4'!V22 -> Vitullo soccer clube | E42: ='GRUPO 4'!W22 -> 12 | F42: ='GRUPO 4'!X22 -> 357 | G42: ='GRUPO 4'!Y22 -> 247 | H42: ='GRUPO 4'!Z22 -> 110
C43: 40º | D43: ='GRUPO 4'!V23 -> tico sto fc | E43: ='GRUPO 4'!W23 -> 6 | F43: ='GRUPO 4'!X23 -> 233 | G43: ='GRUPO 4'!Y23 -> 289 | H43: ='GRUPO 4'!Z23 -> -56
C44: 41º | D44: ='GRUPO 4'!V24 -> Espamengo | E44: ='GRUPO 4'!W24 -> 3 | F44: ='GRUPO 4'!X24 -> 263 | G44: ='GRUPO 4'!Y24 -> 301 | H44: ='GRUPO 4'!Z24 -> -38
C45: 42º | D45: ='GRUPO 4'!V25 -> Bayern do Cartola | E45: ='GRUPO 4'!W25 -> 8 | F45: ='GRUPO 4'!X25 -> 295 | G45: ='GRUPO 4'!Y25 -> 299 | H45: ='GRUPO 4'!Z25 -> -4
C46: 43º | D46: ='GRUPO 4'!V26 -> Casinha da Grazi | E46: ='GRUPO 4'!W26 -> 13 | F46: ='GRUPO 4'!X26 -> 283 | G46: ='GRUPO 4'!Y26 -> 247 | H46: ='GRUPO 4'!Z26 -> 36
C47: 44º | D47: ='GRUPO 4'!V27 -> Grajaú F.C. | E47: ='GRUPO 4'!W27 -> 8 | F47: ='GRUPO 4'!X27 -> 324 | G47: ='GRUPO 4'!Y27 -> 295 | H47: ='GRUPO 4'!Z27 -> 29
C48: 45º | D48: ='GRUPO 4'!V28 -> André fogão | E48: ='GRUPO 4'!W28 -> 7 | F48: ='GRUPO 4'!X28 -> 254 | G48: ='GRUPO 4'!Y28 -> 287 | H48: ='GRUPO 4'!Z28 -> -33
C49: 46º | D49: ='GRUPO 4'!V29 -> hugofluzao | E49: ='GRUPO 4'!W29 -> 10 | F49: ='GRUPO 4'!X29 -> 333 | G49: ='GRUPO 4'!Y29 -> 327 | H49: ='GRUPO 4'!Z29 -> 6
C50: 47º | D50: ='GRUPO 4'!V30 -> VivaCR.FC | E50: ='GRUPO 4'!W30 -> 9 | F50: ='GRUPO 4'!X30 -> 303 | G50: ='GRUPO 4'!Y30 -> 293 | H50: ='GRUPO 4'!Z30 -> 10
C51: 48º | D51: ='GRUPO 4'!V31 -> VascoPaulo F.C. | E51: ='GRUPO 4'!W31 -> 8 | F51: ='GRUPO 4'!X31 -> 284 | G51: ='GRUPO 4'!Y31 -> 331 | H51: ='GRUPO 4'!Z31 -> -47
