Workbook

Sheet GRUPO 1
B2: 1º SUPERSOCAMPEONATO 2013
B6: 1ª FASE
D10: CLASSIFICAÇÃO
D15: OBS: Os 4 melhores colocados no Grupo se classificarão para a Oitavas de Finais.
D17: GRUPO 1 | R17: Legenda
R18: P - pontos
D19: Pos. | E19: CARTOLA | F19: J | G19: P | H19: V3P | I19: V2P | J19: E | K19: D | L19: PPC | M19: PCC | N19: SP | O19: % APR. | R19: V3P - Vitória por 3 pontos | U19: Pos. | V19: TIMES | W19: J | X19: P | Y19: V3P | Z19: V2P | AA19: E | AB19: D | AC19: GF | AD19: GC | AE19: SG | AF19: % APR. | AG19: calc | AH19: maior | AI19: corresp
D20: 1º | E20: =VLOOKUP(AI20,$U$20:$AH$31,2) -> Us Karas | F20: =VLOOKUP(AI20,$U$20:$AH$31,3) -> 11 | G20: =VLOOKUP(AI20,$U$20:$AH$31,4) -> 23 | H20: =VLOOKUP(AI20,$U$20:$AH$31,5) -> 7 | I20: =VLOOKUP(AI20,$U$20:$AH$31,6) -> 1 | J20: =VLOOKUP(AI20,$U$20:$AH$31,7) -> 0 | K20: =VLOOKUP(AI20,$U$20:$AH$31,8) -> 3 | L20: =VLOOKUP(AI20,$U$20:$AH$31,9) -> 644 | M20: =VLOOKUP(AI20,$U$20:$AH$31,10) -> 479 | N20: =VLOOKUP(AI20,$U$20:$AH$31,11) -> 165 | O20: =VLOOKUP(AI20,$U$20:$AH$31,12) -> 0.6969697 | R20: V2P - Vitória por 2 pontos | U20: 1 | V20: Barbosinhaas | W20: =COUNT(F38,H60,F71,H46,H78,F91,H98,F108,H120,F128,F140) -> 11 | X20: =SUM(C38,Q46,Q60,C71,Q78,C91,Q98,C108,Q120,C128,C140) -> 20 | Y20: =SUM(COUNTIFS($C$36:$C$141,3,$D$36:$D$141,V20),COUNTIFS($I$36:$I$141,V20,$Q$36:$Q$141,3)) -> 6 | Z20: =SUM(COUNTIFS($C$36:$C$141,2,$D$36:$D$141,V20),COUNTIFS($I$36:$I$141,V20,$Q$36:$Q$141,2)) -> 1 | AA20: =SUM(COUNTIFS($C$36:$C$141,1,$D$36:$D$141,V20),COUNTIFS($I$36:$I$141,V20,$Q$36:$Q$141,1)) -> 0 | AB20: =SUM(COUNTIFS($C$36:$C$141,0,$D$36:$D$141,V20),COUNTIFS($I$36:$I$141,V20,$Q$36:$Q$141,0)) -> 4 | AC20: =SUM(F38,H46,H60,F71,H78,F91,H98,H120,F108,F128,F140) -> 536 | AD20: =SUM(H38,F46,F60,H71,F78,H91,F98,H108,F120,H128,H140) -> 509 | AE20: =AC20-AD20 -> 27 | AF20: =(X20/(W20*3)) -> 0.60606061 | AG20: =(X20*10^10)+((AC20+5000)*10^6)+(AE20*10)+U20 -> 205536000271 | AH20: =LARGE($AG$20:$AG$31,U20) -> 235644001656 | AI20: =MATCH(AH20,$AG$20:$AG$31,0) -> 6
D21: 2º | E21: =VLOOKUP(AI21,$U$20:$AH$31,2) -> TriangagemFC | F21: =VLOOKUP(AI21,$U$20:$AH$31,3) -> 11 | G21: =VLOOKUP(AI21,$U$20:$AH$31,4) -> 23 | H21: =VLOOKUP(AI21,$U$20:$AH$31,5) -> 6 | I21: =VLOOKUP(AI21,$U$20:$AH$31,6) -> 2 | J21: =VLOOKUP(AI21,$U$20:$AH$31,7) -> 1 | K21: =VLOOKUP(AI21,$U$20:$AH$31,8) -> 2 | L21: =VLOOKUP(AI21,$U$20:$AH$31,9) -> 604 | M21: =VLOOKUP(AI21,$U$20:$AH$31,10) -> 452 | N21: =VLOOKUP(AI21,$U$20:$AH$31,11) -> 152 | O21: =VLOOKUP(AI21,$U$20:$AH$31,12) -> 0.6969697 | R21: E - Empate | U21: 2 | V21: flurocha fc | W21: =COUNT(H41,F50,H57,F69,F81,H91,F96,H110,F118,F130,H138) -> 11 | X21: =SUM(Q41,Q57,C69,C81,Q91,C50,C96,Q110,C118,C130,Q138) -> 12 | Y21: =SUM(COUNTIFS($C$36:$C$141,3,$D$36:$D$141,V21),COUNTIFS($I$36:$I$141,V21,$Q$36:$Q$141,3)) -> 4 | Z21: =SUM(COUNTIFS($C$36:$C$141,2,$D$36:$D$141,V21),COUNTIFS($I$36:$I$141,V21,$Q$36:$Q$141,2)) -> 0 | AA21: =SUM(COUNTIFS($C$36:$C$141,1,$D$36:$D$141,V21),COUNTIFS($I$36:$I$141,V21,$Q$36:$Q$141,1)) -> 0 | AB21: =SUM(COUNTIFS($C$36:$C$141,0,$D$36:$D$141,V21),COUNTIFS($I$36:$I$141,V21,$Q$36:$Q$141,0)) -> 7 | AC21: =SUM(H41,F50,H57,F69,F81,H91,F96,H110,F118,F130,H138) -> 543 | AD21: =SUM(F41,H50,F57,H69,H81,F91,H96,F110,H118,H130,F138) -> 475 | AE21: =AC21-AD21 -> 68 | AF21: =(X21/(W21*3)) -> 0.36363636 | AG21: =(X21*10^10)+((AC21+5000)*10^6)+(AE21*10)+U21 -> 125543000682 | AH21: =LARGE($AG$20:$AG$31,U21) -> 235604001524 | AI21: =MATCH(AH21,$AG$20:$AG$31,0) -> 4
D22: 3º | E22: =VLOOKUP(AI22,$U$20:$AH$31,2) -> Barbosinhaas | F22: =VLOOKUP(AI22,$U$20:$AH$31,3) -> 11 | G22: =VLOOKUP(AI22,$U$20:$AH$31,4) -> 20 | H22: =VLOOKUP(AI22,$U$20:$AH$31,5) -> 6 | I22: =VLOOKUP(AI22,$U$20:$AH$31,6) -> 1 | J22: =VLOOKUP(AI22,$U$20:$AH$31,7) -> 0 | K22: =VLOOKUP(AI22,$U$20:$AH$31,8) -> 4 | L22: =VLOOKUP(AI22,$U$20:$AH$31,9) -> 536 | M22: =VLOOKUP(AI22,$U$20:$AH$31,10) -> 509 | N22: =VLOOKUP(AI22,$U$20:$AH$31,11) -> 27 | O22: =VLOOKUP(AI22,$U$20:$AH$31,12) -> 0.60606061 | R22: D - Derrota | U22: 3 | V22: FC Casablanca | W22: =COUNT(F39,H50,F60,F67,H77,H86,F99,H107,F121,H129,F137) -> 11 | X22: =SUM(C39,Q50,C60,C67,C99,Q77,Q86,Q107,C121,Q129,C137) -> 5 | Y22: =SUM(COUNTIFS($C$36:$C$141,3,$D$36:$D$141,V22),COUNTIFS($I$36:$I$141,V22,$Q$36:$Q$141,3)) -> 1 | Z22: =SUM(COUNTIFS($C$36:$C$141,2,$D$36:$D$141,V22),COUNTIFS($I$36:$I$141,V22,$Q$36:$Q$141,2)) -> 1 | AA22: =SUM(COUNTIFS($C$36:$C$141,1,$D$36:$D$141,V22),COUNTIFS($I$36:$I$141,V22,$Q$36:$Q$141,1)) -> 0 | AB22: =SUM(COUNTIFS($C$36:$C$141,0,$D$36:$D$141,V22),COUNTIFS($I$36:$I$141,V22,$Q$36:$Q$141,0)) -> 9 | AC22: =SUM(F39,H50,F60,F67,H77,H86,F99,H107,F121,H129,F137) -> 349 | AD22: =SUM(H39,F50,H60,H67,F77,F86,H99,F107,H121,F129,H137) -> 610 | AE22: =AC22-AD22 -> -261 | AF22: =(X22/(W22*3)) -> 0.15151515 | AG22: =(X22*10^10)+((AC22+5000)*10^6)+(AE22*10)+U22 -> 55348997393 | AH22: =LARGE($AG$20:$AG$31,U22) -> 205536000271 | AI22: =MATCH(AH22,$AG$20:$AG$31,0) -> 1
D23: 4º | E23: =VLOOKUP(AI23,$U$20:$AH$31,2) -> Botafogo do HG | F23: =VLOOKUP(AI23,$U$20:$AH$31,3) -> 11 | G23: =VLOOKUP(AI23,$U$20:$AH$31,4) -> 19 | H23: =VLOOKUP(AI23,$U$20:$AH$31,5) -> 5 | I23: =VLOOKUP(AI23,$U$20:$AH$31,6) -> 2 | J23: =VLOOKUP(AI23,$U$20:$AH$31,7) -> 0 | K23: =VLOOKUP(AI23,$U$20:$AH$31,8) -> 4 | L23: =VLOOKUP(AI23,$U$20:$AH$31,9) -> 514 | M23: =VLOOKUP(AI23,$U$20:$AH$31,10) -> 470 | N23: =VLOOKUP(AI23,$U$20:$AH$31,11) -> 44 | O23: =VLOOKUP(AI23,$U$20:$AH$31,12) -> 0.57575758 | R23: PPC - pontos pró Cartola | U23: 4 | V23: TriangagemFC | W23: =COUNT(F41,F46,H58,F68,H76,H87,F101,H109,H121,F126,H139) -> 11 | X23: =SUM(C41,C46,C68,Q76,Q58,Q109,Q87,C101,Q121,C126,Q139) -> 23 | Y23: =SUM(COUNTIFS($C$36:$C$141,3,$D$36:$D$141,V23),COUNTIFS($I$36:$I$141,V23,$Q$36:$Q$141,3)) -> 6 | Z23: =SUM(COUNTIFS($C$36:$C$141,2,$D$36:$D$141,V23),COUNTIFS($I$36:$I$141,V23,$Q$36:$Q$141,2)) -> 2 | AA23: =SUM(COUNTIFS($C$36:$C$141,1,$D$36:$D$141,V23),COUNTIFS($I$36:$I$141,V23,$Q$36:$Q$141,1)) -> 1 | AB23: =SUM(COUNTIFS($C$36:$C$141,0,$D$36:$D$141,V23),COUNTIFS($I$36:$I$141,V23,$Q$36:$Q$141,0)) -> 2 | AC23: =SUM(F41,F46,H58,F68,H87,H109,H76,F101,H121,F126,H139) -> 604 | AD23: =SUM(H41,H46,H68,F58,F76,F87,H101,F109,F121,H126,F139) -> 452 | AE23: =AC23-AD23 -> 152 | AF23: =(X23/(W23*3)) -> 0.6969697 | AG23: =(X23*10^10)+((AC23+5000)*10^6)+(AE23*10)+U23 -> 235604001524 | AH23: =LARGE($AG$20:$AG$31,U23) -> 195514000451 | AI23: =MATCH(AH23,$AG$20:$AG$31,0) -> 11
D24: 5º | E24: =VLOOKUP(AI24,$U$20:$AH$31,2) -> Vascão Carangola | F24: =VLOOKUP(AI24,$U$20:$AH$31,3) -> 11 | G24: =VLOOKUP(AI24,$U$20:$AH$31,4) -> 19 | H24: =VLOOKUP(AI24,$U$20:$AH$31,5) -> 5 | I24: =VLOOKUP(AI24,$U$20:$AH$31,6) -> 2 | J24: =VLOOKUP(AI24,$U$20:$AH$31,7) -> 0 | K24: =VLOOKUP(AI24,$U$20:$AH$31,8) -> 4 | L24: =VLOOKUP(AI24,$U$20:$AH$31,9) -> 454 | M24: =VLOOKUP(AI24,$U$20:$AH$31,10) -> 414 | N24: =VLOOKUP(AI24,$U$20:$AH$31,11) -> 40 | O24: =VLOOKUP(AI24,$U$20:$AH$31,12) -> 0.57575758 | R24: PCC - pontos contra Cartola | U24: 5 | V24: Stars United C.F. | W24: =COUNT(H36,F47,H56,F70,H79,F89,H101,F107,H118,F127,H140) -> 11 | X24: =SUM(Q36,C47,Q56,C70,Q79,C89,Q101,C107,Q118,C127,Q140) -> 11 | Y24: =SUM(COUNTIFS($C$36:$C$141,3,$D$36:$D$141,V24),COUNTIFS($I$36:$I$141,V24,$Q$36:$Q$141,3)) -> 2 | Z24: =SUM(COUNTIFS($C$36:$C$141,2,$D$36:$D$141,V24),COUNTIFS($I$36:$I$141,V24,$Q$36:$Q$141,2)) -> 2 | AA24: =SUM(COUNTIFS($C$36:$C$141,1,$D$36:$D$141,V24),COUNTIFS($I$36:$I$141,V24,$Q$36:$Q$141,1)) -> 1 | AB24: =SUM(COUNTIFS($C$36:$C$141,0,$D$36:$D$141,V24),COUNTIFS($I$36:$I$141,V24,$Q$36:$Q$141,0)) -> 6 | AC24: =SUM(H36,F47,H56,F70,H79,F89,H101,F107,H118,F127,H140) -> 439 | AD24: =SUM(F36,H47,F56,H70,F79,H89,F101,H107,F118,H127,F140) -> 470 | AE24: =AC24-AD24 -> -31 | AF24: =(X24/(W24*3)) -> 0.33333333 | AG24: =(X24*10^10)+((AC24+5000)*10^6)+(AE24*10)+U24 -> 115438999695 | AH24: =LARGE($AG$20:$AG$31,U24) -> 195454000412 | AI24: =MATCH(AH24,$AG$20:$AG$31,0) -> 12
D25: 6º | E25: =VLOOKUP(AI25,$U$20:$AH$31,2) -> Glaa.VascodaaGamaa | F25: =VLOOKUP(AI25,$U$20:$AH$31,3) -> 11 | G25: =VLOOKUP(AI25,$U$20:$AH$31,4) -> 13 | H25: =VLOOKUP(AI25,$U$20:$AH$31,5) -> 2 | I25: =VLOOKUP(AI25,$U$20:$AH$31,6) -> 3 | J25: =VLOOKUP(AI25,$U$20:$AH$31,7) -> 1 | K25: =VLOOKUP(AI25,$U$20:$AH$31,8) -> 5 | L25: =VLOOKUP(AI25,$U$20:$AH$31,9) -> 553 | M25: =VLOOKUP(AI25,$U$20:$AH$31,10) -> 533 | N25: =VLOOKUP(AI25,$U$20:$AH$31,11) -> 20 | O25: =VLOOKUP(AI25,$U$20:$AH$31,12) -> 0.39393939 | R25: SP - saldo de pontos | U25: 6 | V25: Us Karas | W25: =COUNT(H38,F49,F57,H70,H76,H86,H96,H106,H116,H126,H136) -> 11 | X25: =SUM(Q38,C49,C57,Q70,C76,Q90,C100,C111,Q117,C131,Q137) -> 23 | Y25: =SUM(COUNTIFS($C$36:$C$141,3,$D$36:$D$141,V25),COUNTIFS($I$36:$I$141,V25,$Q$36:$Q$141,3)) -> 7 | Z25: =SUM(COUNTIFS($C$36:$C$141,2,$D$36:$D$141,V25),COUNTIFS($I$36:$I$141,V25,$Q$36:$Q$141,2)) -> 1 | AA25: =SUM(COUNTIFS($C$36:$C$141,1,$D$36:$D$141,V25),COUNTIFS($I$36:$I$141,V25,$Q$36:$Q$141,1)) -> 0 | AB25: =SUM(COUNTIFS($C$36:$C$141,0,$D$36:$D$141,V25),COUNTIFS($I$36:$I$141,V25,$Q$36:$Q$141,0)) -> 3 | AC25: =SUM(H38,F49,F57,H70,F76,H90,F100,F111,H117,F131,H137) -> 644 | AD25: =SUM(F38,H49,H57,F70,H76,F90,H100,H111,F117,H131,F137) -> 479 | AE25: =AC25-AD25 -> 165 | AF25: =(X25/(W25*3)) -> 0.6969697 | AG25: =(X25*10^10)+((AC25+5000)*10^6)+(AE25*10)+U25 -> 235644001656 | AH25: =LARGE($AG$20:$AG$31,U25) -> 135553000208 | AI25: =MATCH(AH25,$AG$20:$AG$31,0) -> 8
D26: 7º | E26: =VLOOKUP(AI26,$U$20:$AH$31,2) -> Barreirinha FC | F26: =VLOOKUP(AI26,$U$20:$AH$31,3) -> 11 | G26: =VLOOKUP(AI26,$U$20:$AH$31,4) -> 13 | H26: =VLOOKUP(AI26,$U$20:$AH$31,5) -> 3 | I26: =VLOOKUP(AI26,$U$20:$AH$31,6) -> 2 | J26: =VLOOKUP(AI26,$U$20:$AH$31,7) -> 0 | K26: =VLOOKUP(AI26,$U$20:$AH$31,8) -> 6 | L26: =VLOOKUP(AI26,$U$20:$AH$31,9) -> 495 | M26: =VLOOKUP(AI26,$U$20:$AH$31,10) -> 571 | N26: =VLOOKUP(AI26,$U$20:$AH$31,11) -> -76 | O26: =VLOOKUP(AI26,$U$20:$AH$31,12) -> 0.39393939 | R26: % APR. - Aproveitamento | U26: 7 | V26: NICKA SC | W26: =COUNT(H36,H46,H56,H66,H76,H86,H96,H106,H116,H126,H136) -> 11 | X26: =SUM(Q40,Q47,C59,C66,Q81,C87,C98,Q111,Q119,C129,Q136) -> 9 | Y26: =SUM(COUNTIFS($C$36:$C$141,3,$D$36:$D$141,V26),COUNTIFS($I$36:$I$141,V26,$Q$36:$Q$141,3)) -> 2 | Z26: =SUM(COUNTIFS($C$36:$C$141,2,$D$36:$D$141,V26),COUNTIFS($I$36:$I$141,V26,$Q$36:$Q$141,2)) -> 1 | AA26: =SUM(COUNTIFS($C$36:$C$141,1,$D$36:$D$141,V26),COUNTIFS($I$36:$I$141,V26,$Q$36:$Q$141,1)) -> 1 | AB26: =SUM(COUNTIFS($C$36:$C$141,0,$D$36:$D$141,V26),COUNTIFS($I$36:$I$141,V26,$Q$36:$Q$141,0)) -> 7 | AC26: =SUM(H40,H47,F59,F66,H81,F87,F98,H111,H119,F129,H136) -> 418 | AD26: =SUM(F40,F47,H59,H66,F81,H87,H98,F119,H129,F136) -> 477 | AE26: =AC26-AD26 -> -59 | AF26: =(X26/(W26*3)) -> 0.27272727 | AG26: =(X26*10^10)+((AC26+5000)*10^6)+(AE26*10)+U26 -> 95417999417 | AH26: =LARGE($AG$20:$AG$31,U26) -> 135494999250 | AI26: =MATCH(AH26,$AG$20:$AG$31,0) -> 10
D27: 8º | E27: =VLOOKUP(AI27,$U$20:$AH$31,2) -> flurocha fc | F27: =VLOOKUP(AI27,$U$20:$AH$31,3) -> 11 | G27: =VLOOKUP(AI27,$U$20:$AH$31,4) -> 12 | H27: =VLOOKUP(AI27,$U$20:$AH$31,5) -> 4 | I27: =VLOOKUP(AI27,$U$20:$AH$31,6) -> 0 | J27: =VLOOKUP(AI27,$U$20:$AH$31,7) -> 0 | K27: =VLOOKUP(AI27,$U$20:$AH$31,8) -> 7 | L27: =VLOOKUP(AI27,$U$20:$AH$31,9) -> 543 | M27: =VLOOKUP(AI27,$U$20:$AH$31,10) -> 475 | N27: =VLOOKUP(AI27,$U$20:$AH$31,11) -> 68 | O27: =VLOOKUP(AI27,$U$20:$AH$31,12) -> 0.36363636 | U27: 8 | V27: Glaa.VascodaaGamaa | W27: =COUNT(H36,H46,H56,H66,H76,H86,H96,H106,H116,H126,H136) -> 11 | X27: =SUM(Q39,Q48,C61,Q66,C79,C90,Q96,C106,C116,Q128,C139) -> 13 | Y27: =SUM(COUNTIFS($C$36:$C$141,3,$D$36:$D$141,V27),COUNTIFS($I$36:$I$141,V27,$Q$36:$Q$141,3)) -> 2 | Z27: =SUM(COUNTIFS($C$36:$C$141,2,$D$36:$D$141,V27),COUNTIFS($I$36:$I$141,V27,$Q$36:$Q$141,2)) -> 3 | AA27: =SUM(COUNTIFS($C$36:$C$141,1,$D$36:$D$141,V27),COUNTIFS($I$36:$I$141,V27,$Q$36:$Q$141,1)) -> 1 | AB27: =SUM(COUNTIFS($C$36:$C$141,0,$D$36:$D$141,V27),COUNTIFS($I$36:$I$141,V27,$Q$36:$Q$141,0)) -> 5 | AC27: =SUM(H39,H48,F61,H66,F79,F90,H96,F106,F116,H128,F139) -> 553 | AD27: =SUM(F39,F48,F66,H61,H79,H90,F96,H106,H116,F128,H139) -> 533 | AE27: =AC27-AD27 -> 20 | AF27: =(X27/(W27*3)) -> 0.39393939 | AG27: =(X27*10^10)+((AC27+5000)*10^6)+(AE27*10)+U27 -> 135553000208 | AH27: =LARGE($AG$20:$AG$31,U27) -> 125543000682 | AI27: =MATCH(AH27,$AG$20:$AG$31,0) -> 2
D28: 9º | E28: =VLOOKUP(AI28,$U$20:$AH$31,2) -> PANZA FC | F28: =VLOOKUP(AI28,$U$20:$AH$31,3) -> 11 | G28: =VLOOKUP(AI28,$U$20:$AH$31,4) -> 11 | H28: =VLOOKUP(AI28,$U$20:$AH$31,5) -> 3 | I28: =VLOOKUP(AI28,$U$20:$AH$31,6) -> 0 | J28: =VLOOKUP(AI28,$U$20:$AH$31,7) -> 2 | K28: =VLOOKUP(AI28,$U$20:$AH$31,8) -> 6 | L28: =VLOOKUP(AI28,$U$20:$AH$31,9) -> 521 | M28: =VLOOKUP(AI28,$U$20:$AH$31,10) -> 558 | N28: =VLOOKUP(AI28,$U$20:$AH$31,11) -> -37 | O28: =VLOOKUP(AI28,$U$20:$AH$31,12) -> 0.33333333 | R28: CRITÉRIO DE DESEMPATE | U28: 9 | V28: PANZA FC | W28: =COUNT(H36,H46,H56,H66,H76,H86,H96,H106,H116,H126,H136) -> 11 | X28: =SUM(C37,Q49,C56,Q69,C77,Q88,C97,Q106,C120,Q126,C136) -> 11 | Y28: =SUM(COUNTIFS($C$36:$C$141,3,$D$36:$D$141,V28),COUNTIFS($I$36:$I$141,V28,$Q$36:$Q$141,3)) -> 3 | Z28: =SUM(COUNTIFS($C$36:$C$141,2,$D$36:$D$141,V28),COUNTIFS($I$36:$I$141,V28,$Q$36:$Q$141,2)) -> 0 | AA28: =SUM(COUNTIFS($C$36:$C$141,1,$D$36:$D$141,V28),COUNTIFS($I$36:$I$141,V28,$Q$36:$Q$141,1)) -> 2 | AB28: =SUM(COUNTIFS($C$36:$C$141,0,$D$36:$D$141,V28),COUNTIFS($I$36:$I$141,V28,$Q$36:$Q$141,0)) -> 6 | AC28: =SUM(F37,H49,F56,H69,F77,H88,F97,H106,F120,H126,F136) -> 521 | AD28: =SUM(H37,F49,H56,F69,H77,F88,H97,F106,H120,F126,H136) -> 558 | AE28: =AC28-AD28 -> -37 | AF28: =(X28/(W28*3)) -> 0.33333333 | AG28: =(X28*10^10)+((AC28+5000)*10^6)+(AE28*10)+U28 -> 115520999639 | AH28: =LARGE($AG$20:$AG$31,U28) -> 115520999639 | AI28: =MATCH(AH28,$AG$20:$AG$31,0) -> 9
D29: 10º | E29: =VLOOKUP(AI29,$U$20:$AH$31,2) -> Stars United C.F. | F29: =VLOOKUP(AI29,$U$20:$AH$31,3) -> 11 | G29: =VLOOKUP(AI29,$U$20:$AH$31,4) -> 11 | H29: =VLOOKUP(AI29,$U$20:$AH$31,5) -> 2 | I29: =VLOOKUP(AI29,$U$20:$AH$31,6) -> 2 | J29: =VLOOKUP(AI29,$U$20:$AH$31,7) -> 1 | K29: =VLOOKUP(AI29,$U$20:$AH$31,8) -> 6 | L29: =VLOOKUP(AI29,$U$20:$AH$31,9) -> 439 | M29: =VLOOKUP(AI29,$U$20:$AH$31,10) -> 470 | N29: =VLOOKUP(AI29,$U$20:$AH$31,11) -> -31 | O29: =VLOOKUP(AI29,$U$20:$AH$31,12) -> 0.33333333 | R29: 1 - pontos | U29: 10 | V29: Barreirinha FC | W29: =COUNT(H36,H46,H56,H66,H76,H86,H96,H106,H116,H126,H136) -> 11 | X29: =SUM(Q37,C48,Q59,Q71,C80,Q89,Q99,C109,C117,Q130,Q141) -> 13 | Y29: =SUM(COUNTIFS($C$36:$C$141,3,$D$36:$D$141,V29),COUNTIFS($I$36:$I$141,V29,$Q$36:$Q$141,3)) -> 3 | Z29: =SUM(COUNTIFS($C$36:$C$141,2,$D$36:$D$141,V29),COUNTIFS($I$36:$I$141,V29,$Q$36:$Q$141,2)) -> 2 | AA29: =SUM(COUNTIFS($C$36:$C$141,1,$D$36:$D$141,V29),COUNTIFS($I$36:$I$141,V29,$Q$36:$Q$141,1)) -> 0 | AB29: =SUM(COUNTIFS($C$36:$C$141,0,$D$36:$D$141,V29),COUNTIFS($I$36:$I$141,V29,$Q$36:$Q$141,0)) -> 6 | AC29: =SUM(H37,F48,H59,H71,F80,H89,H99,F109,F117,H130,H141) -> 495 | AD29: =SUM(F37,H48,F59,F71,H80,F89,F99,H109,H117,F130,F141) -> 571 | AE29: =AC29-AD29 -> -76 | AF29: =(X29/(W29*3)) -> 0.39393939 | AG29: =(X29*10^10)+((AC29+5000)*10^6)+(AE29*10)+U29 -> 135494999250 | AH29: =LARGE($AG$20:$AG$31,U29) -> 115438999695 | AI29: =MATCH(AH29,$AG$20:$AG$31,0) -> 5
D30: 11º | E30: =VLOOKUP(AI30,$U$20:$AH$31,2) -> NICKA SC | F30: =VLOOKUP(AI30,$U$20:$AH$31,3) -> 11 | G30: =VLOOKUP(AI30,$U$20:$AH$31,4) -> 9 | H30: =VLOOKUP(AI30,$U$20:$AH$31,5) -> 2 | I30: =VLOOKUP(AI30,$U$20:$AH$31,6) -> 1 | J30: =VLOOKUP(AI30,$U$20:$AH$31,7) -> 1 | K30: =VLOOKUP(AI30,$U$20:$AH$31,8) -> 7 | L30: =VLOOKUP(AI30,$U$20:$AH$31,9) -> 418 | M30: =VLOOKUP(AI30,$U$20:$AH$31,10) -> 477 | N30: =VLOOKUP(AI30,$U$20:$AH$31,11) -> -59 | O30: =VLOOKUP(AI30,$U$20:$AH$31,12) -> 0.27272727 | R30: 2 - pontos pró Cartola | U30: 11 | V30: Botafogo do HG | W30: =COUNT(H36,H46,H56,H66,H76,H86,H96,H106,H116,H126,H136) -> 11 | X30: =SUM(C40,Q51,C58,Q67,C78,C88,Q100,C110,Q116,Q127,C141) -> 19 | Y30: =SUM(COUNTIFS($C$36:$C$141,3,$D$36:$D$141,V30),COUNTIFS($I$36:$I$141,V30,$Q$36:$Q$141,3)) -> 5 | Z30: =SUM(COUNTIFS($C$36:$C$141,2,$D$36:$D$141,V30),COUNTIFS($I$36:$I$141,V30,$Q$36:$Q$141,2)) -> 2 | AA30: =SUM(COUNTIFS($C$36:$C$141,1,$D$36:$D$141,V30),COUNTIFS($I$36:$I$141,V30,$Q$36:$Q$141,1)) -> 0 | AB30: =SUM(COUNTIFS($C$36:$C$141,0,$D$36:$D$141,V30),COUNTIFS($I$36:$I$141,V30,$Q$36:$Q$141,0)) -> 4 | AC30: =SUM(F40,H51,F58,H67,F78,H100,F110,H116,H127,F141,F88) -> 514 | AD30: =SUM(H40,F51,H58,F67,H78,H88,F100,H110,F116,F127,H141) -> 470 | AE30: =AC30-AD30 -> 44 | AF30: =(X30/(W30*3)) -> 0.57575758 | AG30: =(X30*10^10)+((AC30+5000)*10^6)+(AE30*10)+U30 -> 195514000451 | AH30: =LARGE($AG$20:$AG$31,U30) -> 95417999417 | AI30: =MATCH(AH30,$AG$20:$AG$31,0) -> 7
D31: 12º | E31: =VLOOKUP(AI31,$U$20:$AH$31,2) -> FC Casablanca | F31: =VLOOKUP(AI31,$U$20:$AH$31,3) -> 11 | G31: =VLOOKUP(AI31,$U$20:$AH$31,4) -> 5 | H31: =VLOOKUP(AI31,$U$20:$AH$31,5) -> 1 | I31: =VLOOKUP(AI31,$U$20:$AH$31,6) -> 1 | J31: =VLOOKUP(AI31,$U$20:$AH$31,7) -> 0 | K31: =VLOOKUP(AI31,$U$20:$AH$31,8) -> 9 | L31: =VLOOKUP(AI31,$U$20:$AH$31,9) -> 349 | M31: =VLOOKUP(AI31,$U$20:$AH$31,10) -> 610 | N31: =VLOOKUP(AI31,$U$20:$AH$31,11) -> -261 | O31: =VLOOKUP(AI31,$U$20:$AH$31,12) -> 0.15151515 | R31: 3 - saldo de pontos | U31: 12 | V31: Vascão Carangola | W31: =COUNT(H36,H46,H56,H66,H76,H86,H96,H106,H116,H126,H136) -> 11 | X31: =SUM(C36,C51,Q61,Q68,Q80,C86,Q97,Q108,C119,Q131,C138) -> 19 | Y31: =SUM(COUNTIFS($C$36:$C$141,3,$D$36:$D$141,V31),COUNTIFS($I$36:$I$141,V31,$Q$36:$Q$141,3)) -> 5 | Z31: =SUM(COUNTIFS($C$36:$C$141,2,$D$36:$D$141,V31),COUNTIFS($I$36:$I$141,V31,$Q$36:$Q$141,2)) -> 2 | AA31: =SUM(COUNTIFS($C$36:$C$141,1,$D$36:$D$141,V31),COUNTIFS($I$36:$I$141,V31,$Q$36:$Q$141,1)) -> 0 | AB31: =SUM(COUNTIFS($C$36:$C$141,0,$D$36:$D$141,V31),COUNTIFS($I$36:$I$141,V31,$Q$36:$Q$141,0)) -> 4 | AC31: =SUM(F36,F51,H61,H68,H80,F86,H97,H108,F119,H131,F138) -> 454 | AD31: =SUM(H36,H51,F61,F68,F80,H86,F97,F108,H119,F131,H138) -> 414 | AE31: =AC31-AD31 -> 40 | AF31: =(X31/(W31*3)) -> 0.57575758 | AG31: =(X31*10^10)+((AC31+5000)*10^6)+(AE31*10)+U31 -> 195454000412 | AH31: =LARGE($AG$20:$AG$31,U31) -> 55348997393 | AI31: =MATCH(AH31,$AG$20:$AG$31,0) -> 3
R32: 4 - pontos contra Cartola
D33: 1ª RODADA - #20
C36: =IF(OR(F36="",H36=""),"",IF(F36=H36,1,IF(F36<H36,0,IF(F36-H36<10,2,IF(F36>H36,3,SE))))) -> 0 | D36: =V31 -> Vascão Carangola | F36: 0 | G36: x | H36: 49 | I36: =V24 -> Stars United C.F. | Q36: =IF(OR(H36="",F36=""),"",IF(H36=F36,1,IF(H36<F36,0,IF(H36-F36<10,2,IF(H36>F36,3,SE))))) -> 3
C37: =IF(OR(F37="",H37=""),"",IF(F37=H37,1,IF(F37<H37,0,IF(F37-H37<10,2,IF(F37>H37,3,SE))))) -> 3 | D37: =V28 -> PANZA FC | F37: 54 | G37: x | H37: 41 | I37: =V29 -> Barreirinha FC | Q37: =IF(OR(H37="",F37=""),"",IF(H37=F37,1,IF(H37<F37,0,IF(H37-F37<10,2,IF(H37>F37,3,SE))))) -> 0
C38: =IF(OR(F38="",H38=""),"",IF(F38=H38,1,IF(F38<H38,0,IF(F38-H38<10,2,IF(F38>H38,3,SE))))) -> 2 | D38: =V20 -> Barbosinhaas | F38: 58 | G38: x | H38: 49 | I38: =V25 -> Us Karas | Q38: =IF(OR(H38="",F38=""),"",IF(H38=F38,1,IF(H38<F38,0,IF(H38-F38<10,2,IF(H38>F38,3,SE))))) -> 0
C39: =IF(OR(F39="",H39=""),"",IF(F39=H39,1,IF(F39<H39,0,IF(F39-H39<10,2,IF(F39>H39,3,SE))))) -> 2 | D39: =V22 -> FC Casablanca | F39: 47 | G39: x | H39: 38 | I39: =V27 -> Glaa.VascodaaGamaa | Q39: =IF(OR(H39="",F39=""),"",IF(H39=F39,1,IF(H39<F39,0,IF(H39-F39<10,2,IF(H39>F39,3,SE))))) -> 0
C40: =IF(OR(F40="",H40=""),"",IF(F40=H40,1,IF(F40<H40,0,IF(F40-H40<10,2,IF(F40>H40,3,SE))))) -> 3 | D40: =V30 -> Botafogo do HG | F40: 60 | G40: x | H40: 33 | I40: =V26 -> NICKA SC | Q40: =IF(OR(H40="",F40=""),"",IF(H40=F40,1,IF(H40<F40,0,IF(H40-F40<10,2,IF(H40>F40,3,SE))))) -> 0
C41: =IF(OR(F41="",H41=""),"",IF(F41=H41,1,IF(F41<H41,0,IF(F41-H41<10,2,IF(F41>H41,3,SE))))) -> 3 | D41: =V23 -> TriangagemFC | F41: 59 | G41: x | H41: 36 | I41: =V21 -> flurocha fc | Q41: =IF(OR(H41="",F41=""),"",IF(H41=F41,1,IF(H41<F41,0,IF(H41-F41<10,2,IF(H41>F41,3,SE))))) -> 0
C42: =IF(OR(F42="",H42=""),"",IF(F42=H42,1,IF(F42<H42,0,IF(F42-H42<10,2,IF(F42>H42,3,SE))))) | Q42: =IF(OR(H42="",F42=""),"",IF(H42=F42,1,IF(H42<F42,0,IF(H42-F42<10,2,IF(H42>F42,3,SE)))))
C43: =IF(OR(F43="",H43=""),"",IF(F43=H43,1,IF(F43<H43,0,IF(F43-H43<10,2,IF(F43>H43,3,SE))))) | D43: 2ª RODADA - #21 | Q43: =IF(OR(H43="",F43=""),"",IF(H43=F43,1,IF(H43<F43,0,IF(H43-F43<10,2,IF(H43>F43,3,SE)))))
C44: =IF(OR(F44="",H44=""),"",IF(F44=H44,1,IF(F44<H44,0,IF(F44-H44<10,2,IF(F44>H44,3,SE))))) | Q44: =IF(OR(H44="",F44=""),"",IF(H44=F44,1,IF(H44<F44,0,IF(H44-F44<10,2,IF(H44>F44,3,SE)))))
C45: =IF(OR(F45="",H45=""),"",IF(F45=H45,1,IF(F45<H45,0,IF(F45-H45<10,2,IF(F45>H45,3,SE))))) | Q45: =IF(OR(H45="",F45=""),"",IF(H45=F45,1,IF(H45<F45,0,IF(H45-F45<10,2,IF(H45>F45,3,SE)))))
C46: =IF(OR(F46="",H46=""),"",IF(F46=H46,1,IF(F46<H46,0,IF(F46-H46<10,2,IF(F46>H46,3,SE))))) -> 3 | D46: =V23 -> TriangagemFC | F46: 69 | G46: x | H46: 25 | I46: =V20 -> Barbosinhaas | Q46: =IF(OR(H46="",F46=""),"",IF(H46=F46,1,IF(H46<F46,0,IF(H46-F46<10,2,IF(H46>F46,3,SE))))) -> 0
C47: =IF(OR(F47="",H47=""),"",IF(F47=H47,1,IF(F47<H47,0,IF(F47-H47<10,2,IF(F47>H47,3,SE))))) -> 0 | D47: =V24 -> Stars United C.F. | F47: 35 | G47: x | H47: 40 | I47: =V26 -> NICKA SC | Q47: =IF(OR(H47="",F47=""),"",IF(H47=F47,1,IF(H47<F47,0,IF(H47-F47<10,2,IF(H47>F47,3,SE))))) -> 2
C48: =IF(OR(F48="",H48=""),"",IF(F48=H48,1,IF(F48<H48,0,IF(F48-H48<10,2,IF(F48>H48,3,SE))))) -> 2 | D48: =V29 -> Barreirinha FC | F48: 67 | G48: x | H48: 63 | I48: =V27 -> Glaa.VascodaaGamaa | Q48: =IF(OR(H48="",F48=""),"",IF(H48=F48,1,IF(H48<F48,0,IF(H48-F48<10,2,IF(H48>F48,3,SE))))) -> 0
C49: =IF(OR(F49="",H49=""),"",IF(F49=H49,1,IF(F49<H49,0,IF(F49-H49<10,2,IF(F49>H49,3,SE))))) -> 3 | D49: =V25 -> Us Karas | F49: 106 | G49: x | H49: 69 | I49: =V28 -> PANZA FC | Q49: =IF(OR(H49="",F49=""),"",IF(H49=F49,1,IF(H49<F49,0,IF(H49-F49<10,2,IF(H49>F49,3,SE))))) -> 0
C50: =IF(OR(F50="",H50=""),"",IF(F50=H50,1,IF(F50<H50,0,IF(F50-H50<10,2,IF(F50>H50,3,SE))))) -> 3 | D50: =V21 -> flurocha fc | F50: 101 | G50: x | H50: 25 | I50: =V22 -> FC Casablanca | Q50: =IF(OR(H50="",F50=""),"",IF(H50=F50,1,IF(H50<F50,0,IF(H50-F50<10,2,IF(H50>F50,3,SE))))) -> 0
C51: =IF(OR(F51="",H51=""),"",IF(F51=H51,1,IF(F51<H51,0,IF(F51-H51<10,2,IF(F51>H51,3,SE))))) -> 0 | D51: =V31 -> Vascão Carangola | F51: 0 | G51: x | H51: 41 | I51: =V30 -> Botafogo do HG | Q51: =IF(OR(H51="",F51=""),"",IF(H51=F51,1,IF(H51<F51,0,IF(H51-F51<10,2,IF(H51>F51,3,SE))))) -> 3
C52: =IF(OR(F52="",H52=""),"",IF(F52=H52,1,IF(F52<H52,0,IF(F52-H52<10,2,IF(F52>H52,3,SE))))) | Q52: =IF(OR(H52="",F52=""),"",IF(H52=F52,1,IF(H52<F52,0,IF(H52-F52<10,2,IF(H52>F52,3,SE)))))
C53: =IF(OR(F53="",H53=""),"",IF(F53=H53,1,IF(F53<H53,0,IF(F53-H53<10,2,IF(F53>H53,3,SE))))) | D53: 3ª RODADA - #22 | Q53: =IF(OR(H53="",F53=""),"",IF(H53=F53,1,IF(H53<F53,0,IF(H53-F53<10,2,IF(H53>F53,3,SE)))))
C54: =IF(OR(F54="",H54=""),"",IF(F54=H54,1,IF(F54<H54,0,IF(F54-H54<10,2,IF(F54>H54,3,SE))))) | Q54: =IF(OR(H54="",F54=""),"",IF(H54=F54,1,IF(H54<F54,0,IF(H54-F54<10,2,IF(H54>F54,3,SE)))))
...

Sheet GRUPO 2
B2: 1º SUPERSOCAMPEONATO 2013
B6: 1ª FASE
D10: CLASSIFICAÇÃO
D15: OBS: Os 4 melhores colocados no Grupo se classificarão para a Oitavas de Finais.
D17: GRUPO 2 | R17: Legenda
R18: P - pontos
D19: Pos. | E19: CARTOLA | F19: J | G19: P | H19: V3P | I19: V2P | J19: E | K19: D | L19: PPC | M19: PCC | N19: SP | O19: % APR. | R19: V3P - Vitória por 3 pontos | U19: Pos. | V19: TIMES | W19: J | X19: P | Y19: V3P | Z19: V2P | AA19: E | AB19: D | AC19: GF | AD19: GC | AE19: SG | AF19: % APR. | AG19: calc | AH19: maior | AI19: corresp
D20: 1º | E20: =VLOOKUP(AI20,$U$20:$AH$31,2) -> Bahia aju | F20: =VLOOKUP(AI20,$U$20:$AH$31,3) -> 11 | G20: =VLOOKUP(AI20,$U$20:$AH$31,4) -> 24 | H20: =VLOOKUP(AI20,$U$20:$AH$31,5) -> 6 | I20: =VLOOKUP(AI20,$U$20:$AH$31,6) -> 3 | J20: =VLOOKUP(AI20,$U$20:$AH$31,7) -> 0 | K20: =VLOOKUP(AI20,$U$20:$AH$31,8) -> 2 | L20: =VLOOKUP(AI20,$U$20:$AH$31,9) -> 659 | M20: =VLOOKUP(AI20,$U$20:$AH$31,10) -> 576 | N20: =VLOOKUP(AI20,$U$20:$AH$31,11) -> 83 | O20: =VLOOKUP(AI20,$U$20:$AH$31,12) -> 0.72727273 | R20: V2P - Vitória por 2 pontos | U20: 1 | V20: mathpalestra | W20: =COUNT(F38,H60,F71,H46,H78,F91,H98,F108,H120,F128,F140) -> 11 | X20: =SUM(C38,Q46,Q60,C71,Q78,C91,Q98,C108,Q120,C128,C140) -> 6 | Y20: =SUM(COUNTIFS($C$36:$C$141,3,$D$36:$D$141,V20),COUNTIFS($I$36:$I$141,V20,$Q$36:$Q$141,3)) -> 1 | Z20: =SUM(COUNTIFS($C$36:$C$141,2,$D$36:$D$141,V20),COUNTIFS($I$36:$I$141,V20,$Q$36:$Q$141,2)) -> 1 | AA20: =SUM(COUNTIFS($C$36:$C$141,1,$D$36:$D$141,V20),COUNTIFS($I$36:$I$141,V20,$Q$36:$Q$141,1)) -> 1 | AB20: =SUM(COUNTIFS($C$36:$C$141,0,$D$36:$D$141,V20),COUNTIFS($I$36:$I$141,V20,$Q$36:$Q$141,0)) -> 8 | AC20: =SUM(F38,H46,H60,F71,H78,F91,H98,H120,F108,F128,F140) -> 403 | AD20: =SUM(H38,F46,F60,H71,F78,H91,F98,H108,F120,H128,H140) -> 624 | AE20: =AC20-AD20 -> -221 | AF20: =(X20/(W20*3)) -> 0.18181818 | AG20: =(X20*10^10)+((AC20+5000)*10^6)+(AE20*10)+U20 -> 65402997791 | AH20: =LARGE($AG$20:$AG$31,U20) -> 245659000838 | AI20: =MATCH(AH20,$AG$20:$AG$31,0) -> 8
D21: 2º | E21: =VLOOKUP(AI21,$U$20:$AH$31,2) -> Driblador F.C | F21: =VLOOKUP(AI21,$U$20:$AH$31,3) -> 11 | G21: =VLOOKUP(AI21,$U$20:$AH$31,4) -> 21 | H21: =VLOOKUP(AI21,$U$20:$AH$31,5) -> 5 | I21: =VLOOKUP(AI21,$U$20:$AH$31,6) -> 3 | J21: =VLOOKUP(AI21,$U$20:$AH$31,7) -> 0 | K21: =VLOOKUP(AI21,$U$20:$AH$31,8) -> 3 | L21: =VLOOKUP(AI21,$U$20:$AH$31,9) -> 577 | M21: =VLOOKUP(AI21,$U$20:$AH$31,10) -> 431 | N21: =VLOOKUP(AI21,$U$20:$AH$31,11) -> 146 | O21: =VLOOKUP(AI21,$U$20:$AH$31,12) -> 0.63636364 | R21: E - Empate | U21: 2 | V21: Marvada da cachaça | W21: =COUNT(H41,F50,H57,F69,F81,H91,F96,H110,F118,F130,H138) -> 11 | X21: =SUM(Q41,Q57,C69,C81,Q91,C50,C96,Q110,C118,C130,Q138) -> 8 | Y21: =SUM(COUNTIFS($C$36:$C$141,3,$D$36:$D$141,V21),COUNTIFS($I$36:$I$141,V21,$Q$36:$Q$141,3)) -> 2 | Z21: =SUM(COUNTIFS($C$36:$C$141,2,$D$36:$D$141,V21),COUNTIFS($I$36:$I$141,V21,$Q$36:$Q$141,2)) -> 0 | AA21: =SUM(COUNTIFS($C$36:$C$141,1,$D$36:$D$141,V21),COUNTIFS($I$36:$I$141,V21,$Q$36:$Q$141,1)) -> 2 | AB21: =SUM(COUNTIFS($C$36:$C$141,0,$D$36:$D$141,V21),COUNTIFS($I$36:$I$141,V21,$Q$36:$Q$141,0)) -> 7 | AC21: =SUM(H41,F50,H57,F69,F81,H91,F96,H110,F118,F130,H138) -> 418 | AD21: =SUM(F41,H50,F57,H69,H81,F91,H96,F110,H118,H130,F138) -> 564 | AE21: =AC21-AD21 -> -146 | AF21: =(X21/(W21*3)) -> 0.24242424 | AG21: =(X21*10^10)+((AC21+5000)*10^6)+(AE21*10)+U21 -> 85417998542 | AH21: =LARGE($AG$20:$AG$31,U21) -> 215577001464 | AI21: =MATCH(AH21,$AG$20:$AG$31,0) -> 4
D22: 3º | E22: =VLOOKUP(AI22,$U$20:$AH$31,2) -> Soccer Italy | F22: =VLOOKUP(AI22,$U$20:$AH$31,3) -> 11 | G22: =VLOOKUP(AI22,$U$20:$AH$31,4) -> 20 | H22: =VLOOKUP(AI22,$U$20:$AH$31,5) -> 6 | I22: =VLOOKUP(AI22,$U$20:$AH$31,6) -> 1 | J22: =VLOOKUP(AI22,$U$20:$AH$31,7) -> 0 | K22: =VLOOKUP(AI22,$U$20:$AH$31,8) -> 4 | L22: =VLOOKUP(AI22,$U$20:$AH$31,9) -> 621 | M22: =VLOOKUP(AI22,$U$20:$AH$31,10) -> 551 | N22: =VLOOKUP(AI22,$U$20:$AH$31,11) -> 70 | O22: =VLOOKUP(AI22,$U$20:$AH$31,12) -> 0.60606061 | R22: D - Derrota | U22: 3 | V22: Xavecos UFC | W22: =COUNT(F39,H50,F60,F67,H77,H86,F99,H107,F121,H129,F137) -> 11 | X22: =SUM(C39,Q50,C60,C67,C99,Q77,Q86,Q107,C121,Q129,C137) -> 8 | Y22: =SUM(COUNTIFS($C$36:$C$141,3,$D$36:$D$141,V22),COUNTIFS($I$36:$I$141,V22,$Q$36:$Q$141,3)) -> 2 | Z22: =SUM(COUNTIFS($C$36:$C$141,2,$D$36:$D$141,V22),COUNTIFS($I$36:$I$141,V22,$Q$36:$Q$141,2)) -> 1 | AA22: =SUM(COUNTIFS($C$36:$C$141,1,$D$36:$D$141,V22),COUNTIFS($I$36:$I$141,V22,$Q$36:$Q$141,1)) -> 0 | AB22: =SUM(COUNTIFS($C$36:$C$141,0,$D$36:$D$141,V22),COUNTIFS($I$36:$I$141,V22,$Q$36:$Q$141,0)) -> 8 | AC22: =SUM(F39,H50,F60,F67,H77,H86,F99,H107,F121,H129,F137) -> 401 | AD22: =SUM(H39,F50,H60,H67,F77,F86,H99,F107,H121,F129,H137) -> 545 | AE22: =AC22-AD22 -> -144 | AF22: =(X22/(W22*3)) -> 0.24242424 | AG22: =(X22*10^10)+((AC22+5000)*10^6)+(AE22*10)+U22 -> 85400998563 | AH22: =LARGE($AG$20:$AG$31,U22) -> 205621000712 | AI22: =MATCH(AH22,$AG$20:$AG$31,0) -> 12
D23: 4º | E23: =VLOOKUP(AI23,$U$20:$AH$31,2) -> ousadia e alegriaa1 | F23: =VLOOKUP(AI23,$U$20:$AH$31,3) -> 11 | G23: =VLOOKUP(AI23,$U$20:$AH$31,4) -> 20 | H23: =VLOOKUP(AI23,$U$20:$AH$31,5) -> 4 | I23: =VLOOKUP(AI23,$U$20:$AH$31,6) -> 4 | J23: =VLOOKUP(AI23,$U$20:$AH$31,7) -> 0 | K23: =VLOOKUP(AI23,$U$20:$AH$31,8) -> 3 | L23: =VLOOKUP(AI23,$U$20:$AH$31,9) -> 547 | M23: =VLOOKUP(AI23,$U$20:$AH$31,10) -> 467 | N23: =VLOOKUP(AI23,$U$20:$AH$31,11) -> 80 | O23: =VLOOKUP(AI23,$U$20:$AH$31,12) -> 0.60606061 | R23: PPC - pontos pró Cartola | U23: 4 | V23: Driblador F.C | W23: =COUNT(F41,F46,H58,F68,H76,H87,F101,H109,H121,F126,H139) -> 11 | X23: =SUM(C41,C46,C68,Q76,Q58,Q109,Q87,C101,Q121,C126,Q139) -> 21 | Y23: =SUM(COUNTIFS($C$36:$C$141,3,$D$36:$D$141,V23),COUNTIFS($I$36:$I$141,V23,$Q$36:$Q$141,3)) -> 5 | Z23: =SUM(COUNTIFS($C$36:$C$141,2,$D$36:$D$141,V23),COUNTIFS($I$36:$I$141,V23,$Q$36:$Q$141,2)) -> 3 | AA23: =SUM(COUNTIFS($C$36:$C$141,1,$D$36:$D$141,V23),COUNTIFS($I$36:$I$141,V23,$Q$36:$Q$141,1)) -> 0 | AB23: =SUM(COUNTIFS($C$36:$C$141,0,$D$36:$D$141,V23),COUNTIFS($I$36:$I$141,V23,$Q$36:$Q$141,0)) -> 3 | AC23: =SUM(F41,F46,H58,F68,H87,H109,H76,F101,H121,F126,H139) -> 577 | AD23: =SUM(H41,H46,H68,F58,F76,F87,H101,F109,F121,H126,F139) -> 431 | AE23: =AC23-AD23 -> 146 | AF23: =(X23/(W23*3)) -> 0.63636364 | AG23: =(X23*10^10)+((AC23+5000)*10^6)+(AE23*10)+U23 -> 215577001464 | AH23: =LARGE($AG$20:$AG$31,U23) -> 205547000810 | AI23: =MATCH(AH23,$AG$20:$AG$31,0) -> 10
D24: 5º | E24: =VLOOKUP(AI24,$U$20:$AH$31,2) -> comicu | F24: =VLOOKUP(AI24,$U$20:$AH$31,3) -> 11 | G24: =VLOOKUP(AI24,$U$20:$AH$31,4) -> 18 | H24: =VLOOKUP(AI24,$U$20:$AH$31,5) -> 4 | I24: =VLOOKUP(AI24,$U$20:$AH$31,6) -> 3 | J24: =VLOOKUP(AI24,$U$20:$AH$31,7) -> 0 | K24: =VLOOKUP(AI24,$U$20:$AH$31,8) -> 4 | L24: =VLOOKUP(AI24,$U$20:$AH$31,9) -> 648 | M24: =VLOOKUP(AI24,$U$20:$AH$31,10) -> 490 | N24: =VLOOKUP(AI24,$U$20:$AH$31,11) -> 158 | O24: =VLOOKUP(AI24,$U$20:$AH$31,12) -> 0.54545455 | R24: PCC - pontos contra Cartola | U24: 5 | V24: Botafogo Rocha | W24: =COUNT(H36,F47,H56,F70,H79,F89,H101,F107,H118,F127,H140) -> 11 | X24: =SUM(Q36,C47,Q56,C70,Q79,C89,Q101,C107,Q118,C127,Q140) -> 16 | Y24: =SUM(COUNTIFS($C$36:$C$141,3,$D$36:$D$141,V24),COUNTIFS($I$36:$I$141,V24,$Q$36:$Q$141,3)) -> 4 | Z24: =SUM(COUNTIFS($C$36:$C$141,2,$D$36:$D$141,V24),COUNTIFS($I$36:$I$141,V24,$Q$36:$Q$141,2)) -> 2 | AA24: =SUM(COUNTIFS($C$36:$C$141,1,$D$36:$D$141,V24),COUNTIFS($I$36:$I$141,V24,$Q$36:$Q$141,1)) -> 0 | AB24: =SUM(COUNTIFS($C$36:$C$141,0,$D$36:$D$141,V24),COUNTIFS($I$36:$I$141,V24,$Q$36:$Q$141,0)) -> 5 | AC24: =SUM(H36,F47,H56,F70,H79,F89,H101,F107,H118,F127,H140) -> 548 | AD24: =SUM(F36,H47,F56,H70,F79,H89,F101,H107,F118,H127,F140) -> 586 | AE24: =AC24-AD24 -> -38 | AF24: =(X24/(W24*3)) -> 0.48484848 | AG24: =(X24*10^10)+((AC24+5000)*10^6)+(AE24*10)+U24 -> 165547999625 | AH24: =LARGE($AG$20:$AG$31,U24) -> 185648001587 | AI24: =MATCH(AH24,$AG$20:$AG$31,0) -> 7
D25: 6º | E25: =VLOOKUP(AI25,$U$20:$AH$31,2) -> Botafogo Rocha | F25: =VLOOKUP(AI25,$U$20:$AH$31,3) -> 11 | G25: =VLOOKUP(AI25,$U$20:$AH$31,4) -> 16 | H25: =VLOOKUP(AI25,$U$20:$AH$31,5) -> 4 | I25: =VLOOKUP(AI25,$U$20:$AH$31,6) -> 2 | J25: =VLOOKUP(AI25,$U$20:$AH$31,7) -> 0 | K25: =VLOOKUP(AI25,$U$20:$AH$31,8) -> 5 | L25: =VLOOKUP(AI25,$U$20:$AH$31,9) -> 548 | M25: =VLOOKUP(AI25,$U$20:$AH$31,10) -> 586 | N25: =VLOOKUP(AI25,$U$20:$AH$31,11) -> -38 | O25: =VLOOKUP(AI25,$U$20:$AH$31,12) -> 0.48484848 | R25: SP - saldo de pontos | U25: 6 | V25: Sekishiki Mekai Ha | W25: =COUNT(H38,F49,F57,H70,H76,H86,H96,H106,H116,H126,H136) -> 11 | X25: =SUM(Q38,C49,C57,Q70,C76,Q90,C100,C111,Q117,C131,Q137) -> 12 | Y25: =SUM(COUNTIFS($C$36:$C$141,3,$D$36:$D$141,V25),COUNTIFS($I$36:$I$141,V25,$Q$36:$Q$141,3)) -> 3 | Z25: =SUM(COUNTIFS($C$36:$C$141,2,$D$36:$D$141,V25),COUNTIFS($I$36:$I$141,V25,$Q$36:$Q$141,2)) -> 1 | AA25: =SUM(COUNTIFS($C$36:$C$141,1,$D$36:$D$141,V25),COUNTIFS($I$36:$I$141,V25,$Q$36:$Q$141,1)) -> 1 | AB25: =SUM(COUNTIFS($C$36:$C$141,0,$D$36:$D$141,V25),COUNTIFS($I$36:$I$141,V25,$Q$36:$Q$141,0)) -> 6 | AC25: =SUM(H38,F49,F57,H70,F76,H90,F100,F111,H117,F131,H137) -> 563 | AD25: =SUM(F38,H49,H57,F70,H76,F90,H100,H111,F117,H131,F137) -> 557 | AE25: =AC25-AD25 -> 6 | AF25: =(X25/(W25*3)) -> 0.36363636 | AG25: =(X25*10^10)+((AC25+5000)*10^6)+(AE25*10)+U25 -> 125563000066 | AH25: =LARGE($AG$20:$AG$31,U25) -> 165547999625 | AI25: =MATCH(AH25,$AG$20:$AG$31,0) -> 5
D26: 7º | E26: =VLOOKUP(AI26,$U$20:$AH$31,2) -> É o ki tu merece | F26: =VLOOKUP(AI26,$U$20:$AH$31,3) -> 11 | G26: =VLOOKUP(AI26,$U$20:$AH$31,4) -> 12 | H26: =VLOOKUP(AI26,$U$20:$AH$31,5) -> 4 | I26: =VLOOKUP(AI26,$U$20:$AH$31,6) -> 0 | J26: =VLOOKUP(AI26,$U$20:$AH$31,7) -> 0 | K26: =VLOOKUP(AI26,$U$20:$AH$31,8) -> 7 | L26: =VLOOKUP(AI26,$U$20:$AH$31,9) -> 621 | M26: =VLOOKUP(AI26,$U$20:$AH$31,10) -> 561 | N26: =VLOOKUP(AI26,$U$20:$AH$31,11) -> 60 | O26: =VLOOKUP(AI26,$U$20:$AH$31,12) -> 0.36363636 | R26: % APR. - Aproveitamento | U26: 7 | V26: comicu | W26: =COUNT(H36,H46,H56,H66,H76,H86,H96,H106,H116,H126,H136) -> 11 | X26: =SUM(Q40,Q47,C59,C66,Q81,C87,C98,Q111,Q119,C129,Q136) -> 18 | Y26: =SUM(COUNTIFS($C$36:$C$141,3,$D$36:$D$141,V26),COUNTIFS($I$36:$I$141,V26,$Q$36:$Q$141,3)) -> 4 | Z26: =SUM(COUNTIFS($C$36:$C$141,2,$D$36:$D$141,V26),COUNTIFS($I$36:$I$141,V26,$Q$36:$Q$141,2)) -> 3 | AA26: =SUM(COUNTIFS($C$36:$C$141,1,$D$36:$D$141,V26),COUNTIFS($I$36:$I$141,V26,$Q$36:$Q$141,1)) -> 0 | AB26: =SUM(COUNTIFS($C$36:$C$141,0,$D$36:$D$141,V26),COUNTIFS($I$36:$I$141,V26,$Q$36:$Q$141,0)) -> 4 | AC26: =SUM(H40,H47,F59,F66,H81,F87,F98,H111,H119,F129,H136) -> 648 | AD26: =SUM(F40,F47,H59,H66,F81,H87,H98,F119,H129,F136) -> 490 | AE26: =AC26-AD26 -> 158 | AF26: =(X26/(W26*3)) -> 0.54545455 | AG26: =(X26*10^10)+((AC26+5000)*10^6)+(AE26*10)+U26 -> 185648001587 | AH26: =LARGE($AG$20:$AG$31,U26) -> 125621000609 | AI26: =MATCH(AH26,$AG$20:$AG$31,0) -> 9
D27: 8º | E27: =VLOOKUP(AI27,$U$20:$AH$31,2) -> Sekishiki Mekai Ha | F27: =VLOOKUP(AI27,$U$20:$AH$31,3) -> 11 | G27: =VLOOKUP(AI27,$U$20:$AH$31,4) -> 12 | H27: =VLOOKUP(AI27,$U$20:$AH$31,5) -> 3 | I27: =VLOOKUP(AI27,$U$20:$AH$31,6) -> 1 | J27: =VLOOKUP(AI27,$U$20:$AH$31,7) -> 1 | K27: =VLOOKUP(AI27,$U$20:$AH$31,8) -> 6 | L27: =VLOOKUP(AI27,$U$20:$AH$31,9) -> 563 | M27: =VLOOKUP(AI27,$U$20:$AH$31,10) -> 557 | N27: =VLOOKUP(AI27,$U$20:$AH$31,11) -> 6 | O27: =VLOOKUP(AI27,$U$20:$AH$31,12) -> 0.36363636 | U27: 8 | V27: Bahia aju | W27: =COUNT(H36,H46,H56,H66,H76,H86,H96,H106,H116,H126,H136) -> 11 | X27: =SUM(Q39,Q48,C61,Q66,C79,C90,Q96,C106,C116,Q128,C139) -> 24 | Y27: =SUM(COUNTIFS($C$36:$C$141,3,$D$36:$D$141,V27),COUNTIFS($I$36:$I$141,V27,$Q$36:$Q$141,3)) -> 6 | Z27: =SUM(COUNTIFS($C$36:$C$141,2,$D$36:$D$141,V27),COUNTIFS($I$36:$I$141,V27,$Q$36:$Q$141,2)) -> 3 | AA27: =SUM(COUNTIFS($C$36:$C$141,1,$D$36:$D$141,V27),COUNTIFS($I$36:$I$141,V27,$Q$36:$Q$141,1)) -> 0 | AB27: =SUM(COUNTIFS($C$36:$C$141,0,$D$36:$D$141,V27),COUNTIFS($I$36:$I$141,V27,$Q$36:$Q$141,0)) -> 2 | AC27: =SUM(H39,H48,F61,H66,F79,F90,H96,F106,F116,H128,F139) -> 659 | AD27: =SUM(F39,F48,F66,H61,H79,H90,F96,H106,H116,F128,H139) -> 576 | AE27: =AC27-AD27 -> 83 | AF27: =(X27/(W27*3)) -> 0.72727273 | AG27: =(X27*10^10)+((AC27+5000)*10^6)+(AE27*10)+U27 -> 245659000838 | AH27: =LARGE($AG$20:$AG$31,U27) -> 125563000066 | AI27: =MATCH(AH27,$AG$20:$AG$31,0) -> 6
D28: 9º | E28: =VLOOKUP(AI28,$U$20:$AH$31,2) -> Engenheirense | F28: =VLOOKUP(AI28,$U$20:$AH$31,3) -> 11 | G28: =VLOOKUP(AI28,$U$20:$AH$31,4) -> 10 | H28: =VLOOKUP(AI28,$U$20:$AH$31,5) -> 2 | I28: =VLOOKUP(AI28,$U$20:$AH$31,6) -> 2 | J28: =VLOOKUP(AI28,$U$20:$AH$31,7) -> 0 | K28: =VLOOKUP(AI28,$U$20:$AH$31,8) -> 7 | L28: =VLOOKUP(AI28,$U$20:$AH$31,9) -> 608 | M28: =VLOOKUP(AI28,$U$20:$AH$31,10) -> 631 | N28: =VLOOKUP(AI28,$U$20:$AH$31,11) -> -23 | O28: =VLOOKUP(AI28,$U$20:$AH$31,12) -> 0.3030303 | R28: CRITÉRIO DE DESEMPATE | U28: 9 | V28: É o ki tu merece | W28: =COUNT(H36,H46,H56,H66,H76,H86,H96,H106,H116,H126,H136) -> 11 | X28: =SUM(C37,Q49,C56,Q69,C77,Q88,C97,Q106,C120,Q126,C136) -> 12 | Y28: =SUM(COUNTIFS($C$36:$C$141,3,$D$36:$D$141,V28),COUNTIFS($I$36:$I$141,V28,$Q$36:$Q$141,3)) -> 4 | Z28: =SUM(COUNTIFS($C$36:$C$141,2,$D$36:$D$141,V28),COUNTIFS($I$36:$I$141,V28,$Q$36:$Q$141,2)) -> 0 | AA28: =SUM(COUNTIFS($C$36:$C$141,1,$D$36:$D$141,V28),COUNTIFS($I$36:$I$141,V28,$Q$36:$Q$141,1)) -> 0 | AB28: =SUM(COUNTIFS($C$36:$C$141,0,$D$36:$D$141,V28),COUNTIFS($I$36:$I$141,V28,$Q$36:$Q$141,0)) -> 7 | AC28: =SUM(F37,H49,F56,H69,F77,H88,F97,H106,F120,H126,F136) -> 621 | AD28: =SUM(H37,F49,H56,F69,H77,F88,H97,F106,H120,F126,H136) -> 561 | AE28: =AC28-AD28 -> 60 | AF28: =(X28/(W28*3)) -> 0.36363636 | AG28: =(X28*10^10)+((AC28+5000)*10^6)+(AE28*10)+U28 -> 125621000609 | AH28: =LARGE($AG$20:$AG$31,U28) -> 105607999781 | AI28: =MATCH(AH28,$AG$20:$AG$31,0) -> 11
D29: 10º | E29: =VLOOKUP(AI29,$U$20:$AH$31,2) -> Marvada da cachaça | F29: =VLOOKUP(AI29,$U$20:$AH$31,3) -> 11 | G29: =VLOOKUP(AI29,$U$20:$AH$31,4) -> 8 | H29: =VLOOKUP(AI29,$U$20:$AH$31,5) -> 2 | I29: =VLOOKUP(AI29,$U$20:$AH$31,6) -> 0 | J29: =VLOOKUP(AI29,$U$20:$AH$31,7) -> 2 | K29: =VLOOKUP(AI29,$U$20:$AH$31,8) -> 7 | L29: =VLOOKUP(AI29,$U$20:$AH$31,9) -> 418 | M29: =VLOOKUP(AI29,$U$20:$AH$31,10) -> 564 | N29: =VLOOKUP(AI29,$U$20:$AH$31,11) -> -146 | O29: =VLOOKUP(AI29,$U$20:$AH$31,12) -> 0.24242424 | R29: 1 - pontos | U29: 10 | V29: ousadia e alegriaa1 | W29: =COUNT(H36,H46,H56,H66,H76,H86,H96,H106,H116,H126,H136) -> 11 | X29: =SUM(Q37,C48,Q59,Q71,C80,Q89,Q99,C109,C117,Q130,Q141) -> 20 | Y29: =SUM(COUNTIFS($C$36:$C$141,3,$D$36:$D$141,V29),COUNTIFS($I$36:$I$141,V29,$Q$36:$Q$141,3)) -> 4 | Z29: =SUM(COUNTIFS($C$36:$C$141,2,$D$36:$D$141,V29),COUNTIFS($I$36:$I$141,V29,$Q$36:$Q$141,2)) -> 4 | AA29: =SUM(COUNTIFS($C$36:$C$141,1,$D$36:$D$141,V29),COUNTIFS($I$36:$I$141,V29,$Q$36:$Q$141,1)) -> 0 | AB29: =SUM(COUNTIFS($C$36:$C$141,0,$D$36:$D$141,V29),COUNTIFS($I$36:$I$141,V29,$Q$36:$Q$141,0)) -> 3 | AC29: =SUM(H37,F48,H59,H71,F80,H89,H99,F109,F117,H130,H141) -> 547 | AD29: =SUM(F37,H48,F59,F71,H80,F89,F99,H109,H117,F130,F141) -> 467 | AE29: =AC29-AD29 -> 80 | AF29: =(X29/(W29*3)) -> 0.60606061 | AG29: =(X29*10^10)+((AC29+5000)*10^6)+(AE29*10)+U29 -> 205547000810 | AH29: =LARGE($AG$20:$AG$31,U29) -> 85417998542 | AI29: =MATCH(AH29,$AG$20:$AG$31,0) -> 2
D30: 11º | E30: =VLOOKUP(AI30,$U$20:$AH$31,2) -> Xavecos UFC | F30: =VLOOKUP(AI30,$U$20:$AH$31,3) -> 11 | G30: =VLOOKUP(AI30,$U$20:$AH$31,4) -> 8 | H30: =VLOOKUP(AI30,$U$20:$AH$31,5) -> 2 | I30: =VLOOKUP(AI30,$U$20:$AH$31,6) -> 1 | J30: =VLOOKUP(AI30,$U$20:$AH$31,7) -> 0 | K30: =VLOOKUP(AI30,$U$20:$AH$31,8) -> 8 | L30: =VLOOKUP(AI30,$U$20:$AH$31,9) -> 401 | M30: =VLOOKUP(AI30,$U$20:$AH$31,10) -> 545 | N30: =VLOOKUP(AI30,$U$20:$AH$31,11) -> -144 | O30: =VLOOKUP(AI30,$U$20:$AH$31,12) -> 0.24242424 | R30: 2 - pontos pró Cartola | U30: 11 | V30: Engenheirense | W30: =COUNT(H36,H46,H56,H66,H76,H86,H96,H106,H116,H126,H136) -> 11 | X30: =SUM(C40,Q51,C58,Q67,C78,C88,Q100,C110,Q116,Q127,C141) -> 10 | Y30: =SUM(COUNTIFS($C$36:$C$141,3,$D$36:$D$141,V30),COUNTIFS($I$36:$I$141,V30,$Q$36:$Q$141,3)) -> 2 | Z30: =SUM(COUNTIFS($C$36:$C$141,2,$D$36:$D$141,V30),COUNTIFS($I$36:$I$141,V30,$Q$36:$Q$141,2)) -> 2 | AA30: =SUM(COUNTIFS($C$36:$C$141,1,$D$36:$D$141,V30),COUNTIFS($I$36:$I$141,V30,$Q$36:$Q$141,1)) -> 0 | AB30: =SUM(COUNTIFS($C$36:$C$141,0,$D$36:$D$141,V30),COUNTIFS($I$36:$I$141,V30,$Q$36:$Q$141,0)) -> 7 | AC30: =SUM(F40,H51,F58,H67,F78,H100,F110,H116,H127,F141,F88) -> 608 | AD30: =SUM(H40,F51,H58,F67,H78,H88,F100,H110,F116,F127,H141) -> 631 | AE30: =AC30-AD30 -> -23 | AF30: =(X30/(W30*3)) -> 0.3030303 | AG30: =(X30*10^10)+((AC30+5000)*10^6)+(AE30*10)+U30 -> 105607999781 | AH30: =LARGE($AG$20:$AG$31,U30) -> 85400998563 | AI30: =MATCH(AH30,$AG$20:$AG$31,0) -> 3
D31: 12º | E31: =VLOOKUP(AI31,$U$20:$AH$31,2) -> mathpalestra | F31: =VLOOKUP(AI31,$U$20:$AH$31,3) -> 11 | G31: =VLOOKUP(AI31,$U$20:$AH$31,4) -> 6 | H31: =VLOOKUP(AI31,$U$20:$AH$31,5) -> 1 | I31: =VLOOKUP(AI31,$U$20:$AH$31,6) -> 1 | J31: =VLOOKUP(AI31,$U$20:$AH$31,7) -> 1 | K31: =VLOOKUP(AI31,$U$20:$AH$31,8) -> 8 | L31: =VLOOKUP(AI31,$U$20:$AH$31,9) -> 403 | M31: =VLOOKUP(AI31,$U$20:$AH$31,10) -> 624 | N31: =VLOOKUP(AI31,$U$20:$AH$31,11) -> -221 | O31: =VLOOKUP(AI31,$U$20:$AH$31,12) -> 0.18181818 | R31: 3 - saldo de pontos | U31: 12 | V31: Soccer Italy | W31: =COUNT(H36,H46,H56,H66,H76,H86,H96,H106,H116,H126,H136) -> 11 | X31: =SUM(C36,C51,Q61,Q68,Q80,C86,Q97,Q108,C119,Q131,C138) -> 20 | Y31: =SUM(COUNTIFS($C$36:$C$141,3,$D$36:$D$141,V31),COUNTIFS($I$36:$I$141,V31,$Q$36:$Q$141,3)) -> 6 | Z31: =SUM(COUNTIFS($C$36:$C$141,2,$D$36:$D$141,V31),COUNTIFS($I$36:$I$141,V31,$Q$36:$Q$141,2)) -> 1 | AA31: =SUM(COUNTIFS($C$36:$C$141,1,$D$36:$D$141,V31),COUNTIFS($I$36:$I$141,V31,$Q$36:$Q$141,1)) -> 0 | AB31: =SUM(COUNTIFS($C$36:$C$141,0,$D$36:$D$141,V31),COUNTIFS($I$36:$I$141,V31,$Q$36:$Q$141,0)) -> 4 | AC31: =SUM(F36,F51,H61,H68,H80,F86,H97,H108,F119,H131,F138) -> 621 | AD31: =SUM(H36,H51,F61,F68,F80,H86,F97,F108,H119,F131,H138) -> 551 | AE31: =AC31-AD31 -> 70 | AF31: =(X31/(W31*3)) -> 0.60606061 | AG31: =(X31*10^10)+((AC31+5000)*10^6)+(AE31*10)+U31 -> 205621000712 | AH31: =LARGE($AG$20:$AG$31,U31) -> 65402997791 | AI31: =MATCH(AH31,$AG$20:$AG$31,0) -> 1
R32: 4 - pontos contra Cartola
D33: 1ª RODADA - #20
C36: =IF(OR(F36="",H36=""),"",IF(F36=H36,1,IF(F36<H36,0,IF(F36-H36<10,2,IF(F36>H36,3,SE))))) -> 0 | D36: =V31 -> Soccer Italy | F36: 37 | G36: x | H36: 47 | I36: =V24 -> Botafogo Rocha | Q36: =IF(OR(H36="",F36=""),"",IF(H36=F36,1,IF(H36<F36,0,IF(H36-F36<10,2,IF(H36>F36,3,SE))))) -> 3
C37: =IF(OR(F37="",H37=""),"",IF(F37=H37,1,IF(F37<H37,0,IF(F37-H37<10,2,IF(F37>H37,3,SE))))) -> 0 | D37: =V28 -> É o ki tu merece | F37: 59 | G37: x | H37: 68 | I37: =V29 -> ousadia e alegriaa1 | Q37: =IF(OR(H37="",F37=""),"",IF(H37=F37,1,IF(H37<F37,0,IF(H37-F37<10,2,IF(H37>F37,3,SE))))) -> 2
C38: =IF(OR(F38="",H38=""),"",IF(F38=H38,1,IF(F38<H38,0,IF(F38-H38<10,2,IF(F38>H38,3,SE))))) -> 0 | D38: =V20 -> mathpalestra | F38: 21 | G38: x | H38: 59 | I38: =V25 -> Sekishiki Mekai Ha | Q38: =IF(OR(H38="",F38=""),"",IF(H38=F38,1,IF(H38<F38,0,IF(H38-F38<10,2,IF(H38>F38,3,SE))))) -> 3
C39: =IF(OR(F39="",H39=""),"",IF(F39=H39,1,IF(F39<H39,0,IF(F39-H39<10,2,IF(F39>H39,3,SE))))) -> 0 | D39: =V22 -> Xavecos UFC | F39: 29 | G39: x | H39: 62 | I39: =V27 -> Bahia aju | Q39: =IF(OR(H39="",F39=""),"",IF(H39=F39,1,IF(H39<F39,0,IF(H39-F39<10,2,IF(H39>F39,3,SE))))) -> 3
C40: =IF(OR(F40="",H40=""),"",IF(F40=H40,1,IF(F40<H40,0,IF(F40-H40<10,2,IF(F40>H40,3,SE))))) -> 0 | D40: =V30 -> Engenheirense | F40: 51 | G40: x | H40: 53 | I40: =V26 -> comicu | Q40: =IF(OR(H40="",F40=""),"",IF(H40=F40,1,IF(H40<F40,0,IF(H40-F40<10,2,IF(H40>F40,3,SE))))) -> 2
C41: =IF(OR(F41="",H41=""),"",IF(F41=H41,1,IF(F41<H41,0,IF(F41-H41<10,2,IF(F41>H41,3,SE))))) -> 3 | D41: =V23 -> Driblador F.C | F41: 63 | G41: x | H41: 15 | I41: =V21 -> Marvada da cachaça | Q41: =IF(OR(H41="",F41=""),"",IF(H41=F41,1,IF(H41<F41,0,IF(H41-F41<10,2,IF(H41>F41,3,SE))))) -> 0
C42: =IF(OR(F42="",H42=""),"",IF(F42=H42,1,IF(F42<H42,0,IF(F42-H42<10,2,IF(F42>H42,3,SE))))) | Q42: =IF(OR(H42="",F42=""),"",IF(H42=F42,1,IF(H42<F42,0,IF(H42-F42<10,2,IF(H42>F42,3,SE)))))
C43: =IF(OR(F43="",H43=""),"",IF(F43=H43,1,IF(F43<H43,0,IF(F43-H43<10,2,IF(F43>H43,3,SE))))) | D43: 2ª RODADA - #21 | Q43: =IF(OR(H43="",F43=""),"",IF(H43=F43,1,IF(H43<F43,0,IF(H43-F43<10,2,IF(H43>F43,3,SE)))))
C44: =IF(OR(F44="",H44=""),"",IF(F44=H44,1,IF(F44<H44,0,IF(F44-H44<10,2,IF(F44>H44,3,SE))))) | Q44: =IF(OR(H44="",F44=""),"",IF(H44=F44,1,IF(H44<F44,0,IF(H44-F44<10,2,IF(H44>F44,3,SE)))))
C45: =IF(OR(F45="",H45=""),"",IF(F45=H45,1,IF(F45<H45,0,IF(F45-H45<10,2,IF(F45>H45,3,SE))))) | Q45: =IF(OR(H45="",F45=""),"",IF(H45=F45,1,IF(H45<F45,0,IF(H45-F45<10,2,IF(H45>F45,3,SE)))))
C46: =IF(OR(F46="",H46=""),"",IF(F46=H46,1,IF(F46<H46,0,IF(F46-H46<10,2,IF(F46>H46,3,SE))))) -> 3 | D46: =V23 -> Driblador F.C | F46: 91 | G46: x | H46: 15 | I46: =V20 -> mathpalestra | Q46: =IF(OR(H46="",F46=""),"",IF(H46=F46,1,IF(H46<F46,0,IF(H46-F46<10,2,IF(H46>F46,3,SE))))) -> 0
C47: =IF(OR(F47="",H47=""),"",IF(F47=H47,1,IF(F47<H47,0,IF(F47-H47<10,2,IF(F47>H47,3,SE))))) -> 0 | D47: =V24 -> Botafogo Rocha | F47: 42 | G47: x | H47: 79 | I47: =V26 -> comicu | Q47: =IF(OR(H47="",F47=""),"",IF(H47=F47,1,IF(H47<F47,0,IF(H47-F47<10,2,IF(H47>F47,3,SE))))) -> 3
C48: =IF(OR(F48="",H48=""),"",IF(F48=H48,1,IF(F48<H48,0,IF(F48-H48<10,2,IF(F48>H48,3,SE))))) -> 0 | D48: =V29 -> ousadia e alegriaa1 | F48: 55 | G48: x | H48: 69 | I48: =V27 -> Bahia aju | Q48: =IF(OR(H48="",F48=""),"",IF(H48=F48,1,IF(H48<F48,0,IF(H48-F48<10,2,IF(H48>F48,3,SE))))) -> 3
C49: =IF(OR(F49="",H49=""),"",IF(F49=H49,1,IF(F49<H49,0,IF(F49-H49<10,2,IF(F49>H49,3,SE))))) -> 0 | D49: =V25 -> Sekishiki Mekai Ha | F49: 63 | G49: x | H49: 73 | I49: =V28 -> É o ki tu merece | Q49: =IF(OR(H49="",F49=""),"",IF(H49=F49,1,IF(H49<F49,0,IF(H49-F49<10,2,IF(H49>F49,3,SE))))) -> 3
C50: =IF(OR(F50="",H50=""),"",IF(F50=H50,1,IF(F50<H50,0,IF(F50-H50<10,2,IF(F50>H50,3,SE))))) -> 3 | D50: =V21 -> Marvada da cachaça | F50: 68 | G50: x | H50: 29 | I50: =V22 -> Xavecos UFC | Q50: =IF(OR(H50="",F50=""),"",IF(H50=F50,1,IF(H50<F50,0,IF(H50-F50<10,2,IF(H50>F50,3,SE))))) -> 0
C51: =IF(OR(F51="",H51=""),"",IF(F51=H51,1,IF(F51<H51,0,IF(F51-H51<10,2,IF(F51>H51,3,SE))))) -> 3 | D51: =V31 -> Soccer Italy | F51: 101 | G51: x | H51: 68 | I51: =V30 -> Engenheirense | Q51: =IF(OR(H51="",F51=""),"",IF(H51=F51,1,IF(H51<F51,0,IF(H51-F51<10,2,IF(H51>F51,3,SE))))) -> 0
C52: =IF(OR(F52="",H52=""),"",IF(F52=H52,1,IF(F52<H52,0,IF(F52-H52<10,2,IF(F52>H52,3,SE))))) | Q52: =IF(OR(H52="",F52=""),"",IF(H52=F52,1,IF(H52<F52,0,IF(H52-F52<10,2,IF(H52>F52,3,SE)))))
C53: =IF(OR(F53="",H53=""),"",IF(F53=H53,1,IF(F53<H53,0,IF(F53-H53<10,2,IF(F53>H53,3,SE))))) | D53: 3ª RODADA - #22 | Q53: =IF(OR(H53="",F53=""),"",IF(H53=F53,1,IF(H53<F53,0,IF(H53-F53<10,2,IF(H53>F53,3,SE)))))
C54: =IF(OR(F54="",H54=""),"",IF(F54=H54,1,IF(F54<H54,0,IF(F54-H54<10,2,IF(F54>H54,3,SE))))) | Q54: =IF(OR(H54="",F54=""),"",IF(H54=F54,1,IF(H54<F54,0,IF(H54-F54<10,2,IF(H54>F54,3,SE)))))
...

Sheet GRUPO 3
B2: 1º SUPERSOCAMPEONATO 2013
B6: 1ª FASE
D10: CLASSIFICAÇÃO
D15: OBS: Os 4 melhores colocados no Grupo se classificarão para a Oitavas de Finais.
D17: GRUPO 3 | R17: Legenda
R18: P - pontos
D19: Pos. | E19: CARTOLA | F19: J | G19: P | H19: V3P | I19: V2P | J19: E | K19: D | L19: PPC | M19: PCC | N19: SP | O19: % APR. | R19: V3P - Vitória por 3 pontos | U19: Pos. | V19: TIMES | W19: J | X19: P | Y19: V3P | Z19: V2P | AA19: E | AB19: D | AC19: GF | AD19: GC | AE19: SG | AF19: % APR. | AG19: calc | AH19: maior | AI19: corresp
D20: 1º | E20: =VLOOKUP(AI20,$U$20:$AH$31,2) -> BFR Igor Costa | F20: =VLOOKUP(AI20,$U$20:$AH$31,3) -> 11 | G20: =VLOOKUP(AI20,$U$20:$AH$31,4) -> 24 | H20: =VLOOKUP(AI20,$U$20:$AH$31,5) -> 7 | I20: =VLOOKUP(AI20,$U$20:$AH$31,6) -> 1 | J20: =VLOOKUP(AI20,$U$20:$AH$31,7) -> 1 | K20: =VLOOKUP(AI20,$U$20:$AH$31,8) -> 2 | L20: =VLOOKUP(AI20,$U$20:$AH$31,9) -> 643 | M20: =VLOOKUP(AI20,$U$20:$AH$31,10) -> 440 | N20: =VLOOKUP(AI20,$U$20:$AH$31,11) -> 203 | O20: =VLOOKUP(AI20,$U$20:$AH$31,12) -> 0.72727273 | R20: V2P - Vitória por 2 pontos | U20: 1 | V20: secapimenteira | W20: =COUNT(F38,H60,F71,H46,H78,F91,H98,F108,H120,F128,F140) -> 11 | X20: =SUM(C38,Q46,Q60,C71,Q78,C91,Q98,C108,Q120,C128,C140) -> 7 | Y20: =SUM(COUNTIFS($C$36:$C$141,3,$D$36:$D$141,V20),COUNTIFS($I$36:$I$141,V20,$Q$36:$Q$141,3)) -> 2 | Z20: =SUM(COUNTIFS($C$36:$C$141,2,$D$36:$D$141,V20),COUNTIFS($I$36:$I$141,V20,$Q$36:$Q$141,2)) -> 0 | AA20: =SUM(COUNTIFS($C$36:$C$141,1,$D$36:$D$141,V20),COUNTIFS($I$36:$I$141,V20,$Q$36:$Q$141,1)) -> 1 | AB20: =SUM(COUNTIFS($C$36:$C$141,0,$D$36:$D$141,V20),COUNTIFS($I$36:$I$141,V20,$Q$36:$Q$141,0)) -> 8 | AC20: =SUM(F38,H46,H60,F71,H78,F91,H98,H120,F108,F128,F140) -> 412 | AD20: =SUM(H38,F46,F60,H71,F78,H91,F98,H108,F120,H128,H140) -> 572 | AE20: =AC20-AD20 -> -160 | AF20: =(X20/(W20*3)) -> 0.21212121 | AG20: =(X20*10^10)+((AC20+5000)*10^6)+(AE20*10)+U20 -> 75411998401 | AH20: =LARGE($AG$20:$AG$31,U20) -> 245643002042 | AI20: =MATCH(AH20,$AG$20:$AG$31,0) -> 12
D21: 2º | E21: =VLOOKUP(AI21,$U$20:$AH$31,2) -> Rosinha da Gabi | F21: =VLOOKUP(AI21,$U$20:$AH$31,3) -> 11 | G21: =VLOOKUP(AI21,$U$20:$AH$31,4) -> 23 | H21: =VLOOKUP(AI21,$U$20:$AH$31,5) -> 7 | I21: =VLOOKUP(AI21,$U$20:$AH$31,6) -> 1 | J21: =VLOOKUP(AI21,$U$20:$AH$31,7) -> 0 | K21: =VLOOKUP(AI21,$U$20:$AH$31,8) -> 3 | L21: =VLOOKUP(AI21,$U$20:$AH$31,9) -> 665 | M21: =VLOOKUP(AI21,$U$20:$AH$31,10) -> 511 | N21: =VLOOKUP(AI21,$U$20:$AH$31,11) -> 154 | O21: =VLOOKUP(AI21,$U$20:$AH$31,12) -> 0.6969697 | R21: E - Empate | U21: 2 | V21: itaipavacervejaclube | W21: =COUNT(H41,F50,H57,F69,F81,H91,F96,H110,F118,F130,H138) -> 11 | X21: =SUM(Q41,Q57,C69,C81,Q91,C50,C96,Q110,C118,C130,Q138) -> 4 | Y21: =SUM(COUNTIFS($C$36:$C$141,3,$D$36:$D$141,V21),COUNTIFS($I$36:$I$141,V21,$Q$36:$Q$141,3)) -> 1 | Z21: =SUM(COUNTIFS($C$36:$C$141,2,$D$36:$D$141,V21),COUNTIFS($I$36:$I$141,V21,$Q$36:$Q$141,2)) -> 0 | AA21: =SUM(COUNTIFS($C$36:$C$141,1,$D$36:$D$141,V21),COUNTIFS($I$36:$I$141,V21,$Q$36:$Q$141,1)) -> 1 | AB21: =SUM(COUNTIFS($C$36:$C$141,0,$D$36:$D$141,V21),COUNTIFS($I$36:$I$141,V21,$Q$36:$Q$141,0)) -> 9 | AC21: =SUM(H41,F50,H57,F69,F81,H91,F96,H110,F118,F130,H138) -> 355 | AD21: =SUM(F41,H50,F57,H69,H81,F91,H96,F110,H118,H130,F138) -> 516 | AE21: =AC21-AD21 -> -161 | AF21: =(X21/(W21*3)) -> 0.12121212 | AG21: =(X21*10^10)+((AC21+5000)*10^6)+(AE21*10)+U21 -> 45354998392 | AH21: =LARGE($AG$20:$AG$31,U21) -> 235665001549 | AI21: =MATCH(AH21,$AG$20:$AG$31,0) -> 9
D22: 3º | E22: =VLOOKUP(AI22,$U$20:$AH$31,2) -> La Bestia Negra_Z | F22: =VLOOKUP(AI22,$U$20:$AH$31,3) -> 11 | G22: =VLOOKUP(AI22,$U$20:$AH$31,4) -> 21 | H22: =VLOOKUP(AI22,$U$20:$AH$31,5) -> 6 | I22: =VLOOKUP(AI22,$U$20:$AH$31,6) -> 1 | J22: =VLOOKUP(AI22,$U$20:$AH$31,7) -> 1 | K22: =VLOOKUP(AI22,$U$20:$AH$31,8) -> 3 | L22: =VLOOKUP(AI22,$U$20:$AH$31,9) -> 643 | M22: =VLOOKUP(AI22,$U$20:$AH$31,10) -> 527 | N22: =VLOOKUP(AI22,$U$20:$AH$31,11) -> 116 | O22: =VLOOKUP(AI22,$U$20:$AH$31,12) -> 0.63636364 | R22: D - Derrota | U22: 3 | V22: Family Paz F.C. | W22: =COUNT(F39,H50,F60,F67,H77,H86,F99,H107,F121,H129,F137) -> 11 | X22: =SUM(C39,Q50,C60,C67,C99,Q77,Q86,Q107,C121,Q129,C137) -> 12 | Y22: =SUM(COUNTIFS($C$36:$C$141,3,$D$36:$D$141,V22),COUNTIFS($I$36:$I$141,V22,$Q$36:$Q$141,3)) -> 4 | Z22: =SUM(COUNTIFS($C$36:$C$141,2,$D$36:$D$141,V22),COUNTIFS($I$36:$I$141,V22,$Q$36:$Q$141,2)) -> 0 | AA22: =SUM(COUNTIFS($C$36:$C$141,1,$D$36:$D$141,V22),COUNTIFS($I$36:$I$141,V22,$Q$36:$Q$141,1)) -> 0 | AB22: =SUM(COUNTIFS($C$36:$C$141,0,$D$36:$D$141,V22),COUNTIFS($I$36:$I$141,V22,$Q$36:$Q$141,0)) -> 7 | AC22: =SUM(F39,H50,F60,F67,H77,H86,F99,H107,F121,H129,F137) -> 479 | AD22: =SUM(H39,F50,H60,H67,F77,F86,H99,F107,H121,F129,H137) -> 528 | AE22: =AC22-AD22 -> -49 | AF22: =(X22/(W22*3)) -> 0.36363636 | AG22: =(X22*10^10)+((AC22+5000)*10^6)+(AE22*10)+U22 -> 125478999513 | AH22: =LARGE($AG$20:$AG$31,U22) -> 215643001170 | AI22: =MATCH(AH22,$AG$20:$AG$31,0) -> 10
D23: 4º | E23: =VLOOKUP(AI23,$U$20:$AH$31,2) -> Lucca Mengão | F23: =VLOOKUP(AI23,$U$20:$AH$31,3) -> 11 | G23: =VLOOKUP(AI23,$U$20:$AH$31,4) -> 21 | H23: =VLOOKUP(AI23,$U$20:$AH$31,5) -> 7 | I23: =VLOOKUP(AI23,$U$20:$AH$31,6) -> 0 | J23: =VLOOKUP(AI23,$U$20:$AH$31,7) -> 0 | K23: =VLOOKUP(AI23,$U$20:$AH$31,8) -> 4 | L23: =VLOOKUP(AI23,$U$20:$AH$31,9) -> 593 | M23: =VLOOKUP(AI23,$U$20:$AH$31,10) -> 475 | N23: =VLOOKUP(AI23,$U$20:$AH$31,11) -> 118 | O23: =VLOOKUP(AI23,$U$20:$AH$31,12) -> 0.63636364 | R23: PPC - pontos pró Cartola | U23: 4 | V23: PHVT F.C. | W23: =COUNT(F41,F46,H58,F68,H76,H87,F101,H109,H121,F126,H139) -> 11 | X23: =SUM(C41,C46,C68,Q76,Q58,Q109,Q87,C101,Q121,C126,Q139) -> 8 | Y23: =SUM(COUNTIFS($C$36:$C$141,3,$D$36:$D$141,V23),COUNTIFS($I$36:$I$141,V23,$Q$36:$Q$141,3)) -> 1 | Z23: =SUM(COUNTIFS($C$36:$C$141,2,$D$36:$D$141,V23),COUNTIFS($I$36:$I$141,V23,$Q$36:$Q$141,2)) -> 2 | AA23: =SUM(COUNTIFS($C$36:$C$141,1,$D$36:$D$141,V23),COUNTIFS($I$36:$I$141,V23,$Q$36:$Q$141,1)) -> 1 | AB23: =SUM(COUNTIFS($C$36:$C$141,0,$D$36:$D$141,V23),COUNTIFS($I$36:$I$141,V23,$Q$36:$Q$141,0)) -> 7 | AC23: =SUM(F41,F46,H58,F68,H87,H109,H76,F101,H121,F126,H139) -> 345 | AD23: =SUM(H41,H46,H68,F58,F76,F87,H101,F109,F121,H126,F139) -> 528 | AE23: =AC23-AD23 -> -183 | AF23: =(X23/(W23*3)) -> 0.24242424 | AG23: =(X23*10^10)+((AC23+5000)*10^6)+(AE23*10)+U23 -> 85344998174 | AH23: =LARGE($AG$20:$AG$31,U23) -> 215593001188 | AI23: =MATCH(AH23,$AG$20:$AG$31,0) -> 8
D24: 5º | E24: =VLOOKUP(AI24,$U$20:$AH$31,2) -> Forever2014 | F24: =VLOOKUP(AI24,$U$20:$AH$31,3) -> 11 | G24: =VLOOKUP(AI24,$U$20:$AH$31,4) -> 19 | H24: =VLOOKUP(AI24,$U$20:$AH$31,5) -> 6 | I24: =VLOOKUP(AI24,$U$20:$AH$31,6) -> 0 | J24: =VLOOKUP(AI24,$U$20:$AH$31,7) -> 1 | K24: =VLOOKUP(AI24,$U$20:$AH$31,8) -> 4 | L24: =VLOOKUP(AI24,$U$20:$AH$31,9) -> 571 | M24: =VLOOKUP(AI24,$U$20:$AH$31,10) -> 485 | N24: =VLOOKUP(AI24,$U$20:$AH$31,11) -> 86 | O24: =VLOOKUP(AI24,$U$20:$AH$31,12) -> 0.57575758 | R24: PCC - pontos contra Cartola | U24: 5 | V24: Tribe of Gypsies | W24: =COUNT(H36,F47,H56,F70,H79,F89,H101,F107,H118,F127,H140) -> 11 | X24: =SUM(Q36,C47,Q56,C70,Q79,C89,Q101,C107,Q118,C127,Q140) -> 17 | Y24: =SUM(COUNTIFS($C$36:$C$141,3,$D$36:$D$141,V24),COUNTIFS($I$36:$I$141,V24,$Q$36:$Q$141,3)) -> 3 | Z24: =SUM(COUNTIFS($C$36:$C$141,2,$D$36:$D$141,V24),COUNTIFS($I$36:$I$141,V24,$Q$36:$Q$141,2)) -> 4 | AA24: =SUM(COUNTIFS($C$36:$C$141,1,$D$36:$D$141,V24),COUNTIFS($I$36:$I$141,V24,$Q$36:$Q$141,1)) -> 0 | AB24: =SUM(COUNTIFS($C$36:$C$141,0,$D$36:$D$141,V24),COUNTIFS($I$36:$I$141,V24,$Q$36:$Q$141,0)) -> 4 | AC24: =SUM(H36,F47,H56,F70,H79,F89,H101,F107,H118,F127,H140) -> 469 | AD24: =SUM(F36,H47,F56,H70,F79,H89,F101,H107,F118,H127,F140) -> 452 | AE24: =AC24-AD24 -> 17 | AF24: =(X24/(W24*3)) -> 0.51515152 | AG24: =(X24*10^10)+((AC24+5000)*10^6)+(AE24*10)+U24 -> 175469000175 | AH24: =LARGE($AG$20:$AG$31,U24) -> 195571000871 | AI24: =MATCH(AH24,$AG$20:$AG$31,0) -> 11
D25: 6º | E25: =VLOOKUP(AI25,$U$20:$AH$31,2) -> Puro Malte F. C. | F25: =VLOOKUP(AI25,$U$20:$AH$31,3) -> 11 | G25: =VLOOKUP(AI25,$U$20:$AH$31,4) -> 18 | H25: =VLOOKUP(AI25,$U$20:$AH$31,5) -> 4 | I25: =VLOOKUP(AI25,$U$20:$AH$31,6) -> 3 | J25: =VLOOKUP(AI25,$U$20:$AH$31,7) -> 0 | K25: =VLOOKUP(AI25,$U$20:$AH$31,8) -> 4 | L25: =VLOOKUP(AI25,$U$20:$AH$31,9) -> 537 | M25: =VLOOKUP(AI25,$U$20:$AH$31,10) -> 439 | N25: =VLOOKUP(AI25,$U$20:$AH$31,11) -> 98 | O25: =VLOOKUP(AI25,$U$20:$AH$31,12) -> 0.54545455 | R25: SP - saldo de pontos | U25: 6 | V25: Puro Malte F. C. | W25: =COUNT(H38,F49,F57,H70,H76,H86,H96,H106,H116,H126,H136) -> 11 | X25: =SUM(Q38,C49,C57,Q70,C76,Q90,C100,C111,Q117,C131,Q137) -> 18 | Y25: =SUM(COUNTIFS($C$36:$C$141,3,$D$36:$D$141,V25),COUNTIFS($I$36:$I$141,V25,$Q$36:$Q$141,3)) -> 4 | Z25: =SUM(COUNTIFS($C$36:$C$141,2,$D$36:$D$141,V25),COUNTIFS($I$36:$I$141,V25,$Q$36:$Q$141,2)) -> 3 | AA25: =SUM(COUNTIFS($C$36:$C$141,1,$D$36:$D$141,V25),COUNTIFS($I$36:$I$141,V25,$Q$36:$Q$141,1)) -> 0 | AB25: =SUM(COUNTIFS($C$36:$C$141,0,$D$36:$D$141,V25),COUNTIFS($I$36:$I$141,V25,$Q$36:$Q$141,0)) -> 4 | AC25: =SUM(H38,F49,F57,H70,F76,H90,F100,F111,H117,F131,H137) -> 537 | AD25: =SUM(F38,H49,H57,F70,H76,F90,H100,H111,F117,H131,F137) -> 439 | AE25: =AC25-AD25 -> 98 | AF25: =(X25/(W25*3)) -> 0.54545455 | AG25: =(X25*10^10)+((AC25+5000)*10^6)+(AE25*10)+U25 -> 185537000986 | AH25: =LARGE($AG$20:$AG$31,U25) -> 185537000986 | AI25: =MATCH(AH25,$AG$20:$AG$31,0) -> 6
D26: 7º | E26: =VLOOKUP(AI26,$U$20:$AH$31,2) -> Tribe of Gypsies | F26: =VLOOKUP(AI26,$U$20:$AH$31,3) -> 11 | G26: =VLOOKUP(AI26,$U$20:$AH$31,4) -> 17 | H26: =VLOOKUP(AI26,$U$20:$AH$31,5) -> 3 | I26: =VLOOKUP(AI26,$U$20:$AH$31,6) -> 4 | J26: =VLOOKUP(AI26,$U$20:$AH$31,7) -> 0 | K26: =VLOOKUP(AI26,$U$20:$AH$31,8) -> 4 | L26: =VLOOKUP(AI26,$U$20:$AH$31,9) -> 469 | M26: =VLOOKUP(AI26,$U$20:$AH$31,10) -> 452 | N26: =VLOOKUP(AI26,$U$20:$AH$31,11) -> 17 | O26: =VLOOKUP(AI26,$U$20:$AH$31,12) -> 0.51515152 | R26: % APR. - Aproveitamento | U26: 7 | V26: santo onofre E C | W26: =COUNT(H36,H46,H56,H66,H76,H86,H96,H106,H116,H126,H136) -> 11 | X26: =SUM(Q40,Q47,C59,C66,Q81,C87,C98,Q111,Q119,C129,Q136) -> 7 | Y26: =SUM(COUNTIFS($C$36:$C$141,3,$D$36:$D$141,V26),COUNTIFS($I$36:$I$141,V26,$Q$36:$Q$141,3)) -> 1 | Z26: =SUM(COUNTIFS($C$36:$C$141,2,$D$36:$D$141,V26),COUNTIFS($I$36:$I$141,V26,$Q$36:$Q$141,2)) -> 2 | AA26: =SUM(COUNTIFS($C$36:$C$141,1,$D$36:$D$141,V26),COUNTIFS($I$36:$I$141,V26,$Q$36:$Q$141,1)) -> 0 | AB26: =SUM(COUNTIFS($C$36:$C$141,0,$D$36:$D$141,V26),COUNTIFS($I$36:$I$141,V26,$Q$36:$Q$141,0)) -> 8 | AC26: =SUM(H40,H47,F59,F66,H81,F87,F98,H111,H119,F129,H136) -> 298 | AD26: =SUM(F40,F47,H59,H66,F81,H87,H98,F119,H129,F136) -> 492 | AE26: =AC26-AD26 -> -194 | AF26: =(X26/(W26*3)) -> 0.21212121 | AG26: =(X26*10^10)+((AC26+5000)*10^6)+(AE26*10)+U26 -> 75297998067 | AH26: =LARGE($AG$20:$AG$31,U26) -> 175469000175 | AI26: =MATCH(AH26,$AG$20:$AG$31,0) -> 5
D27: 8º | E27: =VLOOKUP(AI27,$U$20:$AH$31,2) -> Family Paz F.C. | F27: =VLOOKUP(AI27,$U$20:$AH$31,3) -> 11 | G27: =VLOOKUP(AI27,$U$20:$AH$31,4) -> 12 | H27: =VLOOKUP(AI27,$U$20:$AH$31,5) -> 4 | I27: =VLOOKUP(AI27,$U$20:$AH$31,6) -> 0 | J27: =VLOOKUP(AI27,$U$20:$AH$31,7) -> 0 | K27: =VLOOKUP(AI27,$U$20:$AH$31,8) -> 7 | L27: =VLOOKUP(AI27,$U$20:$AH$31,9) -> 479 | M27: =VLOOKUP(AI27,$U$20:$AH$31,10) -> 528 | N27: =VLOOKUP(AI27,$U$20:$AH$31,11) -> -49 | O27: =VLOOKUP(AI27,$U$20:$AH$31,12) -> 0.36363636 | U27: 8 | V27: Lucca Mengão | W27: =COUNT(H36,H46,H56,H66,H76,H86,H96,H106,H116,H126,H136) -> 11 | X27: =SUM(Q39,Q48,C61,Q66,C79,C90,Q96,C106,C116,Q128,C139) -> 21 | Y27: =SUM(COUNTIFS($C$36:$C$141,3,$D$36:$D$141,V27),COUNTIFS($I$36:$I$141,V27,$Q$36:$Q$141,3)) -> 7 | Z27: =SUM(COUNTIFS($C$36:$C$141,2,$D$36:$D$141,V27),COUNTIFS($I$36:$I$141,V27,$Q$36:$Q$141,2)) -> 0 | AA27: =SUM(COUNTIFS($C$36:$C$141,1,$D$36:$D$141,V27),COUNTIFS($I$36:$I$141,V27,$Q$36:$Q$141,1)) -> 0 | AB27: =SUM(COUNTIFS($C$36:$C$141,0,$D$36:$D$141,V27),COUNTIFS($I$36:$I$141,V27,$Q$36:$Q$141,0)) -> 4 | AC27: =SUM(H39,H48,F61,H66,F79,F90,H96,F106,F116,H128,F139) -> 593 | AD27: =SUM(F39,F48,F66,H61,H79,H90,F96,H106,H116,F128,H139) -> 475 | AE27: =AC27-AD27 -> 118 | AF27: =(X27/(W27*3)) -> 0.63636364 | AG27: =(X27*10^10)+((AC27+5000)*10^6)+(AE27*10)+U27 -> 215593001188 | AH27: =LARGE($AG$20:$AG$31,U27) -> 125478999513 | AI27: =MATCH(AH27,$AG$20:$AG$31,0) -> 3
D28: 9º | E28: =VLOOKUP(AI28,$U$20:$AH$31,2) -> PHVT F.C. | F28: =VLOOKUP(AI28,$U$20:$AH$31,3) -> 11 | G28: =VLOOKUP(AI28,$U$20:$AH$31,4) -> 8 | H28: =VLOOKUP(AI28,$U$20:$AH$31,5) -> 1 | I28: =VLOOKUP(AI28,$U$20:$AH$31,6) -> 2 | J28: =VLOOKUP(AI28,$U$20:$AH$31,7) -> 1 | K28: =VLOOKUP(AI28,$U$20:$AH$31,8) -> 7 | L28: =VLOOKUP(AI28,$U$20:$AH$31,9) -> 345 | M28: =VLOOKUP(AI28,$U$20:$AH$31,10) -> 528 | N28: =VLOOKUP(AI28,$U$20:$AH$31,11) -> -183 | O28: =VLOOKUP(AI28,$U$20:$AH$31,12) -> 0.24242424 | R28: CRITÉRIO DE DESEMPATE | U28: 9 | V28: Rosinha da Gabi | W28: =COUNT(H36,H46,H56,H66,H76,H86,H96,H106,H116,H126,H136) -> 11 | X28: =SUM(C37,Q49,C56,Q69,C77,Q88,C97,Q106,C120,Q126,C136) -> 23 | Y28: =SUM(COUNTIFS($C$36:$C$141,3,$D$36:$D$141,V28),COUNTIFS($I$36:$I$141,V28,$Q$36:$Q$141,3)) -> 7 | Z28: =SUM(COUNTIFS($C$36:$C$141,2,$D$36:$D$141,V28),COUNTIFS($I$36:$I$141,V28,$Q$36:$Q$141,2)) -> 1 | AA28: =SUM(COUNTIFS($C$36:$C$141,1,$D$36:$D$141,V28),COUNTIFS($I$36:$I$141,V28,$Q$36:$Q$141,1)) -> 0 | AB28: =SUM(COUNTIFS($C$36:$C$141,0,$D$36:$D$141,V28),COUNTIFS($I$36:$I$141,V28,$Q$36:$Q$141,0)) -> 3 | AC28: =SUM(F37,H49,F56,H69,F77,H88,F97,H106,F120,H126,F136) -> 665 | AD28: =SUM(H37,F49,H56,F69,H77,F88,H97,F106,H120,F126,H136) -> 511 | AE28: =AC28-AD28 -> 154 | AF28: =(X28/(W28*3)) -> 0.6969697 | AG28: =(X28*10^10)+((AC28+5000)*10^6)+(AE28*10)+U28 -> 235665001549 | AH28: =LARGE($AG$20:$AG$31,U28) -> 85344998174 | AI28: =MATCH(AH28,$AG$20:$AG$31,0) -> 4
