Workbook

Sheet GRUPO 1
B2: 1º SUPERSOCAMPEONATO 2013
B6: 1ª FASE
D10: CLASSIFICAÇÃO
D15: OBS: Os 4 melhores colocados no Grupo se classificarão para a Oitavas de Finais.
D17: GRUPO 1 | R17: Legenda
R18: P - pontos
D19: Pos. | E19: CARTOLA | F19: J | G19: P | H19: V3P | I19: V2P | J19: E | K19: D | L19: PPC | M19: PCC | N19: SP | O19: % APR. | R19: V3P - Vitória por 3 pontos | U19: Pos. | V19: TIMES | W19: J | X19: P | Y19: V3P | Z19: V2P | AA19: E | AB19: D | AC19: GF | AD19: GC | AE19: SG | AF19: % APR. | AG19: calc | AH19: maior | AI19: corresp
D20: 1º | E20: =VLOOKUP(AI20,$U$20:$AH$31,2) -> Us Karas | F20: =VLOOKUP(AI20,$U$20:$AH$31,3) -> 11 | G20: =VLOOKUP(AI20,$U$20:$AH$31,4) -> 23 | H20: =VLOOKUP(AI20,$U$20:$AH$31,5) -> 7 | I20: =VLOOKUP(AI20,$U$20:$AH$31,6) -> 1 | J20: =VLOOKUP(AI20,$U$20:$AH$31,7) -> 0 | K20: =VLOOKUP(AI20,$U$20:$AH$31,8) -> 3 | L20: =VLOOKUP(AI20,$U$20:$AH$31,9) -> 644 | M20: =VLOOKUP(AI20,$U$20:$AH$31,10) -> 479 | N20: =VLOOKUP(AI20,$U$20:$AH$31,11) -> 165 | O20: =VLOOKUP(AI20,$U$20:$AH$31,12) -> 0.6969697 | R20: V2P - Vitória por 2 pontos | U20: 1 | V20: Barbosinhaas | W20: =COUNT(F38,H60,F71,H46,H78,F91,H98,F108,H120,F128,F140) -> 11 | X20: =SUM(C38,Q46,Q60,C71,Q78,C91,Q98,C108,Q120,C128,C140) -> 20 | Y20: =SUM(COUNTIFS($C$36:$C$141,3,$D$36:$D$141,V20),COUNTIFS($I$36:$I$141,V20,$Q$36:$Q$141,3)) -> 6 | Z20: =SUM(COUNTIFS($C$36:$C$141,2,$D$36:$D$141,V20),COUNTIFS($I$36:$I$141,V20,$Q$36:$Q$141,2)) -> 1 | AA20: =SUM(COUNTIFS($C$36:$C$141,1,$D$36:$D$141,V20),COUNTIFS($I$36:$I$141,V20,$Q$36:$Q$141,1)) -> 0 | AB20: =SUM(COUNTIFS($C$36:$C$141,0,$D$36:$D$141,V20),COUNTIFS($I$36:$I$141,V20,$Q$36:$Q$141,0)) -> 4 | AC20: =SUM(F38,H46,H60,F71,H78,F91,H98,H120,F108,F128,F140) -> 536 | AD20: =SUM(H38,F46,F60,H71,F78,H91,F98,H108,F120,H128,H140) -> 509 | AE20: =AC20-AD20 -> 27 | AF20: =(X20/(W20*3)) -> 0.60606061 | AG20: =(X20*10^10)+((AC20+5000)*10^6)+(AE20*10)+U20 -> 205536000271 | AH20: =LARGE($AG$20:$AG$31,U20) -> 235644001656 | AI20: =MATCH(AH20,$AG$20:$AG$31,0) -> 6
D21: 2º | E21: =VLOOKUP(AI21,$U$20:$AH$31,2) -> TriangagemFC | F21: =VLOOKUP(AI21,$U$20:$AH$31,3) -> 11 | G21: =VLOOKUP(AI21,$U$20:$AH$31,4) -> 23 | H21: =VLOOKUP(AI21,$U$20:$AH$31,5) -> 6 | I21: =VLOOKUP(AI21,$U$20:$AH$31,6) -> 2 | J21: =VLOOKUP(AI21,$U$20:$AH$31,7) -> 1 | K21: =VLOOKUP(AI21,$U$20:$AH$31,8) -> 2 | L21: =VLOOKUP(AI21,$U$20:$AH$31,9) -> 604 | M21: =VLOOKUP(AI21,$U$20:$AH$31,10) -> 452 | N21: =VLOOKUP(AI21,$U$20:$AH$31,11) -> 152 | O21: =VLOOKUP(AI21,$U$20:$AH$31,12) -> 0.6969697 | R21: E - Empate | U21: 2 | V21: flurocha fc | W21: =COUNT(H41,F50,H57,F69,F81,H91,F96,H110,F118,F130,H138) -> 11 | X21: =SUM(Q41,Q57,C69,C81,Q91,C50,C96,Q110,C118,C130,Q138) -> 12 | Y21: =SUM(COUNTIFS($C$36:$C$141,3,$D$36:$D$141,V21),COUNTIFS($I$36:$I$141,V21,$Q$36:$Q$141,3)) -> 4 | Z21: =SUM(COUNTIFS($C$36:$C$141,2,$D$36:$D$141,V21),COUNTIFS($I$36:$I$141,V21,$Q$36:$Q$141,2)) -> 0 | AA21: =SUM(COUNTIFS($C$36:$C$141,1,$D$36:$D$141,V21),COUNTIFS($I$36:$I$141,V21,$Q$36:$Q$141,1)) -> 0 | AB21: =SUM(COUNTIFS($C$36:$C$141,0,$D$36:$D$141,V21),COUNTIFS($I$36:$I$141,V21,$Q$36:$Q$141,0)) -> 7 | AC21: =SUM(H41,F50,H57,F69,F81,H91,F96,H110,F118,F130,H138) -> 543 | AD21: =SUM(F41,H50,F57,H69,H81,F91,H96,F110,H118,H130,F138) -> 475 | AE21: =AC21-AD21 -> 68 | AF21: =(X21/(W21*3)) -> 0.36363636 | AG21: =(X21*10^10)+((AC21+5000)*10^6)+(AE21*10)+U21 -> 125543000682 | AH21: =LARGE($AG$20:$AG$31,U21) -> 235604001524 | AI21: =MATCH(AH21,$AG$20:$AG$31,0) -> 4
D22: 3º | E22: =VLOOKUP(AI22,$U$20:$AH$31,2) -> Barbosinhaas | F22: =VLOOKUP(AI22,$U$20:$AH$31,3) -> 11 | G22: =VLOOKUP(AI22,$U$20:$AH$31,4) -> 20 | H22: =VLOOKUP(AI22,$U$20:$AH$31,5) -> 6 | I22: =VLOOKUP(AI22,$U$20:$AH$31,6) -> 1 | J22: =VLOOKUP(AI22,$U$20:$AH$31,7) -> 0 | K22: =VLOOKUP(AI22,$U$20:$AH$31,8) -> 4 | L22: =VLOOKUP(AI22,$U$20:$AH$31,9) -> 536 | M22: =VLOOKUP(AI22,$U$20:$AH$31,10) -> 509 | N22: =VLOOKUP(AI22,$U$20:$AH$31,11) -> 27 | O22: =VLOOKUP(AI22,$U$20:$AH$31,12) -> 0.60606061 | R22: D - Derrota | U22: 3 | V22: FC Casablanca | W22: =COUNT(F39,H50,F60,F67,H77,H86,F99,H107,F121,H129,F137) -> 11 | X22: =SUM(C39,Q50,C60,C67,C99,Q77,Q86,Q107,C121,Q129,C137) -> 5 | Y22: =SUM(COUNTIFS($C$36:$C$141,3,$D$36:$D$141,V22),COUNTIFS($I$36:$I$141,V22,$Q$36:$Q$141,3)) -> 1 | Z22: =SUM(COUNTIFS($C$36:$C$141,2,$D$36:$D$141,V22),COUNTIFS($I$36:$I$141,V22,$Q$36:$Q$141,2)) -> 1 | AA22: =SUM(COUNTIFS($C$36:$C$141,1,$D$36:$D$141,V22),COUNTIFS($I$36:$I$141,V22,$Q$36:$Q$141,1)) -> 0 | AB22: =SUM(COUNTIFS($C$36:$C$141,0,$D$36:$D$141,V22),COUNTIFS($I$36:$I$141,V22,$Q$36:$Q$141,0)) -> 9 | AC22: =SUM(F39,H50,F60,F67,H77,H86,F99,H107,F121,H129,F137) -> 349 | AD22: =SUM(H39,F50,H60,H67,F77,F86,H99,F107,H121,F129,H137) -> 610 | AE22: =AC22-AD22 -> -261 | AF22: =(X22/(W22*3)) -> 0.15151515 | AG22: =(X22*10^10)+((AC22+5000)*10^6)+(AE22*10)+U22 -> 55348997393 | AH22: =LARGE($AG$20:$AG$31,U22) -> 205536000271 | AI22: =MATCH(AH22,$AG$20:$AG$31,0) -> 1
D23: 4º | E23: =VLOOKUP(AI23,$U$20:$AH$31,2) -> Botafogo do HG | F23: =VLOOKUP(AI23,$U$20:$AH$31,3) -> 11 | G23: =VLOOKUP(AI23,$U$20:$AH$31,4) -> 19 | H23: =VLOOKUP(AI23,$U$20:$AH$31,5) -> 5 | I23: =VLOOKUP(AI23,$U$20:$AH$31,6) -> 2 | J23: =VLOOKUP(AI23,$U$20:$AH$31,7) -> 0 | K23: =VLOOKUP(AI23,$U$20:$AH$31,8) -> 4 | L23: =VLOOKUP(AI23,$U$20:$AH$31,9) -> 514 | M23: =VLOOKUP(AI23,$U$20:$AH$31,10) -> 470 | N23: =VLOOKUP(AI23,$U$20:$AH$31,11) -> 44 | O23: =VLOOKUP(AI23,$U$20:$AH$31,12) -> 0.57575758 | R23: PPC - pontos pró Cartola | U23: 4 | V23: TriangagemFC | W23: =COUNT(F41,F46,H58,F68,H76,H87,F101,H109,H121,F126,H139) -> 11 | X23: =SUM(C41,C46,C68,Q76,Q58,Q109,Q87,C101,Q121,C126,Q139) -> 23 | Y23: =SUM(COUNTIFS($C$36:$C$141,3,$D$36:$D$141,V23),COUNTIFS($I$36:$I$141,V23,$Q$36:$Q$141,3)) -> 6 | Z23: =SUM(COUNTIFS($C$36:$C$141,2,$D$36:$D$141,V23),COUNTIFS($I$36:$I$141,V23,$Q$36:$Q$141,2)) -> 2 | AA23: =SUM(COUNTIFS($C$36:$C$141,1,$D$36:$D$141,V23),COUNTIFS($I$36:$I$141,V23,$Q$36:$Q$141,1)) -> 1 | AB23: =SUM(COUNTIFS($C$36:$C$141,0,$D$36:$D$141,V23),COUNTIFS($I$36:$I$141,V23,$Q$36:$Q$141,0)) -> 2 | AC23: =SUM(F41,F46,H58,F68,H87,H109,H76,F101,H121,F126,H139) -> 604 | AD23: =SUM(H41,H46,H68,F58,F76,F87,H101,F109,F121,H126,F139) -> 452 | AE23: =AC23-AD23 -> 152 | AF23: =(X23/(W23*3)) -> 0.6969697 | AG23: =(X23*10^10)+((AC23+5000)*10^6)+(AE23*10)+U23 -> 235604001524 | AH23: =LARGE($AG$20:$AG$31,U23) -> 195514000451 | AI23: =MATCH(AH23,$AG$20:$AG$31,0) -> 11
D24: 5º | E24: =VLOOKUP(AI24,$U$20:$AH$31,2) -> Vascão Carangola | F24: =VLOOKUP(AI24,$U$20:$AH$31,3) -> 11 | G24: =VLOOKUP(AI24,$U$20:$AH$31,4) -> 19 | H24: =VLOOKUP(AI24,$U$20:$AH$31,5) -> 5 | I24: =VLOOKUP(AI24,$U$20:$AH$31,6) -> 2 | J24: =VLOOKUP(AI24,$U$20:$AH$31,7) -> 0 | K24: =VLOOKUP(AI24,$U$20:$AH$31,8) -> 4 | L24: =VLOOKUP(AI24,$U$20:$AH$31,9) -> 454 | M24: =VLOOKUP(AI24,$U$20:$AH$31,10) -> 414 | N24: =VLOOKUP(AI24,$U$20:$AH$31,11) -> 40 | O24: =VLOOKUP(AI24,$U$20:$AH$31,12) -> 0.57575758 | R24: PCC - pontos contra Cartola | U24: 5 | V24: Stars United C.F. | W24: =COUNT(H36,F47,H56,F70,H79,F89,H101,F107,H118,F127,H140) -> 11 | X24: =SUM(Q36,C47,Q56,C70,Q79,C89,Q101,C107,Q118,C127,Q140) -> 11 | Y24: =SUM(COUNTIFS($C$36:$C$141,3,$D$36:$D$141,V24),COUNTIFS($I$36:$I$141,V24,$Q$36:$Q$141,3)) -> 2 | Z24: =SUM(COUNTIFS($C$36:$C$141,2,$D$36:$D$141,V24),COUNTIFS($I$36:$I$141,V24,$Q$36:$Q$141,2)) -> 2 | AA24: =SUM(COUNTIFS($C$36:$C$141,1,$D$36:$D$141,V24),COUNTIFS($I$36:$I$141,V24,$Q$36:$Q$141,1)) -> 1 | AB24: =SUM(COUNTIFS($C$36:$C$141,0,$D$36:$D$141,V24),COUNTIFS($I$36:$I$141,V24,$Q$36:$Q$141,0)) -> 6 | AC24: =SUM(H36,F47,H56,F70,H79,F89,H101,F107,H118,F127,H140) -> 439 | AD24: =SUM(F36,H47,F56,H70,F79,H89,F101,H107,F118,H127,F140) -> 470 | AE24: =AC24-AD24 -> -31 | AF24: =(X24/(W24*3)) -> 0.33333333 | AG24: =(X24*10^10)+((AC24+5000)*10^6)+(AE24*10)+U24 -> 115438999695 | AH24: =LARGE($AG$20:$AG$31,U24) -> 195454000412 | AI24: =MATCH(AH24,$AG$20:$AG$31,0) -> 12
D25: 6º | E25: =VLOOKUP(AI25,$U$20:$AH$31,2) -> Glaa.VascodaaGamaa | F25: =VLOOKUP(AI25,$U$20:$AH$31,3) -> 11 | G25: =VLOOKUP(AI25,$U$20:$AH$31,4) -> 13 | H25: =VLOOKUP(AI25,$U$20:$AH$31,5) -> 2 | I25: =VLOOKUP(AI25,$U$20:$AH$31,6) -> 3 | J25: =VLOOKUP(AI25,$U$20:$AH$31,7) -> 1 | K25: =VLOOKUP(AI25,$U$20:$AH$31,8) -> 5 | L25: =VLOOKUP(AI25,$U$20:$AH$31,9) -> 553 | M25: =VLOOKUP(AI25,$U$20:$AH$31,10) -> 533 | N25: =VLOOKUP(AI25,$U$20:$AH$31,11) -> 20 | O25: =VLOOKUP(AI25,$U$20:$AH$31,12) -> 0.39393939 | R25: SP - saldo de pontos | U25: 6 | V25: Us Karas | W25: =COUNT(H38,F49,F57,H70,H76,H86,H96,H106,H116,H126,H136) -> 11 | X25: =SUM(Q38,C49,C57,Q70,C76,Q90,C100,C111,Q117,C131,Q137) -> 23 | Y25: =SUM(COUNTIFS($C$36:$C$141,3,$D$36:$D$141,V25),COUNTIFS($I$36:$I$141,V25,$Q$36:$Q$141,3)) -> 7 | Z25: =SUM(COUNTIFS($C$36:$C$141,2,$D$36:$D$141,V25),COUNTIFS($I$36:$I$141,V25,$Q$36:$Q$141,2)) -> 1 | AA25: =SUM(COUNTIFS($C$36:$C$141,1,$D$36:$D$141,V25),COUNTIFS($I$36:$I$141,V25,$Q$36:$Q$141,1)) -> 0 | AB25: =SUM(COUNTIFS($C$36:$C$141,0,$D$36:$D$141,V25),COUNTIFS($I$36:$I$141,V25,$Q$36:$Q$141,0)) -> 3 | AC25: =SUM(H38,F49,F57,H70,F76,H90,F100,F111,H117,F131,H137) -> 644 | AD25: =SUM(F38,H49,H57,F70,H76,F90,H100,H111,F117,H131,F137) -> 479 | AE25: =AC25-AD25 -> 165 | AF25: =(X25/(W25*3)) -> 0.6969697 | AG25: =(X25*10^10)+((AC25+5000)*10^6)+(AE25*10)+U25 -> 235644001656 | AH25: =LARGE($AG$20:$AG$31,U25) -> 135553000208 | AI25: =MATCH(AH25,$AG$20:$AG$31,0) -> 8
D26: 7º | E26: =VLOOKUP(AI26,$U$20:$AH$31,2) -> Barreirinha FC | F26: =VLOOKUP(AI26,$U$20:$AH$31,3) -> 11 | G26: =VLOOKUP(AI26,$U$20:$AH$31,4) -> 13 | H26: =VLOOKUP(AI26,$U$20:$AH$31,5) -> 3 | I26: =VLOOKUP(AI26,$U$20:$AH$31,6) -> 2 | J26: =VLOOKUP(AI26,$U$20:$AH$31,7) -> 0 | K26: =VLOOKUP(AI26,$U$20:$AH$31,8) -> 6 | L26: =VLOOKUP(AI26,$U$20:$AH$31,9) -> 495 | M26: =VLOOKUP(AI26,$U$20:$AH$31,10) -> 571 | N26: =VLOOKUP(AI26,$U$20:$AH$31,11) -> -76 | O26: =VLOOKUP(AI26,$U$20:$AH$31,12) -> 0.39393939 | R26: % APR. - Aproveitamento | U26: 7 | V26: NICKA SC | W26: =COUNT(H36,H46,H56,H66,H76,H86,H96,H106,H116,H126,H136) -> 11 | X26: =SUM(Q40,Q47,C59,C66,Q81,C87,C98,Q111,Q119,C129,Q136) -> 9 | Y26: =SUM(COUNTIFS($C$36:$C$141,3,$D$36:$D$141,V26),COUNTIFS($I$36:$I$141,V26,$Q$36:$Q$141,3)) -> 2 | Z26: =SUM(COUNTIFS($C$36:$C$141,2,$D$36:$D$141,V26),COUNTIFS($I$36:$I$141,V26,$Q$36:$Q$141,2)) -> 1 | AA26: =SUM(COUNTIFS($C$36:$C$141,1,$D$36:$D$141,V26),COUNTIFS($I$36:$I$141,V26,$Q$36:$Q$141,1)) -> 1 | AB26: =SUM(COUNTIFS($C$36:$C$141,0,$D$36:$D$141,V26),COUNTIFS($I$36:$I$141,V26,$Q$36:$Q$141,0)) -> 7 | AC26: =SUM(H40,H47,F59,F66,H81,F87,F98,H111,H119,F129,H136) -> 418 | AD26: =SUM(F40,F47,H59,H66,F81,H87,H98,F119,H129,F136) -> 477 | AE26: =AC26-AD26 -> -59 | AF26: =(X26/(W26*3)) -> 0.27272727 | AG26: =(X26*10^10)+((AC26+5000)*10^6)+(AE26*10)+U26 -> 95417999417 | AH26: =LARGE($AG$20:$AG$31,U26) -> 135494999250 | AI26: =MATCH(AH26,$AG$20:$AG$31,0) -> 10
D27: 8º | E27: =VLOOKUP(AI27,$U$20:$AH$31,2) -> flurocha fc | F27: =VLOOKUP(AI27,$U$20:$AH$31,3) -> 11 | G27: =VLOOKUP(AI27,$U$20:$AH$31,4) -> 12 | H27: =VLOOKUP(AI27,$U$20:$AH$31,5) -> 4 | I27: =VLOOKUP(AI27,$U$20:$AH$31,6) -> 0 | J27: =VLOOKUP(AI27,$U$20:$AH$31,7) -> 0 | K27: =VLOOKUP(AI27,$U$20:$AH$31,8) -> 7 | L27: =VLOOKUP(AI27,$U$20:$AH$31,9) -> 543 | M27: =VLOOKUP(AI27,$U$20:$AH$31,10) -> 475 | N27: =VLOOKUP(AI27,$U$20:$AH$31,11) -> 68 | O27: =VLOOKUP(AI27,$U$20:$AH$31,12) -> 0.36363636 | U27: 8 | V27: Glaa.VascodaaGamaa | W27: =COUNT(H36,H46,H56,H66,H76,H86,H96,H106,H116,H126,H136) -> 11 | X27: =SUM(Q39,Q48,C61,Q66,C79,C90,Q96,C106,C116,Q128,C139) -> 13 | Y27: =SUM(COUNTIFS($C$36:$C$141,3,$D$36:$D$141,V27),COUNTIFS($I$36:$I$141,V27,$Q$36:$Q$141,3)) -> 2 | Z27: =SUM(COUNTIFS($C$36:$C$141,2,$D$36:$D$141,V27),COUNTIFS($I$36:$I$141,V27,$Q$36:$Q$141,2)) -> 3 | AA27: =SUM(COUNTIFS($C$36:$C$141,1,$D$36:$D$141,V27),COUNTIFS($I$36:$I$141,V27,$Q$36:$Q$141,1)) -> 1 | AB27: =SUM(COUNTIFS($C$36:$C$141,0,$D$36:$D$141,V27),COUNTIFS($I$36:$I$141,V27,$Q$36:$Q$141,0)) -> 5 | AC27: =SUM(H39,H48,F61,H66,F79,F90,H96,F106,F116,H128,F139) -> 553 | AD27: =SUM(F39,F48,F66,H61,H79,H90,F96,H106,H116,F128,H139) -> 533 | AE27: =AC27-AD27 -> 20 | AF27: =(X27/(W27*3)) -> 0.39393939 | AG27: =(X27*10^10)+((AC27+5000)*10^6)+(AE27*10)+U27 -> 135553000208 | AH27: =LARGE($AG$20:$AG$31,U27) -> 125543000682 | AI27: =MATCH(AH27,$AG$20:$AG$31,0) -> 2
D28: 9º | E28: =VLOOKUP(AI28,$U$20:$AH$31,2) -> PANZA FC | F28: =VLOOKUP(AI28,$U$20:$AH$31,3) -> 11 | G28: =VLOOKUP(AI28,$U$20:$AH$31,4) -> 11 | H28: =VLOOKUP(AI28,$U$20:$AH$31,5) -> 3 | I28: =VLOOKUP(AI28,$U$20:$AH$31,6) -> 0 | J28: =VLOOKUP(AI28,$U$20:$AH$31,7) -> 2 | K28: =VLOOKUP(AI28,$U$20:$AH$31,8) -> 6 | L28: =VLOOKUP(AI28,$U$20:$AH$31,9) -> 521 | M28: =VLOOKUP(AI28,$U$20:$AH$31,10) -> 558 | N28: =VLOOKUP(AI28,$U$20:$AH$31,11) -> -37 | O28: =VLOOKUP(AI28,$U$20:$AH$31,12) -> 0.33333333 | R28: CRITÉRIO DE DESEMPATE | U28: 9 | V28: PANZA FC | W28: =COUNT(H36,H46,H56,H66,H76,H86,H96,H106,H116,H126,H136) -> 11 | X28: =SUM(C37,Q49,C56,Q69,C77,Q88,C97,Q106,C120,Q126,C136) -> 11 | Y28: =SUM(COUNTIFS($C$36:$C$141,3,$D$36:$D$141,V28),COUNTIFS($I$36:$I$141,V28,$Q$36:$Q$141,3)) -> 3 | Z28: =SUM(COUNTIFS($C$36:$C$141,2,$D$36:$D$141,V28),COUNTIFS($I$36:$I$141,V28,$Q$36:$Q$141,2)) -> 0 | AA28: =SUM(COUNTIFS($C$36:$C$141,1,$D$36:$D$141,V28),COUNTIFS($I$36:$I$141,V28,$Q$36:$Q$141,1)) -> 2 | AB28: =SUM(COUNTIFS($C$36:$C$141,0,$D$36:$D$141,V28),COUNTIFS($I$36:$I$141,V28,$Q$36:$Q$141,0)) -> 6 | AC28: =SUM(F37,H49,F56,H69,F77,H88,F97,H106,F120,H126,F136) -> 521 | AD28: =SUM(H37,F49,H56,F69,H77,F88,H97,F106,H120,F126,H136) -> 558 | AE28: =AC28-AD28 -> -37 | AF28: =(X28/(W28*3)) -> 0.33333333 | AG28: =(X28*10^10)+((AC28+5000)*10^6)+(AE28*10)+U28 -> 115520999639 | AH28: =LARGE($AG$20:$AG$31,U28) -> 115520999639 | AI28: =MATCH(AH28,$AG$20:$AG$31,0) -> 9
D29: 10º | E29: =VLOOKUP(AI29,$U$20:$AH$31,2) -> Stars United C.F. | F29: =VLOOKUP(AI29,$U$20:$AH$31,3) -> 11 | G29: =VLOOKUP(AI29,$U$20:$AH$31,4) -> 11 | H29: =VLOOKUP(AI29,$U$20:$AH$31,5) -> 2 | I29: =VLOOKUP(AI29,$U$20:$AH$31,6) -> 2 | J29: =VLOOKUP(AI29,$U$20:$AH$31,7) -> 1 | K29: =VLOOKUP(AI29,$U$20:$AH$31,8) -> 6 | L29: =VLOOKUP(AI29,$U$20:$AH$31,9) -> 439 | M29: =VLOOKUP(AI29,$U$20:$AH$31,10) -> 470 | N29: =VLOOKUP(AI29,$U$20:$AH$31,11) -> -31 | O29: =VLOOKUP(AI29,$U$20:$AH$31,12) -> 0.33333333 | R29: 1 - pontos | U29: 10 | V29: Barreirinha FC | W29: =COUNT(H36,H46,H56,H66,H76,H86,H96,H106,H116,H126,H136) -> 11 | X29: =SUM(Q37,C48,Q59,Q71,C80,Q89,Q99,C109,C117,Q130,Q141) -> 13 | Y29: =SUM(COUNTIFS($C$36:$C$141,3,$D$36:$D$141,V29),COUNTIFS($I$36:$I$141,V29,$Q$36:$Q$141,3)) -> 3 | Z29: =SUM(COUNTIFS($C$36:$C$141,2,$D$36:$D$141,V29),COUNTIFS($I$36:$I$141,V29,$Q$36:$Q$141,2)) -> 2 | AA29: =SUM(COUNTIFS($C$36:$C$141,1,$D$36:$D$141,V29),COUNTIFS($I$36:$I$141,V29,$Q$36:$Q$141,1)) -> 0 | AB29: =SUM(COUNTIFS($C$36:$C$141,0,$D$36:$D$141,V29),COUNTIFS($I$36:$I$141,V29,$Q$36:$Q$141,0)) -> 6 | AC29: =SUM(H37,F48,H59,H71,F80,H89,H99,F109,F117,H130,H141) -> 495 | AD29: =SUM(F37,H48,F59,F71,H80,F89,F99,H109,H117,F130,F141) -> 571 | AE29: =AC29-AD29 -> -76 | AF29: =(X29/(W29*3)) -> 0.39393939 | AG29: =(X29*10^10)+((AC29+5000)*10^6)+(AE29*10)+U29 -> 135494999250 | AH29: =LARGE($AG$20:$AG$31,U29) -> 115438999695 | AI29: =MATCH(AH29,$AG$20:$AG$31,0) -> 5
D30: 11º | E30: =VLOOKUP(AI30,$U$20:$AH$31,2) -> NICKA SC | F30: =VLOOKUP(AI30,$U$20:$AH$31,3) -> 11 | G30: =VLOOKUP(AI30,$U$20:$AH$31,4) -> 9 | H30: =VLOOKUP(AI30,$U$20:$AH$31,5) -> 2 | I30: =VLOOKUP(AI30,$U$20:$AH$31,6) -> 1 | J30: =VLOOKUP(AI30,$U$20:$AH$31,7) -> 1 | K30: =VLOOKUP(AI30,$U$20:$AH$31,8) -> 7 | L30: =VLOOKUP(AI30,$U$20:$AH$31,9) -> 418 | M30: =VLOOKUP(AI30,$U$20:$AH$31,10) -> 477 | N30: =VLOOKUP(AI30,$U$20:$AH$31,11) -> -59 | O30: =VLOOKUP(AI30,$U$20:$AH$31,12) -> 0.27272727 | R30: 2 - pontos pró Cartola | U30: 11 | V30: Botafogo do HG | W30: =COUNT(H36,H46,H56,H66,H76,H86,H96,H106,H116,H126,H136) -> 11 | X30: =SUM(C40,Q51,C58,Q67,C78,C88,Q100,C110,Q116,Q127,C141) -> 19 | Y30: =SUM(COUNTIFS($C$36:$C$141,3,$D$36:$D$141,V30),COUNTIFS($I$36:$I$141,V30,$Q$36:$Q$141,3)) -> 5 | Z30: =SUM(COUNTIFS($C$36:$C$141,2,$D$36:$D$141,V30),COUNTIFS($I$36:$I$141,V30,$Q$36:$Q$141,2)) -> 2 | AA30: =SUM(COUNTIFS($C$36:$C$141,1,$D$36:$D$141,V30),COUNTIFS($I$36:$I$141,V30,$Q$36:$Q$141,1)) -> 0 | AB30: =SUM(COUNTIFS($C$36:$C$141,0,$D$36:$D$141,V30),COUNTIFS($I$36:$I$141,V30,$Q$36:$Q$141,0)) -> 4 | AC30: =SUM(F40,H51,F58,H67,F78,H100,F110,H116,H127,F141,F88) -> 514 | AD30: =SUM(H40,F51,H58,F67,H78,H88,F100,H110,F116,F127,H141) -> 470 | AE30: =AC30-AD30 -> 44 | AF30: =(X30/(W30*3)) -> 0.57575758 | AG30: =(X30*10^10)+((AC30+5000)*10^6)+(AE30*10)+U30 -> 195514000451 | AH30: =LARGE($AG$20:$AG$31,U30) -> 95417999417 | AI30: =MATCH(AH30,$AG$20:$AG$31,0) -> 7
D31: 12º | E31: =VLOOKUP(AI31,$U$20:$AH$31,2) -> FC Casablanca | F31: =VLOOKUP(AI31,$U$20:$AH$31,3) -> 11 | G31: =VLOOKUP(AI31,$U$20:$AH$31,4) -> 5 | H31: =VLOOKUP(AI31,$U$20:$AH$31,5) -> 1 | I31: =VLOOKUP(AI31,$U$20:$AH$31,6) -> 1 | J31: =VLOOKUP(AI31,$U$20:$AH$31,7) -> 0 | K31: =VLOOKUP(AI31,$U$20:$AH$31,8) -> 9 | L31: =VLOOKUP(AI31,$U$20:$AH$31,9) -> 349 | M31: =VLOOKUP(AI31,$U$20:$AH$31,10) -> 610 | N31: =VLOOKUP(AI31,$U$20:$AH$31,11) -> -261 | O31: =VLOOKUP(AI31,$U$20:$AH$31,12) -> 0.15151515 | R31: 3 - saldo de pontos | U31: 12 | V31: Vascão Carangola | W31: =COUNT(H36,H46,H56,H66,H76,H86,H96,H106,H116,H126,H136) -> 11 | X31: =SUM(C36,C51,Q61,Q68,Q80,C86,Q97,Q108,C119,Q131,C138) -> 19 | Y31: =SUM(COUNTIFS($C$36:$C$141,3,$D$36:$D$141,V31),COUNTIFS($I$36:$I$141,V31,$Q$36:$Q$141,3)) -> 5 | Z31: =SUM(COUNTIFS($C$36:$C$141,2,$D$36:$D$141,V31),COUNTIFS($I$36:$I$141,V31,$Q$36:$Q$141,2)) -> 2 | AA31: =SUM(COUNTIFS($C$36:$C$141,1,$D$36:$D$141,V31),COUNTIFS($I$36:$I$141,V31,$Q$36:$Q$141,1)) -> 0 | AB31: =SUM(COUNTIFS($C$36:$C$141,0,$D$36:$D$141,V31),COUNTIFS($I$36:$I$141,V31,$Q$36:$Q$141,0)) -> 4 | AC31: =SUM(F36,F51,H61,H68,H80,F86,H97,H108,F119,H131,F138) -> 454 | AD31: =SUM(H36,H51,F61,F68,F80,H86,F97,F108,H119,F131,H138) -> 414 | AE31: =AC31-AD31 -> 40 | AF31: =(X31/(W31*3)) -> 0.57575758 | AG31: =(X31*10^10)+((AC31+5000)*10^6)+(AE31*10)+U31 -> 195454000412 | AH31: =LARGE($AG$20:$AG$31,U31) -> 55348997393 | AI31: =MATCH(AH31,$AG$20:$AG$31,0) -> 3
R32: 4 - pontos contra Cartola
D33: 1ª RODADA - #20
C36: =IF(OR(F36="",H36=""),"",IF(F36=H36,1,IF(F36<H36,0,IF(F36-H36<10,2,IF(F36>H36,3,SE))))) -> 0 | D36: =V31 -> Vascão Carangola | F36: 0 | G36: x | H36: 49 | I36: =V24 -> Stars United C.F. | Q36: =IF(OR(H36="",F36=""),"",IF(H36=F36,1,IF(H36<F36,0,IF(H36-F36<10,2,IF(H36>F36,3,SE))))) -> 3
C37: =IF(OR(F37="",H37=""),"",IF(F37=H37,1,IF(F37<H37,0,IF(F37-H37<10,2,IF(F37>H37,3,SE))))) -> 3 | D37: =V28 -> PANZA FC | F37: 54 | G37: x | H37: 41 | I37: =V29 -> Barreirinha FC | Q37: =IF(OR(H37="",F37=""),"",IF(H37=F37,1,IF(H37<F37,0,IF(H37-F37<10,2,IF(H37>F37,3,SE))))) -> 0
C38: =IF(OR(F38="",H38=""),"",IF(F38=H38,1,IF(F38<H38,0,IF(F38-H38<10,2,IF(F38>H38,3,SE))))) -> 2 | D38: =V20 -> Barbosinhaas | F38: 58 | G38: x | H38: 49 | I38: =V25 -> Us Karas | Q38: =IF(OR(H38="",F38=""),"",IF(H38=F38,1,IF(H38<F38,0,IF(H38-F38<10,2,IF(H38>F38,3,SE))))) -> 0
C39: =IF(OR(F39="",H39=""),"",IF(F39=H39,1,IF(F39<H39,0,IF(F39-H39<10,2,IF(F39>H39,3,SE))))) -> 2 | D39: =V22 -> FC Casablanca | F39: 47 | G39: x | H39: 38 | I39: =V27 -> Glaa.VascodaaGamaa | Q39: =IF(OR(H39="",F39=""),"",IF(H39=F39,1,IF(H39<F39,0,IF(H39-F39<10,2,IF(H39>F39,3,SE))))) -> 0
C40: =IF(OR(F40="",H40=""),"",IF(F40=H40,1,IF(F40<H40,0,IF(F40-H40<10,2,IF(F40>H40,3,SE))))) -> 3 | D40: =V30 -> Botafogo do HG | F40: 60 | G40: x | H40: 33 | I40: =V26 -> NICKA SC | Q40: =IF(OR(H40="",F40=""),"",IF(H40=F40,1,IF(H40<F40,0,IF(H40-F40<10,2,IF(H40>F40,3,SE))))) -> 0
C41: =IF(OR(F41="",H41=""),"",IF(F41=H41,1,IF(F41<H41,0,IF(F41-H41<10,2,IF(F41>H41,3,SE))))) -> 3 | D41: =V23 -> TriangagemFC | F41: 59 | G41: x | H41: 36 | I41: =V21 -> flurocha fc | Q41: =IF(OR(H41="",F41=""),"",IF(H41=F41,1,IF(H41<F41,0,IF(H41-F41<10,2,IF(H41>F41,3,SE))))) -> 0
C42: =IF(OR(F42="",H42=""),"",IF(F42=H42,1,IF(F42<H42,0,IF(F42-H42<10,2,IF(F42>H42,3,SE))))) | Q42: =IF(OR(H42="",F42=""),"",IF(H42=F42,1,IF(H42<F42,0,IF(H42-F42<10,2,IF(H42>F42,3,SE)))))
C43: =IF(OR(F43="",H43=""),"",IF(F43=H43,1,IF(F43<H43,0,IF(F43-H43<10,2,IF(F43>H43,3,SE))))) | D43: 2ª RODADA - #21 | Q43: =IF(OR(H43="",F43=""),"",IF(H43=F43,1,IF(H43<F43,0,IF(H43-F43<10,2,IF(H43>F43,3,SE)))))
C44: =IF(OR(F44="",H44=""),"",IF(F44=H44,1,IF(F44<H44,0,IF(F44-H44<10,2,IF(F44>H44,3,SE))))) | Q44: =IF(OR(H44="",F44=""),"",IF(H44=F44,1,IF(H44<F44,0,IF(H44-F44<10,2,IF(H44>F44,3,SE)))))
C45: =IF(OR(F45="",H45=""),"",IF(F45=H45,1,IF(F45<H45,0,IF(F45-H45<10,2,IF(F45>H45,3,SE))))) | Q45: =IF(OR(H45="",F45=""),"",IF(H45=F45,1,IF(H45<F45,0,IF(H45-F45<10,2,IF(H45>F45,3,SE)))))
C46: =IF(OR(F46="",H46=""),"",IF(F46=H46,1,IF(F46<H46,0,IF(F46-H46<10,2,IF(F46>H46,3,SE))))) -> 3 | D46: =V23 -> TriangagemFC | F46: 69 | G46: x | H46: 25 | I46: =V20 -> Barbosinhaas | Q46: =IF(OR(H46="",F46=""),"",IF(H46=F46,1,IF(H46<F46,0,IF(H46-F46<10,2,IF(H46>F46,3,SE))))) -> 0
C47: =IF(OR(F47="",H47=""),"",IF(F47=H47,1,IF(F47<H47,0,IF(F47-H47<10,2,IF(F47>H47,3,SE))))) -> 0 | D47: =V24 -> Stars United C.F. | F47: 35 | G47: x | H47: 40 | I47: =V26 -> NICKA SC | Q47: =IF(OR(H47="",F47=""),"",IF(H47=F47,1,IF(H47<F47,0,IF(H47-F47<10,2,IF(H47>F47,3,SE))))) -> 2
C48: =IF(OR(F48="",H48=""),"",IF(F48=H48,1,IF(F48<H48,0,IF(F48-H48<10,2,IF(F48>H48,3,SE))))) -> 2 | D48: =V29 -> Barreirinha FC | F48: 67 | G48: x | H48: 63 | I48: =V27 -> Glaa.VascodaaGamaa | Q48: =IF(OR(H48="",F48=""),"",IF(H48=F48,1,IF(H48<F48,0,IF(H48-F48<10,2,IF(H48>F48,3,SE))))) -> 0
C49: =IF(OR(F49="",H49=""),"",IF(F49=H49,1,IF(F49<H49,0,IF(F49-H49<10,2,IF(F49>H49,3,SE))))) -> 3 | D49: =V25 -> Us Karas | F49: 106 | G49: x | H49: 69 | I49: =V28 -> PANZA FC | Q49: =IF(OR(H49="",F49=""),"",IF(H49=F49,1,IF(H49<F49,0,IF(H49-F49<10,2,IF(H49>F49,3,SE))))) -> 0
C50: =IF(OR(F50="",H50=""),"",IF(F50=H50,1,IF(F50<H50,0,IF(F50-H50<10,2,IF(F50>H50,3,SE))))) -> 3 | D50: =V21 -> flurocha fc | F50: 101 | G50: x | H50: 25 | I50: =V22 -> FC Casablanca | Q50: =IF(OR(H50="",F50=""),"",IF(H50=F50,1,IF(H50<F50,0,IF(H50-F50<10,2,IF(H50>F50,3,SE))))) -> 0
C51: =IF(OR(F51="",H51=""),"",IF(F51=H51,1,IF(F51<H51,0,IF(F51-H51<10,2,IF(F51>H51,3,SE))))) -> 0 | D51: =V31 -> Vascão Carangola | F51: 0 | G51: x | H51: 41 | I51: =V30 -> Botafogo do HG | Q51: =IF(OR(H51="",F51=""),"",IF(H51=F51,1,IF(H51<F51,0,IF(H51-F51<10,2,IF(H51>F51,3,SE))))) -> 3
C52: =IF(OR(F52="",H52=""),"",IF(F52=H52,1,IF(F52<H52,0,IF(F52-H52<10,2,IF(F52>H52,3,SE))))) | Q52: =IF(OR(H52="",F52=""),"",IF(H52=F52,1,IF(H52<F52,0,IF(H52-F52<10,2,IF(H52>F52,3,SE)))))
C53: =IF(OR(F53="",H53=""),"",IF(F53=H53,1,IF(F53<H53,0,IF(F53-H53<10,2,IF(F53>H53,3,SE))))) | D53: 3ª RODADA - #22 | Q53: =IF(OR(H53="",F53=""),"",IF(H53=F53,1,IF(H53<F53,0,IF(H53-F53<10,2,IF(H53>F53,3,SE)))))
C54: =IF(OR(F54="",H54=""),"",IF(F54=H54,1,IF(F54<H54,0,IF(F54-H54<10,2,IF(F54>H54,3,SE))))) | Q54: =IF(OR(H54="",F54=""),"",IF(H54=F54,1,IF(H54<F54,0,IF(H54-F54<10,2,IF(H54>F54,3,SE)))))
C55: =IF(OR(F55="",H55=""),"",IF(F55=H55,1,IF(F55<H55,0,IF(F55-H55<10,2,IF(F55>H55,3,SE))))) | Q55: =IF(OR(H55="",F55=""),"",IF(H55=F55,1,IF(H55<F55,0,IF(H55-F55<10,2,IF(H55>F55,3,SE)))))
C56: =IF(OR(F56="",H56=""),"",IF(F56=H56,1,IF(F56<H56,0,IF(F56-H56<10,2,IF(F56>H56,3,SE))))) -> 0 | D56: =V28 -> PANZA FC | F56: 25 | G56: x | H56: 28 | I56: =V24 -> Stars United C.F. | Q56: =IF(OR(H56="",F56=""),"",IF(H56=F56,1,IF(H56<F56,0,IF(H56-F56<10,2,IF(H56>F56,3,SE))))) -> 2
C57: =IF(OR(F57="",H57=""),"",IF(F57=H57,1,IF(F57<H57,0,IF(F57-H57<10,2,IF(F57>H57,3,SE))))) -> 3 | D57: =V25 -> Us Karas | F57: 53 | G57: x | H57: 27 | I57: =V21 -> flurocha fc | Q57: =IF(OR(H57="",F57=""),"",IF(H57=F57,1,IF(H57<F57,0,IF(H57-F57<10,2,IF(H57>F57,3,SE))))) -> 0
C58: =IF(OR(F58="",H58=""),"",IF(F58=H58,1,IF(F58<H58,0,IF(F58-H58<10,2,IF(F58>H58,3,SE))))) -> 0 | D58: =V30 -> Botafogo do HG | F58: 28 | G58: x | H58: 35 | I58: =V23 -> TriangagemFC | Q58: =IF(OR(H58="",F58=""),"",IF(H58=F58,1,IF(H58<F58,0,IF(H58-F58<10,2,IF(H58>F58,3,SE))))) -> 2
C59: =IF(OR(F59="",H59=""),"",IF(F59=H59,1,IF(F59<H59,0,IF(F59-H59<10,2,IF(F59>H59,3,SE))))) -> 3 | D59: =V26 -> NICKA SC | F59: 53 | G59: x | H59: 31 | I59: =V29 -> Barreirinha FC | Q59: =IF(OR(H59="",F59=""),"",IF(H59=F59,1,IF(H59<F59,0,IF(H59-F59<10,2,IF(H59>F59,3,SE))))) -> 0
C60: =IF(OR(F60="",H60=""),"",IF(F60=H60,1,IF(F60<H60,0,IF(F60-H60<10,2,IF(F60>H60,3,SE))))) -> 3 | D60: =V22 -> FC Casablanca | F60: 53 | G60: x | H60: 26 | I60: =V20 -> Barbosinhaas | Q60: =IF(OR(H60="",F60=""),"",IF(H60=F60,1,IF(H60<F60,0,IF(H60-F60<10,2,IF(H60>F60,3,SE))))) -> 0
C61: =IF(OR(F61="",H61=""),"",IF(F61=H61,1,IF(F61<H61,0,IF(F61-H61<10,2,IF(F61>H61,3,SE))))) -> 3 | D61: =V27 -> Glaa.VascodaaGamaa | F61: 38 | G61: x | H61: 0 | I61: =V31 -> Vascão Carangola | Q61: =IF(OR(H61="",F61=""),"",IF(H61=F61,1,IF(H61<F61,0,IF(H61-F61<10,2,IF(H61>F61,3,SE))))) -> 0
C62: =IF(OR(F62="",H62=""),"",IF(F62=H62,1,IF(F62<H62,0,IF(F62-H62<10,2,IF(F62>H62,3,SE))))) | Q62: =IF(OR(H62="",F62=""),"",IF(H62=F62,1,IF(H62<F62,0,IF(H62-F62<10,2,IF(H62>F62,3,SE)))))
C63: =IF(OR(F63="",H63=""),"",IF(F63=H63,1,IF(F63<H63,0,IF(F63-H63<10,2,IF(F63>H63,3,SE))))) | D63: 4ª RODADA - #23 | Q63: =IF(OR(H63="",F63=""),"",IF(H63=F63,1,IF(H63<F63,0,IF(H63-F63<10,2,IF(H63>F63,3,SE)))))
C64: =IF(OR(F64="",H64=""),"",IF(F64=H64,1,IF(F64<H64,0,IF(F64-H64<10,2,IF(F64>H64,3,SE))))) | Q64: =IF(OR(H64="",F64=""),"",IF(H64=F64,1,IF(H64<F64,0,IF(H64-F64<10,2,IF(H64>F64,3,SE)))))
C65: =IF(OR(F65="",H65=""),"",IF(F65=H65,1,IF(F65<H65,0,IF(F65-H65<10,2,IF(F65>H65,3,SE))))) | Q65: =IF(OR(H65="",F65=""),"",IF(H65=F65,1,IF(H65<F65,0,IF(H65-F65<10,2,IF(H65>F65,3,SE)))))
C66: =IF(OR(F66="",H66=""),"",IF(F66=H66,1,IF(F66<H66,0,IF(F66-H66<10,2,IF(F66>H66,3,SE))))) -> 0 | D66: =V26 -> NICKA SC | F66: 51 | G66: x | H66: 58 | I66: =V27 -> Glaa.VascodaaGamaa | Q66: =IF(OR(H66="",F66=""),"",IF(H66=F66,1,IF(H66<F66,0,IF(H66-F66<10,2,IF(H66>F66,3,SE))))) -> 2
C67: =IF(OR(F67="",H67=""),"",IF(F67=H67,1,IF(F67<H67,0,IF(F67-H67<10,2,IF(F67>H67,3,SE))))) -> 0 | D67: =V22 -> FC Casablanca | F67: 50 | G67: x | H67: 51 | I67: =V30 -> Botafogo do HG | Q67: =IF(OR(H67="",F67=""),"",IF(H67=F67,1,IF(H67<F67,0,IF(H67-F67<10,2,IF(H67>F67,3,SE))))) -> 2
C68: =IF(OR(F68="",H68=""),"",IF(F68=H68,1,IF(F68<H68,0,IF(F68-H68<10,2,IF(F68>H68,3,SE))))) -> 0 | D68: =V23 -> TriangagemFC | F68: 46 | G68: x | H68: 74 | I68: =V31 -> Vascão Carangola | Q68: =IF(OR(H68="",F68=""),"",IF(H68=F68,1,IF(H68<F68,0,IF(H68-F68<10,2,IF(H68>F68,3,SE))))) -> 3
C69: =IF(OR(F69="",H69=""),"",IF(F69=H69,1,IF(F69<H69,0,IF(F69-H69<10,2,IF(F69>H69,3,SE))))) -> 0 | D69: =V21 -> flurocha fc | F69: 32 | G69: x | H69: 53 | I69: =V28 -> PANZA FC | Q69: =IF(OR(H69="",F69=""),"",IF(H69=F69,1,IF(H69<F69,0,IF(H69-F69<10,2,IF(H69>F69,3,SE))))) -> 3
C70: =IF(OR(F70="",H70=""),"",IF(F70=H70,1,IF(F70<H70,0,IF(F70-H70<10,2,IF(F70>H70,3,SE))))) -> 0 | D70: =V24 -> Stars United C.F. | F70: 25 | G70: x | H70: 59 | I70: =V25 -> Us Karas | Q70: =IF(OR(H70="",F70=""),"",IF(H70=F70,1,IF(H70<F70,0,IF(H70-F70<10,2,IF(H70>F70,3,SE))))) -> 3
C71: =IF(OR(F71="",H71=""),"",IF(F71=H71,1,IF(F71<H71,0,IF(F71-H71<10,2,IF(F71>H71,3,SE))))) -> 3 | D71: =V20 -> Barbosinhaas | F71: 68 | G71: x | H71: 53 | I71: =V29 -> Barreirinha FC | Q71: =IF(OR(H71="",F71=""),"",IF(H71=F71,1,IF(H71<F71,0,IF(H71-F71<10,2,IF(H71>F71,3,SE))))) -> 0
C72: =IF(OR(F72="",H72=""),"",IF(F72=H72,1,IF(F72<H72,0,IF(F72-H72<10,2,IF(F72>H72,3,SE))))) | Q72: =IF(OR(H72="",F72=""),"",IF(H72=F72,1,IF(H72<F72,0,IF(H72-F72<10,2,IF(H72>F72,3,SE)))))
C73: =IF(OR(F73="",H73=""),"",IF(F73=H73,1,IF(F73<H73,0,IF(F73-H73<10,2,IF(F73>H73,3,SE))))) | D73: 5ª RODADA - #24 | Q73: =IF(OR(H73="",F73=""),"",IF(H73=F73,1,IF(H73<F73,0,IF(H73-F73<10,2,IF(H73>F73,3,SE)))))
C74: =IF(OR(F74="",H74=""),"",IF(F74=H74,1,IF(F74<H74,0,IF(F74-H74<10,2,IF(F74>H74,3,SE))))) | Q74: =IF(OR(H74="",F74=""),"",IF(H74=F74,1,IF(H74<F74,0,IF(H74-F74<10,2,IF(H74>F74,3,SE)))))
C75: =IF(OR(F75="",H75=""),"",IF(F75=H75,1,IF(F75<H75,0,IF(F75-H75<10,2,IF(F75>H75,3,SE))))) | Q75: =IF(OR(H75="",F75=""),"",IF(H75=F75,1,IF(H75<F75,0,IF(H75-F75<10,2,IF(H75>F75,3,SE)))))
C76: =IF(OR(F76="",H76=""),"",IF(F76=H76,1,IF(F76<H76,0,IF(F76-H76<10,2,IF(F76>H76,3,SE))))) -> 0 | D76: =V25 -> Us Karas | F76: 42 | G76: x | H76: 51 | I76: =V23 -> TriangagemFC | Q76: =IF(OR(H76="",F76=""),"",IF(H76=F76,1,IF(H76<F76,0,IF(H76-F76<10,2,IF(H76>F76,3,SE))))) -> 2
C77: =IF(OR(F77="",H77=""),"",IF(F77=H77,1,IF(F77<H77,0,IF(F77-H77<10,2,IF(F77>H77,3,SE))))) -> 3 | D77: =V28 -> PANZA FC | F77: 59 | G77: x | H77: 12 | I77: =V22 -> FC Casablanca | Q77: =IF(OR(H77="",F77=""),"",IF(H77=F77,1,IF(H77<F77,0,IF(H77-F77<10,2,IF(H77>F77,3,SE))))) -> 0
C78: =IF(OR(F78="",H78=""),"",IF(F78=H78,1,IF(F78<H78,0,IF(F78-H78<10,2,IF(F78>H78,3,SE))))) -> 0 | D78: =V30 -> Botafogo do HG | F78: 43 | G78: x | H78: 67 | I78: =V20 -> Barbosinhaas | Q78: =IF(OR(H78="",F78=""),"",IF(H78=F78,1,IF(H78<F78,0,IF(H78-F78<10,2,IF(H78>F78,3,SE))))) -> 3
C79: =IF(OR(F79="",H79=""),"",IF(F79=H79,1,IF(F79<H79,0,IF(F79-H79<10,2,IF(F79>H79,3,SE))))) -> 1 | D79: =V27 -> Glaa.VascodaaGamaa | F79: 38 | G79: x | H79: 38 | I79: =V24 -> Stars United C.F. | Q79: =IF(OR(H79="",F79=""),"",IF(H79=F79,1,IF(H79<F79,0,IF(H79-F79<10,2,IF(H79>F79,3,SE))))) -> 1
C80: =IF(OR(F80="",H80=""),"",IF(F80=H80,1,IF(F80<H80,0,IF(F80-H80<10,2,IF(F80>H80,3,SE))))) -> 0 | D80: =V29 -> Barreirinha FC | F80: 32 | G80: x | H80: 68 | I80: =V31 -> Vascão Carangola | Q80: =IF(OR(H80="",F80=""),"",IF(H80=F80,1,IF(H80<F80,0,IF(H80-F80<10,2,IF(H80>F80,3,SE))))) -> 3
C81: =IF(OR(F81="",H81=""),"",IF(F81=H81,1,IF(F81<H81,0,IF(F81-H81<10,2,IF(F81>H81,3,SE))))) -> 3 | D81: =V21 -> flurocha fc | F81: 68 | G81: x | H81: 20 | I81: =V26 -> NICKA SC | Q81: =IF(OR(H81="",F81=""),"",IF(H81=F81,1,IF(H81<F81,0,IF(H81-F81<10,2,IF(H81>F81,3,SE))))) -> 0
C82: =IF(OR(F82="",H82=""),"",IF(F82=H82,1,IF(F82<H82,0,IF(F82-H82<10,2,IF(F82>H82,3,SE))))) | Q82: =IF(OR(H82="",F82=""),"",IF(H82=F82,1,IF(H82<F82,0,IF(H82-F82<10,2,IF(H82>F82,3,SE)))))
C83: =IF(OR(F83="",H83=""),"",IF(F83=H83,1,IF(F83<H83,0,IF(F83-H83<10,2,IF(F83>H83,3,SE))))) | D83: 6ª RODADA - #25 | Q83: =IF(OR(H83="",F83=""),"",IF(H83=F83,1,IF(H83<F83,0,IF(H83-F83<10,2,IF(H83>F83,3,SE)))))
C84: =IF(OR(F84="",H84=""),"",IF(F84=H84,1,IF(F84<H84,0,IF(F84-H84<10,2,IF(F84>H84,3,SE))))) | Q84: =IF(OR(H84="",F84=""),"",IF(H84=F84,1,IF(H84<F84,0,IF(H84-F84<10,2,IF(H84>F84,3,SE)))))
C85: =IF(OR(F85="",H85=""),"",IF(F85=H85,1,IF(F85<H85,0,IF(F85-H85<10,2,IF(F85>H85,3,SE))))) | Q85: =IF(OR(H85="",F85=""),"",IF(H85=F85,1,IF(H85<F85,0,IF(H85-F85<10,2,IF(H85>F85,3,SE)))))
C86: =IF(OR(F86="",H86=""),"",IF(F86=H86,1,IF(F86<H86,0,IF(F86-H86<10,2,IF(F86>H86,3,SE))))) -> 3 | D86: =V31 -> Vascão Carangola | F86: 73 | G86: x | H86: 13 | I86: =V22 -> FC Casablanca | Q86: =IF(OR(H86="",F86=""),"",IF(H86=F86,1,IF(H86<F86,0,IF(H86-F86<10,2,IF(H86>F86,3,SE))))) -> 0
C87: =IF(OR(F87="",H87=""),"",IF(F87=H87,1,IF(F87<H87,0,IF(F87-H87<10,2,IF(F87>H87,3,SE))))) -> 0 | D87: =V26 -> NICKA SC | F87: 42 | G87: x | H87: 54 | I87: =V23 -> TriangagemFC | Q87: =IF(OR(H87="",F87=""),"",IF(H87=F87,1,IF(H87<F87,0,IF(H87-F87<10,2,IF(H87>F87,3,SE))))) -> 3
C88: =IF(OR(F88="",H88=""),"",IF(F88=H88,1,IF(F88<H88,0,IF(F88-H88<10,2,IF(F88>H88,3,SE))))) -> 3 | D88: =V30 -> Botafogo do HG | F88: 54 | G88: x | H88: 38 | I88: =V28 -> PANZA FC | Q88: =IF(OR(H88="",F88=""),"",IF(H88=F88,1,IF(H88<F88,0,IF(H88-F88<10,2,IF(H88>F88,3,SE))))) -> 0
C89: =IF(OR(F89="",H89=""),"",IF(F89=H89,1,IF(F89<H89,0,IF(F89-H89<10,2,IF(F89>H89,3,SE))))) -> 0 | D89: =V24 -> Stars United C.F. | F89: 44 | G89: x | H89: 53 | I89: =V29 -> Barreirinha FC | Q89: =IF(OR(H89="",F89=""),"",IF(H89=F89,1,IF(H89<F89,0,IF(H89-F89<10,2,IF(H89>F89,3,SE))))) -> 2
C90: =IF(OR(F90="",H90=""),"",IF(F90=H90,1,IF(F90<H90,0,IF(F90-H90<10,2,IF(F90>H90,3,SE))))) -> 0 | D90: =V27 -> Glaa.VascodaaGamaa | F90: 57 | G90: x | H90: 74 | I90: =V25 -> Us Karas | Q90: =IF(OR(H90="",F90=""),"",IF(H90=F90,1,IF(H90<F90,0,IF(H90-F90<10,2,IF(H90>F90,3,SE))))) -> 3
C91: =IF(OR(F91="",H91=""),"",IF(F91=H91,1,IF(F91<H91,0,IF(F91-H91<10,2,IF(F91>H91,3,SE))))) -> 0 | D91: =V20 -> Barbosinhaas | F91: 26 | G91: x | H91: 58 | I91: =V21 -> flurocha fc | Q91: =IF(OR(H91="",F91=""),"",IF(H91=F91,1,IF(H91<F91,0,IF(H91-F91<10,2,IF(H91>F91,3,SE))))) -> 3
C92: =IF(OR(F92="",H92=""),"",IF(F92=H92,1,IF(F92<H92,0,IF(F92-H92<10,2,IF(F92>H92,3,SE))))) | Q92: =IF(OR(H92="",F92=""),"",IF(H92=F92,1,IF(H92<F92,0,IF(H92-F92<10,2,IF(H92>F92,3,SE)))))
C93: =IF(OR(F93="",H93=""),"",IF(F93=H93,1,IF(F93<H93,0,IF(F93-H93<10,2,IF(F93>H93,3,SE))))) | D93: 7ª RODADA - #26 | Q93: =IF(OR(H93="",F93=""),"",IF(H93=F93,1,IF(H93<F93,0,IF(H93-F93<10,2,IF(H93>F93,3,SE)))))
C94: =IF(OR(F94="",H94=""),"",IF(F94=H94,1,IF(F94<H94,0,IF(F94-H94<10,2,IF(F94>H94,3,SE))))) | Q94: =IF(OR(H94="",F94=""),"",IF(H94=F94,1,IF(H94<F94,0,IF(H94-F94<10,2,IF(H94>F94,3,SE)))))
C95: =IF(OR(F95="",H95=""),"",IF(F95=H95,1,IF(F95<H95,0,IF(F95-H95<10,2,IF(F95>H95,3,SE))))) | Q95: =IF(OR(H95="",F95=""),"",IF(H95=F95,1,IF(H95<F95,0,IF(H95-F95<10,2,IF(H95>F95,3,SE)))))
C96: =IF(OR(F96="",H96=""),"",IF(F96=H96,1,IF(F96<H96,0,IF(F96-H96<10,2,IF(F96>H96,3,SE))))) -> 0 | D96: =V21 -> flurocha fc | F96: 57 | G96: x | H96: 58 | I96: =V27 -> Glaa.VascodaaGamaa | Q96: =IF(OR(H96="",F96=""),"",IF(H96=F96,1,IF(H96<F96,0,IF(H96-F96<10,2,IF(H96>F96,3,SE))))) -> 2
C97: =IF(OR(F97="",H97=""),"",IF(F97=H97,1,IF(F97<H97,0,IF(F97-H97<10,2,IF(F97>H97,3,SE))))) -> 0 | D97: =V28 -> PANZA FC | F97: 38 | G97: x | H97: 47 | I97: =V31 -> Vascão Carangola | Q97: =IF(OR(H97="",F97=""),"",IF(H97=F97,1,IF(H97<F97,0,IF(H97-F97<10,2,IF(H97>F97,3,SE))))) -> 2
C98: =IF(OR(F98="",H98=""),"",IF(F98=H98,1,IF(F98<H98,0,IF(F98-H98<10,2,IF(F98>H98,3,SE))))) -> 0 | D98: =V26 -> NICKA SC | F98: 11 | G98: x | H98: 48 | I98: =V20 -> Barbosinhaas | Q98: =IF(OR(H98="",F98=""),"",IF(H98=F98,1,IF(H98<F98,0,IF(H98-F98<10,2,IF(H98>F98,3,SE))))) -> 3
C99: =IF(OR(F99="",H99=""),"",IF(F99=H99,1,IF(F99<H99,0,IF(F99-H99<10,2,IF(F99>H99,3,SE))))) -> 0 | D99: =V22 -> FC Casablanca | F99: 27 | G99: x | H99: 55 | I99: =V29 -> Barreirinha FC | Q99: =IF(OR(H99="",F99=""),"",IF(H99=F99,1,IF(H99<F99,0,IF(H99-F99<10,2,IF(H99>F99,3,SE))))) -> 3
C100: =IF(OR(F100="",H100=""),"",IF(F100=H100,1,IF(F100<H100,0,IF(F100-H100<10,2,IF(F100>H100,3,SE))))) -> 3 | D100: =V25 -> Us Karas | F100: 53 | G100: x | H100: 35 | I100: =V30 -> Botafogo do HG | Q100: =IF(OR(H100="",F100=""),"",IF(H100=F100,1,IF(H100<F100,0,IF(H100-F100<10,2,IF(H100>F100,3,SE))))) -> 0
C101: =IF(OR(F101="",H101=""),"",IF(F101=H101,1,IF(F101<H101,0,IF(F101-H101<10,2,IF(F101>H101,3,SE))))) -> 3 | D101: =V23 -> TriangagemFC | F101: 62 | G101: x | H101: 37 | I101: =V24 -> Stars United C.F. | Q101: =IF(OR(H101="",F101=""),"",IF(H101=F101,1,IF(H101<F101,0,IF(H101-F101<10,2,IF(H101>F101,3,SE))))) -> 0
C102: =IF(OR(F102="",H102=""),"",IF(F102=H102,1,IF(F102<H102,0,IF(F102-H102<10,2,IF(F102>H102,3,SE))))) | Q102: =IF(OR(H102="",F102=""),"",IF(H102=F102,1,IF(H102<F102,0,IF(H102-F102<10,2,IF(H102>F102,3,SE)))))
C103: =IF(OR(F103="",H103=""),"",IF(F103=H103,1,IF(F103<H103,0,IF(F103-H103<10,2,IF(F103>H103,3,SE))))) | D103: 8ª RODADA - #27 | Q103: =IF(OR(H103="",F103=""),"",IF(H103=F103,1,IF(H103<F103,0,IF(H103-F103<10,2,IF(H103>F103,3,SE)))))
C104: =IF(OR(F104="",H104=""),"",IF(F104=H104,1,IF(F104<H104,0,IF(F104-H104<10,2,IF(F104>H104,3,SE))))) | Q104: =IF(OR(H104="",F104=""),"",IF(H104=F104,1,IF(H104<F104,0,IF(H104-F104<10,2,IF(H104>F104,3,SE)))))
C105: =IF(OR(F105="",H105=""),"",IF(F105=H105,1,IF(F105<H105,0,IF(F105-H105<10,2,IF(F105>H105,3,SE))))) | Q105: =IF(OR(H105="",F105=""),"",IF(H105=F105,1,IF(H105<F105,0,IF(H105-F105<10,2,IF(H105>F105,3,SE)))))
C106: =IF(OR(F106="",H106=""),"",IF(F106=H106,1,IF(F106<H106,0,IF(F106-H106<10,2,IF(F106>H106,3,SE))))) -> 3 | D106: =V27 -> Glaa.VascodaaGamaa | F106: 60 | G106: x | H106: 46 | I106: =V28 -> PANZA FC | Q106: =IF(OR(H106="",F106=""),"",IF(H106=F106,1,IF(H106<F106,0,IF(H106-F106<10,2,IF(H106>F106,3,SE))))) -> 0
C107: =IF(OR(F107="",H107=""),"",IF(F107=H107,1,IF(F107<H107,0,IF(F107-H107<10,2,IF(F107>H107,3,SE))))) -> 3 | D107: =V24 -> Stars United C.F. | F107: 57 | G107: x | H107: 26 | I107: =V22 -> FC Casablanca | Q107: =IF(OR(H107="",F107=""),"",IF(H107=F107,1,IF(H107<F107,0,IF(H107-F107<10,2,IF(H107>F107,3,SE))))) -> 0
C108: =IF(OR(F108="",H108=""),"",IF(F108=H108,1,IF(F108<H108,0,IF(F108-H108<10,2,IF(F108>H108,3,SE))))) -> 0 | D108: =V20 -> Barbosinhaas | F108: 25 | G108: x | H108: 57 | I108: =V31 -> Vascão Carangola | Q108: =IF(OR(H108="",F108=""),"",IF(H108=F108,1,IF(H108<F108,0,IF(H108-F108<10,2,IF(H108>F108,3,SE))))) -> 3
C109: =IF(OR(F109="",H109=""),"",IF(F109=H109,1,IF(F109<H109,0,IF(F109-H109<10,2,IF(F109>H109,3,SE))))) -> 0 | D109: =V29 -> Barreirinha FC | F109: 27 | G109: x | H109: 52 | I109: =V23 -> TriangagemFC | Q109: =IF(OR(H109="",F109=""),"",IF(H109=F109,1,IF(H109<F109,0,IF(H109-F109<10,2,IF(H109>F109,3,SE))))) -> 3
C110: =IF(OR(F110="",H110=""),"",IF(F110=H110,1,IF(F110<H110,0,IF(F110-H110<10,2,IF(F110>H110,3,SE))))) -> 3 | D110: =V30 -> Botafogo do HG | F110: 55 | G110: x | H110: 44 | I110: =V21 -> flurocha fc | Q110: =IF(OR(H110="",F110=""),"",IF(H110=F110,1,IF(H110<F110,0,IF(H110-F110<10,2,IF(H110>F110,3,SE))))) -> 0
C111: =IF(OR(F111="",H111=""),"",IF(F111=H111,1,IF(F111<H111,0,IF(F111-H111<10,2,IF(F111>H111,3,SE))))) -> 3 | D111: =V25 -> Us Karas | F111: 52 | G111: x | H111: 38 | I111: =V26 -> NICKA SC | Q111: =IF(OR(H111="",F111=""),"",IF(H111=F111,1,IF(H111<F111,0,IF(H111-F111<10,2,IF(H111>F111,3,SE))))) -> 0
C112: =IF(OR(F112="",H112=""),"",IF(F112=H112,1,IF(F112<H112,0,IF(F112-H112<10,2,IF(F112>H112,3,SE))))) | Q112: =IF(OR(H112="",F112=""),"",IF(H112=F112,1,IF(H112<F112,0,IF(H112-F112<10,2,IF(H112>F112,3,SE)))))
C113: =IF(OR(F113="",H113=""),"",IF(F113=H113,1,IF(F113<H113,0,IF(F113-H113<10,2,IF(F113>H113,3,SE))))) | D113: 9ª RODADA - #28 | Q113: =IF(OR(H113="",F113=""),"",IF(H113=F113,1,IF(H113<F113,0,IF(H113-F113<10,2,IF(H113>F113,3,SE)))))
C114: =IF(OR(F114="",H114=""),"",IF(F114=H114,1,IF(F114<H114,0,IF(F114-H114<10,2,IF(F114>H114,3,SE))))) | Q114: =IF(OR(H114="",F114=""),"",IF(H114=F114,1,IF(H114<F114,0,IF(H114-F114<10,2,IF(H114>F114,3,SE)))))
...

Sheet GRUPO 2
B2: 1º SUPERSOCAMPEONATO 2013
B6: 1ª FASE
D10: CLASSIFICAÇÃO
D15: OBS: Os 4 melhores colocados no Grupo se classificarão para a Oitavas de Finais.
D17: GRUPO 2 | R17: Legenda
R18: P - pontos
D19: Pos. | E19: CARTOLA | F19: J | G19: P | H19: V3P | I19: V2P | J19: E | K19: D | L19: PPC | M19: PCC | N19: SP | O19: % APR. | R19: V3P - Vitória por 3 pontos | U19: Pos. | V19: TIMES | W19: J | X19: P | Y19: V3P | Z19: V2P | AA19: E | AB19: D | AC19: GF | AD19: GC | AE19: SG | AF19: % APR. | AG19: calc | AH19: maior | AI19: corresp
D20: 1º | E20: =VLOOKUP(AI20,$U$20:$AH$31,2) -> Bahia aju | F20: =VLOOKUP(AI20,$U$20:$AH$31,3) -> 11 | G20: =VLOOKUP(AI20,$U$20:$AH$31,4) -> 24 | H20: =VLOOKUP(AI20,$U$20:$AH$31,5) -> 6 | I20: =VLOOKUP(AI20,$U$20:$AH$31,6) -> 3 | J20: =VLOOKUP(AI20,$U$20:$AH$31,7) -> 0 | K20: =VLOOKUP(AI20,$U$20:$AH$31,8) -> 2 | L20: =VLOOKUP(AI20,$U$20:$AH$31,9) -> 659 | M20: =VLOOKUP(AI20,$U$20:$AH$31,10) -> 576 | N20: =VLOOKUP(AI20,$U$20:$AH$31,11) -> 83 | O20: =VLOOKUP(AI20,$U$20:$AH$31,12) -> 0.72727273 | R20: V2P - Vitória por 2 pontos | U20: 1 | V20: mathpalestra | W20: =COUNT(F38,H60,F71,H46,H78,F91,H98,F108,H120,F128,F140) -> 11 | X20: =SUM(C38,Q46,Q60,C71,Q78,C91,Q98,C108,Q120,C128,C140) -> 6 | Y20: =SUM(COUNTIFS($C$36:$C$141,3,$D$36:$D$141,V20),COUNTIFS($I$36:$I$141,V20,$Q$36:$Q$141,3)) -> 1 | Z20: =SUM(COUNTIFS($C$36:$C$141,2,$D$36:$D$141,V20),COUNTIFS($I$36:$I$141,V20,$Q$36:$Q$141,2)) -> 1 | AA20: =SUM(COUNTIFS($C$36:$C$141,1,$D$36:$D$141,V20),COUNTIFS($I$36:$I$141,V20,$Q$36:$Q$141,1)) -> 1 | AB20: =SUM(COUNTIFS($C$36:$C$141,0,$D$36:$D$141,V20),COUNTIFS($I$36:$I$141,V20,$Q$36:$Q$141,0)) -> 8 | AC20: =SUM(F38,H46,H60,F71,H78,F91,H98,H120,F108,F128,F140) -> 403 | AD20: =SUM(H38,F46,F60,H71,F78,H91,F98,H108,F120,H128,H140) -> 624 | AE20: =AC20-AD20 -> -221 | AF20: =(X20/(W20*3)) -> 0.18181818 | AG20: =(X20*10^10)+((AC20+5000)*10^6)+(AE20*10)+U20 -> 65402997791 | AH20: =LARGE($AG$20:$AG$31,U20) -> 245659000838 | AI20: =MATCH(AH20,$AG$20:$AG$31,0) -> 8
D21: 2º | E21: =VLOOKUP(AI21,$U$20:$AH$31,2) -> Driblador F.C | F21: =VLOOKUP(AI21,$U$20:$AH$31,3) -> 11 | G21: =VLOOKUP(AI21,$U$20:$AH$31,4) -> 21 | H21: =VLOOKUP(AI21,$U$20:$AH$31,5) -> 5 | I21: =VLOOKUP(AI21,$U$20:$AH$31,6) -> 3 | J21: =VLOOKUP(AI21,$U$20:$AH$31,7) -> 0 | K21: =VLOOKUP(AI21,$U$20:$AH$31,8) -> 3 | L21: =VLOOKUP(AI21,$U$20:$AH$31,9) -> 577 | M21: =VLOOKUP(AI21,$U$20:$AH$31,10) -> 431 | N21: =VLOOKUP(AI21,$U$20:$AH$31,11) -> 146 | O21: =VLOOKUP(AI21,$U$20:$AH$31,12) -> 0.63636364 | R21: E - Empate | U21: 2 | V21: Marvada da cachaça | W21: =COUNT(H41,F50,H57,F69,F81,H91,F96,H110,F118,F130,H138) -> 11 | X21: =SUM(Q41,Q57,C69,C81,Q91,C50,C96,Q110,C118,C130,Q138) -> 8 | Y21: =SUM(COUNTIFS($C$36:$C$141,3,$D$36:$D$141,V21),COUNTIFS($I$36:$I$141,V21,$Q$36:$Q$141,3)) -> 2 | Z21: =SUM(COUNTIFS($C$36:$C$141,2,$D$36:$D$141,V21),COUNTIFS($I$36:$I$141,V21,$Q$36:$Q$141,2)) -> 0 | AA21: =SUM(COUNTIFS($C$36:$C$141,1,$D$36:$D$141,V21),COUNTIFS($I$36:$I$141,V21,$Q$36:$Q$141,1)) -> 2 | AB21: =SUM(COUNTIFS($C$36:$C$141,0,$D$36:$D$141,V21),COUNTIFS($I$36:$I$141,V21,$Q$36:$Q$141,0)) -> 7 | AC21: =SUM(H41,F50,H57,F69,F81,H91,F96,H110,F118,F130,H138) -> 418 | AD21: =SUM(F41,H50,F57,H69,H81,F91,H96,F110,H118,H130,F138) -> 564 | AE21: =AC21-AD21 -> -146 | AF21: =(X21/(W21*3)) -> 0.24242424 | AG21: =(X21*10^10)+((AC21+5000)*10^6)+(AE21*10)+U21 -> 85417998542 | AH21: =LARGE($AG$20:$AG$31,U21) -> 215577001464 | AI21: =MATCH(AH21,$AG$20:$AG$31,0) -> 4
D22: 3º | E22: =VLOOKUP(AI22,$U$20:$AH$31,2) -> Soccer Italy | F22: =VLOOKUP(AI22,$U$20:$AH$31,3) -> 11 | G22: =VLOOKUP(AI22,$U$20:$AH$31,4) -> 20 | H22: =VLOOKUP(AI22,$U$20:$AH$31,5) -> 6 | I22: =VLOOKUP(AI22,$U$20:$AH$31,6) -> 1 | J22: =VLOOKUP(AI22,$U$20:$AH$31,7) -> 0 | K22: =VLOOKUP(AI22,$U$20:$AH$31,8) -> 4 | L22: =VLOOKUP(AI22,$U$20:$AH$31,9) -> 621 | M22: =VLOOKUP(AI22,$U$20:$AH$31,10) -> 551 | N22: =VLOOKUP(AI22,$U$20:$AH$31,11) -> 70 | O22: =VLOOKUP(AI22,$U$20:$AH$31,12) -> 0.60606061 | R22: D - Derrota | U22: 3 | V22: Xavecos UFC | W22: =COUNT(F39,H50,F60,F67,H77,H86,F99,H107,F121,H129,F137) -> 11 | X22: =SUM(C39,Q50,C60,C67,C99,Q77,Q86,Q107,C121,Q129,C137) -> 8 | Y22: =SUM(COUNTIFS($C$36:$C$141,3,$D$36:$D$141,V22),COUNTIFS($I$36:$I$141,V22,$Q$36:$Q$141,3)) -> 2 | Z22: =SUM(COUNTIFS($C$36:$C$141,2,$D$36:$D$141,V22),COUNTIFS($I$36:$I$141,V22,$Q$36:$Q$141,2)) -> 1 | AA22: =SUM(COUNTIFS($C$36:$C$141,1,$D$36:$D$141,V22),COUNTIFS($I$36:$I$141,V22,$Q$36:$Q$141,1)) -> 0 | AB22: =SUM(COUNTIFS($C$36:$C$141,0,$D$36:$D$141,V22),COUNTIFS($I$36:$I$141,V22,$Q$36:$Q$141,0)) -> 8 | AC22: =SUM(F39,H50,F60,F67,H77,H86,F99,H107,F121,H129,F137) -> 401 | AD22: =SUM(H39,F50,H60,H67,F77,F86,H99,F107,H121,F129,H137) -> 545 | AE22: =AC22-AD22 -> -144 | AF22: =(X22/(W22*3)) -> 0.24242424 | AG22: =(X22*10^10)+((AC22+5000)*10^6)+(AE22*10)+U22 -> 85400998563 | AH22: =LARGE($AG$20:$AG$31,U22) -> 205621000712 | AI22: =MATCH(AH22,$AG$20:$AG$31,0) -> 12
D23: 4º | E23: =VLOOKUP(AI23,$U$20:$AH$31,2) -> ousadia e alegriaa1 | F23: =VLOOKUP(AI23,$U$20:$AH$31,3) -> 11 | G23: =VLOOKUP(AI23,$U$20:$AH$31,4) -> 20 | H23: =VLOOKUP(AI23,$U$20:$AH$31,5) -> 4 | I23: =VLOOKUP(AI23,$U$20:$AH$31,6) -> 4 | J23: =VLOOKUP(AI23,$U$20:$AH$31,7) -> 0 | K23: =VLOOKUP(AI23,$U$20:$AH$31,8) -> 3 | L23: =VLOOKUP(AI23,$U$20:$AH$31,9) -> 547 | M23: =VLOOKUP(AI23,$U$20:$AH$31,10) -> 467 | N23: =VLOOKUP(AI23,$U$20:$AH$31,11) -> 80 | O23: =VLOOKUP(AI23,$U$20:$AH$31,12) -> 0.60606061 | R23: PPC - pontos pró Cartola | U23: 4 | V23: Driblador F.C | W23: =COUNT(F41,F46,H58,F68,H76,H87,F101,H109,H121,F126,H139) -> 11 | X23: =SUM(C41,C46,C68,Q76,Q58,Q109,Q87,C101,Q121,C126,Q139) -> 21 | Y23: =SUM(COUNTIFS($C$36:$C$141,3,$D$36:$D$141,V23),COUNTIFS($I$36:$I$141,V23,$Q$36:$Q$141,3)) -> 5 | Z23: =SUM(COUNTIFS($C$36:$C$141,2,$D$36:$D$141,V23),COUNTIFS($I$36:$I$141,V23,$Q$36:$Q$141,2)) -> 3 | AA23: =SUM(COUNTIFS($C$36:$C$141,1,$D$36:$D$141,V23),COUNTIFS($I$36:$I$141,V23,$Q$36:$Q$141,1)) -> 0 | AB23: =SUM(COUNTIFS($C$36:$C$141,0,$D$36:$D$141,V23),COUNTIFS($I$36:$I$141,V23,$Q$36:$Q$141,0)) -> 3 | AC23: =SUM(F41,F46,H58,F68,H87,H109,H76,F101,H121,F126,H139) -> 577 | AD23: =SUM(H41,H46,H68,F58,F76,F87,H101,F109,F121,H126,F139) -> 431 | AE23: =AC23-AD23 -> 146 | AF23: =(X23/(W23*3)) -> 0.63636364 | AG23: =(X23*10^10)+((AC23+5000)*10^6)+(AE23*10)+U23 -> 215577001464 | AH23: =LARGE($AG$20:$AG$31,U23) -> 205547000810 | AI23: =MATCH(AH23,$AG$20:$AG$31,0) -> 10
D24: 5º | E24: =VLOOKUP(AI24,$U$20:$AH$31,2) -> comicu | F24: =VLOOKUP(AI24,$U$20:$AH$31,3) -> 11 | G24: =VLOOKUP(AI24,$U$20:$AH$31,4) -> 18 | H24: =VLOOKUP(AI24,$U$20:$AH$31,5) -> 4 | I24: =VLOOKUP(AI24,$U$20:$AH$31,6) -> 3 | J24: =VLOOKUP(AI24,$U$20:$AH$31,7) -> 0 | K24: =VLOOKUP(AI24,$U$20:$AH$31,8) -> 4 | L24: =VLOOKUP(AI24,$U$20:$AH$31,9) -> 648 | M24: =VLOOKUP(AI24,$U$20:$AH$31,10) -> 490 | N24: =VLOOKUP(AI24,$U$20:$AH$31,11) -> 158 | O24: =VLOOKUP(AI24,$U$20:$AH$31,12) -> 0.54545455 | R24: PCC - pontos contra Cartola | U24: 5 | V24: Botafogo Rocha | W24: =COUNT(H36,F47,H56,F70,H79,F89,H101,F107,H118,F127,H140) -> 11 | X24: =SUM(Q36,C47,Q56,C70,Q79,C89,Q101,C107,Q118,C127,Q140) -> 16 | Y24: =SUM(COUNTIFS($C$36:$C$141,3,$D$36:$D$141,V24),COUNTIFS($I$36:$I$141,V24,$Q$36:$Q$141,3)) -> 4 | Z24: =SUM(COUNTIFS($C$36:$C$141,2,$D$36:$D$141,V24),COUNTIFS($I$36:$I$141,V24,$Q$36:$Q$141,2)) -> 2 | AA24: =SUM(COUNTIFS($C$36:$C$141,1,$D$36:$D$141,V24),COUNTIFS($I$36:$I$141,V24,$Q$36:$Q$141,1)) -> 0 | AB24: =SUM(COUNTIFS($C$36:$C$141,0,$D$36:$D$141,V24),COUNTIFS($I$36:$I$141,V24,$Q$36:$Q$141,0)) -> 5 | AC24: =SUM(H36,F47,H56,F70,H79,F89,H101,F107,H118,F127,H140) -> 548 | AD24: =SUM(F36,H47,F56,H70,F79,H89,F101,H107,F118,H127,F140) -> 586 | AE24: =AC24-AD24 -> -38 | AF24: =(X24/(W24*3)) -> 0.48484848 | AG24: =(X24*10^10)+((AC24+5000)*10^6)+(AE24*10)+U24 -> 165547999625 | AH24: =LARGE($AG$20:$AG$31,U24) -> 185648001587 | AI24: =MATCH(AH24,$AG$20:$AG$31,0) -> 7
D25: 6º | E25: =VLOOKUP(AI25,$U$20:$AH$31,2) -> Botafogo Rocha | F25: =VLOOKUP(AI25,$U$20:$AH$31,3) -> 11 | G25: =VLOOKUP(AI25,$U$20:$AH$31,4) -> 16 | H25: =VLOOKUP(AI25,$U$20:$AH$31,5) -> 4 | I25: =VLOOKUP(AI25,$U$20:$AH$31,6) -> 2 | J25: =VLOOKUP(AI25,$U$20:$AH$31,7) -> 0 | K25: =VLOOKUP(AI25,$U$20:$AH$31,8) -> 5 | L25: =VLOOKUP(AI25,$U$20:$AH$31,9) -> 548 | M25: =VLOOKUP(AI25,$U$20:$AH$31,10) -> 586 | N25: =VLOOKUP(AI25,$U$20:$AH$31,11) -> -38 | O25: =VLOOKUP(AI25,$U$20:$AH$31,12) -> 0.48484848 | R25: SP - saldo de pontos | U25: 6 | V25: Sekishiki Mekai Ha | W25: =COUNT(H38,F49,F57,H70,H76,H86,H96,H106,H116,H126,H136) -> 11 | X25: =SUM(Q38,C49,C57,Q70,C76,Q90,C100,C111,Q117,C131,Q137) -> 12 | Y25: =SUM(COUNTIFS($C$36:$C$141,3,$D$36:$D$141,V25),COUNTIFS($I$36:$I$141,V25,$Q$36:$Q$141,3)) -> 3 | Z25: =SUM(COUNTIFS($C$36:$C$141,2,$D$36:$D$141,V25),COUNTIFS($I$36:$I$141,V25,$Q$36:$Q$141,2)) -> 1 | AA25: =SUM(COUNTIFS($C$36:$C$141,1,$D$36:$D$141,V25),COUNTIFS($I$36:$I$141,V25,$Q$36:$Q$141,1)) -> 1 | AB25: =SUM(COUNTIFS($C$36:$C$141,0,$D$36:$D$141,V25),COUNTIFS($I$36:$I$141,V25,$Q$36:$Q$141,0)) -> 6 | AC25: =SUM(H38,F49,F57,H70,F76,H90,F100,F111,H117,F131,H137) -> 563 | AD25: =SUM(F38,H49,H57,F70,H76,F90,H100,H111,F117,H131,F137) -> 557 | AE25: =AC25-AD25 -> 6 | AF25: =(X25/(W25*3)) -> 0.36363636 | AG25: =(X25*10^10)+((AC25+5000)*10^6)+(AE25*10)+U25 -> 125563000066 | AH25: =LARGE($AG$20:$AG$31,U25) -> 165547999625 | AI25: =MATCH(AH25,$AG$20:$AG$31,0) -> 5
D26: 7º | E26: =VLOOKUP(AI26,$U$20:$AH$31,2) -> É o ki tu merece | F26: =VLOOKUP(AI26,$U$20:$AH$31,3) -> 11 | G26: =VLOOKUP(AI26,$U$20:$AH$31,4) -> 12 | H26: =VLOOKUP(AI26,$U$20:$AH$31,5) -> 4 | I26: =VLOOKUP(AI26,$U$20:$AH$31,6) -> 0 | J26: =VLOOKUP(AI26,$U$20:$AH$31,7) -> 0 | K26: =VLOOKUP(AI26,$U$20:$AH$31,8) -> 7 | L26: =VLOOKUP(AI26,$U$20:$AH$31,9) -> 621 | M26: =VLOOKUP(AI26,$U$20:$AH$31,10) -> 561 | N26: =VLOOKUP(AI26,$U$20:$AH$31,11) -> 60 | O26: =VLOOKUP(AI26,$U$20:$AH$31,12) -> 0.36363636 | R26: % APR. - Aproveitamento | U26: 7 | V26: comicu | W26: =COUNT(H36,H46,H56,H66,H76,H86,H96,H106,H116,H126,H136) -> 11 | X26: =SUM(Q40,Q47,C59,C66,Q81,C87,C98,Q111,Q119,C129,Q136) -> 18 | Y26: =SUM(COUNTIFS($C$36:$C$141,3,$D$36:$D$141,V26),COUNTIFS($I$36:$I$141,V26,$Q$36:$Q$141,3)) -> 4 | Z26: =SUM(COUNTIFS($C$36:$C$141,2,$D$36:$D$141,V26),COUNTIFS($I$36:$I$141,V26,$Q$36:$Q$141,2)) -> 3 | AA26: =SUM(COUNTIFS($C$36:$C$141,1,$D$36:$D$141,V26),COUNTIFS($I$36:$I$141,V26,$Q$36:$Q$141,1)) -> 0 | AB26: =SUM(COUNTIFS($C$36:$C$141,0,$D$36:$D$141,V26),COUNTIFS($I$36:$I$141,V26,$Q$36:$Q$141,0)) -> 4 | AC26: =SUM(H40,H47,F59,F66,H81,F87,F98,H111,H119,F129,H136) -> 648 | AD26: =SUM(F40,F47,H59,H66,F81,H87,H98,F119,H129,F136) -> 490 | AE26: =AC26-AD26 -> 158 | AF26: =(X26/(W26*3)) -> 0.54545455 | AG26: =(X26*10^10)+((AC26+5000)*10^6)+(AE26*10)+U26 -> 185648001587 | AH26: =LARGE($AG$20:$AG$31,U26) -> 125621000609 | AI26: =MATCH(AH26,$AG$20:$AG$31,0) -> 9
D27: 8º | E27: =VLOOKUP(AI27,$U$20:$AH$31,2) -> Sekishiki Mekai Ha | F27: =VLOOKUP(AI27,$U$20:$AH$31,3) -> 11 | G27: =VLOOKUP(AI27,$U$20:$AH$31,4) -> 12 | H27: =VLOOKUP(AI27,$U$20:$AH$31,5) -> 3 | I27: =VLOOKUP(AI27,$U$20:$AH$31,6) -> 1 | J27: =VLOOKUP(AI27,$U$20:$AH$31,7) -> 1 | K27: =VLOOKUP(AI27,$U$20:$AH$31,8) -> 6 | L27: =VLOOKUP(AI27,$U$20:$AH$31,9) -> 563 | M27: =VLOOKUP(AI27,$U$20:$AH$31,10) -> 557 | N27: =VLOOKUP(AI27,$U$20:$AH$31,11) -> 6 | O27: =VLOOKUP(AI27,$U$20:$AH$31,12) -> 0.36363636 | U27: 8 | V27: Bahia aju | W27: =COUNT(H36,H46,H56,H66,H76,H86,H96,H106,H116,H126,H136) -> 11 | X27: =SUM(Q39,Q48,C61,Q66,C79,C90,Q96,C106,C116,Q128,C139) -> 24 | Y27: =SUM(COUNTIFS($C$36:$C$141,3,$D$36:$D$141,V27),COUNTIFS($I$36:$I$141,V27,$Q$36:$Q$141,3)) -> 6 | Z27: =SUM(COUNTIFS($C$36:$C$141,2,$D$36:$D$141,V27),COUNTIFS($I$36:$I$141,V27,$Q$36:$Q$141,2)) -> 3 | AA27: =SUM(COUNTIFS($C$36:$C$141,1,$D$36:$D$141,V27),COUNTIFS($I$36:$I$141,V27,$Q$36:$Q$141,1)) -> 0 | AB27: =SUM(COUNTIFS($C$36:$C$141,0,$D$36:$D$141,V27),COUNTIFS($I$36:$I$141,V27,$Q$36:$Q$141,0)) -> 2 | AC27: =SUM(H39,H48,F61,H66,F79,F90,H96,F106,F116,H128,F139) -> 659 | AD27: =SUM(F39,F48,F66,H61,H79,H90,F96,H106,H116,F128,H139) -> 576 | AE27: =AC27-AD27 -> 83 | AF27: =(X27/(W27*3)) -> 0.72727273 | AG27: =(X27*10^10)+((AC27+5000)*10^6)+(AE27*10)+U27 -> 245659000838 | AH27: =LARGE($AG$20:$AG$31,U27) -> 125563000066 | AI27: =MATCH(AH27,$AG$20:$AG$31,0) -> 6
D28: 9º | E28: =VLOOKUP(AI28,$U$20:$AH$31,2) -> Engenheirense | F28: =VLOOKUP(AI28,$U$20:$AH$31,3) -> 11 | G28: =VLOOKUP(AI28,$U$20:$AH$31,4) -> 10 | H28: =VLOOKUP(AI28,$U$20:$AH$31,5) -> 2 | I28: =VLOOKUP(AI28,$U$20:$AH$31,6) -> 2 | J28: =VLOOKUP(AI28,$U$20:$AH$31,7) -> 0 | K28: =VLOOKUP(AI28,$U$20:$AH$31,8) -> 7 | L28: =VLOOKUP(AI28,$U$20:$AH$31,9) -> 608 | M28: =VLOOKUP(AI28,$U$20:$AH$31,10) -> 631 | N28: =VLOOKUP(AI28,$U$20:$AH$31,11) -> -23 | O28: =VLOOKUP(AI28,$U$20:$AH$31,12) -> 0.3030303 | R28: CRITÉRIO DE DESEMPATE | U28: 9 | V28: É o ki tu merece | W28: =COUNT(H36,H46,H56,H66,H76,H86,H96,H106,H116,H126,H136) -> 11 | X28: =SUM(C37,Q49,C56,Q69,C77,Q88,C97,Q106,C120,Q126,C136) -> 12 | Y28: =SUM(COUNTIFS($C$36:$C$141,3,$D$36:$D$141,V28),COUNTIFS($I$36:$I$141,V28,$Q$36:$Q$141,3)) -> 4 | Z28: =SUM(COUNTIFS($C$36:$C$141,2,$D$36:$D$141,V28),COUNTIFS($I$36:$I$141,V28,$Q$36:$Q$141,2)) -> 0 | AA28: =SUM(COUNTIFS($C$36:$C$141,1,$D$36:$D$141,V28),COUNTIFS($I$36:$I$141,V28,$Q$36:$Q$141,1)) -> 0 | AB28: =SUM(COUNTIFS($C$36:$C$141,0,$D$36:$D$141,V28),COUNTIFS($I$36:$I$141,V28,$Q$36:$Q$141,0)) -> 7 | AC28: =SUM(F37,H49,F56,H69,F77,H88,F97,H106,F120,H126,F136) -> 621 | AD28: =SUM(H37,F49,H56,F69,H77,F88,H97,F106,H120,F126,H136) -> 561 | AE28: =AC28-AD28 -> 60 | AF28: =(X28/(W28*3)) -> 0.36363636 | AG28: =(X28*10^10)+((AC28+5000)*10^6)+(AE28*10)+U28 -> 125621000609 | AH28: =LARGE($AG$20:$AG$31,U28) -> 105607999781 | AI28: =MATCH(AH28,$AG$20:$AG$31,0) -> 11
D29: 10º | E29: =VLOOKUP(AI29,$U$20:$AH$31,2) -> Marvada da cachaça | F29: =VLOOKUP(AI29,$U$20:$AH$31,3) -> 11 | G29: =VLOOKUP(AI29,$U$20:$AH$31,4) -> 8 | H29: =VLOOKUP(AI29,$U$20:$AH$31,5) -> 2 | I29: =VLOOKUP(AI29,$U$20:$AH$31,6) -> 0 | J29: =VLOOKUP(AI29,$U$20:$AH$31,7) -> 2 | K29: =VLOOKUP(AI29,$U$20:$AH$31,8) -> 7 | L29: =VLOOKUP(AI29,$U$20:$AH$31,9) -> 418 | M29: =VLOOKUP(AI29,$U$20:$AH$31,10) -> 564 | N29: =VLOOKUP(AI29,$U$20:$AH$31,11) -> -146 | O29: =VLOOKUP(AI29,$U$20:$AH$31,12) -> 0.24242424 | R29: 1 - pontos | U29: 10 | V29: ousadia e alegriaa1 | W29: =COUNT(H36,H46,H56,H66,H76,H86,H96,H106,H116,H126,H136) -> 11 | X29: =SUM(Q37,C48,Q59,Q71,C80,Q89,Q99,C109,C117,Q130,Q141) -> 20 | Y29: =SUM(COUNTIFS($C$36:$C$141,3,$D$36:$D$141,V29),COUNTIFS($I$36:$I$141,V29,$Q$36:$Q$141,3)) -> 4 | Z29: =SUM(COUNTIFS($C$36:$C$141,2,$D$36:$D$141,V29),COUNTIFS($I$36:$I$141,V29,$Q$36:$Q$141,2)) -> 4 | AA29: =SUM(COUNTIFS($C$36:$C$141,1,$D$36:$D$141,V29),COUNTIFS($I$36:$I$141,V29,$Q$36:$Q$141,1)) -> 0 | AB29: =SUM(COUNTIFS($C$36:$C$141,0,$D$36:$D$141,V29),COUNTIFS($I$36:$I$141,V29,$Q$36:$Q$141,0)) -> 3 | AC29: =SUM(H37,F48,H59,H71,F80,H89,H99,F109,F117,H130,H141) -> 547 | AD29: =SUM(F37,H48,F59,F71,H80,F89,F99,H109,H117,F130,F141) -> 467 | AE29: =AC29-AD29 -> 80 | AF29: =(X29/(W29*3)) -> 0.60606061 | AG29: =(X29*10^10)+((AC29+5000)*10^6)+(AE29*10)+U29 -> 205547000810 | AH29: =LARGE($AG$20:$AG$31,U29) -> 85417998542 | AI29: =MATCH(AH29,$AG$20:$AG$31,0) -> 2
D30: 11º | E30: =VLOOKUP(AI30,$U$20:$AH$31,2) -> Xavecos UFC | F30: =VLOOKUP(AI30,$U$20:$AH$31,3) -> 11 | G30: =VLOOKUP(AI30,$U$20:$AH$31,4) -> 8 | H30: =VLOOKUP(AI30,$U$20:$AH$31,5) -> 2 | I30: =VLOOKUP(AI30,$U$20:$AH$31,6) -> 1 | J30: =VLOOKUP(AI30,$U$20:$AH$31,7) -> 0 | K30: =VLOOKUP(AI30,$U$20:$AH$31,8) -> 8 | L30: =VLOOKUP(AI30,$U$20:$AH$31,9) -> 401 | M30: =VLOOKUP(AI30,$U$20:$AH$31,10) -> 545 | N30: =VLOOKUP(AI30,$U$20:$AH$31,11) -> -144 | O30: =VLOOKUP(AI30,$U$20:$AH$31,12) -> 0.24242424 | R30: 2 - pontos pró Cartola | U30: 11 | V30: Engenheirense | W30: =COUNT(H36,H46,H56,H66,H76,H86,H96,H106,H116,H126,H136) -> 11 | X30: =SUM(C40,Q51,C58,Q67,C78,C88,Q100,C110,Q116,Q127,C141) -> 10 | Y30: =SUM(COUNTIFS($C$36:$C$141,3,$D$36:$D$141,V30),COUNTIFS($I$36:$I$141,V30,$Q$36:$Q$141,3)) -> 2 | Z30: =SUM(COUNTIFS($C$36:$C$141,2,$D$36:$D$141,V30),COUNTIFS($I$36:$I$141,V30,$Q$36:$Q$141,2)) -> 2 | AA30: =SUM(COUNTIFS($C$36:$C$141,1,$D$36:$D$141,V30),COUNTIFS($I$36:$I$141,V30,$Q$36:$Q$141,1)) -> 0 | AB30: =SUM(COUNTIFS($C$36:$C$141,0,$D$36:$D$141,V30),COUNTIFS($I$36:$I$141,V30,$Q$36:$Q$141,0)) -> 7 | AC30: =SUM(F40,H51,F58,H67,F78,H100,F110,H116,H127,F141,F88) -> 608 | AD30: =SUM(H40,F51,H58,F67,H78,H88,F100,H110,F116,F127,H141) -> 631 | AE30: =AC30-AD30 -> -23 | AF30: =(X30/(W30*3)) -> 0.3030303 | AG30: =(X30*10^10)+((AC30+5000)*10^6)+(AE30*10)+U30 -> 105607999781 | AH30: =LARGE($AG$20:$AG$31,U30) -> 85400998563 | AI30: =MATCH(AH30,$AG$20:$AG$31,0) -> 3
D31: 12º | E31: =VLOOKUP(AI31,$U$20:$AH$31,2) -> mathpalestra | F31: =VLOOKUP(AI31,$U$20:$AH$31,3) -> 11 | G31: =VLOOKUP(AI31,$U$20:$AH$31,4) -> 6 | H31: =VLOOKUP(AI31,$U$20:$AH$31,5) -> 1 | I31: =VLOOKUP(AI31,$U$20:$AH$31,6) -> 1 | J31: =VLOOKUP(AI31,$U$20:$AH$31,7) -> 1 | K31: =VLOOKUP(AI31,$U$20:$AH$31,8) -> 8 | L31: =VLOOKUP(AI31,$U$20:$AH$31,9) -> 403 | M31: =VLOOKUP(AI31,$U$20:$AH$31,10) -> 624 | N31: =VLOOKUP(AI31,$U$20:$AH$31,11) -> -221 | O31: =VLOOKUP(AI31,$U$20:$AH$31,12) -> 0.18181818 | R31: 3 - saldo de pontos | U31: 12 | V31: Soccer Italy | W31: =COUNT(H36,H46,H56,H66,H76,H86,H96,H106,H116,H126,H136) -> 11 | X31: =SUM(C36,C51,Q61,Q68,Q80,C86,Q97,Q108,C119,Q131,C138) -> 20 | Y31: =SUM(COUNTIFS($C$36:$C$141,3,$D$36:$D$141,V31),COUNTIFS($I$36:$I$141,V31,$Q$36:$Q$141,3)) -> 6 | Z31: =SUM(COUNTIFS($C$36:$C$141,2,$D$36:$D$141,V31),COUNTIFS($I$36:$I$141,V31,$Q$36:$Q$141,2)) -> 1 | AA31: =SUM(COUNTIFS($C$36:$C$141,1,$D$36:$D$141,V31),COUNTIFS($I$36:$I$141,V31,$Q$36:$Q$141,1)) -> 0 | AB31: =SUM(COUNTIFS($C$36:$C$141,0,$D$36:$D$141,V31),COUNTIFS($I$36:$I$141,V31,$Q$36:$Q$141,0)) -> 4 | AC31: =SUM(F36,F51,H61,H68,H80,F86,H97,H108,F119,H131,F138) -> 621 | AD31: =SUM(H36,H51,F61,F68,F80,H86,F97,F108,H119,F131,H138) -> 551 | AE31: =AC31-AD31 -> 70 | AF31: =(X31/(W31*3)) -> 0.60606061 | AG31: =(X31*10^10)+((AC31+5000)*10^6)+(AE31*10)+U31 -> 205621000712 | AH31: =LARGE($AG$20:$AG$31,U31) -> 65402997791 | AI31: =MATCH(AH31,$AG$20:$AG$31,0) -> 1
R32: 4 - pontos contra Cartola
D33: 1ª RODADA - #20
C36: =IF(OR(F36="",H36=""),"",IF(F36=H36,1,IF(F36<H36,0,IF(F36-H36<10,2,IF(F36>H36,3,SE))))) -> 0 | D36: =V31 -> Soccer Italy | F36: 37 | G36: x | H36: 47 | I36: =V24 -> Botafogo Rocha | Q36: =IF(OR(H36="",F36=""),"",IF(H36=F36,1,IF(H36<F36,0,IF(H36-F36<10,2,IF(H36>F36,3,SE))))) -> 3
C37: =IF(OR(F37="",H37=""),"",IF(F37=H37,1,IF(F37<H37,0,IF(F37-H37<10,2,IF(F37>H37,3,SE))))) -> 0 | D37: =V28 -> É o ki tu merece | F37: 59 | G37: x | H37: 68 | I37: =V29 -> ousadia e alegriaa1 | Q37: =IF(OR(H37="",F37=""),"",IF(H37=F37,1,IF(H37<F37,0,IF(H37-F37<10,2,IF(H37>F37,3,SE))))) -> 2
C38: =IF(OR(F38="",H38=""),"",IF(F38=H38,1,IF(F38<H38,0,IF(F38-H38<10,2,IF(F38>H38,3,SE))))) -> 0 | D38: =V20 -> mathpalestra | F38: 21 | G38: x | H38: 59 | I38: =V25 -> Sekishiki Mekai Ha | Q38: =IF(OR(H38="",F38=""),"",IF(H38=F38,1,IF(H38<F38,0,IF(H38-F38<10,2,IF(H38>F38,3,SE))))) -> 3
C39: =IF(OR(F39="",H39=""),"",IF(F39=H39,1,IF(F39<H39,0,IF(F39-H39<10,2,IF(F39>H39,3,SE))))) -> 0 | D39: =V22 -> Xavecos UFC | F39: 29 | G39: x | H39: 62 | I39: =V27 -> Bahia aju | Q39: =IF(OR(H39="",F39=""),"",IF(H39=F39,1,IF(H39<F39,0,IF(H39-F39<10,2,IF(H39>F39,3,SE))))) -> 3
C40: =IF(OR(F40="",H40=""),"",IF(F40=H40,1,IF(F40<H40,0,IF(F40-H40<10,2,IF(F40>H40,3,SE))))) -> 0 | D40: =V30 -> Engenheirense | F40: 51 | G40: x | H40: 53 | I40: =V26 -> comicu | Q40: =IF(OR(H40="",F40=""),"",IF(H40=F40,1,IF(H40<F40,0,IF(H40-F40<10,2,IF(H40>F40,3,SE))))) -> 2
C41: =IF(OR(F41="",H41=""),"",IF(F41=H41,1,IF(F41<H41,0,IF(F41-H41<10,2,IF(F41>H41,3,SE))))) -> 3 | D41: =V23 -> Driblador F.C | F41: 63 | G41: x | H41: 15 | I41: =V21 -> Marvada da cachaça | Q41: =IF(OR(H41="",F41=""),"",IF(H41=F41,1,IF(H41<F41,0,IF(H41-F41<10,2,IF(H41>F41,3,SE))))) -> 0
C42: =IF(OR(F42="",H42=""),"",IF(F42=H42,1,IF(F42<H42,0,IF(F42-H42<10,2,IF(F42>H42,3,SE))))) | Q42: =IF(OR(H42="",F42=""),"",IF(H42=F42,1,IF(H42<F42,0,IF(H42-F42<10,2,IF(H42>F42,3,SE)))))
C43: =IF(OR(F43="",H43=""),"",IF(F43=H43,1,IF(F43<H43,0,IF(F43-H43<10,2,IF(F43>H43,3,SE))))) | D43: 2ª RODADA - #21 | Q43: =IF(OR(H43="",F43=""),"",IF(H43=F43,1,IF(H43<F43,0,IF(H43-F43<10,2,IF(H43>F43,3,SE)))))
C44: =IF(OR(F44="",H44=""),"",IF(F44=H44,1,IF(F44<H44,0,IF(F44-H44<10,2,IF(F44>H44,3,SE))))) | Q44: =IF(OR(H44="",F44=""),"",IF(H44=F44,1,IF(H44<F44,0,IF(H44-F44<10,2,IF(H44>F44,3,SE)))))
C45: =IF(OR(F45="",H45=""),"",IF(F45=H45,1,IF(F45<H45,0,IF(F45-H45<10,2,IF(F45>H45,3,SE))))) | Q45: =IF(OR(H45="",F45=""),"",IF(H45=F45,1,IF(H45<F45,0,IF(H45-F45<10,2,IF(H45>F45,3,SE)))))
C46: =IF(OR(F46="",H46=""),"",IF(F46=H46,1,IF(F46<H46,0,IF(F46-H46<10,2,IF(F46>H46,3,SE))))) -> 3 | D46: =V23 -> Driblador F.C | F46: 91 | G46: x | H46: 15 | I46: =V20 -> mathpalestra | Q46: =IF(OR(H46="",F46=""),"",IF(H46=F46,1,IF(H46<F46,0,IF(H46-F46<10,2,IF(H46>F46,3,SE))))) -> 0
C47: =IF(OR(F47="",H47=""),"",IF(F47=H47,1,IF(F47<H47,0,IF(F47-H47<10,2,IF(F47>H47,3,SE))))) -> 0 | D47: =V24 -> Botafogo Rocha | F47: 42 | G47: x | H47: 79 | I47: =V26 -> comicu | Q47: =IF(OR(H47="",F47=""),"",IF(H47=F47,1,IF(H47<F47,0,IF(H47-F47<10,2,IF(H47>F47,3,SE))))) -> 3
C48: =IF(OR(F48="",H48=""),"",IF(F48=H48,1,IF(F48<H48,0,IF(F48-H48<10,2,IF(F48>H48,3,SE))))) -> 0 | D48: =V29 -> ousadia e alegriaa1 | F48: 55 | G48: x | H48: 69 | I48: =V27 -> Bahia aju | Q48: =IF(OR(H48="",F48=""),"",IF(H48=F48,1,IF(H48<F48,0,IF(H48-F48<10,2,IF(H48>F48,3,SE))))) -> 3
C49: =IF(OR(F49="",H49=""),"",IF(F49=H49,1,IF(F49<H49,0,IF(F49-H49<10,2,IF(F49>H49,3,SE))))) -> 0 | D49: =V25 -> Sekishiki Mekai Ha | F49: 63 | G49: x | H49: 73 | I49: =V28 -> É o ki tu merece | Q49: =IF(OR(H49="",F49=""),"",IF(H49=F49,1,IF(H49<F49,0,IF(H49-F49<10,2,IF(H49>F49,3,SE))))) -> 3
C50: =IF(OR(F50="",H50=""),"",IF(F50=H50,1,IF(F50<H50,0,IF(F50-H50<10,2,IF(F50>H50,3,SE))))) -> 3 | D50: =V21 -> Marvada da cachaça | F50: 68 | G50: x | H50: 29 | I50: =V22 -> Xavecos UFC | Q50: =IF(OR(H50="",F50=""),"",IF(H50=F50,1,IF(H50<F50,0,IF(H50-F50<10,2,IF(H50>F50,3,SE))))) -> 0
C51: =IF(OR(F51="",H51=""),"",IF(F51=H51,1,IF(F51<H51,0,IF(F51-H51<10,2,IF(F51>H51,3,SE))))) -> 3 | D51: =V31 -> Soccer Italy | F51: 101 | G51: x | H51: 68 | I51: =V30 -> Engenheirense | Q51: =IF(OR(H51="",F51=""),"",IF(H51=F51,1,IF(H51<F51,0,IF(H51-F51<10,2,IF(H51>F51,3,SE))))) -> 0
C52: =IF(OR(F52="",H52=""),"",IF(F52=H52,1,IF(F52<H52,0,IF(F52-H52<10,2,IF(F52>H52,3,SE))))) | Q52: =IF(OR(H52="",F52=""),"",IF(H52=F52,1,IF(H52<F52,0,IF(H52-F52<10,2,IF(H52>F52,3,SE)))))
C53: =IF(OR(F53="",H53=""),"",IF(F53=H53,1,IF(F53<H53,0,IF(F53-H53<10,2,IF(F53>H53,3,SE))))) | D53: 3ª RODADA - #22 | Q53: =IF(OR(H53="",F53=""),"",IF(H53=F53,1,IF(H53<F53,0,IF(H53-F53<10,2,IF(H53>F53,3,SE)))))
C54: =IF(OR(F54="",H54=""),"",IF(F54=H54,1,IF(F54<H54,0,IF(F54-H54<10,2,IF(F54>H54,3,SE))))) | Q54: =IF(OR(H54="",F54=""),"",IF(H54=F54,1,IF(H54<F54,0,IF(H54-F54<10,2,IF(H54>F54,3,SE)))))
C55: =IF(OR(F55="",H55=""),"",IF(F55=H55,1,IF(F55<H55,0,IF(F55-H55<10,2,IF(F55>H55,3,SE))))) | Q55: =IF(OR(H55="",F55=""),"",IF(H55=F55,1,IF(H55<F55,0,IF(H55-F55<10,2,IF(H55>F55,3,SE)))))
C56: =IF(OR(F56="",H56=""),"",IF(F56=H56,1,IF(F56<H56,0,IF(F56-H56<10,2,IF(F56>H56,3,SE))))) -> 3 | D56: =V28 -> É o ki tu merece | F56: 56 | G56: x | H56: 26 | I56: =V24 -> Botafogo Rocha | Q56: =IF(OR(H56="",F56=""),"",IF(H56=F56,1,IF(H56<F56,0,IF(H56-F56<10,2,IF(H56>F56,3,SE))))) -> 0
C57: =IF(OR(F57="",H57=""),"",IF(F57=H57,1,IF(F57<H57,0,IF(F57-H57<10,2,IF(F57>H57,3,SE))))) -> 1 | D57: =V25 -> Sekishiki Mekai Ha | F57: 36 | G57: x | H57: 36 | I57: =V21 -> Marvada da cachaça | Q57: =IF(OR(H57="",F57=""),"",IF(H57=F57,1,IF(H57<F57,0,IF(H57-F57<10,2,IF(H57>F57,3,SE))))) -> 1
C58: =IF(OR(F58="",H58=""),"",IF(F58=H58,1,IF(F58<H58,0,IF(F58-H58<10,2,IF(F58>H58,3,SE))))) -> 0 | D58: =V30 -> Engenheirense | F58: 25 | G58: x | H58: 34 | I58: =V23 -> Driblador F.C | Q58: =IF(OR(H58="",F58=""),"",IF(H58=F58,1,IF(H58<F58,0,IF(H58-F58<10,2,IF(H58>F58,3,SE))))) -> 2
C59: =IF(OR(F59="",H59=""),"",IF(F59=H59,1,IF(F59<H59,0,IF(F59-H59<10,2,IF(F59>H59,3,SE))))) -> 0 | D59: =V26 -> comicu | F59: 40 | G59: x | H59: 46 | I59: =V29 -> ousadia e alegriaa1 | Q59: =IF(OR(H59="",F59=""),"",IF(H59=F59,1,IF(H59<F59,0,IF(H59-F59<10,2,IF(H59>F59,3,SE))))) -> 2
C60: =IF(OR(F60="",H60=""),"",IF(F60=H60,1,IF(F60<H60,0,IF(F60-H60<10,2,IF(F60>H60,3,SE))))) -> 0 | D60: =V22 -> Xavecos UFC | F60: 46 | G60: x | H60: 47 | I60: =V20 -> mathpalestra | Q60: =IF(OR(H60="",F60=""),"",IF(H60=F60,1,IF(H60<F60,0,IF(H60-F60<10,2,IF(H60>F60,3,SE))))) -> 2
C61: =IF(OR(F61="",H61=""),"",IF(F61=H61,1,IF(F61<H61,0,IF(F61-H61<10,2,IF(F61>H61,3,SE))))) -> 0 | D61: =V27 -> Bahia aju | F61: 33 | G61: x | H61: 45 | I61: =V31 -> Soccer Italy | Q61: =IF(OR(H61="",F61=""),"",IF(H61=F61,1,IF(H61<F61,0,IF(H61-F61<10,2,IF(H61>F61,3,SE))))) -> 3
C62: =IF(OR(F62="",H62=""),"",IF(F62=H62,1,IF(F62<H62,0,IF(F62-H62<10,2,IF(F62>H62,3,SE))))) | Q62: =IF(OR(H62="",F62=""),"",IF(H62=F62,1,IF(H62<F62,0,IF(H62-F62<10,2,IF(H62>F62,3,SE)))))
C63: =IF(OR(F63="",H63=""),"",IF(F63=H63,1,IF(F63<H63,0,IF(F63-H63<10,2,IF(F63>H63,3,SE))))) | D63: 4ª RODADA - #23 | Q63: =IF(OR(H63="",F63=""),"",IF(H63=F63,1,IF(H63<F63,0,IF(H63-F63<10,2,IF(H63>F63,3,SE)))))
C64: =IF(OR(F64="",H64=""),"",IF(F64=H64,1,IF(F64<H64,0,IF(F64-H64<10,2,IF(F64>H64,3,SE))))) | Q64: =IF(OR(H64="",F64=""),"",IF(H64=F64,1,IF(H64<F64,0,IF(H64-F64<10,2,IF(H64>F64,3,SE)))))
C65: =IF(OR(F65="",H65=""),"",IF(F65=H65,1,IF(F65<H65,0,IF(F65-H65<10,2,IF(F65>H65,3,SE))))) | Q65: =IF(OR(H65="",F65=""),"",IF(H65=F65,1,IF(H65<F65,0,IF(H65-F65<10,2,IF(H65>F65,3,SE)))))
C66: =IF(OR(F66="",H66=""),"",IF(F66=H66,1,IF(F66<H66,0,IF(F66-H66<10,2,IF(F66>H66,3,SE))))) -> 0 | D66: =V26 -> comicu | F66: 72 | G66: x | H66: 79 | I66: =V27 -> Bahia aju | Q66: =IF(OR(H66="",F66=""),"",IF(H66=F66,1,IF(H66<F66,0,IF(H66-F66<10,2,IF(H66>F66,3,SE))))) -> 2
C67: =IF(OR(F67="",H67=""),"",IF(F67=H67,1,IF(F67<H67,0,IF(F67-H67<10,2,IF(F67>H67,3,SE))))) -> 2 | D67: =V22 -> Xavecos UFC | F67: 50 | G67: x | H67: 49 | I67: =V30 -> Engenheirense | Q67: =IF(OR(H67="",F67=""),"",IF(H67=F67,1,IF(H67<F67,0,IF(H67-F67<10,2,IF(H67>F67,3,SE))))) -> 0
C68: =IF(OR(F68="",H68=""),"",IF(F68=H68,1,IF(F68<H68,0,IF(F68-H68<10,2,IF(F68>H68,3,SE))))) -> 3 | D68: =V23 -> Driblador F.C | F68: 75 | G68: x | H68: 64 | I68: =V31 -> Soccer Italy | Q68: =IF(OR(H68="",F68=""),"",IF(H68=F68,1,IF(H68<F68,0,IF(H68-F68<10,2,IF(H68>F68,3,SE))))) -> 0
C69: =IF(OR(F69="",H69=""),"",IF(F69=H69,1,IF(F69<H69,0,IF(F69-H69<10,2,IF(F69>H69,3,SE))))) -> 3 | D69: =V21 -> Marvada da cachaça | F69: 40 | G69: x | H69: 30 | I69: =V28 -> É o ki tu merece | Q69: =IF(OR(H69="",F69=""),"",IF(H69=F69,1,IF(H69<F69,0,IF(H69-F69<10,2,IF(H69>F69,3,SE))))) -> 0
C70: =IF(OR(F70="",H70=""),"",IF(F70=H70,1,IF(F70<H70,0,IF(F70-H70<10,2,IF(F70>H70,3,SE))))) -> 0 | D70: =V24 -> Botafogo Rocha | F70: 53 | G70: x | H70: 73 | I70: =V25 -> Sekishiki Mekai Ha | Q70: =IF(OR(H70="",F70=""),"",IF(H70=F70,1,IF(H70<F70,0,IF(H70-F70<10,2,IF(H70>F70,3,SE))))) -> 3
C71: =IF(OR(F71="",H71=""),"",IF(F71=H71,1,IF(F71<H71,0,IF(F71-H71<10,2,IF(F71>H71,3,SE))))) -> 0 | D71: =V20 -> mathpalestra | F71: 14 | G71: x | H71: 55 | I71: =V29 -> ousadia e alegriaa1 | Q71: =IF(OR(H71="",F71=""),"",IF(H71=F71,1,IF(H71<F71,0,IF(H71-F71<10,2,IF(H71>F71,3,SE))))) -> 3
C72: =IF(OR(F72="",H72=""),"",IF(F72=H72,1,IF(F72<H72,0,IF(F72-H72<10,2,IF(F72>H72,3,SE))))) | Q72: =IF(OR(H72="",F72=""),"",IF(H72=F72,1,IF(H72<F72,0,IF(H72-F72<10,2,IF(H72>F72,3,SE)))))
C73: =IF(OR(F73="",H73=""),"",IF(F73=H73,1,IF(F73<H73,0,IF(F73-H73<10,2,IF(F73>H73,3,SE))))) | D73: 5ª RODADA - #24 | Q73: =IF(OR(H73="",F73=""),"",IF(H73=F73,1,IF(H73<F73,0,IF(H73-F73<10,2,IF(H73>F73,3,SE)))))
C74: =IF(OR(F74="",H74=""),"",IF(F74=H74,1,IF(F74<H74,0,IF(F74-H74<10,2,IF(F74>H74,3,SE))))) | Q74: =IF(OR(H74="",F74=""),"",IF(H74=F74,1,IF(H74<F74,0,IF(H74-F74<10,2,IF(H74>F74,3,SE)))))
C75: =IF(OR(F75="",H75=""),"",IF(F75=H75,1,IF(F75<H75,0,IF(F75-H75<10,2,IF(F75>H75,3,SE))))) | Q75: =IF(OR(H75="",F75=""),"",IF(H75=F75,1,IF(H75<F75,0,IF(H75-F75<10,2,IF(H75>F75,3,SE)))))
C76: =IF(OR(F76="",H76=""),"",IF(F76=H76,1,IF(F76<H76,0,IF(F76-H76<10,2,IF(F76>H76,3,SE))))) -> 3 | D76: =V25 -> Sekishiki Mekai Ha | F76: 46 | G76: x | H76: 30 | I76: =V23 -> Driblador F.C | Q76: =IF(OR(H76="",F76=""),"",IF(H76=F76,1,IF(H76<F76,0,IF(H76-F76<10,2,IF(H76>F76,3,SE))))) -> 0
C77: =IF(OR(F77="",H77=""),"",IF(F77=H77,1,IF(F77<H77,0,IF(F77-H77<10,2,IF(F77>H77,3,SE))))) -> 0 | D77: =V28 -> É o ki tu merece | F77: 43 | G77: x | H77: 55 | I77: =V22 -> Xavecos UFC | Q77: =IF(OR(H77="",F77=""),"",IF(H77=F77,1,IF(H77<F77,0,IF(H77-F77<10,2,IF(H77>F77,3,SE))))) -> 3
C78: =IF(OR(F78="",H78=""),"",IF(F78=H78,1,IF(F78<H78,0,IF(F78-H78<10,2,IF(F78>H78,3,SE))))) -> 0 | D78: =V30 -> Engenheirense | F78: 52 | G78: x | H78: 66 | I78: =V20 -> mathpalestra | Q78: =IF(OR(H78="",F78=""),"",IF(H78=F78,1,IF(H78<F78,0,IF(H78-F78<10,2,IF(H78>F78,3,SE))))) -> 3
C79: =IF(OR(F79="",H79=""),"",IF(F79=H79,1,IF(F79<H79,0,IF(F79-H79<10,2,IF(F79>H79,3,SE))))) -> 3 | D79: =V27 -> Bahia aju | F79: 61 | G79: x | H79: 44 | I79: =V24 -> Botafogo Rocha | Q79: =IF(OR(H79="",F79=""),"",IF(H79=F79,1,IF(H79<F79,0,IF(H79-F79<10,2,IF(H79>F79,3,SE))))) -> 0
C80: =IF(OR(F80="",H80=""),"",IF(F80=H80,1,IF(F80<H80,0,IF(F80-H80<10,2,IF(F80>H80,3,SE))))) -> 3 | D80: =V29 -> ousadia e alegriaa1 | F80: 64 | G80: x | H80: 41 | I80: =V31 -> Soccer Italy | Q80: =IF(OR(H80="",F80=""),"",IF(H80=F80,1,IF(H80<F80,0,IF(H80-F80<10,2,IF(H80>F80,3,SE))))) -> 0
C81: =IF(OR(F81="",H81=""),"",IF(F81=H81,1,IF(F81<H81,0,IF(F81-H81<10,2,IF(F81>H81,3,SE))))) -> 0 | D81: =V21 -> Marvada da cachaça | F81: 24 | G81: x | H81: 69 | I81: =V26 -> comicu | Q81: =IF(OR(H81="",F81=""),"",IF(H81=F81,1,IF(H81<F81,0,IF(H81-F81<10,2,IF(H81>F81,3,SE))))) -> 3
C82: =IF(OR(F82="",H82=""),"",IF(F82=H82,1,IF(F82<H82,0,IF(F82-H82<10,2,IF(F82>H82,3,SE))))) | Q82: =IF(OR(H82="",F82=""),"",IF(H82=F82,1,IF(H82<F82,0,IF(H82-F82<10,2,IF(H82>F82,3,SE)))))
C83: =IF(OR(F83="",H83=""),"",IF(F83=H83,1,IF(F83<H83,0,IF(F83-H83<10,2,IF(F83>H83,3,SE))))) | D83: 6ª RODADA - #25 | Q83: =IF(OR(H83="",F83=""),"",IF(H83=F83,1,IF(H83<F83,0,IF(H83-F83<10,2,IF(H83>F83,3,SE)))))
C84: =IF(OR(F84="",H84=""),"",IF(F84=H84,1,IF(F84<H84,0,IF(F84-H84<10,2,IF(F84>H84,3,SE))))) | Q84: =IF(OR(H84="",F84=""),"",IF(H84=F84,1,IF(H84<F84,0,IF(H84-F84<10,2,IF(H84>F84,3,SE)))))
C85: =IF(OR(F85="",H85=""),"",IF(F85=H85,1,IF(F85<H85,0,IF(F85-H85<10,2,IF(F85>H85,3,SE))))) | Q85: =IF(OR(H85="",F85=""),"",IF(H85=F85,1,IF(H85<F85,0,IF(H85-F85<10,2,IF(H85>F85,3,SE)))))
C86: =IF(OR(F86="",H86=""),"",IF(F86=H86,1,IF(F86<H86,0,IF(F86-H86<10,2,IF(F86>H86,3,SE))))) -> 3 | D86: =V31 -> Soccer Italy | F86: 46 | G86: x | H86: 32 | I86: =V22 -> Xavecos UFC | Q86: =IF(OR(H86="",F86=""),"",IF(H86=F86,1,IF(H86<F86,0,IF(H86-F86<10,2,IF(H86>F86,3,SE))))) -> 0
C87: =IF(OR(F87="",H87=""),"",IF(F87=H87,1,IF(F87<H87,0,IF(F87-H87<10,2,IF(F87>H87,3,SE))))) -> 0 | D87: =V26 -> comicu | F87: 42 | G87: x | H87: 48 | I87: =V23 -> Driblador F.C | Q87: =IF(OR(H87="",F87=""),"",IF(H87=F87,1,IF(H87<F87,0,IF(H87-F87<10,2,IF(H87>F87,3,SE))))) -> 2
C88: =IF(OR(F88="",H88=""),"",IF(F88=H88,1,IF(F88<H88,0,IF(F88-H88<10,2,IF(F88>H88,3,SE))))) -> 0 | D88: =V30 -> Engenheirense | F88: 44 | G88: x | H88: 86 | I88: =V28 -> É o ki tu merece | Q88: =IF(OR(H88="",F88=""),"",IF(H88=F88,1,IF(H88<F88,0,IF(H88-F88<10,2,IF(H88>F88,3,SE))))) -> 3
C89: =IF(OR(F89="",H89=""),"",IF(F89=H89,1,IF(F89<H89,0,IF(F89-H89<10,2,IF(F89>H89,3,SE))))) -> 3 | D89: =V24 -> Botafogo Rocha | F89: 50 | G89: x | H89: 29 | I89: =V29 -> ousadia e alegriaa1 | Q89: =IF(OR(H89="",F89=""),"",IF(H89=F89,1,IF(H89<F89,0,IF(H89-F89<10,2,IF(H89>F89,3,SE))))) -> 0
C90: =IF(OR(F90="",H90=""),"",IF(F90=H90,1,IF(F90<H90,0,IF(F90-H90<10,2,IF(F90>H90,3,SE))))) -> 3 | D90: =V27 -> Bahia aju | F90: 78 | G90: x | H90: 61 | I90: =V25 -> Sekishiki Mekai Ha | Q90: =IF(OR(H90="",F90=""),"",IF(H90=F90,1,IF(H90<F90,0,IF(H90-F90<10,2,IF(H90>F90,3,SE))))) -> 0
C91: =IF(OR(F91="",H91=""),"",IF(F91=H91,1,IF(F91<H91,0,IF(F91-H91<10,2,IF(F91>H91,3,SE))))) -> 1 | D91: =V20 -> mathpalestra | F91: 36 | G91: x | H91: 36 | I91: =V21 -> Marvada da cachaça | Q91: =IF(OR(H91="",F91=""),"",IF(H91=F91,1,IF(H91<F91,0,IF(H91-F91<10,2,IF(H91>F91,3,SE))))) -> 1
C92: =IF(OR(F92="",H92=""),"",IF(F92=H92,1,IF(F92<H92,0,IF(F92-H92<10,2,IF(F92>H92,3,SE))))) | Q92: =IF(OR(H92="",F92=""),"",IF(H92=F92,1,IF(H92<F92,0,IF(H92-F92<10,2,IF(H92>F92,3,SE)))))
C93: =IF(OR(F93="",H93=""),"",IF(F93=H93,1,IF(F93<H93,0,IF(F93-H93<10,2,IF(F93>H93,3,SE))))) | D93: 7ª RODADA - #26 | Q93: =IF(OR(H93="",F93=""),"",IF(H93=F93,1,IF(H93<F93,0,IF(H93-F93<10,2,IF(H93>F93,3,SE)))))
C94: =IF(OR(F94="",H94=""),"",IF(F94=H94,1,IF(F94<H94,0,IF(F94-H94<10,2,IF(F94>H94,3,SE))))) | Q94: =IF(OR(H94="",F94=""),"",IF(H94=F94,1,IF(H94<F94,0,IF(H94-F94<10,2,IF(H94>F94,3,SE)))))
C95: =IF(OR(F95="",H95=""),"",IF(F95=H95,1,IF(F95<H95,0,IF(F95-H95<10,2,IF(F95>H95,3,SE))))) | Q95: =IF(OR(H95="",F95=""),"",IF(H95=F95,1,IF(H95<F95,0,IF(H95-F95<10,2,IF(H95>F95,3,SE)))))
C96: =IF(OR(F96="",H96=""),"",IF(F96=H96,1,IF(F96<H96,0,IF(F96-H96<10,2,IF(F96>H96,3,SE))))) -> 0 | D96: =V21 -> Marvada da cachaça | F96: 40 | G96: x | H96: 57 | I96: =V27 -> Bahia aju | Q96: =IF(OR(H96="",F96=""),"",IF(H96=F96,1,IF(H96<F96,0,IF(H96-F96<10,2,IF(H96>F96,3,SE))))) -> 3
C97: =IF(OR(F97="",H97=""),"",IF(F97=H97,1,IF(F97<H97,0,IF(F97-H97<10,2,IF(F97>H97,3,SE))))) -> 0 | D97: =V28 -> É o ki tu merece | F97: 40 | G97: x | H97: 52 | I97: =V31 -> Soccer Italy | Q97: =IF(OR(H97="",F97=""),"",IF(H97=F97,1,IF(H97<F97,0,IF(H97-F97<10,2,IF(H97>F97,3,SE))))) -> 3
C98: =IF(OR(F98="",H98=""),"",IF(F98=H98,1,IF(F98<H98,0,IF(F98-H98<10,2,IF(F98>H98,3,SE))))) -> 2 | D98: =V26 -> comicu | F98: 46 | G98: x | H98: 41 | I98: =V20 -> mathpalestra | Q98: =IF(OR(H98="",F98=""),"",IF(H98=F98,1,IF(H98<F98,0,IF(H98-F98<10,2,IF(H98>F98,3,SE))))) -> 0
C99: =IF(OR(F99="",H99=""),"",IF(F99=H99,1,IF(F99<H99,0,IF(F99-H99<10,2,IF(F99>H99,3,SE))))) -> 0 | D99: =V22 -> Xavecos UFC | F99: 17 | G99: x | H99: 46 | I99: =V29 -> ousadia e alegriaa1 | Q99: =IF(OR(H99="",F99=""),"",IF(H99=F99,1,IF(H99<F99,0,IF(H99-F99<10,2,IF(H99>F99,3,SE))))) -> 3
C100: =IF(OR(F100="",H100=""),"",IF(F100=H100,1,IF(F100<H100,0,IF(F100-H100<10,2,IF(F100>H100,3,SE))))) -> 0 | D100: =V25 -> Sekishiki Mekai Ha | F100: 66 | G100: x | H100: 68 | I100: =V30 -> Engenheirense | Q100: =IF(OR(H100="",F100=""),"",IF(H100=F100,1,IF(H100<F100,0,IF(H100-F100<10,2,IF(H100>F100,3,SE))))) -> 2
C101: =IF(OR(F101="",H101=""),"",IF(F101=H101,1,IF(F101<H101,0,IF(F101-H101<10,2,IF(F101>H101,3,SE))))) -> 0 | D101: =V23 -> Driblador F.C | F101: 44 | G101: x | H101: 59 | I101: =V24 -> Botafogo Rocha | Q101: =IF(OR(H101="",F101=""),"",IF(H101=F101,1,IF(H101<F101,0,IF(H101-F101<10,2,IF(H101>F101,3,SE))))) -> 3
C102: =IF(OR(F102="",H102=""),"",IF(F102=H102,1,IF(F102<H102,0,IF(F102-H102<10,2,IF(F102>H102,3,SE))))) | Q102: =IF(OR(H102="",F102=""),"",IF(H102=F102,1,IF(H102<F102,0,IF(H102-F102<10,2,IF(H102>F102,3,SE)))))
C103: =IF(OR(F103="",H103=""),"",IF(F103=H103,1,IF(F103<H103,0,IF(F103-H103<10,2,IF(F103>H103,3,SE))))) | D103: 8ª RODADA - #27 | Q103: =IF(OR(H103="",F103=""),"",IF(H103=F103,1,IF(H103<F103,0,IF(H103-F103<10,2,IF(H103>F103,3,SE)))))
C104: =IF(OR(F104="",H104=""),"",IF(F104=H104,1,IF(F104<H104,0,IF(F104-H104<10,2,IF(F104>H104,3,SE))))) | Q104: =IF(OR(H104="",F104=""),"",IF(H104=F104,1,IF(H104<F104,0,IF(H104-F104<10,2,IF(H104>F104,3,SE)))))
C105: =IF(OR(F105="",H105=""),"",IF(F105=H105,1,IF(F105<H105,0,IF(F105-H105<10,2,IF(F105>H105,3,SE))))) | Q105: =IF(OR(H105="",F105=""),"",IF(H105=F105,1,IF(H105<F105,0,IF(H105-F105<10,2,IF(H105>F105,3,SE)))))
C106: =IF(OR(F106="",H106=""),"",IF(F106=H106,1,IF(F106<H106,0,IF(F106-H106<10,2,IF(F106>H106,3,SE))))) -> 2 | D106: =V27 -> Bahia aju | F106: 60 | G106: x | H106: 53 | I106: =V28 -> É o ki tu merece | Q106: =IF(OR(H106="",F106=""),"",IF(H106=F106,1,IF(H106<F106,0,IF(H106-F106<10,2,IF(H106>F106,3,SE))))) -> 0
C107: =IF(OR(F107="",H107=""),"",IF(F107=H107,1,IF(F107<H107,0,IF(F107-H107<10,2,IF(F107>H107,3,SE))))) -> 2 | D107: =V24 -> Botafogo Rocha | F107: 36 | G107: x | H107: 32 | I107: =V22 -> Xavecos UFC | Q107: =IF(OR(H107="",F107=""),"",IF(H107=F107,1,IF(H107<F107,0,IF(H107-F107<10,2,IF(H107>F107,3,SE))))) -> 0
C108: =IF(OR(F108="",H108=""),"",IF(F108=H108,1,IF(F108<H108,0,IF(F108-H108<10,2,IF(F108>H108,3,SE))))) -> 0 | D108: =V20 -> mathpalestra | F108: 48 | G108: x | H108: 59 | I108: =V31 -> Soccer Italy | Q108: =IF(OR(H108="",F108=""),"",IF(H108=F108,1,IF(H108<F108,0,IF(H108-F108<10,2,IF(H108>F108,3,SE))))) -> 3
C109: =IF(OR(F109="",H109=""),"",IF(F109=H109,1,IF(F109<H109,0,IF(F109-H109<10,2,IF(F109>H109,3,SE))))) -> 0 | D109: =V29 -> ousadia e alegriaa1 | F109: 33 | G109: x | H109: 41 | I109: =V23 -> Driblador F.C | Q109: =IF(OR(H109="",F109=""),"",IF(H109=F109,1,IF(H109<F109,0,IF(H109-F109<10,2,IF(H109>F109,3,SE))))) -> 2
C110: =IF(OR(F110="",H110=""),"",IF(F110=H110,1,IF(F110<H110,0,IF(F110-H110<10,2,IF(F110>H110,3,SE))))) -> 2 | D110: =V30 -> Engenheirense | F110: 37 | G110: x | H110: 35 | I110: =V21 -> Marvada da cachaça | Q110: =IF(OR(H110="",F110=""),"",IF(H110=F110,1,IF(H110<F110,0,IF(H110-F110<10,2,IF(H110>F110,3,SE))))) -> 0
C111: =IF(OR(F111="",H111=""),"",IF(F111=H111,1,IF(F111<H111,0,IF(F111-H111<10,2,IF(F111>H111,3,SE))))) -> 0 | D111: =V25 -> Sekishiki Mekai Ha | F111: 31 | G111: x | H111: 46 | I111: =V26 -> comicu | Q111: =IF(OR(H111="",F111=""),"",IF(H111=F111,1,IF(H111<F111,0,IF(H111-F111<10,2,IF(H111>F111,3,SE))))) -> 3
C112: =IF(OR(F112="",H112=""),"",IF(F112=H112,1,IF(F112<H112,0,IF(F112-H112<10,2,IF(F112>H112,3,SE))))) | Q112: =IF(OR(H112="",F112=""),"",IF(H112=F112,1,IF(H112<F112,0,IF(H112-F112<10,2,IF(H112>F112,3,SE)))))
C113: =IF(OR(F113="",H113=""),"",IF(F113=H113,1,IF(F113<H113,0,IF(F113-H113<10,2,IF(F113>H113,3,SE))))) | D113: 9ª RODADA - #28 | Q113: =IF(OR(H113="",F113=""),"",IF(H113=F113,1,IF(H113<F113,0,IF(H113-F113<10,2,IF(H113>F113,3,SE)))))
C114: =IF(OR(F114="",H114=""),"",IF(F114=H114,1,IF(F114<H114,0,IF(F114-H114<10,2,IF(F114>H114,3,SE))))) | Q114: =IF(OR(H114="",F114=""),"",IF(H114=F114,1,IF(H114<F114,0,IF(H114-F114<10,2,IF(H114>F114,3,SE)))))
...

Sheet GRUPO 3
B2: 1º SUPERSOCAMPEONATO 2013
B6: 1ª FASE
D10: CLASSIFICAÇÃO
D15: OBS: Os 4 melhores colocados no Grupo se classificarão para a Oitavas de Finais.
D17: GRUPO 3 | R17: Legenda
R18: P - pontos
D19: Pos. | E19: CARTOLA | F19: J | G19: P | H19: V3P | I19: V2P | J19: E | K19: D | L19: PPC | M19: PCC | N19: SP | O19: % APR. | R19: V3P - Vitória por 3 pontos | U19: Pos. | V19: TIMES | W19: J | X19: P | Y19: V3P | Z19: V2P | AA19: E | AB19: D | AC19: GF | AD19: GC | AE19: SG | AF19: % APR. | AG19: calc | AH19: maior | AI19: corresp
D20: 1º | E20: =VLOOKUP(AI20,$U$20:$AH$31,2) -> BFR Igor Costa | F20: =VLOOKUP(AI20,$U$20:$AH$31,3) -> 11 | G20: =VLOOKUP(AI20,$U$20:$AH$31,4) -> 24 | H20: =VLOOKUP(AI20,$U$20:$AH$31,5) -> 7 | I20: =VLOOKUP(AI20,$U$20:$AH$31,6) -> 1 | J20: =VLOOKUP(AI20,$U$20:$AH$31,7) -> 1 | K20: =VLOOKUP(AI20,$U$20:$AH$31,8) -> 2 | L20: =VLOOKUP(AI20,$U$20:$AH$31,9) -> 643 | M20: =VLOOKUP(AI20,$U$20:$AH$31,10) -> 440 | N20: =VLOOKUP(AI20,$U$20:$AH$31,11) -> 203 | O20: =VLOOKUP(AI20,$U$20:$AH$31,12) -> 0.72727273 | R20: V2P - Vitória por 2 pontos | U20: 1 | V20: secapimenteira | W20: =COUNT(F38,H60,F71,H46,H78,F91,H98,F108,H120,F128,F140) -> 11 | X20: =SUM(C38,Q46,Q60,C71,Q78,C91,Q98,C108,Q120,C128,C140) -> 7 | Y20: =SUM(COUNTIFS($C$36:$C$141,3,$D$36:$D$141,V20),COUNTIFS($I$36:$I$141,V20,$Q$36:$Q$141,3)) -> 2 | Z20: =SUM(COUNTIFS($C$36:$C$141,2,$D$36:$D$141,V20),COUNTIFS($I$36:$I$141,V20,$Q$36:$Q$141,2)) -> 0 | AA20: =SUM(COUNTIFS($C$36:$C$141,1,$D$36:$D$141,V20),COUNTIFS($I$36:$I$141,V20,$Q$36:$Q$141,1)) -> 1 | AB20: =SUM(COUNTIFS($C$36:$C$141,0,$D$36:$D$141,V20),COUNTIFS($I$36:$I$141,V20,$Q$36:$Q$141,0)) -> 8 | AC20: =SUM(F38,H46,H60,F71,H78,F91,H98,H120,F108,F128,F140) -> 412 | AD20: =SUM(H38,F46,F60,H71,F78,H91,F98,H108,F120,H128,H140) -> 572 | AE20: =AC20-AD20 -> -160 | AF20: =(X20/(W20*3)) -> 0.21212121 | AG20: =(X20*10^10)+((AC20+5000)*10^6)+(AE20*10)+U20 -> 75411998401 | AH20: =LARGE($AG$20:$AG$31,U20) -> 245643002042 | AI20: =MATCH(AH20,$AG$20:$AG$31,0) -> 12
D21: 2º | E21: =VLOOKUP(AI21,$U$20:$AH$31,2) -> Rosinha da Gabi | F21: =VLOOKUP(AI21,$U$20:$AH$31,3) -> 11 | G21: =VLOOKUP(AI21,$U$20:$AH$31,4) -> 23 | H21: =VLOOKUP(AI21,$U$20:$AH$31,5) -> 7 | I21: =VLOOKUP(AI21,$U$20:$AH$31,6) -> 1 | J21: =VLOOKUP(AI21,$U$20:$AH$31,7) -> 0 | K21: =VLOOKUP(AI21,$U$20:$AH$31,8) -> 3 | L21: =VLOOKUP(AI21,$U$20:$AH$31,9) -> 665 | M21: =VLOOKUP(AI21,$U$20:$AH$31,10) -> 511 | N21: =VLOOKUP(AI21,$U$20:$AH$31,11) -> 154 | O21: =VLOOKUP(AI21,$U$20:$AH$31,12) -> 0.6969697 | R21: E - Empate | U21: 2 | V21: itaipavacervejaclube | W21: =COUNT(H41,F50,H57,F69,F81,H91,F96,H110,F118,F130,H138) -> 11 | X21: =SUM(Q41,Q57,C69,C81,Q91,C50,C96,Q110,C118,C130,Q138) -> 4 | Y21: =SUM(COUNTIFS($C$36:$C$141,3,$D$36:$D$141,V21),COUNTIFS($I$36:$I$141,V21,$Q$36:$Q$141,3)) -> 1 | Z21: =SUM(COUNTIFS($C$36:$C$141,2,$D$36:$D$141,V21),COUNTIFS($I$36:$I$141,V21,$Q$36:$Q$141,2)) -> 0 | AA21: =SUM(COUNTIFS($C$36:$C$141,1,$D$36:$D$141,V21),COUNTIFS($I$36:$I$141,V21,$Q$36:$Q$141,1)) -> 1 | AB21: =SUM(COUNTIFS($C$36:$C$141,0,$D$36:$D$141,V21),COUNTIFS($I$36:$I$141,V21,$Q$36:$Q$141,0)) -> 9 | AC21: =SUM(H41,F50,H57,F69,F81,H91,F96,H110,F118,F130,H138) -> 355 | AD21: =SUM(F41,H50,F57,H69,H81,F91,H96,F110,H118,H130,F138) -> 516 | AE21: =AC21-AD21 -> -161 | AF21: =(X21/(W21*3)) -> 0.12121212 | AG21: =(X21*10^10)+((AC21+5000)*10^6)+(AE21*10)+U21 -> 45354998392 | AH21: =LARGE($AG$20:$AG$31,U21) -> 235665001549 | AI21: =MATCH(AH21,$AG$20:$AG$31,0) -> 9
D22: 3º | E22: =VLOOKUP(AI22,$U$20:$AH$31,2) -> La Bestia Negra_Z | F22: =VLOOKUP(AI22,$U$20:$AH$31,3) -> 11 | G22: =VLOOKUP(AI22,$U$20:$AH$31,4) -> 21 | H22: =VLOOKUP(AI22,$U$20:$AH$31,5) -> 6 | I22: =VLOOKUP(AI22,$U$20:$AH$31,6) -> 1 | J22: =VLOOKUP(AI22,$U$20:$AH$31,7) -> 1 | K22: =VLOOKUP(AI22,$U$20:$AH$31,8) -> 3 | L22: =VLOOKUP(AI22,$U$20:$AH$31,9) -> 643 | M22: =VLOOKUP(AI22,$U$20:$AH$31,10) -> 527 | N22: =VLOOKUP(AI22,$U$20:$AH$31,11) -> 116 | O22: =VLOOKUP(AI22,$U$20:$AH$31,12) -> 0.63636364 | R22: D - Derrota | U22: 3 | V22: Family Paz F.C. | W22: =COUNT(F39,H50,F60,F67,H77,H86,F99,H107,F121,H129,F137) -> 11 | X22: =SUM(C39,Q50,C60,C67,C99,Q77,Q86,Q107,C121,Q129,C137) -> 12 | Y22: =SUM(COUNTIFS($C$36:$C$141,3,$D$36:$D$141,V22),COUNTIFS($I$36:$I$141,V22,$Q$36:$Q$141,3)) -> 4 | Z22: =SUM(COUNTIFS($C$36:$C$141,2,$D$36:$D$141,V22),COUNTIFS($I$36:$I$141,V22,$Q$36:$Q$141,2)) -> 0 | AA22: =SUM(COUNTIFS($C$36:$C$141,1,$D$36:$D$141,V22),COUNTIFS($I$36:$I$141,V22,$Q$36:$Q$141,1)) -> 0 | AB22: =SUM(COUNTIFS($C$36:$C$141,0,$D$36:$D$141,V22),COUNTIFS($I$36:$I$141,V22,$Q$36:$Q$141,0)) -> 7 | AC22: =SUM(F39,H50,F60,F67,H77,H86,F99,H107,F121,H129,F137) -> 479 | AD22: =SUM(H39,F50,H60,H67,F77,F86,H99,F107,H121,F129,H137) -> 528 | AE22: =AC22-AD22 -> -49 | AF22: =(X22/(W22*3)) -> 0.36363636 | AG22: =(X22*10^10)+((AC22+5000)*10^6)+(AE22*10)+U22 -> 125478999513 | AH22: =LARGE($AG$20:$AG$31,U22) -> 215643001170 | AI22: =MATCH(AH22,$AG$20:$AG$31,0) -> 10
D23: 4º | E23: =VLOOKUP(AI23,$U$20:$AH$31,2) -> Lucca Mengão | F23: =VLOOKUP(AI23,$U$20:$AH$31,3) -> 11 | G23: =VLOOKUP(AI23,$U$20:$AH$31,4) -> 21 | H23: =VLOOKUP(AI23,$U$20:$AH$31,5) -> 7 | I23: =VLOOKUP(AI23,$U$20:$AH$31,6) -> 0 | J23: =VLOOKUP(AI23,$U$20:$AH$31,7) -> 0 | K23: =VLOOKUP(AI23,$U$20:$AH$31,8) -> 4 | L23: =VLOOKUP(AI23,$U$20:$AH$31,9) -> 593 | M23: =VLOOKUP(AI23,$U$20:$AH$31,10) -> 475 | N23: =VLOOKUP(AI23,$U$20:$AH$31,11) -> 118 | O23: =VLOOKUP(AI23,$U$20:$AH$31,12) -> 0.63636364 | R23: PPC - pontos pró Cartola | U23: 4 | V23: PHVT F.C. | W23: =COUNT(F41,F46,H58,F68,H76,H87,F101,H109,H121,F126,H139) -> 11 | X23: =SUM(C41,C46,C68,Q76,Q58,Q109,Q87,C101,Q121,C126,Q139) -> 8 | Y23: =SUM(COUNTIFS($C$36:$C$141,3,$D$36:$D$141,V23),COUNTIFS($I$36:$I$141,V23,$Q$36:$Q$141,3)) -> 1 | Z23: =SUM(COUNTIFS($C$36:$C$141,2,$D$36:$D$141,V23),COUNTIFS($I$36:$I$141,V23,$Q$36:$Q$141,2)) -> 2 | AA23: =SUM(COUNTIFS($C$36:$C$141,1,$D$36:$D$141,V23),COUNTIFS($I$36:$I$141,V23,$Q$36:$Q$141,1)) -> 1 | AB23: =SUM(COUNTIFS($C$36:$C$141,0,$D$36:$D$141,V23),COUNTIFS($I$36:$I$141,V23,$Q$36:$Q$141,0)) -> 7 | AC23: =SUM(F41,F46,H58,F68,H87,H109,H76,F101,H121,F126,H139) -> 345 | AD23: =SUM(H41,H46,H68,F58,F76,F87,H101,F109,F121,H126,F139) -> 528 | AE23: =AC23-AD23 -> -183 | AF23: =(X23/(W23*3)) -> 0.24242424 | AG23: =(X23*10^10)+((AC23+5000)*10^6)+(AE23*10)+U23 -> 85344998174 | AH23: =LARGE($AG$20:$AG$31,U23) -> 215593001188 | AI23: =MATCH(AH23,$AG$20:$AG$31,0) -> 8
D24: 5º | E24: =VLOOKUP(AI24,$U$20:$AH$31,2) -> Forever2014 | F24: =VLOOKUP(AI24,$U$20:$AH$31,3) -> 11 | G24: =VLOOKUP(AI24,$U$20:$AH$31,4) -> 19 | H24: =VLOOKUP(AI24,$U$20:$AH$31,5) -> 6 | I24: =VLOOKUP(AI24,$U$20:$AH$31,6) -> 0 | J24: =VLOOKUP(AI24,$U$20:$AH$31,7) -> 1 | K24: =VLOOKUP(AI24,$U$20:$AH$31,8) -> 4 | L24: =VLOOKUP(AI24,$U$20:$AH$31,9) -> 571 | M24: =VLOOKUP(AI24,$U$20:$AH$31,10) -> 485 | N24: =VLOOKUP(AI24,$U$20:$AH$31,11) -> 86 | O24: =VLOOKUP(AI24,$U$20:$AH$31,12) -> 0.57575758 | R24: PCC - pontos contra Cartola | U24: 5 | V24: Tribe of Gypsies | W24: =COUNT(H36,F47,H56,F70,H79,F89,H101,F107,H118,F127,H140) -> 11 | X24: =SUM(Q36,C47,Q56,C70,Q79,C89,Q101,C107,Q118,C127,Q140) -> 17 | Y24: =SUM(COUNTIFS($C$36:$C$141,3,$D$36:$D$141,V24),COUNTIFS($I$36:$I$141,V24,$Q$36:$Q$141,3)) -> 3 | Z24: =SUM(COUNTIFS($C$36:$C$141,2,$D$36:$D$141,V24),COUNTIFS($I$36:$I$141,V24,$Q$36:$Q$141,2)) -> 4 | AA24: =SUM(COUNTIFS($C$36:$C$141,1,$D$36:$D$141,V24),COUNTIFS($I$36:$I$141,V24,$Q$36:$Q$141,1)) -> 0 | AB24: =SUM(COUNTIFS($C$36:$C$141,0,$D$36:$D$141,V24),COUNTIFS($I$36:$I$141,V24,$Q$36:$Q$141,0)) -> 4 | AC24: =SUM(H36,F47,H56,F70,H79,F89,H101,F107,H118,F127,H140) -> 469 | AD24: =SUM(F36,H47,F56,H70,F79,H89,F101,H107,F118,H127,F140) -> 452 | AE24: =AC24-AD24 -> 17 | AF24: =(X24/(W24*3)) -> 0.51515152 | AG24: =(X24*10^10)+((AC24+5000)*10^6)+(AE24*10)+U24 -> 175469000175 | AH24: =LARGE($AG$20:$AG$31,U24) -> 195571000871 | AI24: =MATCH(AH24,$AG$20:$AG$31,0) -> 11
D25: 6º | E25: =VLOOKUP(AI25,$U$20:$AH$31,2) -> Puro Malte F. C. | F25: =VLOOKUP(AI25,$U$20:$AH$31,3) -> 11 | G25: =VLOOKUP(AI25,$U$20:$AH$31,4) -> 18 | H25: =VLOOKUP(AI25,$U$20:$AH$31,5) -> 4 | I25: =VLOOKUP(AI25,$U$20:$AH$31,6) -> 3 | J25: =VLOOKUP(AI25,$U$20:$AH$31,7) -> 0 | K25: =VLOOKUP(AI25,$U$20:$AH$31,8) -> 4 | L25: =VLOOKUP(AI25,$U$20:$AH$31,9) -> 537 | M25: =VLOOKUP(AI25,$U$20:$AH$31,10) -> 439 | N25: =VLOOKUP(AI25,$U$20:$AH$31,11) -> 98 | O25: =VLOOKUP(AI25,$U$20:$AH$31,12) -> 0.54545455 | R25: SP - saldo de pontos | U25: 6 | V25: Puro Malte F. C. | W25: =COUNT(H38,F49,F57,H70,H76,H86,H96,H106,H116,H126,H136) -> 11 | X25: =SUM(Q38,C49,C57,Q70,C76,Q90,C100,C111,Q117,C131,Q137) -> 18 | Y25: =SUM(COUNTIFS($C$36:$C$141,3,$D$36:$D$141,V25),COUNTIFS($I$36:$I$141,V25,$Q$36:$Q$141,3)) -> 4 | Z25: =SUM(COUNTIFS($C$36:$C$141,2,$D$36:$D$141,V25),COUNTIFS($I$36:$I$141,V25,$Q$36:$Q$141,2)) -> 3 | AA25: =SUM(COUNTIFS($C$36:$C$141,1,$D$36:$D$141,V25),COUNTIFS($I$36:$I$141,V25,$Q$36:$Q$141,1)) -> 0 | AB25: =SUM(COUNTIFS($C$36:$C$141,0,$D$36:$D$141,V25),COUNTIFS($I$36:$I$141,V25,$Q$36:$Q$141,0)) -> 4 | AC25: =SUM(H38,F49,F57,H70,F76,H90,F100,F111,H117,F131,H137) -> 537 | AD25: =SUM(F38,H49,H57,F70,H76,F90,H100,H111,F117,H131,F137) -> 439 | AE25: =AC25-AD25 -> 98 | AF25: =(X25/(W25*3)) -> 0.54545455 | AG25: =(X25*10^10)+((AC25+5000)*10^6)+(AE25*10)+U25 -> 185537000986 | AH25: =LARGE($AG$20:$AG$31,U25) -> 185537000986 | AI25: =MATCH(AH25,$AG$20:$AG$31,0) -> 6
D26: 7º | E26: =VLOOKUP(AI26,$U$20:$AH$31,2) -> Tribe of Gypsies | F26: =VLOOKUP(AI26,$U$20:$AH$31,3) -> 11 | G26: =VLOOKUP(AI26,$U$20:$AH$31,4) -> 17 | H26: =VLOOKUP(AI26,$U$20:$AH$31,5) -> 3 | I26: =VLOOKUP(AI26,$U$20:$AH$31,6) -> 4 | J26: =VLOOKUP(AI26,$U$20:$AH$31,7) -> 0 | K26: =VLOOKUP(AI26,$U$20:$AH$31,8) -> 4 | L26: =VLOOKUP(AI26,$U$20:$AH$31,9) -> 469 | M26: =VLOOKUP(AI26,$U$20:$AH$31,10) -> 452 | N26: =VLOOKUP(AI26,$U$20:$AH$31,11) -> 17 | O26: =VLOOKUP(AI26,$U$20:$AH$31,12) -> 0.51515152 | R26: % APR. - Aproveitamento | U26: 7 | V26: santo onofre E C | W26: =COUNT(H36,H46,H56,H66,H76,H86,H96,H106,H116,H126,H136) -> 11 | X26: =SUM(Q40,Q47,C59,C66,Q81,C87,C98,Q111,Q119,C129,Q136) -> 7 | Y26: =SUM(COUNTIFS($C$36:$C$141,3,$D$36:$D$141,V26),COUNTIFS($I$36:$I$141,V26,$Q$36:$Q$141,3)) -> 1 | Z26: =SUM(COUNTIFS($C$36:$C$141,2,$D$36:$D$141,V26),COUNTIFS($I$36:$I$141,V26,$Q$36:$Q$141,2)) -> 2 | AA26: =SUM(COUNTIFS($C$36:$C$141,1,$D$36:$D$141,V26),COUNTIFS($I$36:$I$141,V26,$Q$36:$Q$141,1)) -> 0 | AB26: =SUM(COUNTIFS($C$36:$C$141,0,$D$36:$D$141,V26),COUNTIFS($I$36:$I$141,V26,$Q$36:$Q$141,0)) -> 8 | AC26: =SUM(H40,H47,F59,F66,H81,F87,F98,H111,H119,F129,H136) -> 298 | AD26: =SUM(F40,F47,H59,H66,F81,H87,H98,F119,H129,F136) -> 492 | AE26: =AC26-AD26 -> -194 | AF26: =(X26/(W26*3)) -> 0.21212121 | AG26: =(X26*10^10)+((AC26+5000)*10^6)+(AE26*10)+U26 -> 75297998067 | AH26: =LARGE($AG$20:$AG$31,U26) -> 175469000175 | AI26: =MATCH(AH26,$AG$20:$AG$31,0) -> 5
D27: 8º | E27: =VLOOKUP(AI27,$U$20:$AH$31,2) -> Family Paz F.C. | F27: =VLOOKUP(AI27,$U$20:$AH$31,3) -> 11 | G27: =VLOOKUP(AI27,$U$20:$AH$31,4) -> 12 | H27: =VLOOKUP(AI27,$U$20:$AH$31,5) -> 4 | I27: =VLOOKUP(AI27,$U$20:$AH$31,6) -> 0 | J27: =VLOOKUP(AI27,$U$20:$AH$31,7) -> 0 | K27: =VLOOKUP(AI27,$U$20:$AH$31,8) -> 7 | L27: =VLOOKUP(AI27,$U$20:$AH$31,9) -> 479 | M27: =VLOOKUP(AI27,$U$20:$AH$31,10) -> 528 | N27: =VLOOKUP(AI27,$U$20:$AH$31,11) -> -49 | O27: =VLOOKUP(AI27,$U$20:$AH$31,12) -> 0.36363636 | U27: 8 | V27: Lucca Mengão | W27: =COUNT(H36,H46,H56,H66,H76,H86,H96,H106,H116,H126,H136) -> 11 | X27: =SUM(Q39,Q48,C61,Q66,C79,C90,Q96,C106,C116,Q128,C139) -> 21 | Y27: =SUM(COUNTIFS($C$36:$C$141,3,$D$36:$D$141,V27),COUNTIFS($I$36:$I$141,V27,$Q$36:$Q$141,3)) -> 7 | Z27: =SUM(COUNTIFS($C$36:$C$141,2,$D$36:$D$141,V27),COUNTIFS($I$36:$I$141,V27,$Q$36:$Q$141,2)) -> 0 | AA27: =SUM(COUNTIFS($C$36:$C$141,1,$D$36:$D$141,V27),COUNTIFS($I$36:$I$141,V27,$Q$36:$Q$141,1)) -> 0 | AB27: =SUM(COUNTIFS($C$36:$C$141,0,$D$36:$D$141,V27),COUNTIFS($I$36:$I$141,V27,$Q$36:$Q$141,0)) -> 4 | AC27: =SUM(H39,H48,F61,H66,F79,F90,H96,F106,F116,H128,F139) -> 593 | AD27: =SUM(F39,F48,F66,H61,H79,H90,F96,H106,H116,F128,H139) -> 475 | AE27: =AC27-AD27 -> 118 | AF27: =(X27/(W27*3)) -> 0.63636364 | AG27: =(X27*10^10)+((AC27+5000)*10^6)+(AE27*10)+U27 -> 215593001188 | AH27: =LARGE($AG$20:$AG$31,U27) -> 125478999513 | AI27: =MATCH(AH27,$AG$20:$AG$31,0) -> 3
D28: 9º | E28: =VLOOKUP(AI28,$U$20:$AH$31,2) -> PHVT F.C. | F28: =VLOOKUP(AI28,$U$20:$AH$31,3) -> 11 | G28: =VLOOKUP(AI28,$U$20:$AH$31,4) -> 8 | H28: =VLOOKUP(AI28,$U$20:$AH$31,5) -> 1 | I28: =VLOOKUP(AI28,$U$20:$AH$31,6) -> 2 | J28: =VLOOKUP(AI28,$U$20:$AH$31,7) -> 1 | K28: =VLOOKUP(AI28,$U$20:$AH$31,8) -> 7 | L28: =VLOOKUP(AI28,$U$20:$AH$31,9) -> 345 | M28: =VLOOKUP(AI28,$U$20:$AH$31,10) -> 528 | N28: =VLOOKUP(AI28,$U$20:$AH$31,11) -> -183 | O28: =VLOOKUP(AI28,$U$20:$AH$31,12) -> 0.24242424 | R28: CRITÉRIO DE DESEMPATE | U28: 9 | V28: Rosinha da Gabi | W28: =COUNT(H36,H46,H56,H66,H76,H86,H96,H106,H116,H126,H136) -> 11 | X28: =SUM(C37,Q49,C56,Q69,C77,Q88,C97,Q106,C120,Q126,C136) -> 23 | Y28: =SUM(COUNTIFS($C$36:$C$141,3,$D$36:$D$141,V28),COUNTIFS($I$36:$I$141,V28,$Q$36:$Q$141,3)) -> 7 | Z28: =SUM(COUNTIFS($C$36:$C$141,2,$D$36:$D$141,V28),COUNTIFS($I$36:$I$141,V28,$Q$36:$Q$141,2)) -> 1 | AA28: =SUM(COUNTIFS($C$36:$C$141,1,$D$36:$D$141,V28),COUNTIFS($I$36:$I$141,V28,$Q$36:$Q$141,1)) -> 0 | AB28: =SUM(COUNTIFS($C$36:$C$141,0,$D$36:$D$141,V28),COUNTIFS($I$36:$I$141,V28,$Q$36:$Q$141,0)) -> 3 | AC28: =SUM(F37,H49,F56,H69,F77,H88,F97,H106,F120,H126,F136) -> 665 | AD28: =SUM(H37,F49,H56,F69,H77,F88,H97,F106,H120,F126,H136) -> 511 | AE28: =AC28-AD28 -> 154 | AF28: =(X28/(W28*3)) -> 0.6969697 | AG28: =(X28*10^10)+((AC28+5000)*10^6)+(AE28*10)+U28 -> 235665001549 | AH28: =LARGE($AG$20:$AG$31,U28) -> 85344998174 | AI28: =MATCH(AH28,$AG$20:$AG$31,0) -> 4
D29: 10º | E29: =VLOOKUP(AI29,$U$20:$AH$31,2) -> secapimenteira | F29: =VLOOKUP(AI29,$U$20:$AH$31,3) -> 11 | G29: =VLOOKUP(AI29,$U$20:$AH$31,4) -> 7 | H29: =VLOOKUP(AI29,$U$20:$AH$31,5) -> 2 | I29: =VLOOKUP(AI29,$U$20:$AH$31,6) -> 0 | J29: =VLOOKUP(AI29,$U$20:$AH$31,7) -> 1 | K29: =VLOOKUP(AI29,$U$20:$AH$31,8) -> 8 | L29: =VLOOKUP(AI29,$U$20:$AH$31,9) -> 412 | M29: =VLOOKUP(AI29,$U$20:$AH$31,10) -> 572 | N29: =VLOOKUP(AI29,$U$20:$AH$31,11) -> -160 | O29: =VLOOKUP(AI29,$U$20:$AH$31,12) -> 0.21212121 | R29: 1 - pontos | U29: 10 | V29: La Bestia Negra_Z | W29: =COUNT(H36,H46,H56,H66,H76,H86,H96,H106,H116,H126,H136) -> 11 | X29: =SUM(Q37,C48,Q59,Q71,C80,Q89,Q99,C109,C117,Q130,Q141) -> 21 | Y29: =SUM(COUNTIFS($C$36:$C$141,3,$D$36:$D$141,V29),COUNTIFS($I$36:$I$141,V29,$Q$36:$Q$141,3)) -> 6 | Z29: =SUM(COUNTIFS($C$36:$C$141,2,$D$36:$D$141,V29),COUNTIFS($I$36:$I$141,V29,$Q$36:$Q$141,2)) -> 1 | AA29: =SUM(COUNTIFS($C$36:$C$141,1,$D$36:$D$141,V29),COUNTIFS($I$36:$I$141,V29,$Q$36:$Q$141,1)) -> 1 | AB29: =SUM(COUNTIFS($C$36:$C$141,0,$D$36:$D$141,V29),COUNTIFS($I$36:$I$141,V29,$Q$36:$Q$141,0)) -> 3 | AC29: =SUM(H37,F48,H59,H71,F80,H89,H99,F109,F117,H130,H141) -> 643 | AD29: =SUM(F37,H48,F59,F71,H80,F89,F99,H109,H117,F130,F141) -> 527 | AE29: =AC29-AD29 -> 116 | AF29: =(X29/(W29*3)) -> 0.63636364 | AG29: =(X29*10^10)+((AC29+5000)*10^6)+(AE29*10)+U29 -> 215643001170 | AH29: =LARGE($AG$20:$AG$31,U29) -> 75411998401 | AI29: =MATCH(AH29,$AG$20:$AG$31,0) -> 1
D30: 11º | E30: =VLOOKUP(AI30,$U$20:$AH$31,2) -> santo onofre E C | F30: =VLOOKUP(AI30,$U$20:$AH$31,3) -> 11 | G30: =VLOOKUP(AI30,$U$20:$AH$31,4) -> 7 | H30: =VLOOKUP(AI30,$U$20:$AH$31,5) -> 1 | I30: =VLOOKUP(AI30,$U$20:$AH$31,6) -> 2 | J30: =VLOOKUP(AI30,$U$20:$AH$31,7) -> 0 | K30: =VLOOKUP(AI30,$U$20:$AH$31,8) -> 8 | L30: =VLOOKUP(AI30,$U$20:$AH$31,9) -> 298 | M30: =VLOOKUP(AI30,$U$20:$AH$31,10) -> 492 | N30: =VLOOKUP(AI30,$U$20:$AH$31,11) -> -194 | O30: =VLOOKUP(AI30,$U$20:$AH$31,12) -> 0.21212121 | R30: 2 - pontos pró Cartola | U30: 11 | V30: Forever2014 | W30: =COUNT(H36,H46,H56,H66,H76,H86,H96,H106,H116,H126,H136) -> 11 | X30: =SUM(C40,Q51,C58,Q67,C78,C88,Q100,C110,Q116,Q127,C141) -> 19 | Y30: =SUM(COUNTIFS($C$36:$C$141,3,$D$36:$D$141,V30),COUNTIFS($I$36:$I$141,V30,$Q$36:$Q$141,3)) -> 6 | Z30: =SUM(COUNTIFS($C$36:$C$141,2,$D$36:$D$141,V30),COUNTIFS($I$36:$I$141,V30,$Q$36:$Q$141,2)) -> 0 | AA30: =SUM(COUNTIFS($C$36:$C$141,1,$D$36:$D$141,V30),COUNTIFS($I$36:$I$141,V30,$Q$36:$Q$141,1)) -> 1 | AB30: =SUM(COUNTIFS($C$36:$C$141,0,$D$36:$D$141,V30),COUNTIFS($I$36:$I$141,V30,$Q$36:$Q$141,0)) -> 4 | AC30: =SUM(F40,H51,F58,H67,F78,H100,F110,H116,H127,F141,F88) -> 571 | AD30: =SUM(H40,F51,H58,F67,H78,H88,F100,H110,F116,F127,H141) -> 485 | AE30: =AC30-AD30 -> 86 | AF30: =(X30/(W30*3)) -> 0.57575758 | AG30: =(X30*10^10)+((AC30+5000)*10^6)+(AE30*10)+U30 -> 195571000871 | AH30: =LARGE($AG$20:$AG$31,U30) -> 75297998067 | AI30: =MATCH(AH30,$AG$20:$AG$31,0) -> 7
D31: 12º | E31: =VLOOKUP(AI31,$U$20:$AH$31,2) -> itaipavacervejaclube | F31: =VLOOKUP(AI31,$U$20:$AH$31,3) -> 11 | G31: =VLOOKUP(AI31,$U$20:$AH$31,4) -> 4 | H31: =VLOOKUP(AI31,$U$20:$AH$31,5) -> 1 | I31: =VLOOKUP(AI31,$U$20:$AH$31,6) -> 0 | J31: =VLOOKUP(AI31,$U$20:$AH$31,7) -> 1 | K31: =VLOOKUP(AI31,$U$20:$AH$31,8) -> 9 | L31: =VLOOKUP(AI31,$U$20:$AH$31,9) -> 355 | M31: =VLOOKUP(AI31,$U$20:$AH$31,10) -> 516 | N31: =VLOOKUP(AI31,$U$20:$AH$31,11) -> -161 | O31: =VLOOKUP(AI31,$U$20:$AH$31,12) -> 0.12121212 | R31: 3 - saldo de pontos | U31: 12 | V31: BFR Igor Costa | W31: =COUNT(H36,H46,H56,H66,H76,H86,H96,H106,H116,H126,H136) -> 11 | X31: =SUM(C36,C51,Q61,Q68,Q80,C86,Q97,Q108,C119,Q131,C138) -> 24 | Y31: =SUM(COUNTIFS($C$36:$C$141,3,$D$36:$D$141,V31),COUNTIFS($I$36:$I$141,V31,$Q$36:$Q$141,3)) -> 7 | Z31: =SUM(COUNTIFS($C$36:$C$141,2,$D$36:$D$141,V31),COUNTIFS($I$36:$I$141,V31,$Q$36:$Q$141,2)) -> 1 | AA31: =SUM(COUNTIFS($C$36:$C$141,1,$D$36:$D$141,V31),COUNTIFS($I$36:$I$141,V31,$Q$36:$Q$141,1)) -> 1 | AB31: =SUM(COUNTIFS($C$36:$C$141,0,$D$36:$D$141,V31),COUNTIFS($I$36:$I$141,V31,$Q$36:$Q$141,0)) -> 2 | AC31: =SUM(F36,F51,H61,H68,H80,F86,H97,H108,F119,H131,F138) -> 643 | AD31: =SUM(H36,H51,F61,F68,F80,H86,F97,F108,H119,F131,H138) -> 440 | AE31: =AC31-AD31 -> 203 | AF31: =(X31/(W31*3)) -> 0.72727273 | AG31: =(X31*10^10)+((AC31+5000)*10^6)+(AE31*10)+U31 -> 245643002042 | AH31: =LARGE($AG$20:$AG$31,U31) -> 45354998392 | AI31: =MATCH(AH31,$AG$20:$AG$31,0) -> 2
R32: 4 - pontos contra Cartola
D33: 1ª RODADA - #20
C36: =IF(OR(F36="",H36=""),"",IF(F36=H36,1,IF(F36<H36,0,IF(F36-H36<10,2,IF(F36>H36,3,SE))))) -> 0 | D36: =V31 -> BFR Igor Costa | F36: 43 | G36: x | H36: 45 | I36: =V24 -> Tribe of Gypsies | Q36: =IF(OR(H36="",F36=""),"",IF(H36=F36,1,IF(H36<F36,0,IF(H36-F36<10,2,IF(H36>F36,3,SE))))) -> 2
C37: =IF(OR(F37="",H37=""),"",IF(F37=H37,1,IF(F37<H37,0,IF(F37-H37<10,2,IF(F37>H37,3,SE))))) -> 0 | D37: =V28 -> Rosinha da Gabi | F37: 31 | G37: x | H37: 48 | I37: =V29 -> La Bestia Negra_Z | Q37: =IF(OR(H37="",F37=""),"",IF(H37=F37,1,IF(H37<F37,0,IF(H37-F37<10,2,IF(H37>F37,3,SE))))) -> 3
C38: =IF(OR(F38="",H38=""),"",IF(F38=H38,1,IF(F38<H38,0,IF(F38-H38<10,2,IF(F38>H38,3,SE))))) -> 0 | D38: =V20 -> secapimenteira | F38: 16 | G38: x | H38: 56 | I38: =V25 -> Puro Malte F. C. | Q38: =IF(OR(H38="",F38=""),"",IF(H38=F38,1,IF(H38<F38,0,IF(H38-F38<10,2,IF(H38>F38,3,SE))))) -> 3
C39: =IF(OR(F39="",H39=""),"",IF(F39=H39,1,IF(F39<H39,0,IF(F39-H39<10,2,IF(F39>H39,3,SE))))) -> 0 | D39: =V22 -> Family Paz F.C. | F39: 32 | G39: x | H39: 45 | I39: =V27 -> Lucca Mengão | Q39: =IF(OR(H39="",F39=""),"",IF(H39=F39,1,IF(H39<F39,0,IF(H39-F39<10,2,IF(H39>F39,3,SE))))) -> 3
C40: =IF(OR(F40="",H40=""),"",IF(F40=H40,1,IF(F40<H40,0,IF(F40-H40<10,2,IF(F40>H40,3,SE))))) -> 3 | D40: =V30 -> Forever2014 | F40: 57 | G40: x | H40: 28 | I40: =V26 -> santo onofre E C | Q40: =IF(OR(H40="",F40=""),"",IF(H40=F40,1,IF(H40<F40,0,IF(H40-F40<10,2,IF(H40>F40,3,SE))))) -> 0
C41: =IF(OR(F41="",H41=""),"",IF(F41=H41,1,IF(F41<H41,0,IF(F41-H41<10,2,IF(F41>H41,3,SE))))) -> 3 | D41: =V23 -> PHVT F.C. | F41: 58 | G41: x | H41: 34 | I41: =V21 -> itaipavacervejaclube | Q41: =IF(OR(H41="",F41=""),"",IF(H41=F41,1,IF(H41<F41,0,IF(H41-F41<10,2,IF(H41>F41,3,SE))))) -> 0
C42: =IF(OR(F42="",H42=""),"",IF(F42=H42,1,IF(F42<H42,0,IF(F42-H42<10,2,IF(F42>H42,3,SE))))) | Q42: =IF(OR(H42="",F42=""),"",IF(H42=F42,1,IF(H42<F42,0,IF(H42-F42<10,2,IF(H42>F42,3,SE)))))
C43: =IF(OR(F43="",H43=""),"",IF(F43=H43,1,IF(F43<H43,0,IF(F43-H43<10,2,IF(F43>H43,3,SE))))) | D43: 2ª RODADA - #21 | Q43: =IF(OR(H43="",F43=""),"",IF(H43=F43,1,IF(H43<F43,0,IF(H43-F43<10,2,IF(H43>F43,3,SE)))))
C44: =IF(OR(F44="",H44=""),"",IF(F44=H44,1,IF(F44<H44,0,IF(F44-H44<10,2,IF(F44>H44,3,SE))))) | Q44: =IF(OR(H44="",F44=""),"",IF(H44=F44,1,IF(H44<F44,0,IF(H44-F44<10,2,IF(H44>F44,3,SE)))))
C45: =IF(OR(F45="",H45=""),"",IF(F45=H45,1,IF(F45<H45,0,IF(F45-H45<10,2,IF(F45>H45,3,SE))))) | Q45: =IF(OR(H45="",F45=""),"",IF(H45=F45,1,IF(H45<F45,0,IF(H45-F45<10,2,IF(H45>F45,3,SE)))))
C46: =IF(OR(F46="",H46=""),"",IF(F46=H46,1,IF(F46<H46,0,IF(F46-H46<10,2,IF(F46>H46,3,SE))))) -> 0 | D46: =V23 -> PHVT F.C. | F46: 28 | G46: x | H46: 55 | I46: =V20 -> secapimenteira | Q46: =IF(OR(H46="",F46=""),"",IF(H46=F46,1,IF(H46<F46,0,IF(H46-F46<10,2,IF(H46>F46,3,SE))))) -> 3
C47: =IF(OR(F47="",H47=""),"",IF(F47=H47,1,IF(F47<H47,0,IF(F47-H47<10,2,IF(F47>H47,3,SE))))) -> 3 | D47: =V24 -> Tribe of Gypsies | F47: 51 | G47: x | H47: 38 | I47: =V26 -> santo onofre E C | Q47: =IF(OR(H47="",F47=""),"",IF(H47=F47,1,IF(H47<F47,0,IF(H47-F47<10,2,IF(H47>F47,3,SE))))) -> 0
C48: =IF(OR(F48="",H48=""),"",IF(F48=H48,1,IF(F48<H48,0,IF(F48-H48<10,2,IF(F48>H48,3,SE))))) -> 0 | D48: =V29 -> La Bestia Negra_Z | F48: 70 | G48: x | H48: 81 | I48: =V27 -> Lucca Mengão | Q48: =IF(OR(H48="",F48=""),"",IF(H48=F48,1,IF(H48<F48,0,IF(H48-F48<10,2,IF(H48>F48,3,SE))))) -> 3
C49: =IF(OR(F49="",H49=""),"",IF(F49=H49,1,IF(F49<H49,0,IF(F49-H49<10,2,IF(F49>H49,3,SE))))) -> 0 | D49: =V25 -> Puro Malte F. C. | F49: 64 | G49: x | H49: 71 | I49: =V28 -> Rosinha da Gabi | Q49: =IF(OR(H49="",F49=""),"",IF(H49=F49,1,IF(H49<F49,0,IF(H49-F49<10,2,IF(H49>F49,3,SE))))) -> 2
C50: =IF(OR(F50="",H50=""),"",IF(F50=H50,1,IF(F50<H50,0,IF(F50-H50<10,2,IF(F50>H50,3,SE))))) -> 0 | D50: =V21 -> itaipavacervejaclube | F50: 60 | G50: x | H50: 89 | I50: =V22 -> Family Paz F.C. | Q50: =IF(OR(H50="",F50=""),"",IF(H50=F50,1,IF(H50<F50,0,IF(H50-F50<10,2,IF(H50>F50,3,SE))))) -> 3
C51: =IF(OR(F51="",H51=""),"",IF(F51=H51,1,IF(F51<H51,0,IF(F51-H51<10,2,IF(F51>H51,3,SE))))) -> 0 | D51: =V31 -> BFR Igor Costa | F51: 53 | G51: x | H51: 77 | I51: =V30 -> Forever2014 | Q51: =IF(OR(H51="",F51=""),"",IF(H51=F51,1,IF(H51<F51,0,IF(H51-F51<10,2,IF(H51>F51,3,SE))))) -> 3
C52: =IF(OR(F52="",H52=""),"",IF(F52=H52,1,IF(F52<H52,0,IF(F52-H52<10,2,IF(F52>H52,3,SE))))) | Q52: =IF(OR(H52="",F52=""),"",IF(H52=F52,1,IF(H52<F52,0,IF(H52-F52<10,2,IF(H52>F52,3,SE)))))
C53: =IF(OR(F53="",H53=""),"",IF(F53=H53,1,IF(F53<H53,0,IF(F53-H53<10,2,IF(F53>H53,3,SE))))) | D53: 3ª RODADA - #22 | Q53: =IF(OR(H53="",F53=""),"",IF(H53=F53,1,IF(H53<F53,0,IF(H53-F53<10,2,IF(H53>F53,3,SE)))))
C54: =IF(OR(F54="",H54=""),"",IF(F54=H54,1,IF(F54<H54,0,IF(F54-H54<10,2,IF(F54>H54,3,SE))))) | Q54: =IF(OR(H54="",F54=""),"",IF(H54=F54,1,IF(H54<F54,0,IF(H54-F54<10,2,IF(H54>F54,3,SE)))))
C55: =IF(OR(F55="",H55=""),"",IF(F55=H55,1,IF(F55<H55,0,IF(F55-H55<10,2,IF(F55>H55,3,SE))))) | Q55: =IF(OR(H55="",F55=""),"",IF(H55=F55,1,IF(H55<F55,0,IF(H55-F55<10,2,IF(H55>F55,3,SE)))))
C56: =IF(OR(F56="",H56=""),"",IF(F56=H56,1,IF(F56<H56,0,IF(F56-H56<10,2,IF(F56>H56,3,SE))))) -> 0 | D56: =V28 -> Rosinha da Gabi | F56: 36 | G56: x | H56: 39 | I56: =V24 -> Tribe of Gypsies | Q56: =IF(OR(H56="",F56=""),"",IF(H56=F56,1,IF(H56<F56,0,IF(H56-F56<10,2,IF(H56>F56,3,SE))))) -> 2
C57: =IF(OR(F57="",H57=""),"",IF(F57=H57,1,IF(F57<H57,0,IF(F57-H57<10,2,IF(F57>H57,3,SE))))) -> 2 | D57: =V25 -> Puro Malte F. C. | F57: 38 | G57: x | H57: 31 | I57: =V21 -> itaipavacervejaclube | Q57: =IF(OR(H57="",F57=""),"",IF(H57=F57,1,IF(H57<F57,0,IF(H57-F57<10,2,IF(H57>F57,3,SE))))) -> 0
C58: =IF(OR(F58="",H58=""),"",IF(F58=H58,1,IF(F58<H58,0,IF(F58-H58<10,2,IF(F58>H58,3,SE))))) -> 1 | D58: =V30 -> Forever2014 | F58: 39 | G58: x | H58: 39 | I58: =V23 -> PHVT F.C. | Q58: =IF(OR(H58="",F58=""),"",IF(H58=F58,1,IF(H58<F58,0,IF(H58-F58<10,2,IF(H58>F58,3,SE))))) -> 1
C59: =IF(OR(F59="",H59=""),"",IF(F59=H59,1,IF(F59<H59,0,IF(F59-H59<10,2,IF(F59>H59,3,SE))))) -> 0 | D59: =V26 -> santo onofre E C | F59: 14 | G59: x | H59: 43 | I59: =V29 -> La Bestia Negra_Z | Q59: =IF(OR(H59="",F59=""),"",IF(H59=F59,1,IF(H59<F59,0,IF(H59-F59<10,2,IF(H59>F59,3,SE))))) -> 3
C60: =IF(OR(F60="",H60=""),"",IF(F60=H60,1,IF(F60<H60,0,IF(F60-H60<10,2,IF(F60>H60,3,SE))))) -> 0 | D60: =V22 -> Family Paz F.C. | F60: 39 | G60: x | H60: 49 | I60: =V20 -> secapimenteira | Q60: =IF(OR(H60="",F60=""),"",IF(H60=F60,1,IF(H60<F60,0,IF(H60-F60<10,2,IF(H60>F60,3,SE))))) -> 3
C61: =IF(OR(F61="",H61=""),"",IF(F61=H61,1,IF(F61<H61,0,IF(F61-H61<10,2,IF(F61>H61,3,SE))))) -> 0 | D61: =V27 -> Lucca Mengão | F61: 38 | G61: x | H61: 51 | I61: =V31 -> BFR Igor Costa | Q61: =IF(OR(H61="",F61=""),"",IF(H61=F61,1,IF(H61<F61,0,IF(H61-F61<10,2,IF(H61>F61,3,SE))))) -> 3
C62: =IF(OR(F62="",H62=""),"",IF(F62=H62,1,IF(F62<H62,0,IF(F62-H62<10,2,IF(F62>H62,3,SE))))) | Q62: =IF(OR(H62="",F62=""),"",IF(H62=F62,1,IF(H62<F62,0,IF(H62-F62<10,2,IF(H62>F62,3,SE)))))
C63: =IF(OR(F63="",H63=""),"",IF(F63=H63,1,IF(F63<H63,0,IF(F63-H63<10,2,IF(F63>H63,3,SE))))) | D63: 4ª RODADA - #23 | Q63: =IF(OR(H63="",F63=""),"",IF(H63=F63,1,IF(H63<F63,0,IF(H63-F63<10,2,IF(H63>F63,3,SE)))))
C64: =IF(OR(F64="",H64=""),"",IF(F64=H64,1,IF(F64<H64,0,IF(F64-H64<10,2,IF(F64>H64,3,SE))))) | Q64: =IF(OR(H64="",F64=""),"",IF(H64=F64,1,IF(H64<F64,0,IF(H64-F64<10,2,IF(H64>F64,3,SE)))))
C65: =IF(OR(F65="",H65=""),"",IF(F65=H65,1,IF(F65<H65,0,IF(F65-H65<10,2,IF(F65>H65,3,SE))))) | Q65: =IF(OR(H65="",F65=""),"",IF(H65=F65,1,IF(H65<F65,0,IF(H65-F65<10,2,IF(H65>F65,3,SE)))))
C66: =IF(OR(F66="",H66=""),"",IF(F66=H66,1,IF(F66<H66,0,IF(F66-H66<10,2,IF(F66>H66,3,SE))))) -> 0 | D66: =V26 -> santo onofre E C | F66: 34 | G66: x | H66: 61 | I66: =V27 -> Lucca Mengão | Q66: =IF(OR(H66="",F66=""),"",IF(H66=F66,1,IF(H66<F66,0,IF(H66-F66<10,2,IF(H66>F66,3,SE))))) -> 3
C67: =IF(OR(F67="",H67=""),"",IF(F67=H67,1,IF(F67<H67,0,IF(F67-H67<10,2,IF(F67>H67,3,SE))))) -> 0 | D67: =V22 -> Family Paz F.C. | F67: 30 | G67: x | H67: 52 | I67: =V30 -> Forever2014 | Q67: =IF(OR(H67="",F67=""),"",IF(H67=F67,1,IF(H67<F67,0,IF(H67-F67<10,2,IF(H67>F67,3,SE))))) -> 3
C68: =IF(OR(F68="",H68=""),"",IF(F68=H68,1,IF(F68<H68,0,IF(F68-H68<10,2,IF(F68>H68,3,SE))))) -> 0 | D68: =V23 -> PHVT F.C. | F68: 27 | G68: x | H68: 70 | I68: =V31 -> BFR Igor Costa | Q68: =IF(OR(H68="",F68=""),"",IF(H68=F68,1,IF(H68<F68,0,IF(H68-F68<10,2,IF(H68>F68,3,SE))))) -> 3
C69: =IF(OR(F69="",H69=""),"",IF(F69=H69,1,IF(F69<H69,0,IF(F69-H69<10,2,IF(F69>H69,3,SE))))) -> 0 | D69: =V21 -> itaipavacervejaclube | F69: 44 | G69: x | H69: 62 | I69: =V28 -> Rosinha da Gabi | Q69: =IF(OR(H69="",F69=""),"",IF(H69=F69,1,IF(H69<F69,0,IF(H69-F69<10,2,IF(H69>F69,3,SE))))) -> 3
C70: =IF(OR(F70="",H70=""),"",IF(F70=H70,1,IF(F70<H70,0,IF(F70-H70<10,2,IF(F70>H70,3,SE))))) -> 0 | D70: =V24 -> Tribe of Gypsies | F70: 38 | G70: x | H70: 46 | I70: =V25 -> Puro Malte F. C. | Q70: =IF(OR(H70="",F70=""),"",IF(H70=F70,1,IF(H70<F70,0,IF(H70-F70<10,2,IF(H70>F70,3,SE))))) -> 2
C71: =IF(OR(F71="",H71=""),"",IF(F71=H71,1,IF(F71<H71,0,IF(F71-H71<10,2,IF(F71>H71,3,SE))))) -> 0 | D71: =V20 -> secapimenteira | F71: 42 | G71: x | H71: 63 | I71: =V29 -> La Bestia Negra_Z | Q71: =IF(OR(H71="",F71=""),"",IF(H71=F71,1,IF(H71<F71,0,IF(H71-F71<10,2,IF(H71>F71,3,SE))))) -> 3
C72: =IF(OR(F72="",H72=""),"",IF(F72=H72,1,IF(F72<H72,0,IF(F72-H72<10,2,IF(F72>H72,3,SE))))) | Q72: =IF(OR(H72="",F72=""),"",IF(H72=F72,1,IF(H72<F72,0,IF(H72-F72<10,2,IF(H72>F72,3,SE)))))
C73: =IF(OR(F73="",H73=""),"",IF(F73=H73,1,IF(F73<H73,0,IF(F73-H73<10,2,IF(F73>H73,3,SE))))) | D73: 5ª RODADA - #24 | Q73: =IF(OR(H73="",F73=""),"",IF(H73=F73,1,IF(H73<F73,0,IF(H73-F73<10,2,IF(H73>F73,3,SE)))))
C74: =IF(OR(F74="",H74=""),"",IF(F74=H74,1,IF(F74<H74,0,IF(F74-H74<10,2,IF(F74>H74,3,SE))))) | Q74: =IF(OR(H74="",F74=""),"",IF(H74=F74,1,IF(H74<F74,0,IF(H74-F74<10,2,IF(H74>F74,3,SE)))))
C75: =IF(OR(F75="",H75=""),"",IF(F75=H75,1,IF(F75<H75,0,IF(F75-H75<10,2,IF(F75>H75,3,SE))))) | Q75: =IF(OR(H75="",F75=""),"",IF(H75=F75,1,IF(H75<F75,0,IF(H75-F75<10,2,IF(H75>F75,3,SE)))))
C76: =IF(OR(F76="",H76=""),"",IF(F76=H76,1,IF(F76<H76,0,IF(F76-H76<10,2,IF(F76>H76,3,SE))))) -> 0 | D76: =V25 -> Puro Malte F. C. | F76: 30 | G76: x | H76: 37 | I76: =V23 -> PHVT F.C. | Q76: =IF(OR(H76="",F76=""),"",IF(H76=F76,1,IF(H76<F76,0,IF(H76-F76<10,2,IF(H76>F76,3,SE))))) -> 2
C77: =IF(OR(F77="",H77=""),"",IF(F77=H77,1,IF(F77<H77,0,IF(F77-H77<10,2,IF(F77>H77,3,SE))))) -> 3 | D77: =V28 -> Rosinha da Gabi | F77: 63 | G77: x | H77: 44 | I77: =V22 -> Family Paz F.C. | Q77: =IF(OR(H77="",F77=""),"",IF(H77=F77,1,IF(H77<F77,0,IF(H77-F77<10,2,IF(H77>F77,3,SE))))) -> 0
C78: =IF(OR(F78="",H78=""),"",IF(F78=H78,1,IF(F78<H78,0,IF(F78-H78<10,2,IF(F78>H78,3,SE))))) -> 3 | D78: =V30 -> Forever2014 | F78: 69 | G78: x | H78: 14 | I78: =V20 -> secapimenteira | Q78: =IF(OR(H78="",F78=""),"",IF(H78=F78,1,IF(H78<F78,0,IF(H78-F78<10,2,IF(H78>F78,3,SE))))) -> 0
C79: =IF(OR(F79="",H79=""),"",IF(F79=H79,1,IF(F79<H79,0,IF(F79-H79<10,2,IF(F79>H79,3,SE))))) -> 3 | D79: =V27 -> Lucca Mengão | F79: 32 | G79: x | H79: 11 | I79: =V24 -> Tribe of Gypsies | Q79: =IF(OR(H79="",F79=""),"",IF(H79=F79,1,IF(H79<F79,0,IF(H79-F79<10,2,IF(H79>F79,3,SE))))) -> 0
C80: =IF(OR(F80="",H80=""),"",IF(F80=H80,1,IF(F80<H80,0,IF(F80-H80<10,2,IF(F80>H80,3,SE))))) -> 1 | D80: =V29 -> La Bestia Negra_Z | F80: 41 | G80: x | H80: 41 | I80: =V31 -> BFR Igor Costa | Q80: =IF(OR(H80="",F80=""),"",IF(H80=F80,1,IF(H80<F80,0,IF(H80-F80<10,2,IF(H80>F80,3,SE))))) -> 1
C81: =IF(OR(F81="",H81=""),"",IF(F81=H81,1,IF(F81<H81,0,IF(F81-H81<10,2,IF(F81>H81,3,SE))))) -> 0 | D81: =V21 -> itaipavacervejaclube | F81: 21 | G81: x | H81: 25 | I81: =V26 -> santo onofre E C | Q81: =IF(OR(H81="",F81=""),"",IF(H81=F81,1,IF(H81<F81,0,IF(H81-F81<10,2,IF(H81>F81,3,SE))))) -> 2
C82: =IF(OR(F82="",H82=""),"",IF(F82=H82,1,IF(F82<H82,0,IF(F82-H82<10,2,IF(F82>H82,3,SE))))) | Q82: =IF(OR(H82="",F82=""),"",IF(H82=F82,1,IF(H82<F82,0,IF(H82-F82<10,2,IF(H82>F82,3,SE)))))
C83: =IF(OR(F83="",H83=""),"",IF(F83=H83,1,IF(F83<H83,0,IF(F83-H83<10,2,IF(F83>H83,3,SE))))) | D83: 6ª RODADA - #25 | Q83: =IF(OR(H83="",F83=""),"",IF(H83=F83,1,IF(H83<F83,0,IF(H83-F83<10,2,IF(H83>F83,3,SE)))))
C84: =IF(OR(F84="",H84=""),"",IF(F84=H84,1,IF(F84<H84,0,IF(F84-H84<10,2,IF(F84>H84,3,SE))))) | Q84: =IF(OR(H84="",F84=""),"",IF(H84=F84,1,IF(H84<F84,0,IF(H84-F84<10,2,IF(H84>F84,3,SE)))))
C85: =IF(OR(F85="",H85=""),"",IF(F85=H85,1,IF(F85<H85,0,IF(F85-H85<10,2,IF(F85>H85,3,SE))))) | Q85: =IF(OR(H85="",F85=""),"",IF(H85=F85,1,IF(H85<F85,0,IF(H85-F85<10,2,IF(H85>F85,3,SE)))))
C86: =IF(OR(F86="",H86=""),"",IF(F86=H86,1,IF(F86<H86,0,IF(F86-H86<10,2,IF(F86>H86,3,SE))))) -> 3 | D86: =V31 -> BFR Igor Costa | F86: 69 | G86: x | H86: 35 | I86: =V22 -> Family Paz F.C. | Q86: =IF(OR(H86="",F86=""),"",IF(H86=F86,1,IF(H86<F86,0,IF(H86-F86<10,2,IF(H86>F86,3,SE))))) -> 0
C87: =IF(OR(F87="",H87=""),"",IF(F87=H87,1,IF(F87<H87,0,IF(F87-H87<10,2,IF(F87>H87,3,SE))))) -> 3 | D87: =V26 -> santo onofre E C | F87: 45 | G87: x | H87: 22 | I87: =V23 -> PHVT F.C. | Q87: =IF(OR(H87="",F87=""),"",IF(H87=F87,1,IF(H87<F87,0,IF(H87-F87<10,2,IF(H87>F87,3,SE))))) -> 0
C88: =IF(OR(F88="",H88=""),"",IF(F88=H88,1,IF(F88<H88,0,IF(F88-H88<10,2,IF(F88>H88,3,SE))))) -> 0 | D88: =V30 -> Forever2014 | F88: 33 | G88: x | H88: 55 | I88: =V28 -> Rosinha da Gabi | Q88: =IF(OR(H88="",F88=""),"",IF(H88=F88,1,IF(H88<F88,0,IF(H88-F88<10,2,IF(H88>F88,3,SE))))) -> 3
C89: =IF(OR(F89="",H89=""),"",IF(F89=H89,1,IF(F89<H89,0,IF(F89-H89<10,2,IF(F89>H89,3,SE))))) -> 0 | D89: =V24 -> Tribe of Gypsies | F89: 42 | G89: x | H89: 49 | I89: =V29 -> La Bestia Negra_Z | Q89: =IF(OR(H89="",F89=""),"",IF(H89=F89,1,IF(H89<F89,0,IF(H89-F89<10,2,IF(H89>F89,3,SE))))) -> 2
C90: =IF(OR(F90="",H90=""),"",IF(F90=H90,1,IF(F90<H90,0,IF(F90-H90<10,2,IF(F90>H90,3,SE))))) -> 0 | D90: =V27 -> Lucca Mengão | F90: 33 | G90: x | H90: 55 | I90: =V25 -> Puro Malte F. C. | Q90: =IF(OR(H90="",F90=""),"",IF(H90=F90,1,IF(H90<F90,0,IF(H90-F90<10,2,IF(H90>F90,3,SE))))) -> 3
C91: =IF(OR(F91="",H91=""),"",IF(F91=H91,1,IF(F91<H91,0,IF(F91-H91<10,2,IF(F91>H91,3,SE))))) -> 1 | D91: =V20 -> secapimenteira | F91: 29 | G91: x | H91: 29 | I91: =V21 -> itaipavacervejaclube | Q91: =IF(OR(H91="",F91=""),"",IF(H91=F91,1,IF(H91<F91,0,IF(H91-F91<10,2,IF(H91>F91,3,SE))))) -> 1
C92: =IF(OR(F92="",H92=""),"",IF(F92=H92,1,IF(F92<H92,0,IF(F92-H92<10,2,IF(F92>H92,3,SE))))) | Q92: =IF(OR(H92="",F92=""),"",IF(H92=F92,1,IF(H92<F92,0,IF(H92-F92<10,2,IF(H92>F92,3,SE)))))
C93: =IF(OR(F93="",H93=""),"",IF(F93=H93,1,IF(F93<H93,0,IF(F93-H93<10,2,IF(F93>H93,3,SE))))) | D93: 7ª RODADA - #26 | Q93: =IF(OR(H93="",F93=""),"",IF(H93=F93,1,IF(H93<F93,0,IF(H93-F93<10,2,IF(H93>F93,3,SE)))))
C94: =IF(OR(F94="",H94=""),"",IF(F94=H94,1,IF(F94<H94,0,IF(F94-H94<10,2,IF(F94>H94,3,SE))))) | Q94: =IF(OR(H94="",F94=""),"",IF(H94=F94,1,IF(H94<F94,0,IF(H94-F94<10,2,IF(H94>F94,3,SE)))))
C95: =IF(OR(F95="",H95=""),"",IF(F95=H95,1,IF(F95<H95,0,IF(F95-H95<10,2,IF(F95>H95,3,SE))))) | Q95: =IF(OR(H95="",F95=""),"",IF(H95=F95,1,IF(H95<F95,0,IF(H95-F95<10,2,IF(H95>F95,3,SE)))))
C96: =IF(OR(F96="",H96=""),"",IF(F96=H96,1,IF(F96<H96,0,IF(F96-H96<10,2,IF(F96>H96,3,SE))))) -> 0 | D96: =V21 -> itaipavacervejaclube | F96: 18 | G96: x | H96: 58 | I96: =V27 -> Lucca Mengão | Q96: =IF(OR(H96="",F96=""),"",IF(H96=F96,1,IF(H96<F96,0,IF(H96-F96<10,2,IF(H96>F96,3,SE))))) -> 3
C97: =IF(OR(F97="",H97=""),"",IF(F97=H97,1,IF(F97<H97,0,IF(F97-H97<10,2,IF(F97>H97,3,SE))))) -> 0 | D97: =V28 -> Rosinha da Gabi | F97: 43 | G97: x | H97: 62 | I97: =V31 -> BFR Igor Costa | Q97: =IF(OR(H97="",F97=""),"",IF(H97=F97,1,IF(H97<F97,0,IF(H97-F97<10,2,IF(H97>F97,3,SE))))) -> 3
C98: =IF(OR(F98="",H98=""),"",IF(F98=H98,1,IF(F98<H98,0,IF(F98-H98<10,2,IF(F98>H98,3,SE))))) -> 2 | D98: =V26 -> santo onofre E C | F98: 27 | G98: x | H98: 23 | I98: =V20 -> secapimenteira | Q98: =IF(OR(H98="",F98=""),"",IF(H98=F98,1,IF(H98<F98,0,IF(H98-F98<10,2,IF(H98>F98,3,SE))))) -> 0
C99: =IF(OR(F99="",H99=""),"",IF(F99=H99,1,IF(F99<H99,0,IF(F99-H99<10,2,IF(F99>H99,3,SE))))) -> 3 | D99: =V22 -> Family Paz F.C. | F99: 77 | G99: x | H99: 63 | I99: =V29 -> La Bestia Negra_Z | Q99: =IF(OR(H99="",F99=""),"",IF(H99=F99,1,IF(H99<F99,0,IF(H99-F99<10,2,IF(H99>F99,3,SE))))) -> 0
C100: =IF(OR(F100="",H100=""),"",IF(F100=H100,1,IF(F100<H100,0,IF(F100-H100<10,2,IF(F100>H100,3,SE))))) -> 2 | D100: =V25 -> Puro Malte F. C. | F100: 49 | G100: x | H100: 48 | I100: =V30 -> Forever2014 | Q100: =IF(OR(H100="",F100=""),"",IF(H100=F100,1,IF(H100<F100,0,IF(H100-F100<10,2,IF(H100>F100,3,SE))))) -> 0
C101: =IF(OR(F101="",H101=""),"",IF(F101=H101,1,IF(F101<H101,0,IF(F101-H101<10,2,IF(F101>H101,3,SE))))) -> 0 | D101: =V23 -> PHVT F.C. | F101: 54 | G101: x | H101: 59 | I101: =V24 -> Tribe of Gypsies | Q101: =IF(OR(H101="",F101=""),"",IF(H101=F101,1,IF(H101<F101,0,IF(H101-F101<10,2,IF(H101>F101,3,SE))))) -> 2
C102: =IF(OR(F102="",H102=""),"",IF(F102=H102,1,IF(F102<H102,0,IF(F102-H102<10,2,IF(F102>H102,3,SE))))) | Q102: =IF(OR(H102="",F102=""),"",IF(H102=F102,1,IF(H102<F102,0,IF(H102-F102<10,2,IF(H102>F102,3,SE)))))
C103: =IF(OR(F103="",H103=""),"",IF(F103=H103,1,IF(F103<H103,0,IF(F103-H103<10,2,IF(F103>H103,3,SE))))) | D103: 8ª RODADA - #27 | Q103: =IF(OR(H103="",F103=""),"",IF(H103=F103,1,IF(H103<F103,0,IF(H103-F103<10,2,IF(H103>F103,3,SE)))))
C104: =IF(OR(F104="",H104=""),"",IF(F104=H104,1,IF(F104<H104,0,IF(F104-H104<10,2,IF(F104>H104,3,SE))))) | Q104: =IF(OR(H104="",F104=""),"",IF(H104=F104,1,IF(H104<F104,0,IF(H104-F104<10,2,IF(H104>F104,3,SE)))))
C105: =IF(OR(F105="",H105=""),"",IF(F105=H105,1,IF(F105<H105,0,IF(F105-H105<10,2,IF(F105>H105,3,SE))))) | Q105: =IF(OR(H105="",F105=""),"",IF(H105=F105,1,IF(H105<F105,0,IF(H105-F105<10,2,IF(H105>F105,3,SE)))))
C106: =IF(OR(F106="",H106=""),"",IF(F106=H106,1,IF(F106<H106,0,IF(F106-H106<10,2,IF(F106>H106,3,SE))))) -> 0 | D106: =V27 -> Lucca Mengão | F106: 54 | G106: x | H106: 71 | I106: =V28 -> Rosinha da Gabi | Q106: =IF(OR(H106="",F106=""),"",IF(H106=F106,1,IF(H106<F106,0,IF(H106-F106<10,2,IF(H106>F106,3,SE))))) -> 3
C107: =IF(OR(F107="",H107=""),"",IF(F107=H107,1,IF(F107<H107,0,IF(F107-H107<10,2,IF(F107>H107,3,SE))))) -> 3 | D107: =V24 -> Tribe of Gypsies | F107: 46 | G107: x | H107: 31 | I107: =V22 -> Family Paz F.C. | Q107: =IF(OR(H107="",F107=""),"",IF(H107=F107,1,IF(H107<F107,0,IF(H107-F107<10,2,IF(H107>F107,3,SE))))) -> 0
C108: =IF(OR(F108="",H108=""),"",IF(F108=H108,1,IF(F108<H108,0,IF(F108-H108<10,2,IF(F108>H108,3,SE))))) -> 0 | D108: =V20 -> secapimenteira | F108: 27 | G108: x | H108: 44 | I108: =V31 -> BFR Igor Costa | Q108: =IF(OR(H108="",F108=""),"",IF(H108=F108,1,IF(H108<F108,0,IF(H108-F108<10,2,IF(H108>F108,3,SE))))) -> 3
C109: =IF(OR(F109="",H109=""),"",IF(F109=H109,1,IF(F109<H109,0,IF(F109-H109<10,2,IF(F109>H109,3,SE))))) -> 0 | D109: =V29 -> La Bestia Negra_Z | F109: 42 | G109: x | H109: 46 | I109: =V23 -> PHVT F.C. | Q109: =IF(OR(H109="",F109=""),"",IF(H109=F109,1,IF(H109<F109,0,IF(H109-F109<10,2,IF(H109>F109,3,SE))))) -> 2
C110: =IF(OR(F110="",H110=""),"",IF(F110=H110,1,IF(F110<H110,0,IF(F110-H110<10,2,IF(F110>H110,3,SE))))) -> 3 | D110: =V30 -> Forever2014 | F110: 21 | G110: x | H110: 5 | I110: =V21 -> itaipavacervejaclube | Q110: =IF(OR(H110="",F110=""),"",IF(H110=F110,1,IF(H110<F110,0,IF(H110-F110<10,2,IF(H110>F110,3,SE))))) -> 0
C111: =IF(OR(F111="",H111=""),"",IF(F111=H111,1,IF(F111<H111,0,IF(F111-H111<10,2,IF(F111>H111,3,SE))))) -> 3 | D111: =V25 -> Puro Malte F. C. | F111: 45 | G111: x | H111: 0 | I111: =V26 -> santo onofre E C | Q111: =IF(OR(H111="",F111=""),"",IF(H111=F111,1,IF(H111<F111,0,IF(H111-F111<10,2,IF(H111>F111,3,SE))))) -> 0
C112: =IF(OR(F112="",H112=""),"",IF(F112=H112,1,IF(F112<H112,0,IF(F112-H112<10,2,IF(F112>H112,3,SE))))) | Q112: =IF(OR(H112="",F112=""),"",IF(H112=F112,1,IF(H112<F112,0,IF(H112-F112<10,2,IF(H112>F112,3,SE)))))
C113: =IF(OR(F113="",H113=""),"",IF(F113=H113,1,IF(F113<H113,0,IF(F113-H113<10,2,IF(F113>H113,3,SE))))) | D113: 9ª RODADA - #28 | Q113: =IF(OR(H113="",F113=""),"",IF(H113=F113,1,IF(H113<F113,0,IF(H113-F113<10,2,IF(H113>F113,3,SE)))))
C114: =IF(OR(F114="",H114=""),"",IF(F114=H114,1,IF(F114<H114,0,IF(F114-H114<10,2,IF(F114>H114,3,SE))))) | Q114: =IF(OR(H114="",F114=""),"",IF(H114=F114,1,IF(H114<F114,0,IF(H114-F114<10,2,IF(H114>F114,3,SE)))))
...

Sheet GRUPO 4
B2: 1º SUPERSOCAMPEONATO 2013
B6: 1ª FASE
D10: CLASSIFICAÇÃO
D15: OBS: Os 4 melhores colocados no Grupo se classificarão para a Oitavas de Finais.
D17: GRUPO 4 | R17: Legenda
R18: P - pontos
D19: Pos. | E19: CARTOLA | F19: J | G19: P | H19: V3P | I19: V2P | J19: E | K19: D | L19: PPC | M19: PCC | N19: SP | O19: % APR. | R19: V3P - Vitória por 3 pontos | U19: Pos. | V19: TIMES | W19: J | X19: P | Y19: V3P | Z19: V2P | AA19: E | AB19: D | AC19: GF | AD19: GC | AE19: SG | AF19: % APR. | AG19: calc | AH19: maior | AI19: corresp
D20: 1º | E20: =VLOOKUP(AI20,$U$20:$AH$31,2) -> Casinha da Grazi | F20: =VLOOKUP(AI20,$U$20:$AH$31,3) -> 11 | G20: =VLOOKUP(AI20,$U$20:$AH$31,4) -> 24 | H20: =VLOOKUP(AI20,$U$20:$AH$31,5) -> 6 | I20: =VLOOKUP(AI20,$U$20:$AH$31,6) -> 3 | J20: =VLOOKUP(AI20,$U$20:$AH$31,7) -> 0 | K20: =VLOOKUP(AI20,$U$20:$AH$31,8) -> 2 | L20: =VLOOKUP(AI20,$U$20:$AH$31,9) -> 570 | M20: =VLOOKUP(AI20,$U$20:$AH$31,10) -> 449 | N20: =VLOOKUP(AI20,$U$20:$AH$31,11) -> 121 | O20: =VLOOKUP(AI20,$U$20:$AH$31,12) -> 0.72727273 | R20: V2P - Vitória por 2 pontos | U20: 1 | V20: MJ Predador F.C. | W20: =COUNT(F38,H60,F71,H46,H78,F91,H98,F108,H120,F128,F140) -> 11 | X20: =SUM(C38,Q46,Q60,C71,Q78,C91,Q98,C108,Q120,C128,C140) -> 16 | Y20: =SUM(COUNTIFS($C$36:$C$141,3,$D$36:$D$141,V20),COUNTIFS($I$36:$I$141,V20,$Q$36:$Q$141,3)) -> 4 | Z20: =SUM(COUNTIFS($C$36:$C$141,2,$D$36:$D$141,V20),COUNTIFS($I$36:$I$141,V20,$Q$36:$Q$141,2)) -> 1 | AA20: =SUM(COUNTIFS($C$36:$C$141,1,$D$36:$D$141,V20),COUNTIFS($I$36:$I$141,V20,$Q$36:$Q$141,1)) -> 2 | AB20: =SUM(COUNTIFS($C$36:$C$141,0,$D$36:$D$141,V20),COUNTIFS($I$36:$I$141,V20,$Q$36:$Q$141,0)) -> 4 | AC20: =SUM(F38,H46,H60,F71,H78,F91,H98,H120,F108,F128,F140) -> 501 | AD20: =SUM(H38,F46,F60,H71,F78,H91,F98,H108,F120,H128,H140) -> 445 | AE20: =AC20-AD20 -> 56 | AF20: =(X20/(W20*3)) -> 0.48484848 | AG20: =(X20*10^10)+((AC20+5000)*10^6)+(AE20*10)+U20 -> 165501000561 | AH20: =LARGE($AG$20:$AG$31,U20) -> 245570001217 | AI20: =MATCH(AH20,$AG$20:$AG$31,0) -> 7
D21: 2º | E21: =VLOOKUP(AI21,$U$20:$AH$31,2) -> hugofluzao | F21: =VLOOKUP(AI21,$U$20:$AH$31,3) -> 11 | G21: =VLOOKUP(AI21,$U$20:$AH$31,4) -> 23 | H21: =VLOOKUP(AI21,$U$20:$AH$31,5) -> 5 | I21: =VLOOKUP(AI21,$U$20:$AH$31,6) -> 4 | J21: =VLOOKUP(AI21,$U$20:$AH$31,7) -> 0 | K21: =VLOOKUP(AI21,$U$20:$AH$31,8) -> 2 | L21: =VLOOKUP(AI21,$U$20:$AH$31,9) -> 637 | M21: =VLOOKUP(AI21,$U$20:$AH$31,10) -> 510 | N21: =VLOOKUP(AI21,$U$20:$AH$31,11) -> 127 | O21: =VLOOKUP(AI21,$U$20:$AH$31,12) -> 0.6969697 | R21: E - Empate | U21: 2 | V21: JUGULI Fc | W21: =COUNT(H41,F50,H57,F69,F81,H91,F96,H110,F118,F130,H138) -> 11 | X21: =SUM(Q41,Q57,C69,C81,Q91,C50,C96,Q110,C118,C130,Q138) -> 3 | Y21: =SUM(COUNTIFS($C$36:$C$141,3,$D$36:$D$141,V21),COUNTIFS($I$36:$I$141,V21,$Q$36:$Q$141,3)) -> 1 | Z21: =SUM(COUNTIFS($C$36:$C$141,2,$D$36:$D$141,V21),COUNTIFS($I$36:$I$141,V21,$Q$36:$Q$141,2)) -> 0 | AA21: =SUM(COUNTIFS($C$36:$C$141,1,$D$36:$D$141,V21),COUNTIFS($I$36:$I$141,V21,$Q$36:$Q$141,1)) -> 0 | AB21: =SUM(COUNTIFS($C$36:$C$141,0,$D$36:$D$141,V21),COUNTIFS($I$36:$I$141,V21,$Q$36:$Q$141,0)) -> 10 | AC21: =SUM(H41,F50,H57,F69,F81,H91,F96,H110,F118,F130,H138) -> 330 | AD21: =SUM(F41,H50,F57,H69,H81,F91,H96,F110,H118,H130,F138) -> 525 | AE21: =AC21-AD21 -> -195 | AF21: =(X21/(W21*3)) -> 0.090909091 | AG21: =(X21*10^10)+((AC21+5000)*10^6)+(AE21*10)+U21 -> 35329998052 | AH21: =LARGE($AG$20:$AG$31,U21) -> 235637001280 | AI21: =MATCH(AH21,$AG$20:$AG$31,0) -> 10
D22: 3º | E22: =VLOOKUP(AI22,$U$20:$AH$31,2) -> VivaCR.FC | F22: =VLOOKUP(AI22,$U$20:$AH$31,3) -> 11 | G22: =VLOOKUP(AI22,$U$20:$AH$31,4) -> 21 | H22: =VLOOKUP(AI22,$U$20:$AH$31,5) -> 6 | I22: =VLOOKUP(AI22,$U$20:$AH$31,6) -> 1 | J22: =VLOOKUP(AI22,$U$20:$AH$31,7) -> 1 | K22: =VLOOKUP(AI22,$U$20:$AH$31,8) -> 3 | L22: =VLOOKUP(AI22,$U$20:$AH$31,9) -> 635 | M22: =VLOOKUP(AI22,$U$20:$AH$31,10) -> 492 | N22: =VLOOKUP(AI22,$U$20:$AH$31,11) -> 143 | O22: =VLOOKUP(AI22,$U$20:$AH$31,12) -> 0.63636364 | R22: D - Derrota | U22: 3 | V22: Vitullo soccer clube | W22: =COUNT(F39,H50,F60,F67,H77,H86,F99,H107,F121,H129,F137) -> 11 | X22: =SUM(C39,Q50,C60,C67,C99,Q77,Q86,Q107,C121,Q129,C137) -> 14 | Y22: =SUM(COUNTIFS($C$36:$C$141,3,$D$36:$D$141,V22),COUNTIFS($I$36:$I$141,V22,$Q$36:$Q$141,3)) -> 4 | Z22: =SUM(COUNTIFS($C$36:$C$141,2,$D$36:$D$141,V22),COUNTIFS($I$36:$I$141,V22,$Q$36:$Q$141,2)) -> 1 | AA22: =SUM(COUNTIFS($C$36:$C$141,1,$D$36:$D$141,V22),COUNTIFS($I$36:$I$141,V22,$Q$36:$Q$141,1)) -> 0 | AB22: =SUM(COUNTIFS($C$36:$C$141,0,$D$36:$D$141,V22),COUNTIFS($I$36:$I$141,V22,$Q$36:$Q$141,0)) -> 6 | AC22: =SUM(F39,H50,F60,F67,H77,H86,F99,H107,F121,H129,F137) -> 555 | AD22: =SUM(H39,F50,H60,H67,F77,F86,H99,F107,H121,F129,H137) -> 481 | AE22: =AC22-AD22 -> 74 | AF22: =(X22/(W22*3)) -> 0.42424242 | AG22: =(X22*10^10)+((AC22+5000)*10^6)+(AE22*10)+U22 -> 145555000743 | AH22: =LARGE($AG$20:$AG$31,U22) -> 215635001441 | AI22: =MATCH(AH22,$AG$20:$AG$31,0) -> 11
D23: 4º | E23: =VLOOKUP(AI23,$U$20:$AH$31,2) -> Grajaú F.C. | F23: =VLOOKUP(AI23,$U$20:$AH$31,3) -> 11 | G23: =VLOOKUP(AI23,$U$20:$AH$31,4) -> 19 | H23: =VLOOKUP(AI23,$U$20:$AH$31,5) -> 5 | I23: =VLOOKUP(AI23,$U$20:$AH$31,6) -> 2 | J23: =VLOOKUP(AI23,$U$20:$AH$31,7) -> 0 | K23: =VLOOKUP(AI23,$U$20:$AH$31,8) -> 4 | L23: =VLOOKUP(AI23,$U$20:$AH$31,9) -> 577 | M23: =VLOOKUP(AI23,$U$20:$AH$31,10) -> 496 | N23: =VLOOKUP(AI23,$U$20:$AH$31,11) -> 81 | O23: =VLOOKUP(AI23,$U$20:$AH$31,12) -> 0.57575758 | R23: PPC - pontos pró Cartola | U23: 4 | V23: tico sto fc | W23: =COUNT(F41,F46,H58,F68,H76,H87,F101,H109,H121,F126,H139) -> 11 | X23: =SUM(C41,C46,C68,Q76,Q58,Q109,Q87,C101,Q121,C126,Q139) -> 12 | Y23: =SUM(COUNTIFS($C$36:$C$141,3,$D$36:$D$141,V23),COUNTIFS($I$36:$I$141,V23,$Q$36:$Q$141,3)) -> 4 | Z23: =SUM(COUNTIFS($C$36:$C$141,2,$D$36:$D$141,V23),COUNTIFS($I$36:$I$141,V23,$Q$36:$Q$141,2)) -> 0 | AA23: =SUM(COUNTIFS($C$36:$C$141,1,$D$36:$D$141,V23),COUNTIFS($I$36:$I$141,V23,$Q$36:$Q$141,1)) -> 0 | AB23: =SUM(COUNTIFS($C$36:$C$141,0,$D$36:$D$141,V23),COUNTIFS($I$36:$I$141,V23,$Q$36:$Q$141,0)) -> 7 | AC23: =SUM(F41,F46,H58,F68,H87,H109,H76,F101,H121,F126,H139) -> 429 | AD23: =SUM(H41,H46,H68,F58,F76,F87,H101,F109,F121,H126,F139) -> 537 | AE23: =AC23-AD23 -> -108 | AF23: =(X23/(W23*3)) -> 0.36363636 | AG23: =(X23*10^10)+((AC23+5000)*10^6)+(AE23*10)+U23 -> 125428998924 | AH23: =LARGE($AG$20:$AG$31,U23) -> 195577000818 | AI23: =MATCH(AH23,$AG$20:$AG$31,0) -> 8
D24: 5º | E24: =VLOOKUP(AI24,$U$20:$AH$31,2) -> VascoPaulo F.C. | F24: =VLOOKUP(AI24,$U$20:$AH$31,3) -> 11 | G24: =VLOOKUP(AI24,$U$20:$AH$31,4) -> 18 | H24: =VLOOKUP(AI24,$U$20:$AH$31,5) -> 4 | I24: =VLOOKUP(AI24,$U$20:$AH$31,6) -> 3 | J24: =VLOOKUP(AI24,$U$20:$AH$31,7) -> 0 | K24: =VLOOKUP(AI24,$U$20:$AH$31,8) -> 4 | L24: =VLOOKUP(AI24,$U$20:$AH$31,9) -> 537 | M24: =VLOOKUP(AI24,$U$20:$AH$31,10) -> 567 | N24: =VLOOKUP(AI24,$U$20:$AH$31,11) -> -30 | O24: =VLOOKUP(AI24,$U$20:$AH$31,12) -> 0.54545455 | R24: PCC - pontos contra Cartola | U24: 5 | V24: Espamengo | W24: =COUNT(H36,F47,H56,F70,H79,F89,H101,F107,H118,F127,H140) -> 11 | X24: =SUM(Q36,C47,Q56,C70,Q79,C89,Q101,C107,Q118,C127,Q140) -> 6 | Y24: =SUM(COUNTIFS($C$36:$C$141,3,$D$36:$D$141,V24),COUNTIFS($I$36:$I$141,V24,$Q$36:$Q$141,3)) -> 1 | Z24: =SUM(COUNTIFS($C$36:$C$141,2,$D$36:$D$141,V24),COUNTIFS($I$36:$I$141,V24,$Q$36:$Q$141,2)) -> 1 | AA24: =SUM(COUNTIFS($C$36:$C$141,1,$D$36:$D$141,V24),COUNTIFS($I$36:$I$141,V24,$Q$36:$Q$141,1)) -> 1 | AB24: =SUM(COUNTIFS($C$36:$C$141,0,$D$36:$D$141,V24),COUNTIFS($I$36:$I$141,V24,$Q$36:$Q$141,0)) -> 8 | AC24: =SUM(H36,F47,H56,F70,H79,F89,H101,F107,H118,F127,H140) -> 445 | AD24: =SUM(F36,H47,F56,H70,F79,H89,F101,H107,F118,H127,F140) -> 567 | AE24: =AC24-AD24 -> -122 | AF24: =(X24/(W24*3)) -> 0.18181818 | AG24: =(X24*10^10)+((AC24+5000)*10^6)+(AE24*10)+U24 -> 65444998785 | AH24: =LARGE($AG$20:$AG$31,U24) -> 185536999712 | AI24: =MATCH(AH24,$AG$20:$AG$31,0) -> 12
D25: 6º | E25: =VLOOKUP(AI25,$U$20:$AH$31,2) -> MJ Predador F.C. | F25: =VLOOKUP(AI25,$U$20:$AH$31,3) -> 11 | G25: =VLOOKUP(AI25,$U$20:$AH$31,4) -> 16 | H25: =VLOOKUP(AI25,$U$20:$AH$31,5) -> 4 | I25: =VLOOKUP(AI25,$U$20:$AH$31,6) -> 1 | J25: =VLOOKUP(AI25,$U$20:$AH$31,7) -> 2 | K25: =VLOOKUP(AI25,$U$20:$AH$31,8) -> 4 | L25: =VLOOKUP(AI25,$U$20:$AH$31,9) -> 501 | M25: =VLOOKUP(AI25,$U$20:$AH$31,10) -> 445 | N25: =VLOOKUP(AI25,$U$20:$AH$31,11) -> 56 | O25: =VLOOKUP(AI25,$U$20:$AH$31,12) -> 0.48484848 | R25: SP - saldo de pontos | U25: 6 | V25: Bayern do Cartola | W25: =COUNT(H38,F49,F57,H70,H76,H86,H96,H106,H116,H126,H136) -> 11 | X25: =SUM(Q38,C49,C57,Q70,C76,Q90,C100,C111,Q117,C131,Q137) -> 11 | Y25: =SUM(COUNTIFS($C$36:$C$141,3,$D$36:$D$141,V25),COUNTIFS($I$36:$I$141,V25,$Q$36:$Q$141,3)) -> 3 | Z25: =SUM(COUNTIFS($C$36:$C$141,2,$D$36:$D$141,V25),COUNTIFS($I$36:$I$141,V25,$Q$36:$Q$141,2)) -> 1 | AA25: =SUM(COUNTIFS($C$36:$C$141,1,$D$36:$D$141,V25),COUNTIFS($I$36:$I$141,V25,$Q$36:$Q$141,1)) -> 0 | AB25: =SUM(COUNTIFS($C$36:$C$141,0,$D$36:$D$141,V25),COUNTIFS($I$36:$I$141,V25,$Q$36:$Q$141,0)) -> 7 | AC25: =SUM(H38,F49,F57,H70,F76,H90,F100,F111,H117,F131,H137) -> 484 | AD25: =SUM(F38,H49,H57,F70,H76,F90,H100,H111,F117,H131,F137) -> 548 | AE25: =AC25-AD25 -> -64 | AF25: =(X25/(W25*3)) -> 0.33333333 | AG25: =(X25*10^10)+((AC25+5000)*10^6)+(AE25*10)+U25 -> 115483999366 | AH25: =LARGE($AG$20:$AG$31,U25) -> 165501000561 | AI25: =MATCH(AH25,$AG$20:$AG$31,0) -> 1
D26: 7º | E26: =VLOOKUP(AI26,$U$20:$AH$31,2) -> Vitullo soccer clube | F26: =VLOOKUP(AI26,$U$20:$AH$31,3) -> 11 | G26: =VLOOKUP(AI26,$U$20:$AH$31,4) -> 14 | H26: =VLOOKUP(AI26,$U$20:$AH$31,5) -> 4 | I26: =VLOOKUP(AI26,$U$20:$AH$31,6) -> 1 | J26: =VLOOKUP(AI26,$U$20:$AH$31,7) -> 0 | K26: =VLOOKUP(AI26,$U$20:$AH$31,8) -> 6 | L26: =VLOOKUP(AI26,$U$20:$AH$31,9) -> 555 | M26: =VLOOKUP(AI26,$U$20:$AH$31,10) -> 481 | N26: =VLOOKUP(AI26,$U$20:$AH$31,11) -> 74 | O26: =VLOOKUP(AI26,$U$20:$AH$31,12) -> 0.42424242 | R26: % APR. - Aproveitamento | U26: 7 | V26: Casinha da Grazi | W26: =COUNT(H36,H46,H56,H66,H76,H86,H96,H106,H116,H126,H136) -> 11 | X26: =SUM(Q40,Q47,C59,C66,Q81,C87,C98,Q111,Q119,C129,Q136) -> 24 | Y26: =SUM(COUNTIFS($C$36:$C$141,3,$D$36:$D$141,V26),COUNTIFS($I$36:$I$141,V26,$Q$36:$Q$141,3)) -> 6 | Z26: =SUM(COUNTIFS($C$36:$C$141,2,$D$36:$D$141,V26),COUNTIFS($I$36:$I$141,V26,$Q$36:$Q$141,2)) -> 3 | AA26: =SUM(COUNTIFS($C$36:$C$141,1,$D$36:$D$141,V26),COUNTIFS($I$36:$I$141,V26,$Q$36:$Q$141,1)) -> 0 | AB26: =SUM(COUNTIFS($C$36:$C$141,0,$D$36:$D$141,V26),COUNTIFS($I$36:$I$141,V26,$Q$36:$Q$141,0)) -> 2 | AC26: =SUM(H40,H47,F59,F66,H81,F87,F98,H111,H119,F129,H136) -> 570 | AD26: =SUM(F40,F47,H59,H66,F81,H87,H98,F119,H129,F136) -> 449 | AE26: =AC26-AD26 -> 121 | AF26: =(X26/(W26*3)) -> 0.72727273 | AG26: =(X26*10^10)+((AC26+5000)*10^6)+(AE26*10)+U26 -> 245570001217 | AH26: =LARGE($AG$20:$AG$31,U26) -> 145555000743 | AI26: =MATCH(AH26,$AG$20:$AG$31,0) -> 3
D27: 8º | E27: =VLOOKUP(AI27,$U$20:$AH$31,2) -> tico sto fc | F27: =VLOOKUP(AI27,$U$20:$AH$31,3) -> 11 | G27: =VLOOKUP(AI27,$U$20:$AH$31,4) -> 12 | H27: =VLOOKUP(AI27,$U$20:$AH$31,5) -> 4 | I27: =VLOOKUP(AI27,$U$20:$AH$31,6) -> 0 | J27: =VLOOKUP(AI27,$U$20:$AH$31,7) -> 0 | K27: =VLOOKUP(AI27,$U$20:$AH$31,8) -> 7 | L27: =VLOOKUP(AI27,$U$20:$AH$31,9) -> 429 | M27: =VLOOKUP(AI27,$U$20:$AH$31,10) -> 537 | N27: =VLOOKUP(AI27,$U$20:$AH$31,11) -> -108 | O27: =VLOOKUP(AI27,$U$20:$AH$31,12) -> 0.36363636 | U27: 8 | V27: Grajaú F.C. | W27: =COUNT(H36,H46,H56,H66,H76,H86,H96,H106,H116,H126,H136) -> 11 | X27: =SUM(Q39,Q48,C61,Q66,C79,C90,Q96,C106,C116,Q128,C139) -> 19 | Y27: =SUM(COUNTIFS($C$36:$C$141,3,$D$36:$D$141,V27),COUNTIFS($I$36:$I$141,V27,$Q$36:$Q$141,3)) -> 5 | Z27: =SUM(COUNTIFS($C$36:$C$141,2,$D$36:$D$141,V27),COUNTIFS($I$36:$I$141,V27,$Q$36:$Q$141,2)) -> 2 | AA27: =SUM(COUNTIFS($C$36:$C$141,1,$D$36:$D$141,V27),COUNTIFS($I$36:$I$141,V27,$Q$36:$Q$141,1)) -> 0 | AB27: =SUM(COUNTIFS($C$36:$C$141,0,$D$36:$D$141,V27),COUNTIFS($I$36:$I$141,V27,$Q$36:$Q$141,0)) -> 4 | AC27: =SUM(H39,H48,F61,H66,F79,F90,H96,F106,F116,H128,F139) -> 577 | AD27: =SUM(F39,F48,F66,H61,H79,H90,F96,H106,H116,F128,H139) -> 496 | AE27: =AC27-AD27 -> 81 | AF27: =(X27/(W27*3)) -> 0.57575758 | AG27: =(X27*10^10)+((AC27+5000)*10^6)+(AE27*10)+U27 -> 195577000818 | AH27: =LARGE($AG$20:$AG$31,U27) -> 125428998924 | AI27: =MATCH(AH27,$AG$20:$AG$31,0) -> 4
D28: 9º | E28: =VLOOKUP(AI28,$U$20:$AH$31,2) -> Bayern do Cartola | F28: =VLOOKUP(AI28,$U$20:$AH$31,3) -> 11 | G28: =VLOOKUP(AI28,$U$20:$AH$31,4) -> 11 | H28: =VLOOKUP(AI28,$U$20:$AH$31,5) -> 3 | I28: =VLOOKUP(AI28,$U$20:$AH$31,6) -> 1 | J28: =VLOOKUP(AI28,$U$20:$AH$31,7) -> 0 | K28: =VLOOKUP(AI28,$U$20:$AH$31,8) -> 7 | L28: =VLOOKUP(AI28,$U$20:$AH$31,9) -> 484 | M28: =VLOOKUP(AI28,$U$20:$AH$31,10) -> 548 | N28: =VLOOKUP(AI28,$U$20:$AH$31,11) -> -64 | O28: =VLOOKUP(AI28,$U$20:$AH$31,12) -> 0.33333333 | R28: CRITÉRIO DE DESEMPATE | U28: 9 | V28: André fogão | W28: =COUNT(H36,H46,H56,H66,H76,H86,H96,H106,H116,H126,H136) -> 11 | X28: =SUM(C37,Q49,C56,Q69,C77,Q88,C97,Q106,C120,Q126,C136) -> 9 | Y28: =SUM(COUNTIFS($C$36:$C$141,3,$D$36:$D$141,V28),COUNTIFS($I$36:$I$141,V28,$Q$36:$Q$141,3)) -> 1 | Z28: =SUM(COUNTIFS($C$36:$C$141,2,$D$36:$D$141,V28),COUNTIFS($I$36:$I$141,V28,$Q$36:$Q$141,2)) -> 3 | AA28: =SUM(COUNTIFS($C$36:$C$141,1,$D$36:$D$141,V28),COUNTIFS($I$36:$I$141,V28,$Q$36:$Q$141,1)) -> 0 | AB28: =SUM(COUNTIFS($C$36:$C$141,0,$D$36:$D$141,V28),COUNTIFS($I$36:$I$141,V28,$Q$36:$Q$141,0)) -> 7 | AC28: =SUM(F37,H49,F56,H69,F77,H88,F97,H106,F120,H126,F136) -> 460 | AD28: =SUM(H37,F49,H56,F69,H77,F88,H97,F106,H120,F126,H136) -> 513 | AE28: =AC28-AD28 -> -53 | AF28: =(X28/(W28*3)) -> 0.27272727 | AG28: =(X28*10^10)+((AC28+5000)*10^6)+(AE28*10)+U28 -> 95459999479 | AH28: =LARGE($AG$20:$AG$31,U28) -> 115483999366 | AI28: =MATCH(AH28,$AG$20:$AG$31,0) -> 6
D29: 10º | E29: =VLOOKUP(AI29,$U$20:$AH$31,2) -> André fogão | F29: =VLOOKUP(AI29,$U$20:$AH$31,3) -> 11 | G29: =VLOOKUP(AI29,$U$20:$AH$31,4) -> 9 | H29: =VLOOKUP(AI29,$U$20:$AH$31,5) -> 1 | I29: =VLOOKUP(AI29,$U$20:$AH$31,6) -> 3 | J29: =VLOOKUP(AI29,$U$20:$AH$31,7) -> 0 | K29: =VLOOKUP(AI29,$U$20:$AH$31,8) -> 7 | L29: =VLOOKUP(AI29,$U$20:$AH$31,9) -> 460 | M29: =VLOOKUP(AI29,$U$20:$AH$31,10) -> 513 | N29: =VLOOKUP(AI29,$U$20:$AH$31,11) -> -53 | O29: =VLOOKUP(AI29,$U$20:$AH$31,12) -> 0.27272727 | R29: 1 - pontos | U29: 10 | V29: hugofluzao | W29: =COUNT(H36,H46,H56,H66,H76,H86,H96,H106,H116,H126,H136) -> 11 | X29: =SUM(Q37,C48,Q59,Q71,C80,Q89,Q99,C109,C117,Q130,Q141) -> 23 | Y29: =SUM(COUNTIFS($C$36:$C$141,3,$D$36:$D$141,V29),COUNTIFS($I$36:$I$141,V29,$Q$36:$Q$141,3)) -> 5 | Z29: =SUM(COUNTIFS($C$36:$C$141,2,$D$36:$D$141,V29),COUNTIFS($I$36:$I$141,V29,$Q$36:$Q$141,2)) -> 4 | AA29: =SUM(COUNTIFS($C$36:$C$141,1,$D$36:$D$141,V29),COUNTIFS($I$36:$I$141,V29,$Q$36:$Q$141,1)) -> 0 | AB29: =SUM(COUNTIFS($C$36:$C$141,0,$D$36:$D$141,V29),COUNTIFS($I$36:$I$141,V29,$Q$36:$Q$141,0)) -> 2 | AC29: =SUM(H37,F48,H59,H71,F80,H89,H99,F109,F117,H130,H141) -> 637 | AD29: =SUM(F37,H48,F59,F71,H80,F89,F99,H109,H117,F130,F141) -> 510 | AE29: =AC29-AD29 -> 127 | AF29: =(X29/(W29*3)) -> 0.6969697 | AG29: =(X29*10^10)+((AC29+5000)*10^6)+(AE29*10)+U29 -> 235637001280 | AH29: =LARGE($AG$20:$AG$31,U29) -> 95459999479 | AI29: =MATCH(AH29,$AG$20:$AG$31,0) -> 9
D30: 11º | E30: =VLOOKUP(AI30,$U$20:$AH$31,2) -> Espamengo | F30: =VLOOKUP(AI30,$U$20:$AH$31,3) -> 11 | G30: =VLOOKUP(AI30,$U$20:$AH$31,4) -> 6 | H30: =VLOOKUP(AI30,$U$20:$AH$31,5) -> 1 | I30: =VLOOKUP(AI30,$U$20:$AH$31,6) -> 1 | J30: =VLOOKUP(AI30,$U$20:$AH$31,7) -> 1 | K30: =VLOOKUP(AI30,$U$20:$AH$31,8) -> 8 | L30: =VLOOKUP(AI30,$U$20:$AH$31,9) -> 445 | M30: =VLOOKUP(AI30,$U$20:$AH$31,10) -> 567 | N30: =VLOOKUP(AI30,$U$20:$AH$31,11) -> -122 | O30: =VLOOKUP(AI30,$U$20:$AH$31,12) -> 0.18181818 | R30: 2 - pontos pró Cartola | U30: 11 | V30: VivaCR.FC | W30: =COUNT(H36,H46,H56,H66,H76,H86,H96,H106,H116,H126,H136) -> 11 | X30: =SUM(C40,Q51,C58,Q67,C78,C88,Q100,C110,Q116,Q127,C141) -> 21 | Y30: =SUM(COUNTIFS($C$36:$C$141,3,$D$36:$D$141,V30),COUNTIFS($I$36:$I$141,V30,$Q$36:$Q$141,3)) -> 6 | Z30: =SUM(COUNTIFS($C$36:$C$141,2,$D$36:$D$141,V30),COUNTIFS($I$36:$I$141,V30,$Q$36:$Q$141,2)) -> 1 | AA30: =SUM(COUNTIFS($C$36:$C$141,1,$D$36:$D$141,V30),COUNTIFS($I$36:$I$141,V30,$Q$36:$Q$141,1)) -> 1 | AB30: =SUM(COUNTIFS($C$36:$C$141,0,$D$36:$D$141,V30),COUNTIFS($I$36:$I$141,V30,$Q$36:$Q$141,0)) -> 3 | AC30: =SUM(F40,H51,F58,H67,F78,H100,F110,H116,H127,F141,F88) -> 635 | AD30: =SUM(H40,F51,H58,F67,H78,H88,F100,H110,F116,F127,H141) -> 492 | AE30: =AC30-AD30 -> 143 | AF30: =(X30/(W30*3)) -> 0.63636364 | AG30: =(X30*10^10)+((AC30+5000)*10^6)+(AE30*10)+U30 -> 215635001441 | AH30: =LARGE($AG$20:$AG$31,U30) -> 65444998785 | AI30: =MATCH(AH30,$AG$20:$AG$31,0) -> 5
D31: 12º | E31: =VLOOKUP(AI31,$U$20:$AH$31,2) -> JUGULI Fc | F31: =VLOOKUP(AI31,$U$20:$AH$31,3) -> 11 | G31: =VLOOKUP(AI31,$U$20:$AH$31,4) -> 3 | H31: =VLOOKUP(AI31,$U$20:$AH$31,5) -> 1 | I31: =VLOOKUP(AI31,$U$20:$AH$31,6) -> 0 | J31: =VLOOKUP(AI31,$U$20:$AH$31,7) -> 0 | K31: =VLOOKUP(AI31,$U$20:$AH$31,8) -> 10 | L31: =VLOOKUP(AI31,$U$20:$AH$31,9) -> 330 | M31: =VLOOKUP(AI31,$U$20:$AH$31,10) -> 525 | N31: =VLOOKUP(AI31,$U$20:$AH$31,11) -> -195 | O31: =VLOOKUP(AI31,$U$20:$AH$31,12) -> 0.090909091 | R31: 3 - saldo de pontos | U31: 12 | V31: VascoPaulo F.C. | W31: =COUNT(H36,H46,H56,H66,H76,H86,H96,H106,H116,H126,H136) -> 11 | X31: =SUM(C36,C51,Q61,Q68,Q80,C86,Q97,Q108,C119,Q131,C138) -> 18 | Y31: =SUM(COUNTIFS($C$36:$C$141,3,$D$36:$D$141,V31),COUNTIFS($I$36:$I$141,V31,$Q$36:$Q$141,3)) -> 4 | Z31: =SUM(COUNTIFS($C$36:$C$141,2,$D$36:$D$141,V31),COUNTIFS($I$36:$I$141,V31,$Q$36:$Q$141,2)) -> 3 | AA31: =SUM(COUNTIFS($C$36:$C$141,1,$D$36:$D$141,V31),COUNTIFS($I$36:$I$141,V31,$Q$36:$Q$141,1)) -> 0 | AB31: =SUM(COUNTIFS($C$36:$C$141,0,$D$36:$D$141,V31),COUNTIFS($I$36:$I$141,V31,$Q$36:$Q$141,0)) -> 4 | AC31: =SUM(F36,F51,H61,H68,H80,F86,H97,H108,F119,H131,F138) -> 537 | AD31: =SUM(H36,H51,F61,F68,F80,H86,F97,F108,H119,F131,H138) -> 567 | AE31: =AC31-AD31 -> -30 | AF31: =(X31/(W31*3)) -> 0.54545455 | AG31: =(X31*10^10)+((AC31+5000)*10^6)+(AE31*10)+U31 -> 185536999712 | AH31: =LARGE($AG$20:$AG$31,U31) -> 35329998052 | AI31: =MATCH(AH31,$AG$20:$AG$31,0) -> 2
R32: 4 - pontos contra Cartola
D33: 1ª RODADA - #20
C36: =IF(OR(F36="",H36=""),"",IF(F36=H36,1,IF(F36<H36,0,IF(F36-H36<10,2,IF(F36>H36,3,SE))))) -> 3 | D36: =V31 -> VascoPaulo F.C. | F36: 53 | G36: x | H36: 37 | I36: =V24 -> Espamengo | Q36: =IF(OR(H36="",F36=""),"",IF(H36=F36,1,IF(H36<F36,0,IF(H36-F36<10,2,IF(H36>F36,3,SE))))) -> 0
C37: =IF(OR(F37="",H37=""),"",IF(F37=H37,1,IF(F37<H37,0,IF(F37-H37<10,2,IF(F37>H37,3,SE))))) -> 0 | D37: =V28 -> André fogão | F37: 60 | G37: x | H37: 61 | I37: =V29 -> hugofluzao | Q37: =IF(OR(H37="",F37=""),"",IF(H37=F37,1,IF(H37<F37,0,IF(H37-F37<10,2,IF(H37>F37,3,SE))))) -> 2
C38: =IF(OR(F38="",H38=""),"",IF(F38=H38,1,IF(F38<H38,0,IF(F38-H38<10,2,IF(F38>H38,3,SE))))) -> 3 | D38: =V20 -> MJ Predador F.C. | F38: 59 | G38: x | H38: 38 | I38: =V25 -> Bayern do Cartola | Q38: =IF(OR(H38="",F38=""),"",IF(H38=F38,1,IF(H38<F38,0,IF(H38-F38<10,2,IF(H38>F38,3,SE))))) -> 0
C39: =IF(OR(F39="",H39=""),"",IF(F39=H39,1,IF(F39<H39,0,IF(F39-H39<10,2,IF(F39>H39,3,SE))))) -> 3 | D39: =V22 -> Vitullo soccer clube | F39: 82 | G39: x | H39: 63 | I39: =V27 -> Grajaú F.C. | Q39: =IF(OR(H39="",F39=""),"",IF(H39=F39,1,IF(H39<F39,0,IF(H39-F39<10,2,IF(H39>F39,3,SE))))) -> 0
C40: =IF(OR(F40="",H40=""),"",IF(F40=H40,1,IF(F40<H40,0,IF(F40-H40<10,2,IF(F40>H40,3,SE))))) -> 0 | D40: =V30 -> VivaCR.FC | F40: 47 | G40: x | H40: 57 | I40: =V26 -> Casinha da Grazi | Q40: =IF(OR(H40="",F40=""),"",IF(H40=F40,1,IF(H40<F40,0,IF(H40-F40<10,2,IF(H40>F40,3,SE))))) -> 3
C41: =IF(OR(F41="",H41=""),"",IF(F41=H41,1,IF(F41<H41,0,IF(F41-H41<10,2,IF(F41>H41,3,SE))))) -> 3 | D41: =V23 -> tico sto fc | F41: 35 | G41: x | H41: 25 | I41: =V21 -> JUGULI Fc | Q41: =IF(OR(H41="",F41=""),"",IF(H41=F41,1,IF(H41<F41,0,IF(H41-F41<10,2,IF(H41>F41,3,SE))))) -> 0
C42: =IF(OR(F42="",H42=""),"",IF(F42=H42,1,IF(F42<H42,0,IF(F42-H42<10,2,IF(F42>H42,3,SE))))) | Q42: =IF(OR(H42="",F42=""),"",IF(H42=F42,1,IF(H42<F42,0,IF(H42-F42<10,2,IF(H42>F42,3,SE)))))
C43: =IF(OR(F43="",H43=""),"",IF(F43=H43,1,IF(F43<H43,0,IF(F43-H43<10,2,IF(F43>H43,3,SE))))) | D43: 2ª RODADA - #21 | Q43: =IF(OR(H43="",F43=""),"",IF(H43=F43,1,IF(H43<F43,0,IF(H43-F43<10,2,IF(H43>F43,3,SE)))))
C44: =IF(OR(F44="",H44=""),"",IF(F44=H44,1,IF(F44<H44,0,IF(F44-H44<10,2,IF(F44>H44,3,SE))))) | Q44: =IF(OR(H44="",F44=""),"",IF(H44=F44,1,IF(H44<F44,0,IF(H44-F44<10,2,IF(H44>F44,3,SE)))))
C45: =IF(OR(F45="",H45=""),"",IF(F45=H45,1,IF(F45<H45,0,IF(F45-H45<10,2,IF(F45>H45,3,SE))))) | Q45: =IF(OR(H45="",F45=""),"",IF(H45=F45,1,IF(H45<F45,0,IF(H45-F45<10,2,IF(H45>F45,3,SE)))))
C46: =IF(OR(F46="",H46=""),"",IF(F46=H46,1,IF(F46<H46,0,IF(F46-H46<10,2,IF(F46>H46,3,SE))))) -> 0 | D46: =V23 -> tico sto fc | F46: 22 | G46: x | H46: 85 | I46: =V20 -> MJ Predador F.C. | Q46: =IF(OR(H46="",F46=""),"",IF(H46=F46,1,IF(H46<F46,0,IF(H46-F46<10,2,IF(H46>F46,3,SE))))) -> 3
C47: =IF(OR(F47="",H47=""),"",IF(F47=H47,1,IF(F47<H47,0,IF(F47-H47<10,2,IF(F47>H47,3,SE))))) -> 0 | D47: =V24 -> Espamengo | F47: 62 | G47: x | H47: 63 | I47: =V26 -> Casinha da Grazi | Q47: =IF(OR(H47="",F47=""),"",IF(H47=F47,1,IF(H47<F47,0,IF(H47-F47<10,2,IF(H47>F47,3,SE))))) -> 2
C48: =IF(OR(F48="",H48=""),"",IF(F48=H48,1,IF(F48<H48,0,IF(F48-H48<10,2,IF(F48>H48,3,SE))))) -> 3 | D48: =V29 -> hugofluzao | F48: 80 | G48: x | H48: 67 | I48: =V27 -> Grajaú F.C. | Q48: =IF(OR(H48="",F48=""),"",IF(H48=F48,1,IF(H48<F48,0,IF(H48-F48<10,2,IF(H48>F48,3,SE))))) -> 0
C49: =IF(OR(F49="",H49=""),"",IF(F49=H49,1,IF(F49<H49,0,IF(F49-H49<10,2,IF(F49>H49,3,SE))))) -> 0 | D49: =V25 -> Bayern do Cartola | F49: 38 | G49: x | H49: 46 | I49: =V28 -> André fogão | Q49: =IF(OR(H49="",F49=""),"",IF(H49=F49,1,IF(H49<F49,0,IF(H49-F49<10,2,IF(H49>F49,3,SE))))) -> 2
C50: =IF(OR(F50="",H50=""),"",IF(F50=H50,1,IF(F50<H50,0,IF(F50-H50<10,2,IF(F50>H50,3,SE))))) -> 0 | D50: =V21 -> JUGULI Fc | F50: 25 | G50: x | H50: 63 | I50: =V22 -> Vitullo soccer clube | Q50: =IF(OR(H50="",F50=""),"",IF(H50=F50,1,IF(H50<F50,0,IF(H50-F50<10,2,IF(H50>F50,3,SE))))) -> 3
C51: =IF(OR(F51="",H51=""),"",IF(F51=H51,1,IF(F51<H51,0,IF(F51-H51<10,2,IF(F51>H51,3,SE))))) -> 3 | D51: =V31 -> VascoPaulo F.C. | F51: 84 | G51: x | H51: 63 | I51: =V30 -> VivaCR.FC | Q51: =IF(OR(H51="",F51=""),"",IF(H51=F51,1,IF(H51<F51,0,IF(H51-F51<10,2,IF(H51>F51,3,SE))))) -> 0
C52: =IF(OR(F52="",H52=""),"",IF(F52=H52,1,IF(F52<H52,0,IF(F52-H52<10,2,IF(F52>H52,3,SE))))) | Q52: =IF(OR(H52="",F52=""),"",IF(H52=F52,1,IF(H52<F52,0,IF(H52-F52<10,2,IF(H52>F52,3,SE)))))
C53: =IF(OR(F53="",H53=""),"",IF(F53=H53,1,IF(F53<H53,0,IF(F53-H53<10,2,IF(F53>H53,3,SE))))) | D53: 3ª RODADA - #22 | Q53: =IF(OR(H53="",F53=""),"",IF(H53=F53,1,IF(H53<F53,0,IF(H53-F53<10,2,IF(H53>F53,3,SE)))))
C54: =IF(OR(F54="",H54=""),"",IF(F54=H54,1,IF(F54<H54,0,IF(F54-H54<10,2,IF(F54>H54,3,SE))))) | Q54: =IF(OR(H54="",F54=""),"",IF(H54=F54,1,IF(H54<F54,0,IF(H54-F54<10,2,IF(H54>F54,3,SE)))))
C55: =IF(OR(F55="",H55=""),"",IF(F55=H55,1,IF(F55<H55,0,IF(F55-H55<10,2,IF(F55>H55,3,SE))))) | Q55: =IF(OR(H55="",F55=""),"",IF(H55=F55,1,IF(H55<F55,0,IF(H55-F55<10,2,IF(H55>F55,3,SE)))))
C56: =IF(OR(F56="",H56=""),"",IF(F56=H56,1,IF(F56<H56,0,IF(F56-H56<10,2,IF(F56>H56,3,SE))))) -> 2 | D56: =V28 -> André fogão | F56: 23 | G56: x | H56: 21 | I56: =V24 -> Espamengo | Q56: =IF(OR(H56="",F56=""),"",IF(H56=F56,1,IF(H56<F56,0,IF(H56-F56<10,2,IF(H56>F56,3,SE))))) -> 0
C57: =IF(OR(F57="",H57=""),"",IF(F57=H57,1,IF(F57<H57,0,IF(F57-H57<10,2,IF(F57>H57,3,SE))))) -> 3 | D57: =V25 -> Bayern do Cartola | F57: 55 | G57: x | H57: 37 | I57: =V21 -> JUGULI Fc | Q57: =IF(OR(H57="",F57=""),"",IF(H57=F57,1,IF(H57<F57,0,IF(H57-F57<10,2,IF(H57>F57,3,SE))))) -> 0
C58: =IF(OR(F58="",H58=""),"",IF(F58=H58,1,IF(F58<H58,0,IF(F58-H58<10,2,IF(F58>H58,3,SE))))) -> 3 | D58: =V30 -> VivaCR.FC | F58: 46 | G58: x | H58: 36 | I58: =V23 -> tico sto fc | Q58: =IF(OR(H58="",F58=""),"",IF(H58=F58,1,IF(H58<F58,0,IF(H58-F58<10,2,IF(H58>F58,3,SE))))) -> 0
C59: =IF(OR(F59="",H59=""),"",IF(F59=H59,1,IF(F59<H59,0,IF(F59-H59<10,2,IF(F59>H59,3,SE))))) -> 3 | D59: =V26 -> Casinha da Grazi | F59: 42 | G59: x | H59: 26 | I59: =V29 -> hugofluzao | Q59: =IF(OR(H59="",F59=""),"",IF(H59=F59,1,IF(H59<F59,0,IF(H59-F59<10,2,IF(H59>F59,3,SE))))) -> 0
C60: =IF(OR(F60="",H60=""),"",IF(F60=H60,1,IF(F60<H60,0,IF(F60-H60<10,2,IF(F60>H60,3,SE))))) -> 3 | D60: =V22 -> Vitullo soccer clube | F60: 54 | G60: x | H60: 29 | I60: =V20 -> MJ Predador F.C. | Q60: =IF(OR(H60="",F60=""),"",IF(H60=F60,1,IF(H60<F60,0,IF(H60-F60<10,2,IF(H60>F60,3,SE))))) -> 0
C61: =IF(OR(F61="",H61=""),"",IF(F61=H61,1,IF(F61<H61,0,IF(F61-H61<10,2,IF(F61>H61,3,SE))))) -> 3 | D61: =V27 -> Grajaú F.C. | F61: 47 | G61: x | H61: 16 | I61: =V31 -> VascoPaulo F.C. | Q61: =IF(OR(H61="",F61=""),"",IF(H61=F61,1,IF(H61<F61,0,IF(H61-F61<10,2,IF(H61>F61,3,SE))))) -> 0
C62: =IF(OR(F62="",H62=""),"",IF(F62=H62,1,IF(F62<H62,0,IF(F62-H62<10,2,IF(F62>H62,3,SE))))) | Q62: =IF(OR(H62="",F62=""),"",IF(H62=F62,1,IF(H62<F62,0,IF(H62-F62<10,2,IF(H62>F62,3,SE)))))
C63: =IF(OR(F63="",H63=""),"",IF(F63=H63,1,IF(F63<H63,0,IF(F63-H63<10,2,IF(F63>H63,3,SE))))) | D63: 4ª RODADA - #23 | Q63: =IF(OR(H63="",F63=""),"",IF(H63=F63,1,IF(H63<F63,0,IF(H63-F63<10,2,IF(H63>F63,3,SE)))))
C64: =IF(OR(F64="",H64=""),"",IF(F64=H64,1,IF(F64<H64,0,IF(F64-H64<10,2,IF(F64>H64,3,SE))))) | Q64: =IF(OR(H64="",F64=""),"",IF(H64=F64,1,IF(H64<F64,0,IF(H64-F64<10,2,IF(H64>F64,3,SE)))))
C65: =IF(OR(F65="",H65=""),"",IF(F65=H65,1,IF(F65<H65,0,IF(F65-H65<10,2,IF(F65>H65,3,SE))))) | Q65: =IF(OR(H65="",F65=""),"",IF(H65=F65,1,IF(H65<F65,0,IF(H65-F65<10,2,IF(H65>F65,3,SE)))))
C66: =IF(OR(F66="",H66=""),"",IF(F66=H66,1,IF(F66<H66,0,IF(F66-H66<10,2,IF(F66>H66,3,SE))))) -> 0 | D66: =V26 -> Casinha da Grazi | F66: 50 | G66: x | H66: 58 | I66: =V27 -> Grajaú F.C. | Q66: =IF(OR(H66="",F66=""),"",IF(H66=F66,1,IF(H66<F66,0,IF(H66-F66<10,2,IF(H66>F66,3,SE))))) -> 2
C67: =IF(OR(F67="",H67=""),"",IF(F67=H67,1,IF(F67<H67,0,IF(F67-H67<10,2,IF(F67>H67,3,SE))))) -> 0 | D67: =V22 -> Vitullo soccer clube | F67: 18 | G67: x | H67: 43 | I67: =V30 -> VivaCR.FC | Q67: =IF(OR(H67="",F67=""),"",IF(H67=F67,1,IF(H67<F67,0,IF(H67-F67<10,2,IF(H67>F67,3,SE))))) -> 3
C68: =IF(OR(F68="",H68=""),"",IF(F68=H68,1,IF(F68<H68,0,IF(F68-H68<10,2,IF(F68>H68,3,SE))))) -> 3 | D68: =V23 -> tico sto fc | F68: 68 | G68: x | H68: 37 | I68: =V31 -> VascoPaulo F.C. | Q68: =IF(OR(H68="",F68=""),"",IF(H68=F68,1,IF(H68<F68,0,IF(H68-F68<10,2,IF(H68>F68,3,SE))))) -> 0
C69: =IF(OR(F69="",H69=""),"",IF(F69=H69,1,IF(F69<H69,0,IF(F69-H69<10,2,IF(F69>H69,3,SE))))) -> 0 | D69: =V21 -> JUGULI Fc | F69: 34 | G69: x | H69: 52 | I69: =V28 -> André fogão | Q69: =IF(OR(H69="",F69=""),"",IF(H69=F69,1,IF(H69<F69,0,IF(H69-F69<10,2,IF(H69>F69,3,SE))))) -> 3
C70: =IF(OR(F70="",H70=""),"",IF(F70=H70,1,IF(F70<H70,0,IF(F70-H70<10,2,IF(F70>H70,3,SE))))) -> 3 | D70: =V24 -> Espamengo | F70: 75 | G70: x | H70: 60 | I70: =V25 -> Bayern do Cartola | Q70: =IF(OR(H70="",F70=""),"",IF(H70=F70,1,IF(H70<F70,0,IF(H70-F70<10,2,IF(H70>F70,3,SE))))) -> 0
C71: =IF(OR(F71="",H71=""),"",IF(F71=H71,1,IF(F71<H71,0,IF(F71-H71<10,2,IF(F71>H71,3,SE))))) -> 3 | D71: =V20 -> MJ Predador F.C. | F71: 58 | G71: x | H71: 36 | I71: =V29 -> hugofluzao | Q71: =IF(OR(H71="",F71=""),"",IF(H71=F71,1,IF(H71<F71,0,IF(H71-F71<10,2,IF(H71>F71,3,SE))))) -> 0
C72: =IF(OR(F72="",H72=""),"",IF(F72=H72,1,IF(F72<H72,0,IF(F72-H72<10,2,IF(F72>H72,3,SE))))) | Q72: =IF(OR(H72="",F72=""),"",IF(H72=F72,1,IF(H72<F72,0,IF(H72-F72<10,2,IF(H72>F72,3,SE)))))
C73: =IF(OR(F73="",H73=""),"",IF(F73=H73,1,IF(F73<H73,0,IF(F73-H73<10,2,IF(F73>H73,3,SE))))) | D73: 5ª RODADA - #24 | Q73: =IF(OR(H73="",F73=""),"",IF(H73=F73,1,IF(H73<F73,0,IF(H73-F73<10,2,IF(H73>F73,3,SE)))))
C74: =IF(OR(F74="",H74=""),"",IF(F74=H74,1,IF(F74<H74,0,IF(F74-H74<10,2,IF(F74>H74,3,SE))))) | Q74: =IF(OR(H74="",F74=""),"",IF(H74=F74,1,IF(H74<F74,0,IF(H74-F74<10,2,IF(H74>F74,3,SE)))))
C75: =IF(OR(F75="",H75=""),"",IF(F75=H75,1,IF(F75<H75,0,IF(F75-H75<10,2,IF(F75>H75,3,SE))))) | Q75: =IF(OR(H75="",F75=""),"",IF(H75=F75,1,IF(H75<F75,0,IF(H75-F75<10,2,IF(H75>F75,3,SE)))))
C76: =IF(OR(F76="",H76=""),"",IF(F76=H76,1,IF(F76<H76,0,IF(F76-H76<10,2,IF(F76>H76,3,SE))))) -> 3 | D76: =V25 -> Bayern do Cartola | F76: 52 | G76: x | H76: 35 | I76: =V23 -> tico sto fc | Q76: =IF(OR(H76="",F76=""),"",IF(H76=F76,1,IF(H76<F76,0,IF(H76-F76<10,2,IF(H76>F76,3,SE))))) -> 0
C77: =IF(OR(F77="",H77=""),"",IF(F77=H77,1,IF(F77<H77,0,IF(F77-H77<10,2,IF(F77>H77,3,SE))))) -> 0 | D77: =V28 -> André fogão | F77: 40 | G77: x | H77: 94 | I77: =V22 -> Vitullo soccer clube | Q77: =IF(OR(H77="",F77=""),"",IF(H77=F77,1,IF(H77<F77,0,IF(H77-F77<10,2,IF(H77>F77,3,SE))))) -> 3
C78: =IF(OR(F78="",H78=""),"",IF(F78=H78,1,IF(F78<H78,0,IF(F78-H78<10,2,IF(F78>H78,3,SE))))) -> 1 | D78: =V30 -> VivaCR.FC | F78: 65 | G78: x | H78: 65 | I78: =V20 -> MJ Predador F.C. | Q78: =IF(OR(H78="",F78=""),"",IF(H78=F78,1,IF(H78<F78,0,IF(H78-F78<10,2,IF(H78>F78,3,SE))))) -> 1
C79: =IF(OR(F79="",H79=""),"",IF(F79=H79,1,IF(F79<H79,0,IF(F79-H79<10,2,IF(F79>H79,3,SE))))) -> 3 | D79: =V27 -> Grajaú F.C. | F79: 42 | G79: x | H79: 15 | I79: =V24 -> Espamengo | Q79: =IF(OR(H79="",F79=""),"",IF(H79=F79,1,IF(H79<F79,0,IF(H79-F79<10,2,IF(H79>F79,3,SE))))) -> 0
C80: =IF(OR(F80="",H80=""),"",IF(F80=H80,1,IF(F80<H80,0,IF(F80-H80<10,2,IF(F80>H80,3,SE))))) -> 3 | D80: =V29 -> hugofluzao | F80: 70 | G80: x | H80: 47 | I80: =V31 -> VascoPaulo F.C. | Q80: =IF(OR(H80="",F80=""),"",IF(H80=F80,1,IF(H80<F80,0,IF(H80-F80<10,2,IF(H80>F80,3,SE))))) -> 0
C81: =IF(OR(F81="",H81=""),"",IF(F81=H81,1,IF(F81<H81,0,IF(F81-H81<10,2,IF(F81>H81,3,SE))))) -> 0 | D81: =V21 -> JUGULI Fc | F81: 17 | G81: x | H81: 27 | I81: =V26 -> Casinha da Grazi | Q81: =IF(OR(H81="",F81=""),"",IF(H81=F81,1,IF(H81<F81,0,IF(H81-F81<10,2,IF(H81>F81,3,SE))))) -> 3
C82: =IF(OR(F82="",H82=""),"",IF(F82=H82,1,IF(F82<H82,0,IF(F82-H82<10,2,IF(F82>H82,3,SE))))) | Q82: =IF(OR(H82="",F82=""),"",IF(H82=F82,1,IF(H82<F82,0,IF(H82-F82<10,2,IF(H82>F82,3,SE)))))
C83: =IF(OR(F83="",H83=""),"",IF(F83=H83,1,IF(F83<H83,0,IF(F83-H83<10,2,IF(F83>H83,3,SE))))) | D83: 6ª RODADA - #25 | Q83: =IF(OR(H83="",F83=""),"",IF(H83=F83,1,IF(H83<F83,0,IF(H83-F83<10,2,IF(H83>F83,3,SE)))))
C84: =IF(OR(F84="",H84=""),"",IF(F84=H84,1,IF(F84<H84,0,IF(F84-H84<10,2,IF(F84>H84,3,SE))))) | Q84: =IF(OR(H84="",F84=""),"",IF(H84=F84,1,IF(H84<F84,0,IF(H84-F84<10,2,IF(H84>F84,3,SE)))))
C85: =IF(OR(F85="",H85=""),"",IF(F85=H85,1,IF(F85<H85,0,IF(F85-H85<10,2,IF(F85>H85,3,SE))))) | Q85: =IF(OR(H85="",F85=""),"",IF(H85=F85,1,IF(H85<F85,0,IF(H85-F85<10,2,IF(H85>F85,3,SE)))))
C86: =IF(OR(F86="",H86=""),"",IF(F86=H86,1,IF(F86<H86,0,IF(F86-H86<10,2,IF(F86>H86,3,SE))))) -> 2 | D86: =V31 -> VascoPaulo F.C. | F86: 47 | G86: x | H86: 46 | I86: =V22 -> Vitullo soccer clube | Q86: =IF(OR(H86="",F86=""),"",IF(H86=F86,1,IF(H86<F86,0,IF(H86-F86<10,2,IF(H86>F86,3,SE))))) -> 0
C87: =IF(OR(F87="",H87=""),"",IF(F87=H87,1,IF(F87<H87,0,IF(F87-H87<10,2,IF(F87>H87,3,SE))))) -> 2 | D87: =V26 -> Casinha da Grazi | F87: 44 | G87: x | H87: 37 | I87: =V23 -> tico sto fc | Q87: =IF(OR(H87="",F87=""),"",IF(H87=F87,1,IF(H87<F87,0,IF(H87-F87<10,2,IF(H87>F87,3,SE))))) -> 0
C88: =IF(OR(F88="",H88=""),"",IF(F88=H88,1,IF(F88<H88,0,IF(F88-H88<10,2,IF(F88>H88,3,SE))))) -> 2 | D88: =V30 -> VivaCR.FC | F88: 39 | G88: x | H88: 33 | I88: =V28 -> André fogão | Q88: =IF(OR(H88="",F88=""),"",IF(H88=F88,1,IF(H88<F88,0,IF(H88-F88<10,2,IF(H88>F88,3,SE))))) -> 0
C89: =IF(OR(F89="",H89=""),"",IF(F89=H89,1,IF(F89<H89,0,IF(F89-H89<10,2,IF(F89>H89,3,SE))))) -> 0 | D89: =V24 -> Espamengo | F89: 53 | G89: x | H89: 60 | I89: =V29 -> hugofluzao | Q89: =IF(OR(H89="",F89=""),"",IF(H89=F89,1,IF(H89<F89,0,IF(H89-F89<10,2,IF(H89>F89,3,SE))))) -> 2
C90: =IF(OR(F90="",H90=""),"",IF(F90=H90,1,IF(F90<H90,0,IF(F90-H90<10,2,IF(F90>H90,3,SE))))) -> 0 | D90: =V27 -> Grajaú F.C. | F90: 47 | G90: x | H90: 52 | I90: =V25 -> Bayern do Cartola | Q90: =IF(OR(H90="",F90=""),"",IF(H90=F90,1,IF(H90<F90,0,IF(H90-F90<10,2,IF(H90>F90,3,SE))))) -> 2
C91: =IF(OR(F91="",H91=""),"",IF(F91=H91,1,IF(F91<H91,0,IF(F91-H91<10,2,IF(F91>H91,3,SE))))) -> 3 | D91: =V20 -> MJ Predador F.C. | F91: 36 | G91: x | H91: 15 | I91: =V21 -> JUGULI Fc | Q91: =IF(OR(H91="",F91=""),"",IF(H91=F91,1,IF(H91<F91,0,IF(H91-F91<10,2,IF(H91>F91,3,SE))))) -> 0
C92: =IF(OR(F92="",H92=""),"",IF(F92=H92,1,IF(F92<H92,0,IF(F92-H92<10,2,IF(F92>H92,3,SE))))) | Q92: =IF(OR(H92="",F92=""),"",IF(H92=F92,1,IF(H92<F92,0,IF(H92-F92<10,2,IF(H92>F92,3,SE)))))
C93: =IF(OR(F93="",H93=""),"",IF(F93=H93,1,IF(F93<H93,0,IF(F93-H93<10,2,IF(F93>H93,3,SE))))) | D93: 7ª RODADA - #26 | Q93: =IF(OR(H93="",F93=""),"",IF(H93=F93,1,IF(H93<F93,0,IF(H93-F93<10,2,IF(H93>F93,3,SE)))))
C94: =IF(OR(F94="",H94=""),"",IF(F94=H94,1,IF(F94<H94,0,IF(F94-H94<10,2,IF(F94>H94,3,SE))))) | Q94: =IF(OR(H94="",F94=""),"",IF(H94=F94,1,IF(H94<F94,0,IF(H94-F94<10,2,IF(H94>F94,3,SE)))))
C95: =IF(OR(F95="",H95=""),"",IF(F95=H95,1,IF(F95<H95,0,IF(F95-H95<10,2,IF(F95>H95,3,SE))))) | Q95: =IF(OR(H95="",F95=""),"",IF(H95=F95,1,IF(H95<F95,0,IF(H95-F95<10,2,IF(H95>F95,3,SE)))))
C96: =IF(OR(F96="",H96=""),"",IF(F96=H96,1,IF(F96<H96,0,IF(F96-H96<10,2,IF(F96>H96,3,SE))))) -> 0 | D96: =V21 -> JUGULI Fc | F96: 20 | G96: x | H96: 43 | I96: =V27 -> Grajaú F.C. | Q96: =IF(OR(H96="",F96=""),"",IF(H96=F96,1,IF(H96<F96,0,IF(H96-F96<10,2,IF(H96>F96,3,SE))))) -> 3
C97: =IF(OR(F97="",H97=""),"",IF(F97=H97,1,IF(F97<H97,0,IF(F97-H97<10,2,IF(F97>H97,3,SE))))) -> 0 | D97: =V28 -> André fogão | F97: 41 | G97: x | H97: 42 | I97: =V31 -> VascoPaulo F.C. | Q97: =IF(OR(H97="",F97=""),"",IF(H97=F97,1,IF(H97<F97,0,IF(H97-F97<10,2,IF(H97>F97,3,SE))))) -> 2
C98: =IF(OR(F98="",H98=""),"",IF(F98=H98,1,IF(F98<H98,0,IF(F98-H98<10,2,IF(F98>H98,3,SE))))) -> 3 | D98: =V26 -> Casinha da Grazi | F98: 52 | G98: x | H98: 38 | I98: =V20 -> MJ Predador F.C. | Q98: =IF(OR(H98="",F98=""),"",IF(H98=F98,1,IF(H98<F98,0,IF(H98-F98<10,2,IF(H98>F98,3,SE))))) -> 0
C99: =IF(OR(F99="",H99=""),"",IF(F99=H99,1,IF(F99<H99,0,IF(F99-H99<10,2,IF(F99>H99,3,SE))))) -> 0 | D99: =V22 -> Vitullo soccer clube | F99: 47 | G99: x | H99: 52 | I99: =V29 -> hugofluzao | Q99: =IF(OR(H99="",F99=""),"",IF(H99=F99,1,IF(H99<F99,0,IF(H99-F99<10,2,IF(H99>F99,3,SE))))) -> 2
C100: =IF(OR(F100="",H100=""),"",IF(F100=H100,1,IF(F100<H100,0,IF(F100-H100<10,2,IF(F100>H100,3,SE))))) -> 0 | D100: =V25 -> Bayern do Cartola | F100: 41 | G100: x | H100: 68 | I100: =V30 -> VivaCR.FC | Q100: =IF(OR(H100="",F100=""),"",IF(H100=F100,1,IF(H100<F100,0,IF(H100-F100<10,2,IF(H100>F100,3,SE))))) -> 3
C101: =IF(OR(F101="",H101=""),"",IF(F101=H101,1,IF(F101<H101,0,IF(F101-H101<10,2,IF(F101>H101,3,SE))))) -> 3 | D101: =V23 -> tico sto fc | F101: 68 | G101: x | H101: 42 | I101: =V24 -> Espamengo | Q101: =IF(OR(H101="",F101=""),"",IF(H101=F101,1,IF(H101<F101,0,IF(H101-F101<10,2,IF(H101>F101,3,SE))))) -> 0
C102: =IF(OR(F102="",H102=""),"",IF(F102=H102,1,IF(F102<H102,0,IF(F102-H102<10,2,IF(F102>H102,3,SE))))) | Q102: =IF(OR(H102="",F102=""),"",IF(H102=F102,1,IF(H102<F102,0,IF(H102-F102<10,2,IF(H102>F102,3,SE)))))
C103: =IF(OR(F103="",H103=""),"",IF(F103=H103,1,IF(F103<H103,0,IF(F103-H103<10,2,IF(F103>H103,3,SE))))) | D103: 8ª RODADA - #27 | Q103: =IF(OR(H103="",F103=""),"",IF(H103=F103,1,IF(H103<F103,0,IF(H103-F103<10,2,IF(H103>F103,3,SE)))))
C104: =IF(OR(F104="",H104=""),"",IF(F104=H104,1,IF(F104<H104,0,IF(F104-H104<10,2,IF(F104>H104,3,SE))))) | Q104: =IF(OR(H104="",F104=""),"",IF(H104=F104,1,IF(H104<F104,0,IF(H104-F104<10,2,IF(H104>F104,3,SE)))))
C105: =IF(OR(F105="",H105=""),"",IF(F105=H105,1,IF(F105<H105,0,IF(F105-H105<10,2,IF(F105>H105,3,SE))))) | Q105: =IF(OR(H105="",F105=""),"",IF(H105=F105,1,IF(H105<F105,0,IF(H105-F105<10,2,IF(H105>F105,3,SE)))))
C106: =IF(OR(F106="",H106=""),"",IF(F106=H106,1,IF(F106<H106,0,IF(F106-H106<10,2,IF(F106>H106,3,SE))))) -> 2 | D106: =V27 -> Grajaú F.C. | F106: 46 | G106: x | H106: 44 | I106: =V28 -> André fogão | Q106: =IF(OR(H106="",F106=""),"",IF(H106=F106,1,IF(H106<F106,0,IF(H106-F106<10,2,IF(H106>F106,3,SE))))) -> 0
C107: =IF(OR(F107="",H107=""),"",IF(F107=H107,1,IF(F107<H107,0,IF(F107-H107<10,2,IF(F107>H107,3,SE))))) -> 2 | D107: =V24 -> Espamengo | F107: 41 | G107: x | H107: 37 | I107: =V22 -> Vitullo soccer clube | Q107: =IF(OR(H107="",F107=""),"",IF(H107=F107,1,IF(H107<F107,0,IF(H107-F107<10,2,IF(H107>F107,3,SE))))) -> 0
C108: =IF(OR(F108="",H108=""),"",IF(F108=H108,1,IF(F108<H108,0,IF(F108-H108<10,2,IF(F108>H108,3,SE))))) -> 0 | D108: =V20 -> MJ Predador F.C. | F108: 30 | G108: x | H108: 43 | I108: =V31 -> VascoPaulo F.C. | Q108: =IF(OR(H108="",F108=""),"",IF(H108=F108,1,IF(H108<F108,0,IF(H108-F108<10,2,IF(H108>F108,3,SE))))) -> 3
C109: =IF(OR(F109="",H109=""),"",IF(F109=H109,1,IF(F109<H109,0,IF(F109-H109<10,2,IF(F109>H109,3,SE))))) -> 3 | D109: =V29 -> hugofluzao | F109: 74 | G109: x | H109: 20 | I109: =V23 -> tico sto fc | Q109: =IF(OR(H109="",F109=""),"",IF(H109=F109,1,IF(H109<F109,0,IF(H109-F109<10,2,IF(H109>F109,3,SE))))) -> 0
C110: =IF(OR(F110="",H110=""),"",IF(F110=H110,1,IF(F110<H110,0,IF(F110-H110<10,2,IF(F110>H110,3,SE))))) -> 3 | D110: =V30 -> VivaCR.FC | F110: 60 | G110: x | H110: 27 | I110: =V21 -> JUGULI Fc | Q110: =IF(OR(H110="",F110=""),"",IF(H110=F110,1,IF(H110<F110,0,IF(H110-F110<10,2,IF(H110>F110,3,SE))))) -> 0
C111: =IF(OR(F111="",H111=""),"",IF(F111=H111,1,IF(F111<H111,0,IF(F111-H111<10,2,IF(F111>H111,3,SE))))) -> 0 | D111: =V25 -> Bayern do Cartola | F111: 30 | G111: x | H111: 38 | I111: =V26 -> Casinha da Grazi | Q111: =IF(OR(H111="",F111=""),"",IF(H111=F111,1,IF(H111<F111,0,IF(H111-F111<10,2,IF(H111>F111,3,SE))))) -> 2
C112: =IF(OR(F112="",H112=""),"",IF(F112=H112,1,IF(F112<H112,0,IF(F112-H112<10,2,IF(F112>H112,3,SE))))) | Q112: =IF(OR(H112="",F112=""),"",IF(H112=F112,1,IF(H112<F112,0,IF(H112-F112<10,2,IF(H112>F112,3,SE)))))
C113: =IF(OR(F113="",H113=""),"",IF(F113=H113,1,IF(F113<H113,0,IF(F113-H113<10,2,IF(F113>H113,3,SE))))) | D113: 9ª RODADA - #28 | Q113: =IF(OR(H113="",F113=""),"",IF(H113=F113,1,IF(H113<F113,0,IF(H113-F113<10,2,IF(H113>F113,3,SE)))))
C114: =IF(OR(F114="",H114=""),"",IF(F114=H114,1,IF(F114<H114,0,IF(F114-H114<10,2,IF(F114>H114,3,SE))))) | Q114: =IF(OR(H114="",F114=""),"",IF(H114=F114,1,IF(H114<F114,0,IF(H114-F114<10,2,IF(H114>F114,3,SE)))))
...

Sheet FINAIS
B2: 1º CAMPEONATO CARTOLA 2014
B6: OITAVAS DE FINAIS
J9: RODADAS #31 e 32
B11: J1 | D11: =IF(OR('GRUPO 1'!F141="",'GRUPO 1'!F141=""),"",'GRUPO 1'!E20) -> Us Karas | L11: 65.1 | M11: X | N11: 83.08 | O11: =IF(OR('GRUPO 4'!F141="",'GRUPO 4'!F141=""),"",'GRUPO 4'!E23) -> Grajaú F.C.
L12: 33.06 | M12: X | N12: 49.65 | AB12: OITAVAS
L13: =IF(OR(L12="",N11=""),"",SUM(L11:L12)) -> 98.16 | N13: =IF(OR(L12="",N11=""),"",SUM(N11:N12)) -> 132.73 | AA13: 1º 1 | AB13: X | AC13: 4º 4
B14: J2 | D14: =IF(OR('GRUPO 3'!F141="",'GRUPO 3'!F141=""),"",'GRUPO 3'!E21) -> Rosinha da Gabi | L14: 44.6 | M14: X | N14: 69.6 | O14: =IF(OR('GRUPO 2'!F141="",'GRUPO 2'!F141=""),"",'GRUPO 2'!E22) -> Soccer Italy | AA14: 2º 3 | AB14: X | AC14: 3º 2
L15: 60.96 | M15: X | N15: 45.09 | AA15: 1º 2 | AB15: X | AC15: 4º 3
L16: =IF(OR(L15="",N14=""),"",SUM(L14:L15)) -> 105.56 | N16: =IF(OR(L15="",N14=""),"",SUM(N14:N15)) -> 114.69 | AA16: 2º 4 | AB16: X | AC16: 3º 1
B17: J3 | D17: =IF(OR('GRUPO 2'!F141="",'GRUPO 2'!F141=""),"",'GRUPO 2'!E20) -> Bahia aju | L17: 56.35 | M17: X | N17: 71.4 | O17: =IF(OR('GRUPO 3'!F141="",'GRUPO 3'!F141=""),"",'GRUPO 3'!E23) -> Lucca Mengão | AA17: 1º 3 | AB17: X | AC17: 4º 2
L18: 47.46 | M18: X | N18: 59.56 | AA18: 2º 2 | AB18: X | AC18: 3º 3
L19: =IF(OR(L18="",N17=""),"",SUM(L17:L18)) -> 103.81 | N19: =IF(OR(L18="",N17=""),"",SUM(N17:N18)) -> 130.96 | AA19: 1º 4 | AB19: X | AC19: 4º 1
B20: J4 | D20: =IF(OR('GRUPO 4'!F141="",'GRUPO 4'!F141=""),"",'GRUPO 4'!E21) -> hugofluzao | L20: 55.68 | M20: X | N20: 65 | O20: =IF(OR('GRUPO 1'!F141="",'GRUPO 1'!F141=""),"",'GRUPO 1'!E22) -> Barbosinhaas | AA20: 2º 1 | AB20: X | AC20: 3º 4
L21: 52.96 | M21: X | N21: 48.96
L22: =IF(OR(L21="",N20=""),"",SUM(L20:L21)) -> 108.64 | N22: =IF(OR(L21="",N20=""),"",SUM(N20:N21)) -> 113.96
B23: J5 | D23: =IF(OR('GRUPO 3'!F141="",'GRUPO 3'!F141=""),"",'GRUPO 3'!E20) -> BFR Igor Costa | L23: 44.7 | M23: X | N23: 9.61 | O23: =IF(OR('GRUPO 2'!F141="",'GRUPO 2'!F141=""),"",'GRUPO 2'!E23) -> ousadia e alegriaa1
L24: 40.59 | M24: X | N24: 58.55
L25: =IF(OR(L24="",N23=""),"",SUM(L23:L24)) -> 85.29 | N25: =IF(OR(L24="",N23=""),"",SUM(N23:N24)) -> 68.16
B26: J6 | D26: =IF(OR('GRUPO 2'!F141="",'GRUPO 2'!F141=""),"",'GRUPO 2'!E21) -> Driblador F.C | L26: 60.6 | M26: X | N26: 75.6 | O26: =IF(OR('GRUPO 3'!F141="",'GRUPO 3'!F141=""),"",'GRUPO 3'!E22) -> La Bestia Negra_Z
L27: 39.27 | M27: X | N27: 47.46
L28: =IF(OR(L27="",N26=""),"",SUM(L26:L27)) -> 99.87 | N28: =IF(OR(L27="",N26=""),"",SUM(N26:N27)) -> 123.06
B29: J7 | D29: =IF(OR('GRUPO 4'!F141="",'GRUPO 4'!F141=""),"",'GRUPO 4'!E20) -> Casinha da Grazi | L29: 48.25 | M29: X | N29: 70.78 | O29: =IF(OR('GRUPO 1'!F141="",'GRUPO 1'!F141=""),"",'GRUPO 1'!E23) -> Botafogo do HG
L30: 50.46 | M30: X | N30: 34.59
L31: =IF(OR(L30="",N29=""),"",SUM(L29:L30)) -> 98.71 | N31: =IF(OR(L30="",N29=""),"",SUM(N29:N30)) -> 105.37
B32: J8 | D32: =IF(OR('GRUPO 1'!F141="",'GRUPO 1'!F141=""),"",'GRUPO 1'!E21) -> TriangagemFC | L32: 66.1 | M32: X | N32: 56.3 | O32: =IF(OR('GRUPO 4'!F141="",'GRUPO 4'!F141=""),"",'GRUPO 4'!E22) -> VivaCR.FC
L33: 43.16 | M33: X | N33: 46.22
L34: =IF(OR(L33="",N32=""),"",SUM(L32:L33)) -> 109.26 | N34: =IF(OR(L33="",N32=""),"",SUM(N32:N33)) -> 102.52
B36: QUARTAS DE FINAIS
J39: RODADAS #33 e 34
B41: J9 | D41: =IF(OR(L13="",N13=""),"",IF(L13>N13,D11,O11)) -> Grajaú F.C. | L41: 54 | M41: X | N41: 76.29 | O41: =IF(OR(L16="",N16=""),"",IF(L16>N16,D14,O14)) -> Soccer Italy
L42: 37.3 | M42: X | N42: 27.68
L43: =IF(OR(L42="",N41=""),"",SUM(L41:L42)) -> 91.3 | N43: =IF(OR(L42="",N41=""),"",SUM(N41:N42)) -> 103.97
B44: J10 | D44: =IF(OR(L19="",N19=""),"",IF(L19>N19,D17,O17)) -> Lucca Mengão | L44: 66.7 | M44: X | N44: 61.94 | O44: =IF(OR(L22="",N22=""),"",IF(L22>N22,D20,O20)) -> Barbosinhaas
L45: 30.19 | M45: X | N45: 16.01
L46: =IF(OR(L45="",N44=""),"",SUM(L44:L45)) -> 96.89 | N46: =IF(OR(L45="",N44=""),"",SUM(N44:N45)) -> 77.95
B47: J11 | D47: =IF(OR(L25="",N25=""),"",IF(L25>N25,D23,O23)) -> BFR Igor Costa | L47: 32.1 | M47: X | N47: 48.8 | O47: =IF(OR(L28="",N28=""),"",IF(L28>N28,D26,O26)) -> La Bestia Negra_Z
L48: 33.18 | M48: X | N48: 42.89
L49: =IF(OR(L48="",N47=""),"",SUM(L47:L48)) -> 65.28 | N49: =IF(OR(L48="",N47=""),"",SUM(N47:N48)) -> 91.69
B50: J12 | D50: =IF(OR(L31="",N31=""),"",IF(L31>N31,D29,O29)) -> Botafogo do HG | L50: 83.19 | M50: X | N50: 79 | O50: =IF(OR(L34="",N34=""),"",IF(L34>N34,D32,O32)) -> TriangagemFC
L51: 21.14 | M51: X | N51: 46.88
L52: =IF(OR(L51="",N50=""),"",SUM(L50:L51)) -> 104.33 | N52: =IF(OR(L51="",N50=""),"",SUM(N50:N51)) -> 125.88
B54: SEMI FINAL
J57: RODADAS #35 e 36
B59: J13 | D59: =IF(OR(L43="",N43=""),"",IF(L43>N43,D41,O41)) -> Soccer Italy | L59: 29.81 | M59: X | N59: 33.51 | O59: =IF(OR(L46="",N46=""),"",IF(L46>N46,D44,O44)) -> Lucca Mengão
L60: 64.38 | M60: X | N60: 49.68
L61: =IF(OR(L60="",N59=""),"",SUM(L59:L60)) -> 94.19 | N61: =IF(OR(L60="",N59=""),"",SUM(N59:N60)) -> 83.19
B62: J14 | D62: =IF(OR(L49="",N49=""),"",IF(L49>N49,D47,O47)) -> La Bestia Negra_Z | L62: 48.21 | M62: X | N62: 43.29 | O62: =IF(OR(L52="",N52=""),"",IF(L52>N52,D50,O50)) -> TriangagemFC
L63: 65.08 | M63: X | N63: 68.68
L64: =IF(OR(L63="",N62=""),"",SUM(L62:L63)) -> 113.29 | N64: =IF(OR(L63="",N62=""),"",SUM(N62:N63)) -> 111.97
B66: DISPUTA DO 3º LUGAR
J69: RODADAS #37 e 38
B71: J15 | D71: =IF(OR(L61="",N61=""),"",IF(L61<N61,D59,O59)) -> Lucca Mengão | L71: 55.79 | M71: X | N71: 32.56 | O71: =IF(OR(L64="",N64=""),"",IF(L64<N64,D62,O62)) -> TriangagemFC
L72: 40.37 | M72: X | N72: 35.37
L73: =IF(OR(L72="",N71=""),"",SUM(L71:L72)) -> 96.16 | N73: =IF(OR(L72="",N71=""),"",SUM(N71:N72)) -> 67.93
B75: FINAL
J78: RODADAS #37 e 38
B80: J16 | D80: =IF(OR(L61="",N61=""),"",IF(L61>N61,D59,O59)) -> Soccer Italy | L80: 23.56 | M80: X | N80: 59.86 | O80: =IF(OR(L64="",N64=""),"",IF(L64>N64,D62,O62)) -> La Bestia Negra_Z
L81: 64.9 | M81: X | N81: 63.57
L82: =IF(OR(L81="",N80=""),"",SUM(L80:L81)) -> 88.46 | N82: =IF(OR(L81="",N80=""),"",SUM(N80:N81)) -> 123.43
B85: CAMPEÃO
N86: La Bestia Negra_Z
N88: CARTOLA: Andrè Felipe
B92: VICE
N93: Soccer Italy
N95: CARTOLA: Thiago Amorim
B99: 3º LUGAR
N100: Lucca Mengão
N102: CARTOLA: Lucca
B106: 4º LUGAR
N107: TriangagemFC
N109: CARTOLA: Herbert

Sheet SEERIE A, B e C
B3: SERIE | D3: CARTOLA | E3: J | F3: P | G3: V3P | H3: V2P | I3: E | J3: D | K3: PPC | L3: PCC | M3: SP | N3: % APR.
B4: SERIE A | C4: 1º | D4: ='GRUPO 2'!V27 -> Bahia aju | E4: ='GRUPO 2'!W27 -> 11 | F4: ='GRUPO 2'!X27 -> 24 | G4: ='GRUPO 2'!Y27 -> 6 | H4: ='GRUPO 2'!Z27 -> 3 | I4: ='GRUPO 2'!AA27 -> 0 | J4: ='GRUPO 2'!AB27 -> 2 | K4: ='GRUPO 2'!AC27 -> 659 | ... N4: ='GRUPO 2'!AF27 -> 0.72727273
C5: 2º | D5: ='GRUPO 3'!V31 -> BFR Igor Costa | E5: ='GRUPO 3'!W31 -> 11 | F5: ='GRUPO 3'!X31 -> 24 | G5: ='GRUPO 3'!Y31 -> 7 | H5: ='GRUPO 3'!Z31 -> 1 | I5: ='GRUPO 3'!AA31 -> 1 | J5: ='GRUPO 3'!AB31 -> 2 | K5: ='GRUPO 3'!AC31 -> 643 | ... N5: ='GRUPO 3'!AF31 -> 0.72727273
C6: 3º | D6: ='GRUPO 4'!V26 -> Casinha da Grazi | E6: ='GRUPO 4'!W26 -> 11 | F6: ='GRUPO 4'!X26 -> 24 | G6: ='GRUPO 4'!Y26 -> 6 | H6: ='GRUPO 4'!Z26 -> 3 | I6: ='GRUPO 4'!AA26 -> 0 | J6: ='GRUPO 4'!AB26 -> 2 | K6: ='GRUPO 4'!AC26 -> 570 | ... N6: ='GRUPO 4'!AF26 -> 0.72727273
C7: 4º | D7: ='GRUPO 3'!V28 -> Rosinha da Gabi | E7: ='GRUPO 3'!W28 -> 11 | F7: ='GRUPO 3'!X28 -> 23 | G7: ='GRUPO 3'!Y28 -> 7 | H7: ='GRUPO 3'!Z28 -> 1 | I7: ='GRUPO 3'!AA28 -> 0 | J7: ='GRUPO 3'!AB28 -> 3 | K7: ='GRUPO 3'!AC28 -> 665 | ... N7: ='GRUPO 3'!AF28 -> 0.6969697
C8: 5º | D8: ='GRUPO 1'!V25 -> Us Karas | E8: ='GRUPO 1'!W25 -> 11 | F8: ='GRUPO 1'!X25 -> 23 | G8: ='GRUPO 1'!Y25 -> 7 | H8: ='GRUPO 1'!Z25 -> 1 | I8: ='GRUPO 1'!AA25 -> 0 | J8: ='GRUPO 1'!AB25 -> 3 | K8: ='GRUPO 1'!AC25 -> 644 | ... N8: ='GRUPO 1'!AF25 -> 0.6969697
C9: 6º | D9: ='GRUPO 4'!V29 -> hugofluzao | E9: ='GRUPO 4'!W29 -> 11 | F9: ='GRUPO 4'!X29 -> 23 | G9: ='GRUPO 4'!Y29 -> 5 | H9: ='GRUPO 4'!Z29 -> 4 | I9: ='GRUPO 4'!AA29 -> 0 | J9: ='GRUPO 4'!AB29 -> 2 | K9: ='GRUPO 4'!AC29 -> 637 | ... N9: ='GRUPO 4'!AF29 -> 0.6969697
C10: 7º | D10: ='GRUPO 1'!V23 -> TriangagemFC | E10: ='GRUPO 1'!W23 -> 11 | F10: ='GRUPO 1'!X23 -> 23 | G10: ='GRUPO 1'!Y23 -> 6 | H10: ='GRUPO 1'!Z23 -> 2 | I10: ='GRUPO 1'!AA23 -> 1 | J10: ='GRUPO 1'!AB23 -> 2 | K10: ='GRUPO 1'!AC23 -> 604 | ... N10: ='GRUPO 1'!AF23 -> 0.6969697
C11: 8º | D11: ='GRUPO 3'!V29 -> La Bestia Negra_Z | E11: ='GRUPO 3'!W29 -> 11 | F11: ='GRUPO 3'!X29 -> 21 | G11: ='GRUPO 3'!Y29 -> 6 | H11: ='GRUPO 3'!Z29 -> 1 | I11: ='GRUPO 3'!AA29 -> 1 | J11: ='GRUPO 3'!AB29 -> 3 | K11: ='GRUPO 3'!AC29 -> 643 | ... N11: ='GRUPO 3'!AF29 -> 0.63636364
C12: 9º | D12: ='GRUPO 4'!V30 -> VivaCR.FC | E12: ='GRUPO 4'!W30 -> 11 | F12: ='GRUPO 4'!X30 -> 21 | G12: ='GRUPO 4'!Y30 -> 6 | H12: ='GRUPO 4'!Z30 -> 1 | I12: ='GRUPO 4'!AA30 -> 1 | J12: ='GRUPO 4'!AB30 -> 3 | K12: ='GRUPO 4'!AC30 -> 635 | ... N12: ='GRUPO 4'!AF30 -> 0.63636364
C13: 10º | D13: ='GRUPO 3'!V27 -> Lucca Mengão | E13: ='GRUPO 3'!W27 -> 11 | F13: ='GRUPO 3'!X27 -> 21 | G13: ='GRUPO 3'!Y27 -> 7 | H13: ='GRUPO 3'!Z27 -> 0 | I13: ='GRUPO 3'!AA27 -> 0 | J13: ='GRUPO 3'!AB27 -> 4 | K13: ='GRUPO 3'!AC27 -> 593 | ... N13: ='GRUPO 3'!AF27 -> 0.63636364
C14: 11º | D14: ='GRUPO 2'!V23 -> Driblador F.C | E14: ='GRUPO 2'!W23 -> 11 | F14: ='GRUPO 2'!X23 -> 21 | G14: ='GRUPO 2'!Y23 -> 5 | H14: ='GRUPO 2'!Z23 -> 3 | I14: ='GRUPO 2'!AA23 -> 0 | J14: ='GRUPO 2'!AB23 -> 3 | K14: ='GRUPO 2'!AC23 -> 577 | ... N14: ='GRUPO 2'!AF23 -> 0.63636364
C15: 12º | D15: ='GRUPO 2'!V31 -> Soccer Italy | E15: ='GRUPO 2'!W31 -> 11 | F15: ='GRUPO 2'!X31 -> 20 | G15: ='GRUPO 2'!Y31 -> 6 | H15: ='GRUPO 2'!Z31 -> 1 | I15: ='GRUPO 2'!AA31 -> 0 | J15: ='GRUPO 2'!AB31 -> 4 | K15: ='GRUPO 2'!AC31 -> 621 | ... N15: ='GRUPO 2'!AF31 -> 0.60606061
C16: 13º | D16: ='GRUPO 2'!V29 -> ousadia e alegriaa1 | E16: ='GRUPO 2'!W29 -> 11 | F16: ='GRUPO 2'!X29 -> 20 | G16: ='GRUPO 2'!Y29 -> 4 | H16: ='GRUPO 2'!Z29 -> 4 | I16: ='GRUPO 2'!AA29 -> 0 | J16: ='GRUPO 2'!AB29 -> 3 | K16: ='GRUPO 2'!AC29 -> 547 | ... N16: ='GRUPO 2'!AF29 -> 0.60606061
C17: 14º | D17: ='GRUPO 1'!V20 -> Barbosinhaas | E17: ='GRUPO 1'!W20 -> 11 | F17: ='GRUPO 1'!X20 -> 20 | G17: ='GRUPO 1'!Y20 -> 6 | H17: ='GRUPO 1'!Z20 -> 1 | I17: ='GRUPO 1'!AA20 -> 0 | J17: ='GRUPO 1'!AB20 -> 4 | K17: ='GRUPO 1'!AC20 -> 536 | ... N17: ='GRUPO 1'!AF20 -> 0.60606061
C18: 15º | D18: ='GRUPO 4'!V27 -> Grajaú F.C. | E18: ='GRUPO 4'!W27 -> 11 | F18: ='GRUPO 4'!X27 -> 19 | G18: ='GRUPO 4'!Y27 -> 5 | H18: ='GRUPO 4'!Z27 -> 2 | I18: ='GRUPO 4'!AA27 -> 0 | J18: ='GRUPO 4'!AB27 -> 4 | K18: ='GRUPO 4'!AC27 -> 577 | ... N18: ='GRUPO 4'!AF27 -> 0.57575758
C19: 16º | D19: botafogo do HG | E19: 11 | F19: 19 | G19: 5 | H19: 2 | I19: 0 | J19: 4 | K19: 514 | L19: 470 | M19: 44 | N19: 0.58
B20: SERIE B | C20: 17º | D20: Forever2014 | E20: 11 | F20: 19 | G20: 6 | H20: 0 | I20: 1 | J20: 4 | K20: 571 | L20: 485 | M20: 86 | N20: 0.58
C21: 18º | D21: ='GRUPO 1'!V31 -> Vascão Carangola | E21: ='GRUPO 1'!W31 -> 11 | F21: ='GRUPO 1'!X31 -> 19 | G21: ='GRUPO 1'!Y31 -> 5 | H21: ='GRUPO 1'!Z31 -> 2 | I21: ='GRUPO 1'!AA31 -> 0 | J21: ='GRUPO 1'!AB31 -> 4 | K21: ='GRUPO 1'!AC31 -> 454 | ... N21: ='GRUPO 1'!AF31 -> 0.57575758
C22: 19º | D22: ='GRUPO 2'!V26 -> comicu | E22: ='GRUPO 2'!W26 -> 11 | F22: ='GRUPO 2'!X26 -> 18 | G22: ='GRUPO 2'!Y26 -> 4 | H22: ='GRUPO 2'!Z26 -> 3 | I22: ='GRUPO 2'!AA26 -> 0 | J22: ='GRUPO 2'!AB26 -> 4 | K22: ='GRUPO 2'!AC26 -> 648 | ... N22: ='GRUPO 2'!AF26 -> 0.54545455
C23: 20º | D23: ='GRUPO 3'!V25 -> Puro Malte F. C. | E23: ='GRUPO 3'!W25 -> 11 | F23: ='GRUPO 3'!X25 -> 18 | G23: ='GRUPO 3'!Y25 -> 4 | H23: ='GRUPO 3'!Z25 -> 3 | I23: ='GRUPO 3'!AA25 -> 0 | J23: ='GRUPO 3'!AB25 -> 4 | K23: ='GRUPO 3'!AC25 -> 537 | ... N23: ='GRUPO 3'!AF25 -> 0.54545455
C24: 21º | D24: ='GRUPO 4'!V31 -> VascoPaulo F.C. | E24: ='GRUPO 4'!W31 -> 11 | F24: ='GRUPO 4'!X31 -> 18 | G24: ='GRUPO 4'!Y31 -> 4 | H24: ='GRUPO 4'!Z31 -> 3 | I24: ='GRUPO 4'!AA31 -> 0 | J24: ='GRUPO 4'!AB31 -> 4 | K24: ='GRUPO 4'!AC31 -> 537 | ... N24: ='GRUPO 4'!AF31 -> 0.54545455
C25: 22º | D25: ='GRUPO 3'!V24 -> Tribe of Gypsies | E25: ='GRUPO 3'!W24 -> 11 | F25: ='GRUPO 3'!X24 -> 17 | G25: ='GRUPO 3'!Y24 -> 3 | H25: ='GRUPO 3'!Z24 -> 4 | I25: ='GRUPO 3'!AA24 -> 0 | J25: ='GRUPO 3'!AB24 -> 4 | K25: ='GRUPO 3'!AC24 -> 469 | ... N25: ='GRUPO 3'!AF24 -> 0.51515152
C26: 23º | D26: ='GRUPO 2'!V24 -> Botafogo Rocha | E26: ='GRUPO 2'!W24 -> 11 | F26: ='GRUPO 2'!X24 -> 16 | G26: ='GRUPO 2'!Y24 -> 4 | H26: ='GRUPO 2'!Z24 -> 2 | I26: ='GRUPO 2'!AA24 -> 0 | J26: ='GRUPO 2'!AB24 -> 5 | K26: ='GRUPO 2'!AC24 -> 548 | ... N26: ='GRUPO 2'!AF24 -> 0.48484848
C27: 24º | D27: ='GRUPO 4'!V20 -> MJ Predador F.C. | E27: ='GRUPO 4'!W20 -> 11 | F27: ='GRUPO 4'!X20 -> 16 | G27: ='GRUPO 4'!Y20 -> 4 | H27: ='GRUPO 4'!Z20 -> 1 | I27: ='GRUPO 4'!AA20 -> 2 | J27: ='GRUPO 4'!AB20 -> 4 | K27: ='GRUPO 4'!AC20 -> 501 | ... N27: ='GRUPO 4'!AF20 -> 0.48484848
C28: 25º | D28: ='GRUPO 4'!V22 -> Vitullo soccer clube | E28: ='GRUPO 4'!W22 -> 11 | F28: ='GRUPO 4'!X22 -> 14 | G28: ='GRUPO 4'!Y22 -> 4 | H28: ='GRUPO 4'!Z22 -> 1 | I28: ='GRUPO 4'!AA22 -> 0 | J28: ='GRUPO 4'!AB22 -> 6 | K28: ='GRUPO 4'!AC22 -> 555 | ... N28: ='GRUPO 4'!AF22 -> 0.42424242
C29: 26º | D29: ='GRUPO 1'!V27 -> Glaa.VascodaaGamaa | E29: ='GRUPO 1'!W27 -> 11 | F29: ='GRUPO 1'!X27 -> 13 | G29: ='GRUPO 1'!Y27 -> 2 | H29: ='GRUPO 1'!Z27 -> 3 | I29: ='GRUPO 1'!AA27 -> 1 | J29: ='GRUPO 1'!AB27 -> 5 | K29: ='GRUPO 1'!AC27 -> 553 | ... N29: ='GRUPO 1'!AF27 -> 0.39393939
C30: 27º | D30: ='GRUPO 1'!V29 -> Barreirinha FC | E30: ='GRUPO 1'!W29 -> 11 | F30: ='GRUPO 1'!X29 -> 13 | G30: ='GRUPO 1'!Y29 -> 3 | H30: ='GRUPO 1'!Z29 -> 2 | I30: ='GRUPO 1'!AA29 -> 0 | J30: ='GRUPO 1'!AB29 -> 6 | K30: ='GRUPO 1'!AC29 -> 495 | ... N30: ='GRUPO 1'!AF29 -> 0.39393939
C31: 28º | D31: ='GRUPO 2'!V28 -> É o ki tu merece | E31: ='GRUPO 2'!W28 -> 11 | F31: ='GRUPO 2'!X28 -> 12 | G31: ='GRUPO 2'!Y28 -> 4 | H31: ='GRUPO 2'!Z28 -> 0 | I31: ='GRUPO 2'!AA28 -> 0 | J31: ='GRUPO 2'!AB28 -> 7 | K31: ='GRUPO 2'!AC28 -> 621 | ... N31: ='GRUPO 2'!AF28 -> 0.36363636
C32: 29º | D32: ='GRUPO 2'!V25 -> Sekishiki Mekai Ha | E32: ='GRUPO 2'!W25 -> 11 | F32: ='GRUPO 2'!X25 -> 12 | G32: ='GRUPO 2'!Y25 -> 3 | H32: ='GRUPO 2'!Z25 -> 1 | I32: ='GRUPO 2'!AA25 -> 1 | J32: ='GRUPO 2'!AB25 -> 6 | K32: ='GRUPO 2'!AC25 -> 563 | ... N32: ='GRUPO 2'!AF25 -> 0.36363636
C33: 30º | D33: ='GRUPO 1'!V21 -> flurocha fc | E33: ='GRUPO 1'!W21 -> 11 | F33: ='GRUPO 1'!X21 -> 12 | G33: ='GRUPO 1'!Y21 -> 4 | H33: ='GRUPO 1'!Z21 -> 0 | I33: ='GRUPO 1'!AA21 -> 0 | J33: ='GRUPO 1'!AB21 -> 7 | K33: ='GRUPO 1'!AC21 -> 543 | ... N33: ='GRUPO 1'!AF21 -> 0.36363636
C34: 31º | D34: ='GRUPO 3'!V22 -> Family Paz F.C. | E34: ='GRUPO 3'!W22 -> 11 | F34: ='GRUPO 3'!X22 -> 12 | G34: ='GRUPO 3'!Y22 -> 4 | H34: ='GRUPO 3'!Z22 -> 0 | I34: ='GRUPO 3'!AA22 -> 0 | J34: ='GRUPO 3'!AB22 -> 7 | K34: ='GRUPO 3'!AC22 -> 479 | ... N34: ='GRUPO 3'!AF22 -> 0.36363636
C35: 32º | D35: ='GRUPO 4'!V23 -> tico sto fc | E35: ='GRUPO 4'!W23 -> 11 | F35: ='GRUPO 4'!X23 -> 12 | G35: ='GRUPO 4'!Y23 -> 4 | H35: ='GRUPO 4'!Z23 -> 0 | I35: ='GRUPO 4'!AA23 -> 0 | J35: ='GRUPO 4'!AB23 -> 7 | K35: ='GRUPO 4'!AC23 -> 429 | ... N35: ='GRUPO 4'!AF23 -> 0.36363636
B36: SERIE C | C36: 33º | D36: ='GRUPO 1'!V28 -> PANZA FC | E36: ='GRUPO 1'!W28 -> 11 | F36: ='GRUPO 1'!X28 -> 11 | G36: ='GRUPO 1'!Y28 -> 3 | H36: ='GRUPO 1'!Z28 -> 0 | I36: ='GRUPO 1'!AA28 -> 2 | J36: ='GRUPO 1'!AB28 -> 6 | K36: ='GRUPO 1'!AC28 -> 521 | ... N36: ='GRUPO 1'!AF28 -> 0.33333333
C37: 34º | D37: ='GRUPO 4'!V25 -> Bayern do Cartola | E37: ='GRUPO 4'!W25 -> 11 | F37: ='GRUPO 4'!X25 -> 11 | G37: ='GRUPO 4'!Y25 -> 3 | H37: ='GRUPO 4'!Z25 -> 1 | I37: ='GRUPO 4'!AA25 -> 0 | J37: ='GRUPO 4'!AB25 -> 7 | K37: ='GRUPO 4'!AC25 -> 484 | ... N37: ='GRUPO 4'!AF25 -> 0.33333333
C38: 35º | D38: ='GRUPO 1'!V24 -> Stars United C.F. | E38: ='GRUPO 1'!W24 -> 11 | F38: ='GRUPO 1'!X24 -> 11 | G38: ='GRUPO 1'!Y24 -> 2 | H38: ='GRUPO 1'!Z24 -> 2 | I38: ='GRUPO 1'!AA24 -> 1 | J38: ='GRUPO 1'!AB24 -> 6 | K38: ='GRUPO 1'!AC24 -> 439 | ... N38: ='GRUPO 1'!AF24 -> 0.33333333
C39: 36º | D39: ='GRUPO 2'!V30 -> Engenheirense | E39: ='GRUPO 2'!W30 -> 11 | F39: ='GRUPO 2'!X30 -> 10 | G39: ='GRUPO 2'!Y30 -> 2 | H39: ='GRUPO 2'!Z30 -> 2 | I39: ='GRUPO 2'!AA30 -> 0 | J39: ='GRUPO 2'!AB30 -> 7 | K39: ='GRUPO 2'!AC30 -> 608 | ... N39: ='GRUPO 2'!AF30 -> 0.3030303
C40: 37º | D40: ='GRUPO 4'!V28 -> André fogão | E40: ='GRUPO 4'!W28 -> 11 | F40: ='GRUPO 4'!X28 -> 9 | G40: ='GRUPO 4'!Y28 -> 1 | H40: ='GRUPO 4'!Z28 -> 3 | I40: ='GRUPO 4'!AA28 -> 0 | J40: ='GRUPO 4'!AB28 -> 7 | K40: ='GRUPO 4'!AC28 -> 460 | ... N40: ='GRUPO 4'!AF28 -> 0.27272727
C41: 38º | D41: ='GRUPO 1'!V26 -> NICKA SC | E41: ='GRUPO 1'!W26 -> 11 | F41: ='GRUPO 1'!X26 -> 9 | G41: ='GRUPO 1'!Y26 -> 2 | H41: ='GRUPO 1'!Z26 -> 1 | I41: ='GRUPO 1'!AA26 -> 1 | J41: ='GRUPO 1'!AB26 -> 7 | K41: ='GRUPO 1'!AC26 -> 418 | ... N41: ='GRUPO 1'!AF26 -> 0.27272727
C42: 39º | D42: ='GRUPO 2'!V21 -> Marvada da cachaça | E42: ='GRUPO 2'!W21 -> 11 | F42: ='GRUPO 2'!X21 -> 8 | G42: ='GRUPO 2'!Y21 -> 2 | H42: ='GRUPO 2'!Z21 -> 0 | I42: ='GRUPO 2'!AA21 -> 2 | J42: ='GRUPO 2'!AB21 -> 7 | K42: ='GRUPO 2'!AC21 -> 418 | ... N42: ='GRUPO 2'!AF21 -> 0.24242424
C43: 40º | D43: ='GRUPO 2'!V22 -> Xavecos UFC | E43: ='GRUPO 2'!W22 -> 11 | F43: ='GRUPO 2'!X22 -> 8 | G43: ='GRUPO 2'!Y22 -> 2 | H43: ='GRUPO 2'!Z22 -> 1 | I43: ='GRUPO 2'!AA22 -> 0 | J43: ='GRUPO 2'!AB22 -> 8 | K43: ='GRUPO 2'!AC22 -> 401 | ... N43: ='GRUPO 2'!AF22 -> 0.24242424
C44: 41º | D44: ='GRUPO 3'!V23 -> PHVT F.C. | E44: ='GRUPO 3'!W23 -> 11 | F44: ='GRUPO 3'!X23 -> 8 | G44: ='GRUPO 3'!Y23 -> 1 | H44: ='GRUPO 3'!Z23 -> 2 | I44: ='GRUPO 3'!AA23 -> 1 | J44: ='GRUPO 3'!AB23 -> 7 | K44: ='GRUPO 3'!AC23 -> 345 | ... N44: ='GRUPO 3'!AF23 -> 0.24242424
C45: 42º | D45: ='GRUPO 3'!V20 -> secapimenteira | E45: ='GRUPO 3'!W20 -> 11 | F45: ='GRUPO 3'!X20 -> 7 | G45: ='GRUPO 3'!Y20 -> 2 | H45: ='GRUPO 3'!Z20 -> 0 | I45: ='GRUPO 3'!AA20 -> 1 | J45: ='GRUPO 3'!AB20 -> 8 | K45: ='GRUPO 3'!AC20 -> 412 | ... N45: ='GRUPO 3'!AF20 -> 0.21212121
C46: 43º | D46: ='GRUPO 3'!V26 -> santo onofre E C | E46: ='GRUPO 3'!W26 -> 11 | F46: ='GRUPO 3'!X26 -> 7 | G46: ='GRUPO 3'!Y26 -> 1 | H46: ='GRUPO 3'!Z26 -> 2 | I46: ='GRUPO 3'!AA26 -> 0 | J46: ='GRUPO 3'!AB26 -> 8 | K46: ='GRUPO 3'!AC26 -> 298 | ... N46: ='GRUPO 3'!AF26 -> 0.21212121
C47: 44º | D47: ='GRUPO 4'!V24 -> Espamengo | E47: ='GRUPO 4'!W24 -> 11 | F47: ='GRUPO 4'!X24 -> 6 | G47: ='GRUPO 4'!Y24 -> 1 | H47: ='GRUPO 4'!Z24 -> 1 | I47: ='GRUPO 4'!AA24 -> 1 | J47: ='GRUPO 4'!AB24 -> 8 | K47: ='GRUPO 4'!AC24 -> 445 | ... N47: ='GRUPO 4'!AF24 -> 0.18181818
C48: 45º | D48: ='GRUPO 2'!V20 -> mathpalestra | E48: ='GRUPO 2'!W20 -> 11 | F48: ='GRUPO 2'!X20 -> 6 | G48: ='GRUPO 2'!Y20 -> 1 | H48: ='GRUPO 2'!Z20 -> 1 | I48: ='GRUPO 2'!AA20 -> 1 | J48: ='GRUPO 2'!AB20 -> 8 | K48: ='GRUPO 2'!AC20 -> 403 | ... N48: ='GRUPO 2'!AF20 -> 0.18181818
C49: 46º | D49: ='GRUPO 1'!V22 -> FC Casablanca | E49: ='GRUPO 1'!W22 -> 11 | F49: ='GRUPO 1'!X22 -> 5 | G49: ='GRUPO 1'!Y22 -> 1 | H49: ='GRUPO 1'!Z22 -> 1 | I49: ='GRUPO 1'!AA22 -> 0 | J49: ='GRUPO 1'!AB22 -> 9 | K49: ='GRUPO 1'!AC22 -> 349 | ... N49: ='GRUPO 1'!AF22 -> 0.15151515
C50: 47º | D50: ='GRUPO 3'!V21 -> itaipavacervejaclube | E50: ='GRUPO 3'!W21 -> 11 | F50: ='GRUPO 3'!X21 -> 4 | G50: ='GRUPO 3'!Y21 -> 1 | H50: ='GRUPO 3'!Z21 -> 0 | I50: ='GRUPO 3'!AA21 -> 1 | J50: ='GRUPO 3'!AB21 -> 9 | K50: ='GRUPO 3'!AC21 -> 355 | ... N50: ='GRUPO 3'!AF21 -> 0.12121212
C51: 48º | D51: ='GRUPO 4'!V21 -> JUGULI Fc | E51: ='GRUPO 4'!W21 -> 11 | F51: ='GRUPO 4'!X21 -> 3 | G51: ='GRUPO 4'!Y21 -> 1 | H51: ='GRUPO 4'!Z21 -> 0 | I51: ='GRUPO 4'!AA21 -> 0 | J51: ='GRUPO 4'!AB21 -> 10 | K51: ='GRUPO 4'!AC21 -> 330 | ... N51: ='GRUPO 4'!AF21 -> 0.090909091
