Workbook

Sheet Plan1
B14: EUROPA LEAGUE - 2016
R17: Legenda
R18: P - pontos
R19: V3P - Vitória por 3 pontos
R20: V2P - Vitória por 2 pontos
R21: E - Empate
R22: D - Derrota
D23: GRUPO A | R23: PPC - Pontos pró Cartola
R24: PCC - pontos contra Cartola
D25: Pos. | E25: CARTOLA | F25: J | G25: P | H25: V3P | I25: V2P | J25: E | K25: D | L25: PPC | M25: PCC | N25: SP | O25: % APR. | R25: SP - saldo de pontos | U25: Pos. | V25: TIMES | W25: J | X25: P | Y25: V3P | Z25: V2P | AA25: E | AB25: D | AC25: GF | AD25: GC | AE25: SG | AF25: % APR. | AG25: calc | AH25: maior | AI25: corresp
D26: 1º | E26: =VLOOKUP(AI26,$U$26:$AH$29,2) -> 7º CAMPEONATO INGLÊS | F26: =VLOOKUP(AI26,$U$26:$AH$29,3) -> 0 | G26: =VLOOKUP(AI26,$U$26:$AH$29,4) -> 0 | H26: =VLOOKUP(AI26,$U$26:$AH$29,5) -> 0 | I26: =VLOOKUP(AI26,$U$26:$AH$29,6) -> 0 | J26: =VLOOKUP(AI26,$U$26:$AH$29,7) -> 0 | K26: =VLOOKUP(AI26,$U$26:$AH$29,8) -> 0 | L26: =VLOOKUP(AI26,$U$26:$AH$29,9) -> 0 | M26: =VLOOKUP(AI26,$U$26:$AH$29,10) -> 0 | N26: =VLOOKUP(AI26,$U$26:$AH$29,11) -> 0 | O26: =VLOOKUP(AI26,$U$26:$AH$29,12) -> 0 | R26: % APR. - Aproveitamento | U26: 1 | V26: 11º CAMPEONATO ESPANHOL | W26: =COUNT($F$34,$F$40,$F$46,$F$52,$F$58,$F$64) -> 0 | X26: =SUM(Q34,Q41,Q47,Q52,Q59,Q65) -> 0 | Y26: =SUM(COUNTIFS($C$34:$C$65,3,$D$34:$D$65,V26),COUNTIFS($I$34:$I$65,V26,$Q$34:$Q$65,3)) -> 0 | Z26: =SUM(COUNTIFS($C$34:$C$65,2,$D$34:$D$65,V26),COUNTIFS($I$34:$I$65,V26,$Q$34:$Q$65,2)) -> 0 | AA26: =SUM(COUNTIFS($C$34:$C$65,1,$D$34:$D$65,V26),COUNTIFS($I$34:$I$65,V26,$Q$34:$Q$65,1)) -> 0 | AB26: =SUM(COUNTIFS($C$34:$C$65,0,$D$34:$D$65,V26),COUNTIFS($I$34:$I$65,V26,$Q$34:$Q$65,0)) -> 0 | AC26: =SUM(H52,H59,H65,H34,H41,H47) -> 0 | AD26: =SUM(F34,F41,F47,F52,F59,F65) -> 0 | AE26: =AC26-AD26 -> 0 | AF26: =IF(OR($F$34="",$H$34=""),0,(X26/(W26*3))) -> 0 | AG26: =(X26*10^10)+((AC26+5000)*10^6)+AE26*100+U26 -> 5000000001 | AH26: =LARGE($AG$26:$AG$29,U26) -> 5000000004 | AI26: =MATCH(AH26,$AG$26:$AG$29,0) -> 4
D27: 2º | E27: =VLOOKUP(AI27,$U$26:$AH$29,2) -> 9º CAMPEONATO ITALIANO | F27: =VLOOKUP(AI27,$U$26:$AH$29,3) -> 0 | G27: =VLOOKUP(AI27,$U$26:$AH$29,4) -> 0 | H27: =VLOOKUP(AI27,$U$26:$AH$29,5) -> 0 | I27: =VLOOKUP(AI27,$U$26:$AH$29,6) -> 0 | J27: =VLOOKUP(AI27,$U$26:$AH$29,7) -> 0 | K27: =VLOOKUP(AI27,$U$26:$AH$29,8) -> 0 | L27: =VLOOKUP(AI27,$U$26:$AH$29,9) -> 0 | M27: =VLOOKUP(AI27,$U$26:$AH$29,10) -> 0 | N27: =VLOOKUP(AI27,$U$26:$AH$29,11) -> 0 | O27: =VLOOKUP(AI27,$U$26:$AH$29,12) -> 0 | S27: CLASSIFICADO | U27: 2 | V27: 10º CAMPEONATO ALEMÃO | W27: =COUNT($F$34,$F$40,$F$46,$F$52,$F$58,$F$64) -> 0 | X27: =SUM(Q35,Q40,C47,Q53,Q58,C65) -> 0 | Y27: =SUM(COUNTIFS($C$34:$C$65,3,$D$34:$D$65,V27),COUNTIFS($I$34:$I$65,V27,$Q$34:$Q$65,3)) -> 0 | Z27: =SUM(COUNTIFS($C$34:$C$65,2,$D$34:$D$65,V27),COUNTIFS($I$34:$I$65,V27,$Q$34:$Q$65,2)) -> 0 | AA27: =SUM(COUNTIFS($C$34:$C$65,1,$D$34:$D$65,V27),COUNTIFS($I$34:$I$65,V27,$Q$34:$Q$65,1)) -> 0 | AB27: =SUM(COUNTIFS($C$34:$C$65,0,$D$34:$D$65,V27),COUNTIFS($I$34:$I$65,V27,$Q$34:$Q$65,0)) -> 0 | AC27: =SUM(H35,H40,F47,H53,H58,F65) -> 0 | AD27: =SUM(H65,F58,F53,H47,F40,F35) -> 0 | AE27: =AC27-AD27 -> 0 | AF27: =IF(OR($F$34="",$H$34=""),0,(X27/(W27*3))) -> 0 | AG27: =(X27*10^10)+((AC27+5000)*10^6)+AE27*100+U27 -> 5000000002 | AH27: =LARGE($AG$26:$AG$29,U27) -> 5000000003 | AI27: =MATCH(AH27,$AG$26:$AG$29,0) -> 3
D28: 3º | E28: =VLOOKUP(AI28,$U$26:$AH$29,2) -> 10º CAMPEONATO ALEMÃO | F28: =VLOOKUP(AI28,$U$26:$AH$29,3) -> 0 | G28: =VLOOKUP(AI28,$U$26:$AH$29,4) -> 0 | H28: =VLOOKUP(AI28,$U$26:$AH$29,5) -> 0 | I28: =VLOOKUP(AI28,$U$26:$AH$29,6) -> 0 | J28: =VLOOKUP(AI28,$U$26:$AH$29,7) -> 0 | K28: =VLOOKUP(AI28,$U$26:$AH$29,8) -> 0 | L28: =VLOOKUP(AI28,$U$26:$AH$29,9) -> 0 | M28: =VLOOKUP(AI28,$U$26:$AH$29,10) -> 0 | N28: =VLOOKUP(AI28,$U$26:$AH$29,11) -> 0 | O28: =VLOOKUP(AI28,$U$26:$AH$29,12) -> 0 | S28: DISPUTA ENTRE TERCEIROS | U28: 3 | V28: 9º CAMPEONATO ITALIANO | W28: =COUNT($F$34,$F$40,$F$46,$F$52,$F$58,$F$64) -> 0 | X28: =SUM(C35,C41,Q46,C53,C59,Q64) -> 0 | Y28: =SUM(COUNTIFS($C$34:$C$65,3,$D$34:$D$65,V28),COUNTIFS($I$34:$I$65,V28,$Q$34:$Q$65,3)) -> 0 | Z28: =SUM(COUNTIFS($C$34:$C$65,2,$D$34:$D$65,V28),COUNTIFS($I$34:$I$65,V28,$Q$34:$Q$65,2)) -> 0 | AA28: =SUM(COUNTIFS($C$34:$C$65,1,$D$34:$D$65,V28),COUNTIFS($I$34:$I$65,V28,$Q$34:$Q$65,1)) -> 0 | AB28: =SUM(COUNTIFS($C$34:$C$65,0,$D$34:$D$65,V28),COUNTIFS($I$34:$I$65,V28,$Q$34:$Q$65,0)) -> 0 | AC28: =SUM(H64,F59,F53,H46,F41,F35) -> 0 | AD28: =SUM(H35,H41,F46,H53,H59,F64) -> 0 | AE28: =AC28-AD28 -> 0 | AF28: =IF(OR($F$34="",$H$34=""),0,(X28/(W28*3))) -> 0 | AG28: =(X28*10^10)+((AC28+5000)*10^6)+AE28*100+U28 -> 5000000003 | AH28: =LARGE($AG$26:$AG$29,U28) -> 5000000002 | AI28: =MATCH(AH28,$AG$26:$AG$29,0) -> 2
D29: 4º | E29: =VLOOKUP(AI29,$U$26:$AH$29,2) -> 11º CAMPEONATO ESPANHOL | F29: =VLOOKUP(AI29,$U$26:$AH$29,3) -> 0 | G29: =VLOOKUP(AI29,$U$26:$AH$29,4) -> 0 | H29: =VLOOKUP(AI29,$U$26:$AH$29,5) -> 0 | I29: =VLOOKUP(AI29,$U$26:$AH$29,6) -> 0 | J29: =VLOOKUP(AI29,$U$26:$AH$29,7) -> 0 | K29: =VLOOKUP(AI29,$U$26:$AH$29,8) -> 0 | L29: =VLOOKUP(AI29,$U$26:$AH$29,9) -> 0 | M29: =VLOOKUP(AI29,$U$26:$AH$29,10) -> 0 | N29: =VLOOKUP(AI29,$U$26:$AH$29,11) -> 0 | O29: =VLOOKUP(AI29,$U$26:$AH$29,12) -> 0 | S29: ELIMINADO | U29: 4 | V29: 7º CAMPEONATO INGLÊS | W29: =COUNT($F$34,$F$40,$F$46,$F$52,$F$58,$F$64) -> 0 | X29: =SUM(C34,C40,C46,C52,C58,C64) -> 0 | Y29: =SUM(COUNTIFS($C$34:$C$65,3,$D$34:$D$65,V29),COUNTIFS($I$34:$I$65,V29,$Q$34:$Q$65,3)) -> 0 | Z29: =SUM(COUNTIFS($C$34:$C$65,2,$D$34:$D$65,V29),COUNTIFS($I$34:$I$65,V29,$Q$34:$Q$65,2)) -> 0 | AA29: =SUM(COUNTIFS($C$34:$C$65,1,$D$34:$D$65,V29),COUNTIFS($I$34:$I$65,V29,$Q$34:$Q$65,1)) -> 0 | AB29: =SUM(COUNTIFS($C$34:$C$65,0,$D$34:$D$65,V29),COUNTIFS($I$34:$I$65,V29,$Q$34:$Q$65,0)) -> 0 | AC29: =SUM(F34,F40,F46,F52,F58,F64,) -> 0 | AD29: =SUM(H64,H58,H52,H46,H40,H34) -> 0 | AE29: =AC29-AD29 -> 0 | AF29: =IF(OR($F$34="",$H$34=""),0,(X29/(W29*3))) -> 0 | AG29: =(X29*10^10)+((AC29+5000)*10^6)+AE29*100+U29 -> 5000000004 | AH29: =LARGE($AG$26:$AG$29,U29) -> 5000000001 | AI29: =MATCH(AH29,$AG$26:$AG$29,0) -> 1
D31: 1ª RODADA - #16
C34: =IF(OR(F34="",H34=""),"",IF(F34=H34,1,IF(F34<H34,0,IF(F34-H34<10,2,IF(F34>H34,3,SE))))) | D34: =V29 -> 7º CAMPEONATO INGLÊS | G34: x | I34: =V26 -> 11º CAMPEONATO ESPANHOL | Q34: =IF(OR(H34="",F34=""),"",IF(H34=F34,1,IF(H34<F34,0,IF(H34-F34<10,2,IF(H34>F34,3,SE)))))
C35: =IF(OR(F35="",H35=""),"",IF(F35=H35,1,IF(F35<H35,0,IF(F35-H35<10,2,IF(F35>H35,3,SE))))) | D35: =V28 -> 9º CAMPEONATO ITALIANO | G35: x | I35: =V27 -> 10º CAMPEONATO ALEMÃO | Q35: =IF(OR(H35="",F35=""),"",IF(H35=F35,1,IF(H35<F35,0,IF(H35-F35<10,2,IF(H35>F35,3,SE)))))
C36: =IF(OR(F36="",H36=""),"",IF(F36=H36,1,IF(F36<H36,0,IF(F36-H36<10,2,IF(F36>H36,3,SE))))) | Q36: =IF(OR(H36="",F36=""),"",IF(H36=F36,1,IF(H36<F36,0,IF(H36-F36<10,2,IF(H36>F36,3,SE)))))
C37: =IF(OR(F37="",H37=""),"",IF(F37=H37,1,IF(F37<H37,0,IF(F37-H37<10,2,IF(F37>H37,3,SE))))) | D37: 2ª RODADA - #17 | Q37: =IF(OR(H37="",F37=""),"",IF(H37=F37,1,IF(H37<F37,0,IF(H37-F37<10,2,IF(H37>F37,3,SE)))))
C38: =IF(OR(F38="",H38=""),"",IF(F38=H38,1,IF(F38<H38,0,IF(F38-H38<10,2,IF(F38>H38,3,SE))))) | Q38: =IF(OR(H38="",F38=""),"",IF(H38=F38,1,IF(H38<F38,0,IF(H38-F38<10,2,IF(H38>F38,3,SE)))))
C39: =IF(OR(F39="",H39=""),"",IF(F39=H39,1,IF(F39<H39,0,IF(F39-H39<10,2,IF(F39>H39,3,SE))))) | Q39: =IF(OR(H39="",F39=""),"",IF(H39=F39,1,IF(H39<F39,0,IF(H39-F39<10,2,IF(H39>F39,3,SE)))))
C40: =IF(OR(F40="",H40=""),"",IF(F40=H40,1,IF(F40<H40,0,IF(F40-H40<10,2,IF(F40>H40,3,SE))))) | D40: =V29 -> 7º CAMPEONATO INGLÊS | G40: x | I40: =V27 -> 10º CAMPEONATO ALEMÃO | Q40: =IF(OR(H40="",F40=""),"",IF(H40=F40,1,IF(H40<F40,0,IF(H40-F40<10,2,IF(H40>F40,3,SE)))))
C41: =IF(OR(F41="",H41=""),"",IF(F41=H41,1,IF(F41<H41,0,IF(F41-H41<10,2,IF(F41>H41,3,SE))))) | D41: =V28 -> 9º CAMPEONATO ITALIANO | G41: x | I41: =V26 -> 11º CAMPEONATO ESPANHOL | Q41: =IF(OR(H41="",F41=""),"",IF(H41=F41,1,IF(H41<F41,0,IF(H41-F41<10,2,IF(H41>F41,3,SE)))))
C42: =IF(OR(F42="",H42=""),"",IF(F42=H42,1,IF(F42<H42,0,IF(F42-H42<10,2,IF(F42>H42,3,SE))))) | Q42: =IF(OR(H42="",F42=""),"",IF(H42=F42,1,IF(H42<F42,0,IF(H42-F42<10,2,IF(H42>F42,3,SE)))))
C43: =IF(OR(F43="",H43=""),"",IF(F43=H43,1,IF(F43<H43,0,IF(F43-H43<10,2,IF(F43>H43,3,SE))))) | D43: 3ª RODADA - #18 | Q43: =IF(OR(H43="",F43=""),"",IF(H43=F43,1,IF(H43<F43,0,IF(H43-F43<10,2,IF(H43>F43,3,SE)))))
C44: =IF(OR(F44="",H44=""),"",IF(F44=H44,1,IF(F44<H44,0,IF(F44-H44<10,2,IF(F44>H44,3,SE))))) | Q44: =IF(OR(H44="",F44=""),"",IF(H44=F44,1,IF(H44<F44,0,IF(H44-F44<10,2,IF(H44>F44,3,SE)))))
C45: =IF(OR(F45="",H45=""),"",IF(F45=H45,1,IF(F45<H45,0,IF(F45-H45<10,2,IF(F45>H45,3,SE))))) | Q45: =IF(OR(H45="",F45=""),"",IF(H45=F45,1,IF(H45<F45,0,IF(H45-F45<10,2,IF(H45>F45,3,SE)))))
C46: =IF(OR(F46="",H46=""),"",IF(F46=H46,1,IF(F46<H46,0,IF(F46-H46<10,2,IF(F46>H46,3,SE))))) | D46: =V29 -> 7º CAMPEONATO INGLÊS | G46: x | I46: =V28 -> 9º CAMPEONATO ITALIANO | Q46: =IF(OR(H46="",F46=""),"",IF(H46=F46,1,IF(H46<F46,0,IF(H46-F46<10,2,IF(H46>F46,3,SE)))))
C47: =IF(OR(F47="",H47=""),"",IF(F47=H47,1,IF(F47<H47,0,IF(F47-H47<10,2,IF(F47>H47,3,SE))))) | D47: =V27 -> 10º CAMPEONATO ALEMÃO | G47: x | I47: =V26 -> 11º CAMPEONATO ESPANHOL | Q47: =IF(OR(H47="",F47=""),"",IF(H47=F47,1,IF(H47<F47,0,IF(H47-F47<10,2,IF(H47>F47,3,SE)))))
C48: =IF(OR(F48="",H48=""),"",IF(F48=H48,1,IF(F48<H48,0,IF(F48-H48<10,2,IF(F48>H48,3,SE))))) | Q48: =IF(OR(H48="",F48=""),"",IF(H48=F48,1,IF(H48<F48,0,IF(H48-F48<10,2,IF(H48>F48,3,SE)))))
C49: =IF(OR(F49="",H49=""),"",IF(F49=H49,1,IF(F49<H49,0,IF(F49-H49<10,2,IF(F49>H49,3,SE))))) | D49: 4ª RODADA - #19 | Q49: =IF(OR(H49="",F49=""),"",IF(H49=F49,1,IF(H49<F49,0,IF(H49-F49<10,2,IF(H49>F49,3,SE)))))
C50: =IF(OR(F50="",H50=""),"",IF(F50=H50,1,IF(F50<H50,0,IF(F50-H50<10,2,IF(F50>H50,3,SE))))) | Q50: =IF(OR(H50="",F50=""),"",IF(H50=F50,1,IF(H50<F50,0,IF(H50-F50<10,2,IF(H50>F50,3,SE)))))
C51: =IF(OR(F51="",H51=""),"",IF(F51=H51,1,IF(F51<H51,0,IF(F51-H51<10,2,IF(F51>H51,3,SE))))) | Q51: =IF(OR(H51="",F51=""),"",IF(H51=F51,1,IF(H51<F51,0,IF(H51-F51<10,2,IF(H51>F51,3,SE)))))
C52: =IF(OR(F52="",H52=""),"",IF(F52=H52,1,IF(F52<H52,0,IF(F52-H52<10,2,IF(F52>H52,3,SE))))) | D52: =V29 -> 7º CAMPEONATO INGLÊS | G52: x | I52: =V26 -> 11º CAMPEONATO ESPANHOL | Q52: =IF(OR(H52="",F52=""),"",IF(H52=F52,1,IF(H52<F52,0,IF(H52-F52<10,2,IF(H52>F52,3,SE)))))
C53: =IF(OR(F53="",H53=""),"",IF(F53=H53,1,IF(F53<H53,0,IF(F53-H53<10,2,IF(F53>H53,3,SE))))) | D53: =V28 -> 9º CAMPEONATO ITALIANO | G53: x | I53: =V27 -> 10º CAMPEONATO ALEMÃO | Q53: =IF(OR(H53="",F53=""),"",IF(H53=F53,1,IF(H53<F53,0,IF(H53-F53<10,2,IF(H53>F53,3,SE)))))
C54: =IF(OR(F54="",H54=""),"",IF(F54=H54,1,IF(F54<H54,0,IF(F54-H54<10,2,IF(F54>H54,3,SE))))) | Q54: =IF(OR(H54="",F54=""),"",IF(H54=F54,1,IF(H54<F54,0,IF(H54-F54<10,2,IF(H54>F54,3,SE)))))
C55: =IF(OR(F55="",H55=""),"",IF(F55=H55,1,IF(F55<H55,0,IF(F55-H55<10,2,IF(F55>H55,3,SE))))) | D55: 5ª RODADA - #20 | Q55: =IF(OR(H55="",F55=""),"",IF(H55=F55,1,IF(H55<F55,0,IF(H55-F55<10,2,IF(H55>F55,3,SE)))))
C56: =IF(OR(F56="",H56=""),"",IF(F56=H56,1,IF(F56<H56,0,IF(F56-H56<10,2,IF(F56>H56,3,SE))))) | Q56: =IF(OR(H56="",F56=""),"",IF(H56=F56,1,IF(H56<F56,0,IF(H56-F56<10,2,IF(H56>F56,3,SE)))))
C57: =IF(OR(F57="",H57=""),"",IF(F57=H57,1,IF(F57<H57,0,IF(F57-H57<10,2,IF(F57>H57,3,SE))))) | Q57: =IF(OR(H57="",F57=""),"",IF(H57=F57,1,IF(H57<F57,0,IF(H57-F57<10,2,IF(H57>F57,3,SE)))))
C58: =IF(OR(F58="",H58=""),"",IF(F58=H58,1,IF(F58<H58,0,IF(F58-H58<10,2,IF(F58>H58,3,SE))))) | D58: =V29 -> 7º CAMPEONATO INGLÊS | G58: x | I58: =V27 -> 10º CAMPEONATO ALEMÃO | Q58: =IF(OR(H58="",F58=""),"",IF(H58=F58,1,IF(H58<F58,0,IF(H58-F58<10,2,IF(H58>F58,3,SE)))))
C59: =IF(OR(F59="",H59=""),"",IF(F59=H59,1,IF(F59<H59,0,IF(F59-H59<10,2,IF(F59>H59,3,SE))))) | D59: =V28 -> 9º CAMPEONATO ITALIANO | G59: x | I59: =V26 -> 11º CAMPEONATO ESPANHOL | Q59: =IF(OR(H59="",F59=""),"",IF(H59=F59,1,IF(H59<F59,0,IF(H59-F59<10,2,IF(H59>F59,3,SE)))))
C60: =IF(OR(F60="",H60=""),"",IF(F60=H60,1,IF(F60<H60,0,IF(F60-H60<10,2,IF(F60>H60,3,SE))))) | Q60: =IF(OR(H60="",F60=""),"",IF(H60=F60,1,IF(H60<F60,0,IF(H60-F60<10,2,IF(H60>F60,3,SE)))))
C61: =IF(OR(F61="",H61=""),"",IF(F61=H61,1,IF(F61<H61,0,IF(F61-H61<10,2,IF(F61>H61,3,SE))))) | D61: 6ª RODADA - #21 | Q61: =IF(OR(H61="",F61=""),"",IF(H61=F61,1,IF(H61<F61,0,IF(H61-F61<10,2,IF(H61>F61,3,SE)))))
C62: =IF(OR(F62="",H62=""),"",IF(F62=H62,1,IF(F62<H62,0,IF(F62-H62<10,2,IF(F62>H62,3,SE))))) | Q62: =IF(OR(H62="",F62=""),"",IF(H62=F62,1,IF(H62<F62,0,IF(H62-F62<10,2,IF(H62>F62,3,SE)))))
C63: =IF(OR(F63="",H63=""),"",IF(F63=H63,1,IF(F63<H63,0,IF(F63-H63<10,2,IF(F63>H63,3,SE))))) | Q63: =IF(OR(H63="",F63=""),"",IF(H63=F63,1,IF(H63<F63,0,IF(H63-F63<10,2,IF(H63>F63,3,SE)))))
C64: =IF(OR(F64="",H64=""),"",IF(F64=H64,1,IF(F64<H64,0,IF(F64-H64<10,2,IF(F64>H64,3,SE))))) | D64: =V29 -> 7º CAMPEONATO INGLÊS | G64: x | I64: =V28 -> 9º CAMPEONATO ITALIANO | Q64: =IF(OR(H64="",F64=""),"",IF(H64=F64,1,IF(H64<F64,0,IF(H64-F64<10,2,IF(H64>F64,3,SE)))))
C65: =IF(OR(F65="",H65=""),"",IF(F65=H65,1,IF(F65<H65,0,IF(F65-H65<10,2,IF(F65>H65,3,SE))))) | D65: =V27 -> 10º CAMPEONATO ALEMÃO | G65: x | I65: =V26 -> 11º CAMPEONATO ESPANHOL | Q65: =IF(OR(H65="",F65=""),"",IF(H65=F65,1,IF(H65<F65,0,IF(H65-F65<10,2,IF(H65>F65,3,SE)))))
R66: Legenda
R67: P - pontos
R68: V3P - Vitória por 3 pontos
R69: V2P - Vitória por 2 pontos
R70: E - Empate
C71: =IF(OR(F71="",H71=""),"",IF(F71=H71,1,IF(F71<H71,0,IF(F71-H71<10,2,IF(F71>H71,3,SE))))) | Q71: =IF(OR(H71="",F71=""),"",IF(H71=F71,1,IF(H71<F71,0,IF(H71-F71<10,2,IF(H71>F71,3,SE))))) | R71: D - Derrota
C72: =IF(OR(F72="",H72=""),"",IF(F72=H72,1,IF(F72<H72,0,IF(F72-H72<10,2,IF(F72>H72,3,SE))))) | D72: GRUPO B | Q72: =IF(OR(H72="",F72=""),"",IF(H72=F72,1,IF(H72<F72,0,IF(H72-F72<10,2,IF(H72>F72,3,SE))))) | R72: PPC - Pontos pró Cartola
C73: =IF(OR(F73="",H73=""),"",IF(F73=H73,1,IF(F73<H73,0,IF(F73-H73<10,2,IF(F73>H73,3,SE))))) | Q73: =IF(OR(H73="",F73=""),"",IF(H73=F73,1,IF(H73<F73,0,IF(H73-F73<10,2,IF(H73>F73,3,SE))))) | R73: PCC - pontos contra Cartola
D74: Pos. | E74: CARTOLA | F74: J | G74: P | H74: V3P | I74: V2P | J74: E | K74: D | L74: PPC | M74: PCC | N74: SP | O74: % APR. | R74: SP - saldo de pontos | U74: Pos. | V74: TIMES | W74: J | X74: P | Y74: V3P | Z74: V2P | AA74: E | AB74: D | AC74: GF | AD74: GC | AE74: SG | AF74: % APR. | AG74: calc | AH74: maior | AI74: corresp
D75: 1º | E75: =VLOOKUP(AI75,$U$75:$AH$78,2) -> 7º CAMPEONATO ALEMÃO | F75: =VLOOKUP(AI75,$U$75:AH$78,3) -> 0 | G75: =VLOOKUP(AI75,$U$75:AH$78,4) -> 0 | H75: =VLOOKUP(AI75,$U$75:$AH$78,5) -> 0 | I75: =VLOOKUP(AI75,$U$75:AH$78,6) -> 0 | J75: =VLOOKUP(AI75,$U$75:$AH$78,7) -> 0 | K75: =VLOOKUP(AI75,$U$75:$AH$78,8) -> 0 | L75: =VLOOKUP(AI75,$U$75:$AH$78,9) -> 0 | M75: =VLOOKUP(AI75,$U$75:$AH$78,10) -> 0 | N75: =VLOOKUP(AI75,$U$75:$AH$78,11) -> 0 | O75: =VLOOKUP(AI75,$U$75:$AH$78,12) -> 0 | R75: % APR. - Aproveitamento | U75: 1 | V75: 11º CAMPEONATO ALEMÃO | W75: =COUNT($F$83,$F$89,$F$95,$F$101,$F$107,$F$113) -> 0 | X75: =SUM(Q83,Q90,Q96,Q101,Q108,Q114) -> 0 | Y75: =SUM(COUNTIFS($C$83:$C$114,3,$D$83:$D$114,V75),COUNTIFS($I$83:$I$114,V75,$Q$83:$Q$114,3)) -> 0 | Z75: =SUM(COUNTIFS($C$83:$C$114,2,$D$83:$D$114,V75),COUNTIFS($I$83:$I$114,V75,$Q$83:$Q$114,2)) -> 0 | AA75: =SUM(COUNTIFS($C$83:$C$114,1,$D$83:$D$114,V75),COUNTIFS($I$83:$I$114,V75,$Q$83:$Q$114,1)) -> 0 | AB75: =SUM(COUNTIFS($C$83:$C$114,0,$D$83:$D$114,V75),COUNTIFS($I$83:$I$114,V75,$Q$83:$Q$114,0)) -> 0 | AC75: =SUM(H101,H108,H114,H83,H90,H96) -> 0 | AD75: =SUM(F83,F90,F96,F101,F108,F114) -> 0 | AE75: =AC75-AD75 -> 0 | AF75: =IF(OR($F$83="",$H$83=""),0,(X75/(W75*3))) -> 0 | AG75: =(X75*10^15)+((AC75+5000)*10^6)+AE75*10+U75 -> 5000000001 | AH75: =LARGE($AG$75:$AG$78,U75) -> 5000000004 | AI75: =MATCH(AH75,$AG$75:$AG$78,0) -> 4
D76: 2º | E76: =VLOOKUP(AI76,$U$75:$AH$78,2) -> 8º CAMPEONATO INGLÊS | F76: =VLOOKUP(AI76,$U$75:AH$78,3) -> 0 | G76: =VLOOKUP(AI76,$U$75:AH$78,4) -> 0 | H76: =VLOOKUP(AI76,$U$75:$AH$78,5) -> 0 | I76: =VLOOKUP(AI76,$U$75:AH$78,6) -> 0 | J76: =VLOOKUP(AI76,$U$75:$AH$78,7) -> 0 | K76: =VLOOKUP(AI76,$U$75:$AH$78,8) -> 0 | L76: =VLOOKUP(AI76,$U$75:$AH$78,9) -> 0 | M76: =VLOOKUP(AI76,$U$75:$AH$78,10) -> 0 | N76: =VLOOKUP(AI76,$U$75:$AH$78,11) -> 0 | O76: =VLOOKUP(AI76,$U$75:$AH$78,12) -> 0 | S76: CLASSIFICADO | U76: 2 | V76: 10º CAMPEONATO ITALIANO | W76: =COUNT($F$83,$F$89,$F$95,$F$101,$F$107,$F$113) -> 0 | X76: =SUM(Q84,Q89,C96,Q102,Q107,C114) -> 0 | Y76: =SUM(COUNTIFS($C$83:$C$114,3,$D$83:$D$114,V76),COUNTIFS($I$83:$I$114,V76,$Q$83:$Q$114,3)) -> 0 | Z76: =SUM(COUNTIFS($C$83:$C$114,2,$D$83:$D$114,V76),COUNTIFS($I$83:$I$114,V76,$Q$83:$Q$114,2)) -> 0 | AA76: =SUM(COUNTIFS($C$83:$C$114,1,$D$83:$D$114,V76),COUNTIFS($I$83:$I$114,V76,$Q$83:$Q$114,1)) -> 0 | AB76: =SUM(COUNTIFS($C$83:$C$114,0,$D$83:$D$114,V76),COUNTIFS($I$83:$I$114,V76,$Q$83:$Q$114,0)) -> 0 | AC76: =SUM(H84,H89,F96,H102,H107,F114) -> 0 | AD76: =SUM(H114,F107,F102,H96,F89,F84) -> 0 | AE76: =AC76-AD76 -> 0 | AF76: =IF(OR($F$83="",$H$83=""),0,(X76/(W76*3))) -> 0 | AG76: =(X76*10^15)+((AC76+5000)*10^6)+AE76*10+U76 -> 5000000002 | AH76: =LARGE($AG$75:$AG$78,U76) -> 5000000003 | AI76: =MATCH(AH76,$AG$75:$AG$78,0) -> 3
D77: 3º | E77: =VLOOKUP(AI77,$U$75:$AH$78,2) -> 10º CAMPEONATO ITALIANO | F77: =VLOOKUP(AI77,$U$75:AH$78,3) -> 0 | G77: =VLOOKUP(AI77,$U$75:AH$78,4) -> 0 | H77: =VLOOKUP(AI77,$U$75:$AH$78,5) -> 0 | I77: =VLOOKUP(AI77,$U$75:AH$78,6) -> 0 | J77: =VLOOKUP(AI77,$U$75:$AH$78,7) -> 0 | K77: =VLOOKUP(AI77,$U$75:$AH$78,8) -> 0 | L77: =VLOOKUP(AI77,$U$75:$AH$78,9) -> 0 | M77: =VLOOKUP(AI77,$U$75:$AH$78,10) -> 0 | N77: =VLOOKUP(AI77,$U$75:$AH$78,11) -> 0 | O77: =VLOOKUP(AI77,$U$75:$AH$78,12) -> 0 | S77: DISPUTA ENTRE TERCEIROS | U77: 3 | V77: 8º CAMPEONATO INGLÊS | W77: =COUNT($F$83,$F$89,$F$95,$F$101,$F$107,$F$113) -> 0 | X77: =SUM(C84,C90,Q95,C102,C108,Q113) -> 0 | Y77: =SUM(COUNTIFS($C$83:$C$114,3,$D$83:$D$114,V77),COUNTIFS($I$83:$I$114,V77,$Q$83:$Q$114,3)) -> 0 | Z77: =SUM(COUNTIFS($C$83:$C$114,2,$D$83:$D$114,V77),COUNTIFS($I$83:$I$114,V77,$Q$83:$Q$114,2)) -> 0 | AA77: =SUM(COUNTIFS($C$83:$C$114,1,$D$83:$D$114,V77),COUNTIFS($I$83:$I$114,V77,$Q$83:$Q$114,1)) -> 0 | AB77: =SUM(COUNTIFS($C$83:$C$114,0,$D$83:$D$114,V77),COUNTIFS($I$83:$I$114,V77,$Q$83:$Q$114,0)) -> 0 | AC77: =SUM(H113,F108,F102,H95,F90,F84) -> 0 | AD77: =SUM(H84,H90,F95,H102,H108,F113) -> 0 | AE77: =AC77-AD77 -> 0 | AF77: =IF(OR($F$83="",$H$83=""),0,(X77/(W77*3))) -> 0 | AG77: =(X77*10^15)+((AC77+5000)*10^6)+AE77*10+U77 -> 5000000003 | AH77: =LARGE($AG$75:$AG$78,U77) -> 5000000002 | AI77: =MATCH(AH77,$AG$75:$AG$78,0) -> 2
D78: 4º | E78: =VLOOKUP(AI78,$U$75:$AH$78,2) -> 11º CAMPEONATO ALEMÃO | F78: =VLOOKUP(AI78,$U$75:AH$78,3) -> 0 | G78: =VLOOKUP(AI78,$U$75:AH$78,4) -> 0 | H78: =VLOOKUP(AI78,$U$75:$AH$78,5) -> 0 | I78: =VLOOKUP(AI78,$U$75:AH$78,6) -> 0 | J78: =VLOOKUP(AI78,$U$75:$AH$78,7) -> 0 | K78: =VLOOKUP(AI78,$U$75:$AH$78,8) -> 0 | L78: =VLOOKUP(AI78,$U$75:$AH$78,9) -> 0 | M78: =VLOOKUP(AI78,$U$75:$AH$78,10) -> 0 | N78: =VLOOKUP(AI78,$U$75:$AH$78,11) -> 0 | O78: =VLOOKUP(AI78,$U$75:$AH$78,12) -> 0 | S78: ELIMINADO | U78: 4 | V78: 7º CAMPEONATO ALEMÃO | W78: =COUNT($F$83,$F$89,$F$95,$F$101,$F$107,$F$113) -> 0 | X78: =SUM(C83,C89,C95,C101,C107,C113) -> 0 | Y78: =SUM(COUNTIFS($C$83:$C$114,3,$D$83:$D$114,V78),COUNTIFS($I$83:$I$114,V78,$Q$83:$Q$114,3)) -> 0 | Z78: =SUM(COUNTIFS($C$83:$C$114,2,$D$83:$D$114,V78),COUNTIFS($I$83:$I$114,V78,$Q$83:$Q$114,2)) -> 0 | AA78: =SUM(COUNTIFS($C$83:$C$114,1,$D$83:$D$114,V78),COUNTIFS($I$83:$I$114,V78,$Q$83:$Q$114,1)) -> 0 | AB78: =SUM(COUNTIFS($C$83:$C$114,0,$D$83:$D$114,V78),COUNTIFS($I$83:$I$114,V78,$Q$83:$Q$114,0)) -> 0 | AC78: =SUM(F83,F89,F95,F101,F107,F113,) -> 0 | AD78: =SUM(H113,H107,H101,H95,H89,H83) -> 0 | AE78: =AC78-AD78 -> 0 | AF78: =IF(OR($F$83="",$H$83=""),0,(X78/(W78*3))) -> 0 | AG78: =(X78*10^15)+((AC78+5000)*10^6)+AE78*10+U78 -> 5000000004 | AH78: =LARGE($AG$75:$AG$78,U78) -> 5000000001 | AI78: =MATCH(AH78,$AG$75:$AG$78,0) -> 1
C79: =IF(OR(F79="",H79=""),"",IF(F79=H79,1,IF(F79<H79,0,IF(F79-H79<10,2,IF(F79>H79,3,SE))))) | Q79: =IF(OR(H79="",F79=""),"",IF(H79=F79,1,IF(H79<F79,0,IF(H79-F79<10,2,IF(H79>F79,3,SE)))))
C80: =IF(OR(F80="",H80=""),"",IF(F80=H80,1,IF(F80<H80,0,IF(F80-H80<10,2,IF(F80>H80,3,SE))))) | D80: 1ª RODADA - #16 | Q80: =IF(OR(H80="",F80=""),"",IF(H80=F80,1,IF(H80<F80,0,IF(H80-F80<10,2,IF(H80>F80,3,SE)))))
C81: =IF(OR(F81="",H81=""),"",IF(F81=H81,1,IF(F81<H81,0,IF(F81-H81<10,2,IF(F81>H81,3,SE))))) | Q81: =IF(OR(H81="",F81=""),"",IF(H81=F81,1,IF(H81<F81,0,IF(H81-F81<10,2,IF(H81>F81,3,SE)))))
C82: =IF(OR(F82="",H82=""),"",IF(F82=H82,1,IF(F82<H82,0,IF(F82-H82<10,2,IF(F82>H82,3,SE))))) | Q82: =IF(OR(H82="",F82=""),"",IF(H82=F82,1,IF(H82<F82,0,IF(H82-F82<10,2,IF(H82>F82,3,SE)))))
C83: =IF(OR(F83="",H83=""),"",IF(F83=H83,1,IF(F83<H83,0,IF(F83-H83<10,2,IF(F83>H83,3,SE))))) | D83: =V78 -> 7º CAMPEONATO ALEMÃO | G83: x | I83: =V75 -> 11º CAMPEONATO ALEMÃO | Q83: =IF(OR(H83="",F83=""),"",IF(H83=F83,1,IF(H83<F83,0,IF(H83-F83<10,2,IF(H83>F83,3,SE)))))
C84: =IF(OR(F84="",H84=""),"",IF(F84=H84,1,IF(F84<H84,0,IF(F84-H84<10,2,IF(F84>H84,3,SE))))) | D84: =V77 -> 8º CAMPEONATO INGLÊS | G84: x | I84: =V76 -> 10º CAMPEONATO ITALIANO | Q84: =IF(OR(H84="",F84=""),"",IF(H84=F84,1,IF(H84<F84,0,IF(H84-F84<10,2,IF(H84>F84,3,SE)))))
C85: =IF(OR(F85="",H85=""),"",IF(F85=H85,1,IF(F85<H85,0,IF(F85-H85<10,2,IF(F85>H85,3,SE))))) | Q85: =IF(OR(H85="",F85=""),"",IF(H85=F85,1,IF(H85<F85,0,IF(H85-F85<10,2,IF(H85>F85,3,SE)))))
C86: =IF(OR(F86="",H86=""),"",IF(F86=H86,1,IF(F86<H86,0,IF(F86-H86<10,2,IF(F86>H86,3,SE))))) | D86: 2ª RODADA - #17 | Q86: =IF(OR(H86="",F86=""),"",IF(H86=F86,1,IF(H86<F86,0,IF(H86-F86<10,2,IF(H86>F86,3,SE)))))
C87: =IF(OR(F87="",H87=""),"",IF(F87=H87,1,IF(F87<H87,0,IF(F87-H87<10,2,IF(F87>H87,3,SE))))) | Q87: =IF(OR(H87="",F87=""),"",IF(H87=F87,1,IF(H87<F87,0,IF(H87-F87<10,2,IF(H87>F87,3,SE)))))
C88: =IF(OR(F88="",H88=""),"",IF(F88=H88,1,IF(F88<H88,0,IF(F88-H88<10,2,IF(F88>H88,3,SE))))) | Q88: =IF(OR(H88="",F88=""),"",IF(H88=F88,1,IF(H88<F88,0,IF(H88-F88<10,2,IF(H88>F88,3,SE)))))
C89: =IF(OR(F89="",H89=""),"",IF(F89=H89,1,IF(F89<H89,0,IF(F89-H89<10,2,IF(F89>H89,3,SE))))) | D89: =V78 -> 7º CAMPEONATO ALEMÃO | G89: x | I89: =V76 -> 10º CAMPEONATO ITALIANO | Q89: =IF(OR(H89="",F89=""),"",IF(H89=F89,1,IF(H89<F89,0,IF(H89-F89<10,2,IF(H89>F89,3,SE)))))
C90: =IF(OR(F90="",H90=""),"",IF(F90=H90,1,IF(F90<H90,0,IF(F90-H90<10,2,IF(F90>H90,3,SE))))) | D90: =V77 -> 8º CAMPEONATO INGLÊS | G90: x | I90: =V75 -> 11º CAMPEONATO ALEMÃO | Q90: =IF(OR(H90="",F90=""),"",IF(H90=F90,1,IF(H90<F90,0,IF(H90-F90<10,2,IF(H90>F90,3,SE)))))
C91: =IF(OR(F91="",H91=""),"",IF(F91=H91,1,IF(F91<H91,0,IF(F91-H91<10,2,IF(F91>H91,3,SE))))) | Q91: =IF(OR(H91="",F91=""),"",IF(H91=F91,1,IF(H91<F91,0,IF(H91-F91<10,2,IF(H91>F91,3,SE)))))
C92: =IF(OR(F92="",H92=""),"",IF(F92=H92,1,IF(F92<H92,0,IF(F92-H92<10,2,IF(F92>H92,3,SE))))) | D92: 3ª RODADA - #18 | Q92: =IF(OR(H92="",F92=""),"",IF(H92=F92,1,IF(H92<F92,0,IF(H92-F92<10,2,IF(H92>F92,3,SE)))))
C93: =IF(OR(F93="",H93=""),"",IF(F93=H93,1,IF(F93<H93,0,IF(F93-H93<10,2,IF(F93>H93,3,SE))))) | Q93: =IF(OR(H93="",F93=""),"",IF(H93=F93,1,IF(H93<F93,0,IF(H93-F93<10,2,IF(H93>F93,3,SE)))))
C94: =IF(OR(F94="",H94=""),"",IF(F94=H94,1,IF(F94<H94,0,IF(F94-H94<10,2,IF(F94>H94,3,SE))))) | Q94: =IF(OR(H94="",F94=""),"",IF(H94=F94,1,IF(H94<F94,0,IF(H94-F94<10,2,IF(H94>F94,3,SE)))))
C95: =IF(OR(F95="",H95=""),"",IF(F95=H95,1,IF(F95<H95,0,IF(F95-H95<10,2,IF(F95>H95,3,SE))))) | D95: =V78 -> 7º CAMPEONATO ALEMÃO | G95: x | I95: =V77 -> 8º CAMPEONATO INGLÊS | Q95: =IF(OR(H95="",F95=""),"",IF(H95=F95,1,IF(H95<F95,0,IF(H95-F95<10,2,IF(H95>F95,3,SE)))))
C96: =IF(OR(F96="",H96=""),"",IF(F96=H96,1,IF(F96<H96,0,IF(F96-H96<10,2,IF(F96>H96,3,SE))))) | D96: =V76 -> 10º CAMPEONATO ITALIANO | G96: x | I96: =V75 -> 11º CAMPEONATO ALEMÃO | Q96: =IF(OR(H96="",F96=""),"",IF(H96=F96,1,IF(H96<F96,0,IF(H96-F96<10,2,IF(H96>F96,3,SE)))))
C97: =IF(OR(F97="",H97=""),"",IF(F97=H97,1,IF(F97<H97,0,IF(F97-H97<10,2,IF(F97>H97,3,SE))))) | Q97: =IF(OR(H97="",F97=""),"",IF(H97=F97,1,IF(H97<F97,0,IF(H97-F97<10,2,IF(H97>F97,3,SE)))))
C98: =IF(OR(F98="",H98=""),"",IF(F98=H98,1,IF(F98<H98,0,IF(F98-H98<10,2,IF(F98>H98,3,SE))))) | D98: 4ª RODADA - #19 | Q98: =IF(OR(H98="",F98=""),"",IF(H98=F98,1,IF(H98<F98,0,IF(H98-F98<10,2,IF(H98>F98,3,SE)))))
C99: =IF(OR(F99="",H99=""),"",IF(F99=H99,1,IF(F99<H99,0,IF(F99-H99<10,2,IF(F99>H99,3,SE))))) | Q99: =IF(OR(H99="",F99=""),"",IF(H99=F99,1,IF(H99<F99,0,IF(H99-F99<10,2,IF(H99>F99,3,SE)))))
C100: =IF(OR(F100="",H100=""),"",IF(F100=H100,1,IF(F100<H100,0,IF(F100-H100<10,2,IF(F100>H100,3,SE))))) | Q100: =IF(OR(H100="",F100=""),"",IF(H100=F100,1,IF(H100<F100,0,IF(H100-F100<10,2,IF(H100>F100,3,SE)))))
C101: =IF(OR(F101="",H101=""),"",IF(F101=H101,1,IF(F101<H101,0,IF(F101-H101<10,2,IF(F101>H101,3,SE))))) | D101: =V78 -> 7º CAMPEONATO ALEMÃO | G101: x | I101: =V75 -> 11º CAMPEONATO ALEMÃO | Q101: =IF(OR(H101="",F101=""),"",IF(H101=F101,1,IF(H101<F101,0,IF(H101-F101<10,2,IF(H101>F101,3,SE)))))
C102: =IF(OR(F102="",H102=""),"",IF(F102=H102,1,IF(F102<H102,0,IF(F102-H102<10,2,IF(F102>H102,3,SE))))) | D102: =V77 -> 8º CAMPEONATO INGLÊS | G102: x | I102: =V76 -> 10º CAMPEONATO ITALIANO | Q102: =IF(OR(H102="",F102=""),"",IF(H102=F102,1,IF(H102<F102,0,IF(H102-F102<10,2,IF(H102>F102,3,SE)))))
C103: =IF(OR(F103="",H103=""),"",IF(F103=H103,1,IF(F103<H103,0,IF(F103-H103<10,2,IF(F103>H103,3,SE))))) | Q103: =IF(OR(H103="",F103=""),"",IF(H103=F103,1,IF(H103<F103,0,IF(H103-F103<10,2,IF(H103>F103,3,SE)))))
C104: =IF(OR(F104="",H104=""),"",IF(F104=H104,1,IF(F104<H104,0,IF(F104-H104<10,2,IF(F104>H104,3,SE))))) | D104: 5ª RODADA - #20 | Q104: =IF(OR(H104="",F104=""),"",IF(H104=F104,1,IF(H104<F104,0,IF(H104-F104<10,2,IF(H104>F104,3,SE)))))
C105: =IF(OR(F105="",H105=""),"",IF(F105=H105,1,IF(F105<H105,0,IF(F105-H105<10,2,IF(F105>H105,3,SE))))) | Q105: =IF(OR(H105="",F105=""),"",IF(H105=F105,1,IF(H105<F105,0,IF(H105-F105<10,2,IF(H105>F105,3,SE)))))
C106: =IF(OR(F106="",H106=""),"",IF(F106=H106,1,IF(F106<H106,0,IF(F106-H106<10,2,IF(F106>H106,3,SE))))) | Q106: =IF(OR(H106="",F106=""),"",IF(H106=F106,1,IF(H106<F106,0,IF(H106-F106<10,2,IF(H106>F106,3,SE)))))
C107: =IF(OR(F107="",H107=""),"",IF(F107=H107,1,IF(F107<H107,0,IF(F107-H107<10,2,IF(F107>H107,3,SE))))) | D107: =V78 -> 7º CAMPEONATO ALEMÃO | G107: x | I107: =V76 -> 10º CAMPEONATO ITALIANO | Q107: =IF(OR(H107="",F107=""),"",IF(H107=F107,1,IF(H107<F107,0,IF(H107-F107<10,2,IF(H107>F107,3,SE)))))
C108: =IF(OR(F108="",H108=""),"",IF(F108=H108,1,IF(F108<H108,0,IF(F108-H108<10,2,IF(F108>H108,3,SE))))) | D108: =V77 -> 8º CAMPEONATO INGLÊS | G108: x | I108: =V75 -> 11º CAMPEONATO ALEMÃO | Q108: =IF(OR(H108="",F108=""),"",IF(H108=F108,1,IF(H108<F108,0,IF(H108-F108<10,2,IF(H108>F108,3,SE)))))
C109: =IF(OR(F109="",H109=""),"",IF(F109=H109,1,IF(F109<H109,0,IF(F109-H109<10,2,IF(F109>H109,3,SE))))) | Q109: =IF(OR(H109="",F109=""),"",IF(H109=F109,1,IF(H109<F109,0,IF(H109-F109<10,2,IF(H109>F109,3,SE)))))
C110: =IF(OR(F110="",H110=""),"",IF(F110=H110,1,IF(F110<H110,0,IF(F110-H110<10,2,IF(F110>H110,3,SE))))) | D110: 6ª RODADA - #21 | Q110: =IF(OR(H110="",F110=""),"",IF(H110=F110,1,IF(H110<F110,0,IF(H110-F110<10,2,IF(H110>F110,3,SE)))))
C111: =IF(OR(F111="",H111=""),"",IF(F111=H111,1,IF(F111<H111,0,IF(F111-H111<10,2,IF(F111>H111,3,SE))))) | Q111: =IF(OR(H111="",F111=""),"",IF(H111=F111,1,IF(H111<F111,0,IF(H111-F111<10,2,IF(H111>F111,3,SE)))))
C112: =IF(OR(F112="",H112=""),"",IF(F112=H112,1,IF(F112<H112,0,IF(F112-H112<10,2,IF(F112>H112,3,SE))))) | Q112: =IF(OR(H112="",F112=""),"",IF(H112=F112,1,IF(H112<F112,0,IF(H112-F112<10,2,IF(H112>F112,3,SE)))))
C113: =IF(OR(F113="",H113=""),"",IF(F113=H113,1,IF(F113<H113,0,IF(F113-H113<10,2,IF(F113>H113,3,SE))))) | D113: =V78 -> 7º CAMPEONATO ALEMÃO | G113: x | I113: =V77 -> 8º CAMPEONATO INGLÊS | Q113: =IF(OR(H113="",F113=""),"",IF(H113=F113,1,IF(H113<F113,0,IF(H113-F113<10,2,IF(H113>F113,3,SE)))))
C114: =IF(OR(F114="",H114=""),"",IF(F114=H114,1,IF(F114<H114,0,IF(F114-H114<10,2,IF(F114>H114,3,SE))))) | D114: =V76 -> 10º CAMPEONATO ITALIANO | G114: x | I114: =V75 -> 11º CAMPEONATO ALEMÃO | Q114: =IF(OR(H114="",F114=""),"",IF(H114=F114,1,IF(H114<F114,0,IF(H114-F114<10,2,IF(H114>F114,3,SE)))))
R115: Legenda
R116: P - pontos
R117: V3P - Vitória por 3 pontos
R118: V2P - Vitória por 2 pontos
...

Sheet Plan2
C2: terceiros lugares
C3: times | D3: J | E3: P | F3: V3P | G3: V2P | H3: E | I3: D | J3: GF | K3: GC | L3: SG | M3: % APR.
B4: 1 | C4: =Plan1!E28 -> 10º CAMPEONATO ALEMÃO | D4: =Plan1!F28 -> 0 | E4: =Plan1!G28 -> 0 | F4: =Plan1!H28 -> 0 | G4: =Plan1!I28 -> 0 | H4: =Plan1!J28 -> 0 | I4: =Plan1!K28 -> 0 | J4: =Plan1!L28 -> 0 | ... M4: =Plan1!O28 -> 0
B5: 2 | C5: =Plan1!E77 -> 10º CAMPEONATO ITALIANO | D5: =Plan1!F77 -> 0 | E5: =Plan1!G77 -> 0 | F5: =Plan1!H77 -> 0 | G5: =Plan1!I77 -> 0 | H5: =Plan1!J77 -> 0 | I5: =Plan1!K77 -> 0 | J5: =Plan1!L77 -> 0 | ... M5: =Plan1!O77 -> 0
B6: 3 | C6: =Plan1!E126 -> 11º CAMPEONATO ITALIANO | D6: =Plan1!F126 -> 0 | E6: =Plan1!G126 -> 0 | F6: =Plan1!H126 -> 0 | G6: =Plan1!I126 -> 0 | H6: =Plan1!J126 -> 0 | I6: =Plan1!K126 -> 0 | J6: =Plan1!L126 -> 0 | ... M6: =Plan1!O126 -> 0
B7: 4 | C7: =Plan1!E175 -> 10º CAMPEONATO INGLÊS | D7: =Plan1!F175 -> 0 | E7: =Plan1!G175 -> 0 | F7: =Plan1!H175 -> 0 | G7: =Plan1!I175 -> 0 | H7: =Plan1!J175 -> 0 | I7: =Plan1!K175 -> 0 | J7: =Plan1!L175 -> 0 | ... M7: =Plan1!O175 -> 0
B8: 5 | C8: =Plan1!E224 -> 11º CAMPEONATO INGLÊS | D8: =Plan1!F224 -> 0 | E8: =Plan1!G224 -> 0 | F8: =Plan1!H224 -> 0 | G8: =Plan1!I224 -> 0 | H8: =Plan1!J224 -> 0 | I8: =Plan1!K224 -> 0 | J8: =Plan1!L224 -> 0 | ... M8: =Plan1!O224 -> 0
B9: 6 | C9: =Plan1!E273 -> 10º CAMPEONATO ESPANHOL | D9: =Plan1!F273 -> 0 | E9: =Plan1!G273 -> 0 | F9: =Plan1!H273 -> 0 | G9: =Plan1!I273 -> 0 | H9: =Plan1!J273 -> 0 | I9: =Plan1!K273 -> 0 | J9: =Plan1!L273 -> 0 | ... M9: =Plan1!O273 -> 0

Sheet Plan3
