Workbook

Sheet Plan1
B14: EUROPA LEAGUE - 2016
R17: Legenda
R18: P - pontos
R19: V3P - Vitória por 3 pontos
R20: V2P - Vitória por 2 pontos
R21: E - Empate
R22: D - Derrota
D23: GRUPO A | R23: PPC - Pontos pró Cartola
R24: PCC - pontos contra Cartola
D25: Pos. | E25: CARTOLA | F25: J | G25: P | H25: V3P | I25: V2P | J25: E | K25: D | L25: PPC | M25: PCC | N25: SP | O25: % APR. | R25: SP - saldo de pontos | U25: Pos. | V25: TIMES | W25: J | X25: P | Y25: V3P | Z25: V2P | AA25: E | AB25: D | AC25: GF | AD25: GC | AE25: SG | AF25: % APR. | AG25: calc | AH25: maior | AI25: corresp
D26: 1º | E26: =VLOOKUP(AI26,$U$26:$AH$29,2) -> 7º CAMPEONATO INGLÊS | F26: =VLOOKUP(AI26,$U$26:$AH$29,3) -> 0 | G26: =VLOOKUP(AI26,$U$26:$AH$29,4) -> 0 | H26: =VLOOKUP(AI26,$U$26:$AH$29,5) -> 0 | I26: =VLOOKUP(AI26,$U$26:$AH$29,6) -> 0 | J26: =VLOOKUP(AI26,$U$26:$AH$29,7) -> 0 | K26: =VLOOKUP(AI26,$U$26:$AH$29,8) -> 0 | L26: =VLOOKUP(AI26,$U$26:$AH$29,9) -> 0 | M26: =VLOOKUP(AI26,$U$26:$AH$29,10) -> 0 | N26: =VLOOKUP(AI26,$U$26:$AH$29,11) -> 0 | O26: =VLOOKUP(AI26,$U$26:$AH$29,12) -> 0 | R26: % APR. - Aproveitamento | U26: 1 | V26: 11º CAMPEONATO ESPANHOL | W26: =COUNT($F$34,$F$40,$F$46,$F$52,$F$58,$F$64) -> 0 | X26: =SUM(Q34,Q41,Q47,Q52,Q59,Q65) -> 0 | Y26: =SUM(COUNTIFS($C$34:$C$65,3,$D$34:$D$65,V26),COUNTIFS($I$34:$I$65,V26,$Q$34:$Q$65,3)) -> 0 | Z26: =SUM(COUNTIFS($C$34:$C$65,2,$D$34:$D$65,V26),COUNTIFS($I$34:$I$65,V26,$Q$34:$Q$65,2)) -> 0 | AA26: =SUM(COUNTIFS($C$34:$C$65,1,$D$34:$D$65,V26),COUNTIFS($I$34:$I$65,V26,$Q$34:$Q$65,1)) -> 0 | AB26: =SUM(COUNTIFS($C$34:$C$65,0,$D$34:$D$65,V26),COUNTIFS($I$34:$I$65,V26,$Q$34:$Q$65,0)) -> 0 | AC26: =SUM(H52,H59,H65,H34,H41,H47) -> 0 | AD26: =SUM(F34,F41,F47,F52,F59,F65) -> 0 | AE26: =AC26-AD26 -> 0 | AF26: =IF(OR($F$34="",$H$34=""),0,(X26/(W26*3))) -> 0 | AG26: =(X26*10^10)+((AC26+5000)*10^6)+AE26*100+U26 -> 5000000001 | AH26: =LARGE($AG$26:$AG$29,U26) -> 5000000004 | AI26: =MATCH(AH26,$AG$26:$AG$29,0) -> 4
D27: 2º | E27: =VLOOKUP(AI27,$U$26:$AH$29,2) -> 9º CAMPEONATO ITALIANO | F27: =VLOOKUP(AI27,$U$26:$AH$29,3) -> 0 | G27: =VLOOKUP(AI27,$U$26:$AH$29,4) -> 0 | H27: =VLOOKUP(AI27,$U$26:$AH$29,5) -> 0 | I27: =VLOOKUP(AI27,$U$26:$AH$29,6) -> 0 | J27: =VLOOKUP(AI27,$U$26:$AH$29,7) -> 0 | K27: =VLOOKUP(AI27,$U$26:$AH$29,8) -> 0 | L27: =VLOOKUP(AI27,$U$26:$AH$29,9) -> 0 | M27: =VLOOKUP(AI27,$U$26:$AH$29,10) -> 0 | N27: =VLOOKUP(AI27,$U$26:$AH$29,11) -> 0 | O27: =VLOOKUP(AI27,$U$26:$AH$29,12) -> 0 | S27: CLASSIFICADO | U27: 2 | V27: 10º CAMPEONATO ALEMÃO | W27: =COUNT($F$34,$F$40,$F$46,$F$52,$F$58,$F$64) -> 0 | X27: =SUM(Q35,Q40,C47,Q53,Q58,C65) -> 0 | Y27: =SUM(COUNTIFS($C$34:$C$65,3,$D$34:$D$65,V27),COUNTIFS($I$34:$I$65,V27,$Q$34:$Q$65,3)) -> 0 | Z27: =SUM(COUNTIFS($C$34:$C$65,2,$D$34:$D$65,V27),COUNTIFS($I$34:$I$65,V27,$Q$34:$Q$65,2)) -> 0 | AA27: =SUM(COUNTIFS($C$34:$C$65,1,$D$34:$D$65,V27),COUNTIFS($I$34:$I$65,V27,$Q$34:$Q$65,1)) -> 0 | AB27: =SUM(COUNTIFS($C$34:$C$65,0,$D$34:$D$65,V27),COUNTIFS($I$34:$I$65,V27,$Q$34:$Q$65,0)) -> 0 | AC27: =SUM(H35,H40,F47,H53,H58,F65) -> 0 | AD27: =SUM(H65,F58,F53,H47,F40,F35) -> 0 | AE27: =AC27-AD27 -> 0 | AF27: =IF(OR($F$34="",$H$34=""),0,(X27/(W27*3))) -> 0 | AG27: =(X27*10^10)+((AC27+5000)*10^6)+AE27*100+U27 -> 5000000002 | AH27: =LARGE($AG$26:$AG$29,U27) -> 5000000003 | AI27: =MATCH(AH27,$AG$26:$AG$29,0) -> 3
D28: 3º | E28: =VLOOKUP(AI28,$U$26:$AH$29,2) -> 10º CAMPEONATO ALEMÃO | F28: =VLOOKUP(AI28,$U$26:$AH$29,3) -> 0 | G28: =VLOOKUP(AI28,$U$26:$AH$29,4) -> 0 | H28: =VLOOKUP(AI28,$U$26:$AH$29,5) -> 0 | I28: =VLOOKUP(AI28,$U$26:$AH$29,6) -> 0 | J28: =VLOOKUP(AI28,$U$26:$AH$29,7) -> 0 | K28: =VLOOKUP(AI28,$U$26:$AH$29,8) -> 0 | L28: =VLOOKUP(AI28,$U$26:$AH$29,9) -> 0 | M28: =VLOOKUP(AI28,$U$26:$AH$29,10) -> 0 | N28: =VLOOKUP(AI28,$U$26:$AH$29,11) -> 0 | O28: =VLOOKUP(AI28,$U$26:$AH$29,12) -> 0 | S28: DISPUTA ENTRE TERCEIROS | U28: 3 | V28: 9º CAMPEONATO ITALIANO | W28: =COUNT($F$34,$F$40,$F$46,$F$52,$F$58,$F$64) -> 0 | X28: =SUM(C35,C41,Q46,C53,C59,Q64) -> 0 | Y28: =SUM(COUNTIFS($C$34:$C$65,3,$D$34:$D$65,V28),COUNTIFS($I$34:$I$65,V28,$Q$34:$Q$65,3)) -> 0 | Z28: =SUM(COUNTIFS($C$34:$C$65,2,$D$34:$D$65,V28),COUNTIFS($I$34:$I$65,V28,$Q$34:$Q$65,2)) -> 0 | AA28: =SUM(COUNTIFS($C$34:$C$65,1,$D$34:$D$65,V28),COUNTIFS($I$34:$I$65,V28,$Q$34:$Q$65,1)) -> 0 | AB28: =SUM(COUNTIFS($C$34:$C$65,0,$D$34:$D$65,V28),COUNTIFS($I$34:$I$65,V28,$Q$34:$Q$65,0)) -> 0 | AC28: =SUM(H64,F59,F53,H46,F41,F35) -> 0 | AD28: =SUM(H35,H41,F46,H53,H59,F64) -> 0 | AE28: =AC28-AD28 -> 0 | AF28: =IF(OR($F$34="",$H$34=""),0,(X28/(W28*3))) -> 0 | AG28: =(X28*10^10)+((AC28+5000)*10^6)+AE28*100+U28 -> 5000000003 | AH28: =LARGE($AG$26:$AG$29,U28) -> 5000000002 | AI28: =MATCH(AH28,$AG$26:$AG$29,0) -> 2
D29: 4º | E29: =VLOOKUP(AI29,$U$26:$AH$29,2) -> 11º CAMPEONATO ESPANHOL | F29: =VLOOKUP(AI29,$U$26:$AH$29,3) -> 0 | G29: =VLOOKUP(AI29,$U$26:$AH$29,4) -> 0 | H29: =VLOOKUP(AI29,$U$26:$AH$29,5) -> 0 | I29: =VLOOKUP(AI29,$U$26:$AH$29,6) -> 0 | J29: =VLOOKUP(AI29,$U$26:$AH$29,7) -> 0 | K29: =VLOOKUP(AI29,$U$26:$AH$29,8) -> 0 | L29: =VLOOKUP(AI29,$U$26:$AH$29,9) -> 0 | M29: =VLOOKUP(AI29,$U$26:$AH$29,10) -> 0 | N29: =VLOOKUP(AI29,$U$26:$AH$29,11) -> 0 | O29: =VLOOKUP(AI29,$U$26:$AH$29,12) -> 0 | S29: ELIMINADO | U29: 4 | V29: 7º CAMPEONATO INGLÊS | W29: =COUNT($F$34,$F$40,$F$46,$F$52,$F$58,$F$64) -> 0 | X29: =SUM(C34,C40,C46,C52,C58,C64) -> 0 | Y29: =SUM(COUNTIFS($C$34:$C$65,3,$D$34:$D$65,V29),COUNTIFS($I$34:$I$65,V29,$Q$34:$Q$65,3)) -> 0 | Z29: =SUM(COUNTIFS($C$34:$C$65,2,$D$34:$D$65,V29),COUNTIFS($I$34:$I$65,V29,$Q$34:$Q$65,2)) -> 0 | AA29: =SUM(COUNTIFS($C$34:$C$65,1,$D$34:$D$65,V29),COUNTIFS($I$34:$I$65,V29,$Q$34:$Q$65,1)) -> 0 | AB29: =SUM(COUNTIFS($C$34:$C$65,0,$D$34:$D$65,V29),COUNTIFS($I$34:$I$65,V29,$Q$34:$Q$65,0)) -> 0 | AC29: =SUM(F34,F40,F46,F52,F58,F64,) -> 0 | AD29: =SUM(H64,H58,H52,H46,H40,H34) -> 0 | AE29: =AC29-AD29 -> 0 | AF29: =IF(OR($F$34="",$H$34=""),0,(X29/(W29*3))) -> 0 | AG29: =(X29*10^10)+((AC29+5000)*10^6)+AE29*100+U29 -> 5000000004 | AH29: =LARGE($AG$26:$AG$29,U29) -> 5000000001 | AI29: =MATCH(AH29,$AG$26:$AG$29,0) -> 1
D31: 1ª RODADA - #16
C34: =IF(OR(F34="",H34=""),"",IF(F34=H34,1,IF(F34<H34,0,IF(F34-H34<10,2,IF(F34>H34,3,SE))))) | D34: =V29 -> 7º CAMPEONATO INGLÊS | G34: x | I34: =V26 -> 11º CAMPEONATO ESPANHOL | Q34: =IF(OR(H34="",F34=""),"",IF(H34=F34,1,IF(H34<F34,0,IF(H34-F34<10,2,IF(H34>F34,3,SE)))))
C35: =IF(OR(F35="",H35=""),"",IF(F35=H35,1,IF(F35<H35,0,IF(F35-H35<10,2,IF(F35>H35,3,SE))))) | D35: =V28 -> 9º CAMPEONATO ITALIANO | G35: x | I35: =V27 -> 10º CAMPEONATO ALEMÃO | Q35: =IF(OR(H35="",F35=""),"",IF(H35=F35,1,IF(H35<F35,0,IF(H35-F35<10,2,IF(H35>F35,3,SE)))))
C36: =IF(OR(F36="",H36=""),"",IF(F36=H36,1,IF(F36<H36,0,IF(F36-H36<10,2,IF(F36>H36,3,SE))))) | Q36: =IF(OR(H36="",F36=""),"",IF(H36=F36,1,IF(H36<F36,0,IF(H36-F36<10,2,IF(H36>F36,3,SE)))))
C37: =IF(OR(F37="",H37=""),"",IF(F37=H37,1,IF(F37<H37,0,IF(F37-H37<10,2,IF(F37>H37,3,SE))))) | D37: 2ª RODADA - #17 | Q37: =IF(OR(H37="",F37=""),"",IF(H37=F37,1,IF(H37<F37,0,IF(H37-F37<10,2,IF(H37>F37,3,SE)))))
C38: =IF(OR(F38="",H38=""),"",IF(F38=H38,1,IF(F38<H38,0,IF(F38-H38<10,2,IF(F38>H38,3,SE))))) | Q38: =IF(OR(H38="",F38=""),"",IF(H38=F38,1,IF(H38<F38,0,IF(H38-F38<10,2,IF(H38>F38,3,SE)))))
C39: =IF(OR(F39="",H39=""),"",IF(F39=H39,1,IF(F39<H39,0,IF(F39-H39<10,2,IF(F39>H39,3,SE))))) | Q39: =IF(OR(H39="",F39=""),"",IF(H39=F39,1,IF(H39<F39,0,IF(H39-F39<10,2,IF(H39>F39,3,SE)))))
C40: =IF(OR(F40="",H40=""),"",IF(F40=H40,1,IF(F40<H40,0,IF(F40-H40<10,2,IF(F40>H40,3,SE))))) | D40: =V29 -> 7º CAMPEONATO INGLÊS | G40: x | I40: =V27 -> 10º CAMPEONATO ALEMÃO | Q40: =IF(OR(H40="",F40=""),"",IF(H40=F40,1,IF(H40<F40,0,IF(H40-F40<10,2,IF(H40>F40,3,SE)))))
C41: =IF(OR(F41="",H41=""),"",IF(F41=H41,1,IF(F41<H41,0,IF(F41-H41<10,2,IF(F41>H41,3,SE))))) | D41: =V28 -> 9º CAMPEONATO ITALIANO | G41: x | I41: =V26 -> 11º CAMPEONATO ESPANHOL | Q41: =IF(OR(H41="",F41=""),"",IF(H41=F41,1,IF(H41<F41,0,IF(H41-F41<10,2,IF(H41>F41,3,SE)))))
C42: =IF(OR(F42="",H42=""),"",IF(F42=H42,1,IF(F42<H42,0,IF(F42-H42<10,2,IF(F42>H42,3,SE))))) | Q42: =IF(OR(H42="",F42=""),"",IF(H42=F42,1,IF(H42<F42,0,IF(H42-F42<10,2,IF(H42>F42,3,SE)))))
C43: =IF(OR(F43="",H43=""),"",IF(F43=H43,1,IF(F43<H43,0,IF(F43-H43<10,2,IF(F43>H43,3,SE))))) | D43: 3ª RODADA - #18 | Q43: =IF(OR(H43="",F43=""),"",IF(H43=F43,1,IF(H43<F43,0,IF(H43-F43<10,2,IF(H43>F43,3,SE)))))
C44: =IF(OR(F44="",H44=""),"",IF(F44=H44,1,IF(F44<H44,0,IF(F44-H44<10,2,IF(F44>H44,3,SE))))) | Q44: =IF(OR(H44="",F44=""),"",IF(H44=F44,1,IF(H44<F44,0,IF(H44-F44<10,2,IF(H44>F44,3,SE)))))
C45: =IF(OR(F45="",H45=""),"",IF(F45=H45,1,IF(F45<H45,0,IF(F45-H45<10,2,IF(F45>H45,3,SE))))) | Q45: =IF(OR(H45="",F45=""),"",IF(H45=F45,1,IF(H45<F45,0,IF(H45-F45<10,2,IF(H45>F45,3,SE)))))
C46: =IF(OR(F46="",H46=""),"",IF(F46=H46,1,IF(F46<H46,0,IF(F46-H46<10,2,IF(F46>H46,3,SE))))) | D46: =V29 -> 7º CAMPEONATO INGLÊS | G46: x | I46: =V28 -> 9º CAMPEONATO ITALIANO | Q46: =IF(OR(H46="",F46=""),"",IF(H46=F46,1,IF(H46<F46,0,IF(H46-F46<10,2,IF(H46>F46,3,SE)))))
C47: =IF(OR(F47="",H47=""),"",IF(F47=H47,1,IF(F47<H47,0,IF(F47-H47<10,2,IF(F47>H47,3,SE))))) | D47: =V27 -> 10º CAMPEONATO ALEMÃO | G47: x | I47: =V26 -> 11º CAMPEONATO ESPANHOL | Q47: =IF(OR(H47="",F47=""),"",IF(H47=F47,1,IF(H47<F47,0,IF(H47-F47<10,2,IF(H47>F47,3,SE)))))
C48: =IF(OR(F48="",H48=""),"",IF(F48=H48,1,IF(F48<H48,0,IF(F48-H48<10,2,IF(F48>H48,3,SE))))) | Q48: =IF(OR(H48="",F48=""),"",IF(H48=F48,1,IF(H48<F48,0,IF(H48-F48<10,2,IF(H48>F48,3,SE)))))
C49: =IF(OR(F49="",H49=""),"",IF(F49=H49,1,IF(F49<H49,0,IF(F49-H49<10,2,IF(F49>H49,3,SE))))) | D49: 4ª RODADA - #19 | Q49: =IF(OR(H49="",F49=""),"",IF(H49=F49,1,IF(H49<F49,0,IF(H49-F49<10,2,IF(H49>F49,3,SE)))))
C50: =IF(OR(F50="",H50=""),"",IF(F50=H50,1,IF(F50<H50,0,IF(F50-H50<10,2,IF(F50>H50,3,SE))))) | Q50: =IF(OR(H50="",F50=""),"",IF(H50=F50,1,IF(H50<F50,0,IF(H50-F50<10,2,IF(H50>F50,3,SE)))))
C51: =IF(OR(F51="",H51=""),"",IF(F51=H51,1,IF(F51<H51,0,IF(F51-H51<10,2,IF(F51>H51,3,SE))))) | Q51: =IF(OR(H51="",F51=""),"",IF(H51=F51,1,IF(H51<F51,0,IF(H51-F51<10,2,IF(H51>F51,3,SE)))))
C52: =IF(OR(F52="",H52=""),"",IF(F52=H52,1,IF(F52<H52,0,IF(F52-H52<10,2,IF(F52>H52,3,SE))))) | D52: =V29 -> 7º CAMPEONATO INGLÊS | G52: x | I52: =V26 -> 11º CAMPEONATO ESPANHOL | Q52: =IF(OR(H52="",F52=""),"",IF(H52=F52,1,IF(H52<F52,0,IF(H52-F52<10,2,IF(H52>F52,3,SE)))))
C53: =IF(OR(F53="",H53=""),"",IF(F53=H53,1,IF(F53<H53,0,IF(F53-H53<10,2,IF(F53>H53,3,SE))))) | D53: =V28 -> 9º CAMPEONATO ITALIANO | G53: x | I53: =V27 -> 10º CAMPEONATO ALEMÃO | Q53: =IF(OR(H53="",F53=""),"",IF(H53=F53,1,IF(H53<F53,0,IF(H53-F53<10,2,IF(H53>F53,3,SE)))))
C54: =IF(OR(F54="",H54=""),"",IF(F54=H54,1,IF(F54<H54,0,IF(F54-H54<10,2,IF(F54>H54,3,SE))))) | Q54: =IF(OR(H54="",F54=""),"",IF(H54=F54,1,IF(H54<F54,0,IF(H54-F54<10,2,IF(H54>F54,3,SE)))))
C55: =IF(OR(F55="",H55=""),"",IF(F55=H55,1,IF(F55<H55,0,IF(F55-H55<10,2,IF(F55>H55,3,SE))))) | D55: 5ª RODADA - #20 | Q55: =IF(OR(H55="",F55=""),"",IF(H55=F55,1,IF(H55<F55,0,IF(H55-F55<10,2,IF(H55>F55,3,SE)))))
C56: =IF(OR(F56="",H56=""),"",IF(F56=H56,1,IF(F56<H56,0,IF(F56-H56<10,2,IF(F56>H56,3,SE))))) | Q56: =IF(OR(H56="",F56=""),"",IF(H56=F56,1,IF(H56<F56,0,IF(H56-F56<10,2,IF(H56>F56,3,SE)))))
C57: =IF(OR(F57="",H57=""),"",IF(F57=H57,1,IF(F57<H57,0,IF(F57-H57<10,2,IF(F57>H57,3,SE))))) | Q57: =IF(OR(H57="",F57=""),"",IF(H57=F57,1,IF(H57<F57,0,IF(H57-F57<10,2,IF(H57>F57,3,SE)))))
C58: =IF(OR(F58="",H58=""),"",IF(F58=H58,1,IF(F58<H58,0,IF(F58-H58<10,2,IF(F58>H58,3,SE))))) | D58: =V29 -> 7º CAMPEONATO INGLÊS | G58: x | I58: =V27 -> 10º CAMPEONATO ALEMÃO | Q58: =IF(OR(H58="",F58=""),"",IF(H58=F58,1,IF(H58<F58,0,IF(H58-F58<10,2,IF(H58>F58,3,SE)))))
...

Sheet Plan2
C2: terceiros lugares
C3: times | D3: J | E3: P | F3: V3P | G3: V2P | H3: E | I3: D | J3: GF | K3: GC | L3: SG | M3: % APR.
B4: 1 | C4: =Plan1!E28 -> 10º CAMPEONATO ALEMÃO | D4: =Plan1!F28 -> 0 | E4: =Plan1!G28 -> 0 | F4: =Plan1!H28 -> 0 | G4: =Plan1!I28 -> 0 | H4: =Plan1!J28 -> 0 | I4: =Plan1!K28 -> 0 | J4: =Plan1!L28 -> 0 | ... M4: =Plan1!O28 -> 0
B5: 2 | C5: =Plan1!E77 -> 10º CAMPEONATO ITALIANO | D5: =Plan1!F77 -> 0 | E5: =Plan1!G77 -> 0 | F5: =Plan1!H77 -> 0 | G5: =Plan1!I77 -> 0 | H5: =Plan1!J77 -> 0 | I5: =Plan1!K77 -> 0 | J5: =Plan1!L77 -> 0 | ... M5: =Plan1!O77 -> 0
B6: 3 | C6: =Plan1!E126 -> 11º CAMPEONATO ITALIANO | D6: =Plan1!F126 -> 0 | E6: =Plan1!G126 -> 0 | F6: =Plan1!H126 -> 0 | G6: =Plan1!I126 -> 0 | H6: =Plan1!J126 -> 0 | I6: =Plan1!K126 -> 0 | J6: =Plan1!L126 -> 0 | ... M6: =Plan1!O126 -> 0
B7: 4 | C7: =Plan1!E175 -> 10º CAMPEONATO INGLÊS | D7: =Plan1!F175 -> 0 | E7: =Plan1!G175 -> 0 | F7: =Plan1!H175 -> 0 | G7: =Plan1!I175 -> 0 | H7: =Plan1!J175 -> 0 | I7: =Plan1!K175 -> 0 | J7: =Plan1!L175 -> 0 | ... M7: =Plan1!O175 -> 0
B8: 5 | C8: =Plan1!E224 -> 11º CAMPEONATO INGLÊS | D8: =Plan1!F224 -> 0 | E8: =Plan1!G224 -> 0 | F8: =Plan1!H224 -> 0 | G8: =Plan1!I224 -> 0 | H8: =Plan1!J224 -> 0 | I8: =Plan1!K224 -> 0 | J8: =Plan1!L224 -> 0 | ... M8: =Plan1!O224 -> 0
B9: 6 | C9: =Plan1!E273 -> 10º CAMPEONATO ESPANHOL | D9: =Plan1!F273 -> 0 | E9: =Plan1!G273 -> 0 | F9: =Plan1!H273 -> 0 | G9: =Plan1!I273 -> 0 | H9: =Plan1!J273 -> 0 | I9: =Plan1!K273 -> 0 | J9: =Plan1!L273 -> 0 | ... M9: =Plan1!O273 -> 0

Sheet Plan3
