Workbook

Sheet Grupo M
B14: RECOPA EUROPEIA
B18: 1ª FASE
D22: CLASSIFICAÇÃO
D27: OBS: Os 4 melhores colocados no Grupo se classificarão para a 2ª FASE.
Q28: Legenda
D29: GRUPO M | Q29: P - pontos
Q30: V3P - Vitória por 3 pontos
D31: Pos. | E31: CARTOLA | F31: J | G31: P | H31: V3P | I31: V2P | J31: E | K31: D | L31: PPC | M31: PCC | N31: SP | O31: % APR. | Q31: V2P - Vitória por 2 pontos | U31: Pos. | V31: TIMES | W31: J | X31: P | Y31: V 3P | Z31: V 2P | AA31: E | AB31: D | AC31: GF | AD31: GC | AE31: SG | AF31: % APR. | AG31: calc | AH31: maior | AI31: corresp
D32: 1º | E32: =VLOOKUP(AI32,$U$32:$AH$39,2) -> 13º CAMPEONATO INGLÊS | F32: =VLOOKUP(AI32,$U$32:$AH$39,3) -> 0 | G32: =VLOOKUP(AI32,$U$32:$AH$39,4) -> 0 | H32: =VLOOKUP(AI32,$U$32:$AH$39,5) -> 0 | I32: =VLOOKUP(AI32,$U$32:$AH$39,6) -> 0 | J32: =VLOOKUP(AI32,$U$32:$AH$39,7) -> 0 | K32: =VLOOKUP(AI32,$U$32:$AH$39,8) -> 0 | L32: =VLOOKUP(AI32,$U$32:$AH$39,9) -> 0 | M32: =VLOOKUP(AI32,$U$32:$AH$39,10) -> 0 | N32: =VLOOKUP(AI32,$U$32:$AH$39,11) -> 0 | O32: =VLOOKUP(AI32,$U$32:$AH$39,12) -> 0 | Q32: E - Empate | U32: 1 | V32: 16º CAMPEONATO ITALIANO | W32: =COUNT(H47,H52,H61,H70,H78,H87,H95,#REF!,#REF!,#REF!,#REF!,#REF!,#REF!,#REF!) -> 0 | X32: =SUM(Q47,Q52,Q61,Q70,Q78,Q87,Q95) -> 0 | Y32: =SUM(COUNTIFS($C$43:$C$96,3,$D$43:$D$96,V32),COUNTIFS($I$43:$I$96,V32,$Q$43:$Q$96,3)) -> 0 | Z32: =SUM(COUNTIFS($C$43:$C$96,2,$D$43:$D$96,V32),COUNTIFS($I$43:$I$96,V32,$Q$43:$Q$96,2)) -> 0 | AA32: =SUM(COUNTIFS($C$43:$C$96,1,$D$43:$D$96,V32),COUNTIFS($I$43:$I$96,V32,$Q$43:$Q$96,1)) -> 0 | AB32: =SUM(COUNTIFS($C$43:$C$96,0,$D$43:$D$96,V32),COUNTIFS($I$43:$I$96,V32,$Q$43:$Q$96,0)) -> 0 | AC32: =SUM(H47,H52,H61,H70,H78,H87,H95) -> 0 | AD32: =SUM(F47,F52,F61,F70,F78,F87,F95) -> 0 | AE32: =AC32-AD32 -> 0 | AF32: =IF(OR($F$44="",$H$44=""),0,(X32/(W32*3))) -> 0 | AG32: =(X32*10^10)+((AC32+5000)*10^6)+(AE32*10)+U32 -> 5000000001 | AH32: =LARGE($AG$32:$AG$39,U32) -> 5000000008 | AI32: =MATCH(AH32,$AG$32:$AG$39,0) -> 8
D33: 2º | E33: =VLOOKUP(AI33,$U$32:$AH$39,2) -> 13º CAMPEONATO ITALIANO | F33: =VLOOKUP(AI33,$U$32:$AH$39,3) -> 0 | G33: =VLOOKUP(AI33,$U$32:$AH$39,4) -> 0 | H33: =VLOOKUP(AI33,$U$32:$AH$39,5) -> 0 | I33: =VLOOKUP(AI33,$U$32:$AH$39,6) -> 0 | J33: =VLOOKUP(AI33,$U$32:$AH$39,7) -> 0 | K33: =VLOOKUP(AI33,$U$32:$AH$39,8) -> 0 | L33: =VLOOKUP(AI33,$U$32:$AH$39,9) -> 0 | M33: =VLOOKUP(AI33,$U$32:$AH$39,10) -> 0 | N33: =VLOOKUP(AI33,$U$32:$AH$39,11) -> 0 | O33: =VLOOKUP(AI33,$U$32:$AH$39,12) -> 0 | Q33: D - Derrota | U33: 2 | V33: 16º CAMPEONATO INGLÊS | W33: =COUNT(H46,H53,H60,H71,H79,H86,F95,#REF!,#REF!,#REF!,#REF!,#REF!,#REF!,#REF!) -> 0 | X33: =SUM(Q46,Q53,Q60,Q71,Q79,Q86,C95) -> 0 | Y33: =SUM(COUNTIFS($C$43:$C$96,3,$D$43:$D$96,V33),COUNTIFS($I$43:$I$96,V33,$Q$43:$Q$96,3)) -> 0 | Z33: =SUM(COUNTIFS($C$43:$C$96,2,$D$43:$D$96,V33),COUNTIFS($I$43:$I$96,V33,$Q$43:$Q$96,2)) -> 0 | AA33: =SUM(COUNTIFS($C$43:$C$96,1,$D$43:$D$96,V33),COUNTIFS($I$43:$I$96,V33,$Q$43:$Q$96,1)) -> 0 | AB33: =SUM(COUNTIFS($C$43:$C$96,0,$D$43:$D$96,V33),COUNTIFS($I$43:$I$96,V33,$Q$43:$Q$96,0)) -> 0 | AC33: =SUM(H46,H53,H60,H71,H79,H86,F95) -> 0 | AD33: =SUM(F46,F53,F60,F71,F79,F86,H95,) -> 0 | AE33: =AC33-AD33 -> 0 | AF33: =IF(OR($F$44="",$H$44=""),0,(X33/(W33*3))) -> 0 | AG33: =(X33*10^10)+((AC33+5000)*10^6)+(AE33*10)+U33 -> 5000000002 | AH33: =LARGE($AG$32:$AG$39,U33) -> 5000000007 | AI33: =MATCH(AH33,$AG$32:$AG$39,0) -> 7
D34: 3º | E34: =VLOOKUP(AI34,$U$32:$AH$39,2) -> 14º CAMPEONATO ESPANHOL | F34: =VLOOKUP(AI34,$U$32:$AH$39,3) -> 0 | G34: =VLOOKUP(AI34,$U$32:$AH$39,4) -> 0 | H34: =VLOOKUP(AI34,$U$32:$AH$39,5) -> 0 | I34: =VLOOKUP(AI34,$U$32:$AH$39,6) -> 0 | J34: =VLOOKUP(AI34,$U$32:$AH$39,7) -> 0 | K34: =VLOOKUP(AI34,$U$32:$AH$39,8) -> 0 | L34: =VLOOKUP(AI34,$U$32:$AH$39,9) -> 0 | M34: =VLOOKUP(AI34,$U$32:$AH$39,10) -> 0 | N34: =VLOOKUP(AI34,$U$32:$AH$39,11) -> 0 | O34: =VLOOKUP(AI34,$U$32:$AH$39,12) -> 0 | Q34: PPC - Pontos pró Cartola | U34: 3 | V34: 15º CAMPEONATO ESPANHOL | W34: =COUNT(H45,H54,H63,H68,F79,F87,H94,#REF!,#REF!,#REF!,#REF!,#REF!,#REF!,#REF!) -> 0 | X34: =SUM(Q45,Q54,Q63,Q68,C79,C87,Q94) -> 0 | Y34: =SUM(COUNTIFS($C$43:$C$96,3,$D$43:$D$96,V34),COUNTIFS($I$43:$I$96,V34,$Q$43:$Q$96,3)) -> 0 | Z34: =SUM(COUNTIFS($C$43:$C$96,2,$D$43:$D$96,V34),COUNTIFS($I$43:$I$96,V34,$Q$43:$Q$96,2)) -> 0 | AA34: =SUM(COUNTIFS($C$43:$C$96,1,$D$43:$D$96,V34),COUNTIFS($I$43:$I$96,V34,$Q$43:$Q$96,1)) -> 0 | AB34: =SUM(COUNTIFS($C$43:$C$96,0,$D$43:$D$96,V34),COUNTIFS($I$43:$I$96,V34,$Q$43:$Q$96,0)) -> 0 | AC34: =SUM(H45,H54,H63,H68,F79,F87,H94) -> 0 | AD34: =SUM(F45,F54,F63,F68,H79,H87,F94) -> 0 | AE34: =AC34-AD34 -> 0 | AF34: =IF(OR($F$44="",$H$44=""),0,(X34/(W34*3))) -> 0 | AG34: =(X34*10^10)+((AC34+5000)*10^6)+(AE34*10)+U34 -> 5000000003 | AH34: =LARGE($AG$32:$AG$39,U34) -> 5000000006 | AI34: =MATCH(AH34,$AG$32:$AG$39,0) -> 6
D35: 4º | E35: =VLOOKUP(AI35,$U$32:$AH$39,2) -> 14º CAMPEONATO ALEMÃO | F35: =VLOOKUP(AI35,$U$32:$AH$39,3) -> 0 | G35: =VLOOKUP(AI35,$U$32:$AH$39,4) -> 0 | H35: =VLOOKUP(AI35,$U$32:$AH$39,5) -> 0 | I35: =VLOOKUP(AI35,$U$32:$AH$39,6) -> 0 | J35: =VLOOKUP(AI35,$U$32:$AH$39,7) -> 0 | K35: =VLOOKUP(AI35,$U$32:$AH$39,8) -> 0 | L35: =VLOOKUP(AI35,$U$32:$AH$39,9) -> 0 | M35: =VLOOKUP(AI35,$U$32:$AH$39,10) -> 0 | N35: =VLOOKUP(AI35,$U$32:$AH$39,11) -> 0 | O35: =VLOOKUP(AI35,$U$32:$AH$39,12) -> 0 | Q35: PCC - pontos contra Cartola | U35: 4 | V35: 15º CAMPEONATO ALEMÃO | W35: =COUNT(H44,H55,H62,H69,F78,F86,F94,#REF!,#REF!,#REF!,#REF!,#REF!,#REF!,#REF!) -> 0 | X35: =SUM(Q44,Q55,Q62,Q69,C78,C86,C94,) -> 0 | Y35: =SUM(COUNTIFS($C$43:$C$96,3,$D$43:$D$96,V35),COUNTIFS($I$43:$I$96,V35,$Q$43:$Q$96,3)) -> 0 | Z35: =SUM(COUNTIFS($C$43:$C$96,2,$D$43:$D$96,V35),COUNTIFS($I$43:$I$96,V35,$Q$43:$Q$96,2)) -> 0 | AA35: =SUM(COUNTIFS($C$43:$C$96,1,$D$43:$D$96,V35),COUNTIFS($I$43:$I$96,V35,$Q$43:$Q$96,1)) -> 0 | AB35: =SUM(COUNTIFS($C$43:$C$96,0,$D$43:$D$96,V35),COUNTIFS($I$43:$I$96,V35,$Q$43:$Q$96,0)) -> 0 | AC35: =SUM(H44,H55,H62,H69,F78,F86,F94) -> 0 | AD35: =SUM(F44,F55,F62,F69,H78,H86,H94) -> 0 | AE35: =AC35-AD35 -> 0 | AF35: =IF(OR($F$44="",$H$44=""),0,(X35/(W35*3))) -> 0 | AG35: =(X35*10^10)+((AC35+5000)*10^6)+(AE35*10)+U35 -> 5000000004 | AH35: =LARGE($AG$32:$AG$39,U35) -> 5000000005 | AI35: =MATCH(AH35,$AG$32:$AG$39,0) -> 5
D36: 5º | E36: =VLOOKUP(AI36,$U$32:$AH$39,2) -> 15º CAMPEONATO ALEMÃO | F36: =VLOOKUP(AI36,$U$32:$AH$39,3) -> 0 | G36: =VLOOKUP(AI36,$U$32:$AH$39,4) -> 0 | H36: =VLOOKUP(AI36,$U$32:$AH$39,5) -> 0 | I36: =VLOOKUP(AI36,$U$32:$AH$39,6) -> 0 | J36: =VLOOKUP(AI36,$U$32:$AH$39,7) -> 0 | K36: =VLOOKUP(AI36,$U$32:$AH$39,8) -> 0 | L36: =VLOOKUP(AI36,$U$32:$AH$39,9) -> 0 | M36: =VLOOKUP(AI36,$U$32:$AH$39,10) -> 0 | N36: =VLOOKUP(AI36,$U$32:$AH$39,11) -> 0 | O36: =VLOOKUP(AI36,$U$32:$AH$39,12) -> 0 | Q36: SP - saldo de pontos | U36: 5 | V36: 14º CAMPEONATO ALEMÃO | W36: =COUNT(F47,F55,F63,F71,H76,H85,H93,#REF!,#REF!,#REF!,#REF!,#REF!,#REF!,#REF!) -> 0 | X36: =SUM(C47,C55,C63,C71,Q76,Q85,Q93) -> 0 | Y36: =SUM(COUNTIFS($C$43:$C$96,3,$D$43:$D$96,V36),COUNTIFS($I$43:$I$96,V36,$Q$43:$Q$96,3)) -> 0 | Z36: =SUM(COUNTIFS($C$43:$C$96,2,$D$43:$D$96,V36),COUNTIFS($I$43:$I$96,V36,$Q$43:$Q$96,2)) -> 0 | AA36: =SUM(COUNTIFS($C$43:$C$96,1,$D$43:$D$96,V36),COUNTIFS($I$43:$I$96,V36,$Q$43:$Q$96,1)) -> 0 | AB36: =SUM(COUNTIFS($C$43:$C$96,0,$D$43:$D$96,V36),COUNTIFS($I$43:$I$96,V36,$Q$43:$Q$96,0)) -> 0 | AC36: =SUM(F47,F55,F63,F71,H76,H85,H93) -> 0 | AD36: =SUM(H47,H55,H63,H71,F76,F85,F93) -> 0 | AE36: =AC36-AD36 -> 0 | AF36: =IF(OR($F$44="",$H$44=""),0,(X36/(W36*3))) -> 0 | AG36: =(X36*10^10)+((AC36+5000)*10^6)+(AE36*10)+U36 -> 5000000005 | AH36: =LARGE($AG$32:$AG$39,U36) -> 5000000004 | AI36: =MATCH(AH36,$AG$32:$AG$39,0) -> 4
D37: 6º | E37: =VLOOKUP(AI37,$U$32:$AH$39,2) -> 15º CAMPEONATO ESPANHOL | F37: =VLOOKUP(AI37,$U$32:$AH$39,3) -> 0 | G37: =VLOOKUP(AI37,$U$32:$AH$39,4) -> 0 | H37: =VLOOKUP(AI37,$U$32:$AH$39,5) -> 0 | I37: =VLOOKUP(AI37,$U$32:$AH$39,6) -> 0 | J37: =VLOOKUP(AI37,$U$32:$AH$39,7) -> 0 | K37: =VLOOKUP(AI37,$U$32:$AH$39,8) -> 0 | L37: =VLOOKUP(AI37,$U$32:$AH$39,9) -> 0 | M37: =VLOOKUP(AI37,$U$32:$AH$39,10) -> 0 | N37: =VLOOKUP(AI37,$U$32:$AH$39,11) -> 0 | O37: =VLOOKUP(AI37,$U$32:$AH$39,12) -> 0 | Q37: % APR. - Aproveitamento | U37: 6 | V37: 14º CAMPEONATO ESPANHOL | W37: =COUNT(F46,F54,F62,F70,H77,H84,F93,#REF!,#REF!,#REF!,#REF!,#REF!,#REF!,#REF!) -> 0 | X37: =SUM(C46,C54,C62,C70,Q77,Q84,C93) -> 0 | Y37: =SUM(COUNTIFS($C$43:$C$96,3,$D$43:$D$96,V37),COUNTIFS($I$43:$I$96,V37,$Q$43:$Q$96,3)) -> 0 | Z37: =SUM(COUNTIFS($C$43:$C$96,2,$D$43:$D$96,V37),COUNTIFS($I$43:$I$96,V37,$Q$43:$Q$96,2)) -> 0 | AA37: =SUM(COUNTIFS($C$43:$C$96,1,$D$43:$D$96,V37),COUNTIFS($I$43:$I$96,V37,$Q$43:$Q$96,1)) -> 0 | AB37: =SUM(COUNTIFS($C$43:$C$96,0,$D$43:$D$96,V37),COUNTIFS($I$43:$I$96,V37,$Q$43:$Q$96,0)) -> 0 | AC37: =SUM(F46,F54,F62,F70,H77,H84,F93) -> 0 | AD37: =SUM(H46,H54,H62,H70,F84,F77,H93) -> 0 | AE37: =AC37-AD37 -> 0 | AF37: =IF(OR($F$44="",$H$44=""),0,(X37/(W37*3))) -> 0 | AG37: =(X37*10^10)+((AC37+5000)*10^6)+(AE37*10)+U37 -> 5000000006 | AH37: =LARGE($AG$32:$AG$39,U37) -> 5000000003 | AI37: =MATCH(AH37,$AG$32:$AG$39,0) -> 3
D38: 7º | E38: =VLOOKUP(AI38,$U$32:$AH$39,2) -> 16º CAMPEONATO INGLÊS | F38: =VLOOKUP(AI38,$U$32:$AH$39,3) -> 0 | G38: =VLOOKUP(AI38,$U$32:$AH$39,4) -> 0 | H38: =VLOOKUP(AI38,$U$32:$AH$39,5) -> 0 | I38: =VLOOKUP(AI38,$U$32:$AH$39,6) -> 0 | J38: =VLOOKUP(AI38,$U$32:$AH$39,7) -> 0 | K38: =VLOOKUP(AI38,$U$32:$AH$39,8) -> 0 | L38: =VLOOKUP(AI38,$U$32:$AH$39,9) -> 0 | M38: =VLOOKUP(AI38,$U$32:$AH$39,10) -> 0 | N38: =VLOOKUP(AI38,$U$32:$AH$39,11) -> 0 | O38: =VLOOKUP(AI38,$U$32:$AH$39,12) -> 0 | R38: CLASSIFICADO | U38: 7 | V38: 13º CAMPEONATO ITALIANO | W38: =COUNT(F45,F53,F61,F69,F77,F85,H92,#REF!,#REF!,#REF!,#REF!,#REF!,#REF!,#REF!) -> 0 | X38: =SUM(C45,C53,C61,C69,C77,C85,Q92) -> 0 | Y38: =SUM(COUNTIFS($C$43:$C$96,3,$D$43:$D$96,V38),COUNTIFS($I$43:$I$96,V38,$Q$43:$Q$96,3)) -> 0 | Z38: =SUM(COUNTIFS($C$43:$C$96,2,$D$43:$D$96,V38),COUNTIFS($I$43:$I$96,V38,$Q$43:$Q$96,2)) -> 0 | AA38: =SUM(COUNTIFS($C$43:$C$96,1,$D$43:$D$96,V38),COUNTIFS($I$43:$I$96,V38,$Q$43:$Q$96,1)) -> 0 | AB38: =SUM(COUNTIFS($C$43:$C$96,0,$D$43:$D$96,V38),COUNTIFS($I$43:$I$96,V38,$Q$43:$Q$96,0)) -> 0 | AC38: =SUM(F45,F53,F61,F69,F77,F85,H92) -> 0 | AD38: =SUM(H45,H53,H61,H69,H77,H85,F92) -> 0 | AE38: =AC38-AD38 -> 0 | AF38: =IF(OR($F$44="",$H$44=""),0,(X38/(W38*3))) -> 0 | AG38: =(X38*10^10)+((AC38+5000)*10^6)+(AE38*10)+U38 -> 5000000007 | AH38: =LARGE($AG$32:$AG$39,U38) -> 5000000002 | AI38: =MATCH(AH38,$AG$32:$AG$39,0) -> 2
D39: 8º | E39: =VLOOKUP(AI39,$U$32:$AH$39,2) -> 16º CAMPEONATO ITALIANO | F39: =VLOOKUP(AI39,$U$32:$AH$39,3) -> 0 | G39: =VLOOKUP(AI39,$U$32:$AH$39,4) -> 0 | H39: =VLOOKUP(AI39,$U$32:$AH$39,5) -> 0 | I39: =VLOOKUP(AI39,$U$32:$AH$39,6) -> 0 | J39: =VLOOKUP(AI39,$U$32:$AH$39,7) -> 0 | K39: =VLOOKUP(AI39,$U$32:$AH$39,8) -> 0 | L39: =VLOOKUP(AI39,$U$32:$AH$39,9) -> 0 | M39: =VLOOKUP(AI39,$U$32:$AH$39,10) -> 0 | N39: =VLOOKUP(AI39,$U$32:$AH$39,11) -> 0 | O39: =VLOOKUP(AI39,$U$32:$AH$39,12) -> 0 | R39: Disputa do 9º lugar | U39: 8 | V39: 13º CAMPEONATO INGLÊS | W39: =COUNT(F44,F52,F60,F68,F76,F84,F92,#REF!,#REF!,#REF!,#REF!,#REF!,#REF!,#REF!) -> 0 | X39: =SUM(C44,C52,C60,C68,C76,C84,C92) -> 0 | Y39: =SUM(COUNTIFS($C$43:$C$96,3,$D$43:$D$96,V39),COUNTIFS($I$43:$I$96,V39,$Q$43:$Q$96,3)) -> 0 | Z39: =SUM(COUNTIFS($C$43:$C$96,2,$D$43:$D$96,V39),COUNTIFS($I$43:$I$96,V39,$Q$43:$Q$96,2)) -> 0 | AA39: =SUM(COUNTIFS($C$43:$C$96,1,$D$43:$D$96,V39),COUNTIFS($I$43:$I$96,V39,$Q$43:$Q$96,1)) -> 0 | AB39: =SUM(COUNTIFS($C$43:$C$96,0,$D$43:$D$96,V39),COUNTIFS($I$43:$I$96,V39,$Q$43:$Q$96,0)) -> 0 | AC39: =SUM(F44,F52,F60,F68,F76,F84,F92) -> 0 | AD39: =SUM(H44,H52,H60,H68,H76,H84,H92) -> 0 | AE39: =AC39-AD39 -> 0 | AF39: =IF(OR($F$44="",$H$44=""),0,(X39/(W39*3))) -> 0 | AG39: =(X39*10^10)+((AC39+5000)*10^6)+(AE39*10)+U39 -> 5000000008 | AH39: =LARGE($AG$32:$AG$39,U39) -> 5000000001 | AI39: =MATCH(AH39,$AG$32:$AG$39,0) -> 1
D41: 1ª RODADA - #16
C44: =IF(OR(F44="",H44=""),"",IF(F44=H44,1,IF(F44<H44,0,IF(F44-H44<10,2,IF(F44>H44,3,SE))))) | D44: =V39 -> 13º CAMPEONATO INGLÊS | G44: x | I44: =V35 -> 15º CAMPEONATO ALEMÃO | Q44: =IF(OR(H44="",F44=""),"",IF(H44=F44,1,IF(H44<F44,0,IF(H44-F44<10,2,IF(H44>F44,3,SE)))))
C45: =IF(OR(F45="",H45=""),"",IF(F45=H45,1,IF(F45<H45,0,IF(F45-H45<10,2,IF(F45>H45,3,SE))))) | D45: =V38 -> 13º CAMPEONATO ITALIANO | G45: x | I45: =V34 -> 15º CAMPEONATO ESPANHOL | Q45: =IF(OR(H45="",F45=""),"",IF(H45=F45,1,IF(H45<F45,0,IF(H45-F45<10,2,IF(H45>F45,3,SE)))))
C46: =IF(OR(F46="",H46=""),"",IF(F46=H46,1,IF(F46<H46,0,IF(F46-H46<10,2,IF(F46>H46,3,SE))))) | D46: =V37 -> 14º CAMPEONATO ESPANHOL | G46: x | I46: =V33 -> 16º CAMPEONATO INGLÊS | Q46: =IF(OR(H46="",F46=""),"",IF(H46=F46,1,IF(H46<F46,0,IF(H46-F46<10,2,IF(H46>F46,3,SE)))))
C47: =IF(OR(F47="",H47=""),"",IF(F47=H47,1,IF(F47<H47,0,IF(F47-H47<10,2,IF(F47>H47,3,SE))))) | D47: =V36 -> 14º CAMPEONATO ALEMÃO | G47: x | I47: =V32 -> 16º CAMPEONATO ITALIANO | Q47: =IF(OR(H47="",F47=""),"",IF(H47=F47,1,IF(H47<F47,0,IF(H47-F47<10,2,IF(H47>F47,3,SE)))))
C48: =IF(OR(F48="",H48=""),"",IF(F48=H48,1,IF(F48<H48,0,IF(F48-H48<10,2,IF(F48>H48,3,SE))))) | Q48: =IF(OR(H48="",F48=""),"",IF(H48=F48,1,IF(H48<F48,0,IF(H48-F48<10,2,IF(H48>F48,3,SE)))))
C49: =IF(OR(F49="",H49=""),"",IF(F49=H49,1,IF(F49<H49,0,IF(F49-H49<10,2,IF(F49>H49,3,SE))))) | D49: 2ª RODADA - #17 | Q49: =IF(OR(H49="",F49=""),"",IF(H49=F49,1,IF(H49<F49,0,IF(H49-F49<10,2,IF(H49>F49,3,SE)))))
C50: =IF(OR(F50="",H50=""),"",IF(F50=H50,1,IF(F50<H50,0,IF(F50-H50<10,2,IF(F50>H50,3,SE))))) | Q50: =IF(OR(H50="",F50=""),"",IF(H50=F50,1,IF(H50<F50,0,IF(H50-F50<10,2,IF(H50>F50,3,SE)))))
C51: =IF(OR(F51="",H51=""),"",IF(F51=H51,1,IF(F51<H51,0,IF(F51-H51<10,2,IF(F51>H51,3,SE))))) | Q51: =IF(OR(H51="",F51=""),"",IF(H51=F51,1,IF(H51<F51,0,IF(H51-F51<10,2,IF(H51>F51,3,SE)))))
C52: =IF(OR(F52="",H52=""),"",IF(F52=H52,1,IF(F52<H52,0,IF(F52-H52<10,2,IF(F52>H52,3,SE))))) | D52: =V39 -> 13º CAMPEONATO INGLÊS | G52: x | I52: =V32 -> 16º CAMPEONATO ITALIANO | Q52: =IF(OR(H52="",F52=""),"",IF(H52=F52,1,IF(H52<F52,0,IF(H52-F52<10,2,IF(H52>F52,3,SE)))))
C53: =IF(OR(F53="",H53=""),"",IF(F53=H53,1,IF(F53<H53,0,IF(F53-H53<10,2,IF(F53>H53,3,SE))))) | D53: =V38 -> 13º CAMPEONATO ITALIANO | G53: x | I53: =V33 -> 16º CAMPEONATO INGLÊS | Q53: =IF(OR(H53="",F53=""),"",IF(H53=F53,1,IF(H53<F53,0,IF(H53-F53<10,2,IF(H53>F53,3,SE)))))
C54: =IF(OR(F54="",H54=""),"",IF(F54=H54,1,IF(F54<H54,0,IF(F54-H54<10,2,IF(F54>H54,3,SE))))) | D54: =V37 -> 14º CAMPEONATO ESPANHOL | G54: x | I54: =V34 -> 15º CAMPEONATO ESPANHOL | Q54: =IF(OR(H54="",F54=""),"",IF(H54=F54,1,IF(H54<F54,0,IF(H54-F54<10,2,IF(H54>F54,3,SE)))))
C55: =IF(OR(F55="",H55=""),"",IF(F55=H55,1,IF(F55<H55,0,IF(F55-H55<10,2,IF(F55>H55,3,SE))))) | D55: =V36 -> 14º CAMPEONATO ALEMÃO | G55: x | I55: =V35 -> 15º CAMPEONATO ALEMÃO | Q55: =IF(OR(H55="",F55=""),"",IF(H55=F55,1,IF(H55<F55,0,IF(H55-F55<10,2,IF(H55>F55,3,SE)))))
C56: =IF(OR(F56="",H56=""),"",IF(F56=H56,1,IF(F56<H56,0,IF(F56-H56<10,2,IF(F56>H56,3,SE))))) | Q56: =IF(OR(H56="",F56=""),"",IF(H56=F56,1,IF(H56<F56,0,IF(H56-F56<10,2,IF(H56>F56,3,SE)))))
C57: =IF(OR(F57="",H57=""),"",IF(F57=H57,1,IF(F57<H57,0,IF(F57-H57<10,2,IF(F57>H57,3,SE))))) | D57: 3ª RODADA - #18 | Q57: =IF(OR(H57="",F57=""),"",IF(H57=F57,1,IF(H57<F57,0,IF(H57-F57<10,2,IF(H57>F57,3,SE)))))
C58: =IF(OR(F58="",H58=""),"",IF(F58=H58,1,IF(F58<H58,0,IF(F58-H58<10,2,IF(F58>H58,3,SE))))) | Q58: =IF(OR(H58="",F58=""),"",IF(H58=F58,1,IF(H58<F58,0,IF(H58-F58<10,2,IF(H58>F58,3,SE)))))
C59: =IF(OR(F59="",H59=""),"",IF(F59=H59,1,IF(F59<H59,0,IF(F59-H59<10,2,IF(F59>H59,3,SE))))) | Q59: =IF(OR(H59="",F59=""),"",IF(H59=F59,1,IF(H59<F59,0,IF(H59-F59<10,2,IF(H59>F59,3,SE)))))
C60: =IF(OR(F60="",H60=""),"",IF(F60=H60,1,IF(F60<H60,0,IF(F60-H60<10,2,IF(F60>H60,3,SE))))) | D60: =V39 -> 13º CAMPEONATO INGLÊS | G60: x | I60: =V33 -> 16º CAMPEONATO INGLÊS | Q60: =IF(OR(H60="",F60=""),"",IF(H60=F60,1,IF(H60<F60,0,IF(H60-F60<10,2,IF(H60>F60,3,SE)))))
C61: =IF(OR(F61="",H61=""),"",IF(F61=H61,1,IF(F61<H61,0,IF(F61-H61<10,2,IF(F61>H61,3,SE))))) | D61: =V38 -> 13º CAMPEONATO ITALIANO | G61: x | I61: =V32 -> 16º CAMPEONATO ITALIANO | Q61: =IF(OR(H61="",F61=""),"",IF(H61=F61,1,IF(H61<F61,0,IF(H61-F61<10,2,IF(H61>F61,3,SE)))))
C62: =IF(OR(F62="",H62=""),"",IF(F62=H62,1,IF(F62<H62,0,IF(F62-H62<10,2,IF(F62>H62,3,SE))))) | D62: =V37 -> 14º CAMPEONATO ESPANHOL | G62: x | I62: =V35 -> 15º CAMPEONATO ALEMÃO | Q62: =IF(OR(H62="",F62=""),"",IF(H62=F62,1,IF(H62<F62,0,IF(H62-F62<10,2,IF(H62>F62,3,SE)))))
C63: =IF(OR(F63="",H63=""),"",IF(F63=H63,1,IF(F63<H63,0,IF(F63-H63<10,2,IF(F63>H63,3,SE))))) | D63: =V36 -> 14º CAMPEONATO ALEMÃO | G63: x | I63: =V34 -> 15º CAMPEONATO ESPANHOL | Q63: =IF(OR(H63="",F63=""),"",IF(H63=F63,1,IF(H63<F63,0,IF(H63-F63<10,2,IF(H63>F63,3,SE)))))
C64: =IF(OR(F64="",H64=""),"",IF(F64=H64,1,IF(F64<H64,0,IF(F64-H64<10,2,IF(F64>H64,3,SE))))) | Q64: =IF(OR(H64="",F64=""),"",IF(H64=F64,1,IF(H64<F64,0,IF(H64-F64<10,2,IF(H64>F64,3,SE)))))
C65: =IF(OR(F65="",H65=""),"",IF(F65=H65,1,IF(F65<H65,0,IF(F65-H65<10,2,IF(F65>H65,3,SE))))) | D65: 4ª RODADA - #19 | Q65: =IF(OR(H65="",F65=""),"",IF(H65=F65,1,IF(H65<F65,0,IF(H65-F65<10,2,IF(H65>F65,3,SE)))))
C66: =IF(OR(F66="",H66=""),"",IF(F66=H66,1,IF(F66<H66,0,IF(F66-H66<10,2,IF(F66>H66,3,SE))))) | Q66: =IF(OR(H66="",F66=""),"",IF(H66=F66,1,IF(H66<F66,0,IF(H66-F66<10,2,IF(H66>F66,3,SE)))))
C67: =IF(OR(F67="",H67=""),"",IF(F67=H67,1,IF(F67<H67,0,IF(F67-H67<10,2,IF(F67>H67,3,SE))))) | Q67: =IF(OR(H67="",F67=""),"",IF(H67=F67,1,IF(H67<F67,0,IF(H67-F67<10,2,IF(H67>F67,3,SE)))))
C68: =IF(OR(F68="",H68=""),"",IF(F68=H68,1,IF(F68<H68,0,IF(F68-H68<10,2,IF(F68>H68,3,SE))))) | D68: =V39 -> 13º CAMPEONATO INGLÊS | G68: x | I68: =V34 -> 15º CAMPEONATO ESPANHOL | Q68: =IF(OR(H68="",F68=""),"",IF(H68=F68,1,IF(H68<F68,0,IF(H68-F68<10,2,IF(H68>F68,3,SE)))))
C69: =IF(OR(F69="",H69=""),"",IF(F69=H69,1,IF(F69<H69,0,IF(F69-H69<10,2,IF(F69>H69,3,SE))))) | D69: =V38 -> 13º CAMPEONATO ITALIANO | G69: x | I69: =V35 -> 15º CAMPEONATO ALEMÃO | Q69: =IF(OR(H69="",F69=""),"",IF(H69=F69,1,IF(H69<F69,0,IF(H69-F69<10,2,IF(H69>F69,3,SE)))))
C70: =IF(OR(F70="",H70=""),"",IF(F70=H70,1,IF(F70<H70,0,IF(F70-H70<10,2,IF(F70>H70,3,SE))))) | D70: =V37 -> 14º CAMPEONATO ESPANHOL | G70: x | I70: =V32 -> 16º CAMPEONATO ITALIANO | Q70: =IF(OR(H70="",F70=""),"",IF(H70=F70,1,IF(H70<F70,0,IF(H70-F70<10,2,IF(H70>F70,3,SE)))))
C71: =IF(OR(F71="",H71=""),"",IF(F71=H71,1,IF(F71<H71,0,IF(F71-H71<10,2,IF(F71>H71,3,SE))))) | D71: =V36 -> 14º CAMPEONATO ALEMÃO | G71: x | I71: =V33 -> 16º CAMPEONATO INGLÊS | Q71: =IF(OR(H71="",F71=""),"",IF(H71=F71,1,IF(H71<F71,0,IF(H71-F71<10,2,IF(H71>F71,3,SE)))))
C72: =IF(OR(F72="",H72=""),"",IF(F72=H72,1,IF(F72<H72,0,IF(F72-H72<10,2,IF(F72>H72,3,SE))))) | Q72: =IF(OR(H72="",F72=""),"",IF(H72=F72,1,IF(H72<F72,0,IF(H72-F72<10,2,IF(H72>F72,3,SE)))))
C73: =IF(OR(F73="",H73=""),"",IF(F73=H73,1,IF(F73<H73,0,IF(F73-H73<10,2,IF(F73>H73,3,SE))))) | D73: 5ª RODADA - #20 | Q73: =IF(OR(H73="",F73=""),"",IF(H73=F73,1,IF(H73<F73,0,IF(H73-F73<10,2,IF(H73>F73,3,SE)))))
C74: =IF(OR(F74="",H74=""),"",IF(F74=H74,1,IF(F74<H74,0,IF(F74-H74<10,2,IF(F74>H74,3,SE))))) | Q74: =IF(OR(H74="",F74=""),"",IF(H74=F74,1,IF(H74<F74,0,IF(H74-F74<10,2,IF(H74>F74,3,SE)))))
C75: =IF(OR(F75="",H75=""),"",IF(F75=H75,1,IF(F75<H75,0,IF(F75-H75<10,2,IF(F75>H75,3,SE))))) | Q75: =IF(OR(H75="",F75=""),"",IF(H75=F75,1,IF(H75<F75,0,IF(H75-F75<10,2,IF(H75>F75,3,SE)))))
C76: =IF(OR(F76="",H76=""),"",IF(F76=H76,1,IF(F76<H76,0,IF(F76-H76<10,2,IF(F76>H76,3,SE))))) | D76: =V39 -> 13º CAMPEONATO INGLÊS | G76: x | I76: =V36 -> 14º CAMPEONATO ALEMÃO | Q76: =IF(OR(H76="",F76=""),"",IF(H76=F76,1,IF(H76<F76,0,IF(H76-F76<10,2,IF(H76>F76,3,SE)))))
C77: =IF(OR(F77="",H77=""),"",IF(F77=H77,1,IF(F77<H77,0,IF(F77-H77<10,2,IF(F77>H77,3,SE))))) | D77: =V38 -> 13º CAMPEONATO ITALIANO | G77: x | I77: =V37 -> 14º CAMPEONATO ESPANHOL | Q77: =IF(OR(H77="",F77=""),"",IF(H77=F77,1,IF(H77<F77,0,IF(H77-F77<10,2,IF(H77>F77,3,SE)))))
C78: =IF(OR(F78="",H78=""),"",IF(F78=H78,1,IF(F78<H78,0,IF(F78-H78<10,2,IF(F78>H78,3,SE))))) | D78: =V35 -> 15º CAMPEONATO ALEMÃO | G78: x | I78: =V32 -> 16º CAMPEONATO ITALIANO | Q78: =IF(OR(H78="",F78=""),"",IF(H78=F78,1,IF(H78<F78,0,IF(H78-F78<10,2,IF(H78>F78,3,SE)))))
C79: =IF(OR(F79="",H79=""),"",IF(F79=H79,1,IF(F79<H79,0,IF(F79-H79<10,2,IF(F79>H79,3,SE))))) | D79: =V34 -> 15º CAMPEONATO ESPANHOL | G79: x | I79: =V33 -> 16º CAMPEONATO INGLÊS | Q79: =IF(OR(H79="",F79=""),"",IF(H79=F79,1,IF(H79<F79,0,IF(H79-F79<10,2,IF(H79>F79,3,SE)))))
C80: =IF(OR(F80="",H80=""),"",IF(F80=H80,1,IF(F80<H80,0,IF(F80-H80<10,2,IF(F80>H80,3,SE))))) | Q80: =IF(OR(H80="",F80=""),"",IF(H80=F80,1,IF(H80<F80,0,IF(H80-F80<10,2,IF(H80>F80,3,SE)))))
C81: =IF(OR(F81="",H81=""),"",IF(F81=H81,1,IF(F81<H81,0,IF(F81-H81<10,2,IF(F81>H81,3,SE))))) | D81: 6ª RODADA - #21 | Q81: =IF(OR(H81="",F81=""),"",IF(H81=F81,1,IF(H81<F81,0,IF(H81-F81<10,2,IF(H81>F81,3,SE)))))
C82: =IF(OR(F82="",H82=""),"",IF(F82=H82,1,IF(F82<H82,0,IF(F82-H82<10,2,IF(F82>H82,3,SE))))) | Q82: =IF(OR(H82="",F82=""),"",IF(H82=F82,1,IF(H82<F82,0,IF(H82-F82<10,2,IF(H82>F82,3,SE)))))
C83: =IF(OR(F83="",H83=""),"",IF(F83=H83,1,IF(F83<H83,0,IF(F83-H83<10,2,IF(F83>H83,3,SE))))) | Q83: =IF(OR(H83="",F83=""),"",IF(H83=F83,1,IF(H83<F83,0,IF(H83-F83<10,2,IF(H83>F83,3,SE)))))
C84: =IF(OR(F84="",H84=""),"",IF(F84=H84,1,IF(F84<H84,0,IF(F84-H84<10,2,IF(F84>H84,3,SE))))) | D84: =V39 -> 13º CAMPEONATO INGLÊS | G84: x | I84: =V37 -> 14º CAMPEONATO ESPANHOL | Q84: =IF(OR(H84="",F84=""),"",IF(H84=F84,1,IF(H84<F84,0,IF(H84-F84<10,2,IF(H84>F84,3,SE)))))
C85: =IF(OR(F85="",H85=""),"",IF(F85=H85,1,IF(F85<H85,0,IF(F85-H85<10,2,IF(F85>H85,3,SE))))) | D85: =V38 -> 13º CAMPEONATO ITALIANO | G85: x | I85: =V36 -> 14º CAMPEONATO ALEMÃO | Q85: =IF(OR(H85="",F85=""),"",IF(H85=F85,1,IF(H85<F85,0,IF(H85-F85<10,2,IF(H85>F85,3,SE)))))
C86: =IF(OR(F86="",H86=""),"",IF(F86=H86,1,IF(F86<H86,0,IF(F86-H86<10,2,IF(F86>H86,3,SE))))) | D86: =V35 -> 15º CAMPEONATO ALEMÃO | G86: x | I86: =V33 -> 16º CAMPEONATO INGLÊS | Q86: =IF(OR(H86="",F86=""),"",IF(H86=F86,1,IF(H86<F86,0,IF(H86-F86<10,2,IF(H86>F86,3,SE)))))
C87: =IF(OR(F87="",H87=""),"",IF(F87=H87,1,IF(F87<H87,0,IF(F87-H87<10,2,IF(F87>H87,3,SE))))) | D87: =V34 -> 15º CAMPEONATO ESPANHOL | G87: x | I87: =V32 -> 16º CAMPEONATO ITALIANO | Q87: =IF(OR(H87="",F87=""),"",IF(H87=F87,1,IF(H87<F87,0,IF(H87-F87<10,2,IF(H87>F87,3,SE)))))
C88: =IF(OR(F88="",H88=""),"",IF(F88=H88,1,IF(F88<H88,0,IF(F88-H88<10,2,IF(F88>H88,3,SE))))) | Q88: =IF(OR(H88="",F88=""),"",IF(H88=F88,1,IF(H88<F88,0,IF(H88-F88<10,2,IF(H88>F88,3,SE)))))
C89: =IF(OR(F89="",H89=""),"",IF(F89=H89,1,IF(F89<H89,0,IF(F89-H89<10,2,IF(F89>H89,3,SE))))) | D89: 7ª RODADA - #22 | Q89: =IF(OR(H89="",F89=""),"",IF(H89=F89,1,IF(H89<F89,0,IF(H89-F89<10,2,IF(H89>F89,3,SE)))))
C90: =IF(OR(F90="",H90=""),"",IF(F90=H90,1,IF(F90<H90,0,IF(F90-H90<10,2,IF(F90>H90,3,SE))))) | Q90: =IF(OR(H90="",F90=""),"",IF(H90=F90,1,IF(H90<F90,0,IF(H90-F90<10,2,IF(H90>F90,3,SE)))))
C91: =IF(OR(F91="",H91=""),"",IF(F91=H91,1,IF(F91<H91,0,IF(F91-H91<10,2,IF(F91>H91,3,SE))))) | Q91: =IF(OR(H91="",F91=""),"",IF(H91=F91,1,IF(H91<F91,0,IF(H91-F91<10,2,IF(H91>F91,3,SE)))))
C92: =IF(OR(F92="",H92=""),"",IF(F92=H92,1,IF(F92<H92,0,IF(F92-H92<10,2,IF(F92>H92,3,SE))))) | D92: =V39 -> 13º CAMPEONATO INGLÊS | G92: x | I92: =V38 -> 13º CAMPEONATO ITALIANO | Q92: =IF(OR(H92="",F92=""),"",IF(H92=F92,1,IF(H92<F92,0,IF(H92-F92<10,2,IF(H92>F92,3,SE)))))
C93: =IF(OR(F93="",H93=""),"",IF(F93=H93,1,IF(F93<H93,0,IF(F93-H93<10,2,IF(F93>H93,3,SE))))) | D93: =V37 -> 14º CAMPEONATO ESPANHOL | G93: x | I93: =V36 -> 14º CAMPEONATO ALEMÃO | Q93: =IF(OR(H93="",F93=""),"",IF(H93=F93,1,IF(H93<F93,0,IF(H93-F93<10,2,IF(H93>F93,3,SE)))))
C94: =IF(OR(F94="",H94=""),"",IF(F94=H94,1,IF(F94<H94,0,IF(F94-H94<10,2,IF(F94>H94,3,SE))))) | D94: =V35 -> 15º CAMPEONATO ALEMÃO | G94: x | I94: =V34 -> 15º CAMPEONATO ESPANHOL | Q94: =IF(OR(H94="",F94=""),"",IF(H94=F94,1,IF(H94<F94,0,IF(H94-F94<10,2,IF(H94>F94,3,SE)))))
C95: =IF(OR(F95="",H95=""),"",IF(F95=H95,1,IF(F95<H95,0,IF(F95-H95<10,2,IF(F95>H95,3,SE))))) | D95: =V33 -> 16º CAMPEONATO INGLÊS | G95: x | I95: =V32 -> 16º CAMPEONATO ITALIANO | Q95: =IF(OR(H95="",F95=""),"",IF(H95=F95,1,IF(H95<F95,0,IF(H95-F95<10,2,IF(H95>F95,3,SE)))))
C96: =IF(OR(F96="",H96=""),"",IF(F96=H96,1,IF(F96<H96,0,IF(F96-H96<10,2,IF(F96>H96,3,SE))))) | Q96: =IF(OR(H96="",F96=""),"",IF(H96=F96,1,IF(H96<F96,0,IF(H96-F96<10,2,IF(H96>F96,3,SE)))))

Sheet Grupo N
B14: RECOPA EUROPEIA
B18: 1ª FASE
D22: CLASSIFICAÇÃO
D27: OBS: Os 4 melhores colocados no Grupo se classificarão para a 2ª FASE.
Q28: Legenda
D29: GRUPO N | Q29: P - pontos
Q30: V3P - Vitória por 3 pontos
D31: Pos. | E31: CARTOLA | F31: J | G31: P | H31: V3P | I31: V2P | J31: E | K31: D | L31: PPC | M31: PCC | N31: SP | O31: % APR. | Q31: V2P - Vitória por 2 pontos | U31: Pos. | V31: TIMES | W31: J | X31: P | Y31: V 3P | Z31: V 2P | AA31: E | AB31: D | AC31: GF | AD31: GC | AE31: SG | AF31: % APR. | AG31: calc | AH31: maior | AI31: corresp
D32: 1º | E32: =VLOOKUP(AI32,$U$32:$AH$39,2) -> 13º CAMPEONATO ESPANHOL | F32: =VLOOKUP(AI32,$U$32:$AH$39,3) -> 0 | G32: =VLOOKUP(AI32,$U$32:$AH$39,4) -> 0 | H32: =VLOOKUP(AI32,$U$32:$AH$39,5) -> 0 | I32: =VLOOKUP(AI32,$U$32:$AH$39,6) -> 0 | J32: =VLOOKUP(AI32,$U$32:$AH$39,7) -> 0 | K32: =VLOOKUP(AI32,$U$32:$AH$39,8) -> 0 | L32: =VLOOKUP(AI32,$U$32:$AH$39,9) -> 0 | M32: =VLOOKUP(AI32,$U$32:$AH$39,10) -> 0 | N32: =VLOOKUP(AI32,$U$32:$AH$39,11) -> 0 | O32: =VLOOKUP(AI32,$U$32:$AH$39,12) -> 0 | Q32: E - Empate | U32: 1 | V32: 16º CAMPEONATO ESPANHOL | W32: =COUNT(H47,H52,H61,H70,H78,H87,H95,#REF!,#REF!,#REF!,#REF!,#REF!,#REF!,#REF!) -> 0 | X32: =SUM(Q47,Q52,Q61,Q70,Q78,Q87,Q95) -> 0 | Y32: =SUM(COUNTIFS($C$43:$C$96,3,$D$43:$D$96,V32),COUNTIFS($I$43:$I$96,V32,$Q$43:$Q$96,3)) -> 0 | Z32: =SUM(COUNTIFS($C$43:$C$96,2,$D$43:$D$96,V32),COUNTIFS($I$43:$I$96,V32,$Q$43:$Q$96,2)) -> 0 | AA32: =SUM(COUNTIFS($C$43:$C$96,1,$D$43:$D$96,V32),COUNTIFS($I$43:$I$96,V32,$Q$43:$Q$96,1)) -> 0 | AB32: =SUM(COUNTIFS($C$43:$C$96,0,$D$43:$D$96,V32),COUNTIFS($I$43:$I$96,V32,$Q$43:$Q$96,0)) -> 0 | AC32: =SUM(H47,H52,H61,H70,H78,H87,H95) -> 0 | AD32: =SUM(F47,F52,F61,F70,F78,F87,F95) -> 0 | AE32: =AC32-AD32 -> 0 | AF32: =IF(OR($F$44="",$H$44=""),0,(X32/(W32*3))) -> 0 | AG32: =(X32*10^10)+((AC32+5000)*10^6)+(AE32*10)+U32 -> 5000000001 | AH32: =LARGE($AG$32:$AG$39,U32) -> 5000000008 | AI32: =MATCH(AH32,$AG$32:$AG$39,0) -> 8
D33: 2º | E33: =VLOOKUP(AI33,$U$32:$AH$39,2) -> 13º CAMPEONATO ALEMÃO | F33: =VLOOKUP(AI33,$U$32:$AH$39,3) -> 0 | G33: =VLOOKUP(AI33,$U$32:$AH$39,4) -> 0 | H33: =VLOOKUP(AI33,$U$32:$AH$39,5) -> 0 | I33: =VLOOKUP(AI33,$U$32:$AH$39,6) -> 0 | J33: =VLOOKUP(AI33,$U$32:$AH$39,7) -> 0 | K33: =VLOOKUP(AI33,$U$32:$AH$39,8) -> 0 | L33: =VLOOKUP(AI33,$U$32:$AH$39,9) -> 0 | M33: =VLOOKUP(AI33,$U$32:$AH$39,10) -> 0 | N33: =VLOOKUP(AI33,$U$32:$AH$39,11) -> 0 | O33: =VLOOKUP(AI33,$U$32:$AH$39,12) -> 0 | Q33: D - Derrota | U33: 2 | V33: 16º CAMPEONATO ALEMÃO | W33: =COUNT(H46,H53,H60,H71,H79,H86,F95,#REF!,#REF!,#REF!,#REF!,#REF!,#REF!,#REF!) -> 0 | X33: =SUM(Q46,Q53,Q60,Q71,Q79,Q86,C95) -> 0 | Y33: =SUM(COUNTIFS($C$43:$C$96,3,$D$43:$D$96,V33),COUNTIFS($I$43:$I$96,V33,$Q$43:$Q$96,3)) -> 0 | Z33: =SUM(COUNTIFS($C$43:$C$96,2,$D$43:$D$96,V33),COUNTIFS($I$43:$I$96,V33,$Q$43:$Q$96,2)) -> 0 | AA33: =SUM(COUNTIFS($C$43:$C$96,1,$D$43:$D$96,V33),COUNTIFS($I$43:$I$96,V33,$Q$43:$Q$96,1)) -> 0 | AB33: =SUM(COUNTIFS($C$43:$C$96,0,$D$43:$D$96,V33),COUNTIFS($I$43:$I$96,V33,$Q$43:$Q$96,0)) -> 0 | AC33: =SUM(H46,H53,H60,H71,H79,H86,F95) -> 0 | AD33: =SUM(F46,F53,F60,F71,F79,F86,H95,) -> 0 | AE33: =AC33-AD33 -> 0 | AF33: =IF(OR($F$44="",$H$44=""),0,(X33/(W33*3))) -> 0 | AG33: =(X33*10^10)+((AC33+5000)*10^6)+(AE33*10)+U33 -> 5000000002 | AH33: =LARGE($AG$32:$AG$39,U33) -> 5000000007 | AI33: =MATCH(AH33,$AG$32:$AG$39,0) -> 7
D34: 3º | E34: =VLOOKUP(AI34,$U$32:$AH$39,2) -> 14º CAMPEONATO INGLÊS | F34: =VLOOKUP(AI34,$U$32:$AH$39,3) -> 0 | G34: =VLOOKUP(AI34,$U$32:$AH$39,4) -> 0 | H34: =VLOOKUP(AI34,$U$32:$AH$39,5) -> 0 | I34: =VLOOKUP(AI34,$U$32:$AH$39,6) -> 0 | J34: =VLOOKUP(AI34,$U$32:$AH$39,7) -> 0 | K34: =VLOOKUP(AI34,$U$32:$AH$39,8) -> 0 | L34: =VLOOKUP(AI34,$U$32:$AH$39,9) -> 0 | M34: =VLOOKUP(AI34,$U$32:$AH$39,10) -> 0 | N34: =VLOOKUP(AI34,$U$32:$AH$39,11) -> 0 | O34: =VLOOKUP(AI34,$U$32:$AH$39,12) -> 0 | Q34: PPC - Pontos pró Cartola | U34: 3 | V34: 15º CAMPEONATO ITALIANO | W34: =COUNT(H45,H54,H63,H68,F79,F87,H94,#REF!,#REF!,#REF!,#REF!,#REF!,#REF!,#REF!) -> 0 | X34: =SUM(Q45,Q54,Q63,Q68,C79,C87,Q94) -> 0 | Y34: =SUM(COUNTIFS($C$43:$C$96,3,$D$43:$D$96,V34),COUNTIFS($I$43:$I$96,V34,$Q$43:$Q$96,3)) -> 0 | Z34: =SUM(COUNTIFS($C$43:$C$96,2,$D$43:$D$96,V34),COUNTIFS($I$43:$I$96,V34,$Q$43:$Q$96,2)) -> 0 | AA34: =SUM(COUNTIFS($C$43:$C$96,1,$D$43:$D$96,V34),COUNTIFS($I$43:$I$96,V34,$Q$43:$Q$96,1)) -> 0 | AB34: =SUM(COUNTIFS($C$43:$C$96,0,$D$43:$D$96,V34),COUNTIFS($I$43:$I$96,V34,$Q$43:$Q$96,0)) -> 0 | AC34: =SUM(H45,H54,H63,H68,F79,F87,H94) -> 0 | AD34: =SUM(F45,F54,F63,F68,H79,H87,F94) -> 0 | AE34: =AC34-AD34 -> 0 | AF34: =IF(OR($F$44="",$H$44=""),0,(X34/(W34*3))) -> 0 | AG34: =(X34*10^10)+((AC34+5000)*10^6)+(AE34*10)+U34 -> 5000000003 | AH34: =LARGE($AG$32:$AG$39,U34) -> 5000000006 | AI34: =MATCH(AH34,$AG$32:$AG$39,0) -> 6
D35: 4º | E35: =VLOOKUP(AI35,$U$32:$AH$39,2) -> 14º CAMPEONATO ITALIANO | F35: =VLOOKUP(AI35,$U$32:$AH$39,3) -> 0 | G35: =VLOOKUP(AI35,$U$32:$AH$39,4) -> 0 | H35: =VLOOKUP(AI35,$U$32:$AH$39,5) -> 0 | I35: =VLOOKUP(AI35,$U$32:$AH$39,6) -> 0 | J35: =VLOOKUP(AI35,$U$32:$AH$39,7) -> 0 | K35: =VLOOKUP(AI35,$U$32:$AH$39,8) -> 0 | L35: =VLOOKUP(AI35,$U$32:$AH$39,9) -> 0 | M35: =VLOOKUP(AI35,$U$32:$AH$39,10) -> 0 | N35: =VLOOKUP(AI35,$U$32:$AH$39,11) -> 0 | O35: =VLOOKUP(AI35,$U$32:$AH$39,12) -> 0 | Q35: PCC - pontos contra Cartola | U35: 4 | V35: 15º CAMPEONATO INGLÊS | W35: =COUNT(H44,H55,H62,H69,F78,F86,F94,#REF!,#REF!,#REF!,#REF!,#REF!,#REF!,#REF!) -> 0 | X35: =SUM(Q44,Q55,Q62,Q69,C78,C86,C94,) -> 0 | Y35: =SUM(COUNTIFS($C$43:$C$96,3,$D$43:$D$96,V35),COUNTIFS($I$43:$I$96,V35,$Q$43:$Q$96,3)) -> 0 | Z35: =SUM(COUNTIFS($C$43:$C$96,2,$D$43:$D$96,V35),COUNTIFS($I$43:$I$96,V35,$Q$43:$Q$96,2)) -> 0 | AA35: =SUM(COUNTIFS($C$43:$C$96,1,$D$43:$D$96,V35),COUNTIFS($I$43:$I$96,V35,$Q$43:$Q$96,1)) -> 0 | AB35: =SUM(COUNTIFS($C$43:$C$96,0,$D$43:$D$96,V35),COUNTIFS($I$43:$I$96,V35,$Q$43:$Q$96,0)) -> 0 | AC35: =SUM(H44,H55,H62,H69,F78,F86,F94) -> 0 | AD35: =SUM(F44,F55,F62,F69,H78,H86,H94) -> 0 | AE35: =AC35-AD35 -> 0 | AF35: =IF(OR($F$44="",$H$44=""),0,(X35/(W35*3))) -> 0 | AG35: =(X35*10^10)+((AC35+5000)*10^6)+(AE35*10)+U35 -> 5000000004 | AH35: =LARGE($AG$32:$AG$39,U35) -> 5000000005 | AI35: =MATCH(AH35,$AG$32:$AG$39,0) -> 5
D36: 5º | E36: =VLOOKUP(AI36,$U$32:$AH$39,2) -> 15º CAMPEONATO INGLÊS | F36: =VLOOKUP(AI36,$U$32:$AH$39,3) -> 0 | G36: =VLOOKUP(AI36,$U$32:$AH$39,4) -> 0 | H36: =VLOOKUP(AI36,$U$32:$AH$39,5) -> 0 | I36: =VLOOKUP(AI36,$U$32:$AH$39,6) -> 0 | J36: =VLOOKUP(AI36,$U$32:$AH$39,7) -> 0 | K36: =VLOOKUP(AI36,$U$32:$AH$39,8) -> 0 | L36: =VLOOKUP(AI36,$U$32:$AH$39,9) -> 0 | M36: =VLOOKUP(AI36,$U$32:$AH$39,10) -> 0 | N36: =VLOOKUP(AI36,$U$32:$AH$39,11) -> 0 | O36: =VLOOKUP(AI36,$U$32:$AH$39,12) -> 0 | Q36: SP - saldo de pontos | U36: 5 | V36: 14º CAMPEONATO ITALIANO | W36: =COUNT(F47,F55,F63,F71,H76,H85,H93,#REF!,#REF!,#REF!,#REF!,#REF!,#REF!,#REF!) -> 0 | X36: =SUM(C47,C55,C63,C71,Q76,Q85,Q93) -> 0 | Y36: =SUM(COUNTIFS($C$43:$C$96,3,$D$43:$D$96,V36),COUNTIFS($I$43:$I$96,V36,$Q$43:$Q$96,3)) -> 0 | Z36: =SUM(COUNTIFS($C$43:$C$96,2,$D$43:$D$96,V36),COUNTIFS($I$43:$I$96,V36,$Q$43:$Q$96,2)) -> 0 | AA36: =SUM(COUNTIFS($C$43:$C$96,1,$D$43:$D$96,V36),COUNTIFS($I$43:$I$96,V36,$Q$43:$Q$96,1)) -> 0 | AB36: =SUM(COUNTIFS($C$43:$C$96,0,$D$43:$D$96,V36),COUNTIFS($I$43:$I$96,V36,$Q$43:$Q$96,0)) -> 0 | AC36: =SUM(F47,F55,F63,F71,H76,H85,H93) -> 0 | AD36: =SUM(H47,H55,H63,H71,F76,F85,F93) -> 0 | AE36: =AC36-AD36 -> 0 | AF36: =IF(OR($F$44="",$H$44=""),0,(X36/(W36*3))) -> 0 | AG36: =(X36*10^10)+((AC36+5000)*10^6)+(AE36*10)+U36 -> 5000000005 | AH36: =LARGE($AG$32:$AG$39,U36) -> 5000000004 | AI36: =MATCH(AH36,$AG$32:$AG$39,0) -> 4
D37: 6º | E37: =VLOOKUP(AI37,$U$32:$AH$39,2) -> 15º CAMPEONATO ITALIANO | F37: =VLOOKUP(AI37,$U$32:$AH$39,3) -> 0 | G37: =VLOOKUP(AI37,$U$32:$AH$39,4) -> 0 | H37: =VLOOKUP(AI37,$U$32:$AH$39,5) -> 0 | I37: =VLOOKUP(AI37,$U$32:$AH$39,6) -> 0 | J37: =VLOOKUP(AI37,$U$32:$AH$39,7) -> 0 | K37: =VLOOKUP(AI37,$U$32:$AH$39,8) -> 0 | L37: =VLOOKUP(AI37,$U$32:$AH$39,9) -> 0 | M37: =VLOOKUP(AI37,$U$32:$AH$39,10) -> 0 | N37: =VLOOKUP(AI37,$U$32:$AH$39,11) -> 0 | O37: =VLOOKUP(AI37,$U$32:$AH$39,12) -> 0 | Q37: % APR. - Aproveitamento | U37: 6 | V37: 14º CAMPEONATO INGLÊS | W37: =COUNT(F46,F54,F62,F70,H77,H84,F93,#REF!,#REF!,#REF!,#REF!,#REF!,#REF!,#REF!) -> 0 | X37: =SUM(C46,C54,C62,C70,Q77,Q84,C93) -> 0 | Y37: =SUM(COUNTIFS($C$43:$C$96,3,$D$43:$D$96,V37),COUNTIFS($I$43:$I$96,V37,$Q$43:$Q$96,3)) -> 0 | Z37: =SUM(COUNTIFS($C$43:$C$96,2,$D$43:$D$96,V37),COUNTIFS($I$43:$I$96,V37,$Q$43:$Q$96,2)) -> 0 | AA37: =SUM(COUNTIFS($C$43:$C$96,1,$D$43:$D$96,V37),COUNTIFS($I$43:$I$96,V37,$Q$43:$Q$96,1)) -> 0 | AB37: =SUM(COUNTIFS($C$43:$C$96,0,$D$43:$D$96,V37),COUNTIFS($I$43:$I$96,V37,$Q$43:$Q$96,0)) -> 0 | AC37: =SUM(F46,F54,F62,F70,H77,H84,F93) -> 0 | AD37: =SUM(H46,H54,H62,H70,F84,F77,H93) -> 0 | AE37: =AC37-AD37 -> 0 | AF37: =IF(OR($F$44="",$H$44=""),0,(X37/(W37*3))) -> 0 | AG37: =(X37*10^10)+((AC37+5000)*10^6)+(AE37*10)+U37 -> 5000000006 | AH37: =LARGE($AG$32:$AG$39,U37) -> 5000000003 | AI37: =MATCH(AH37,$AG$32:$AG$39,0) -> 3
D38: 7º | E38: =VLOOKUP(AI38,$U$32:$AH$39,2) -> 16º CAMPEONATO ALEMÃO | F38: =VLOOKUP(AI38,$U$32:$AH$39,3) -> 0 | G38: =VLOOKUP(AI38,$U$32:$AH$39,4) -> 0 | H38: =VLOOKUP(AI38,$U$32:$AH$39,5) -> 0 | I38: =VLOOKUP(AI38,$U$32:$AH$39,6) -> 0 | J38: =VLOOKUP(AI38,$U$32:$AH$39,7) -> 0 | K38: =VLOOKUP(AI38,$U$32:$AH$39,8) -> 0 | L38: =VLOOKUP(AI38,$U$32:$AH$39,9) -> 0 | M38: =VLOOKUP(AI38,$U$32:$AH$39,10) -> 0 | N38: =VLOOKUP(AI38,$U$32:$AH$39,11) -> 0 | O38: =VLOOKUP(AI38,$U$32:$AH$39,12) -> 0 | R38: CLASSIFICADO | U38: 7 | V38: 13º CAMPEONATO ALEMÃO | W38: =COUNT(F45,F53,F61,F69,F77,F85,H92,#REF!,#REF!,#REF!,#REF!,#REF!,#REF!,#REF!) -> 0 | X38: =SUM(C45,C53,C61,C69,C77,C85,Q92) -> 0 | Y38: =SUM(COUNTIFS($C$43:$C$96,3,$D$43:$D$96,V38),COUNTIFS($I$43:$I$96,V38,$Q$43:$Q$96,3)) -> 0 | Z38: =SUM(COUNTIFS($C$43:$C$96,2,$D$43:$D$96,V38),COUNTIFS($I$43:$I$96,V38,$Q$43:$Q$96,2)) -> 0 | AA38: =SUM(COUNTIFS($C$43:$C$96,1,$D$43:$D$96,V38),COUNTIFS($I$43:$I$96,V38,$Q$43:$Q$96,1)) -> 0 | AB38: =SUM(COUNTIFS($C$43:$C$96,0,$D$43:$D$96,V38),COUNTIFS($I$43:$I$96,V38,$Q$43:$Q$96,0)) -> 0 | AC38: =SUM(F45,F53,F61,F69,F77,F85,H92) -> 0 | AD38: =SUM(H45,H53,H61,H69,H77,H85,F92) -> 0 | AE38: =AC38-AD38 -> 0 | AF38: =IF(OR($F$44="",$H$44=""),0,(X38/(W38*3))) -> 0 | AG38: =(X38*10^10)+((AC38+5000)*10^6)+(AE38*10)+U38 -> 5000000007 | AH38: =LARGE($AG$32:$AG$39,U38) -> 5000000002 | AI38: =MATCH(AH38,$AG$32:$AG$39,0) -> 2
D39: 8º | E39: =VLOOKUP(AI39,$U$32:$AH$39,2) -> 16º CAMPEONATO ESPANHOL | F39: =VLOOKUP(AI39,$U$32:$AH$39,3) -> 0 | G39: =VLOOKUP(AI39,$U$32:$AH$39,4) -> 0 | H39: =VLOOKUP(AI39,$U$32:$AH$39,5) -> 0 | I39: =VLOOKUP(AI39,$U$32:$AH$39,6) -> 0 | J39: =VLOOKUP(AI39,$U$32:$AH$39,7) -> 0 | K39: =VLOOKUP(AI39,$U$32:$AH$39,8) -> 0 | L39: =VLOOKUP(AI39,$U$32:$AH$39,9) -> 0 | M39: =VLOOKUP(AI39,$U$32:$AH$39,10) -> 0 | N39: =VLOOKUP(AI39,$U$32:$AH$39,11) -> 0 | O39: =VLOOKUP(AI39,$U$32:$AH$39,12) -> 0 | R39: Disputa do 9º lugar | U39: 8 | V39: 13º CAMPEONATO ESPANHOL | W39: =COUNT(F44,F52,F60,F68,F76,F84,F92,#REF!,#REF!,#REF!,#REF!,#REF!,#REF!,#REF!) -> 0 | X39: =SUM(C44,C52,C60,C68,C76,C84,C92) -> 0 | Y39: =SUM(COUNTIFS($C$43:$C$96,3,$D$43:$D$96,V39),COUNTIFS($I$43:$I$96,V39,$Q$43:$Q$96,3)) -> 0 | Z39: =SUM(COUNTIFS($C$43:$C$96,2,$D$43:$D$96,V39),COUNTIFS($I$43:$I$96,V39,$Q$43:$Q$96,2)) -> 0 | AA39: =SUM(COUNTIFS($C$43:$C$96,1,$D$43:$D$96,V39),COUNTIFS($I$43:$I$96,V39,$Q$43:$Q$96,1)) -> 0 | AB39: =SUM(COUNTIFS($C$43:$C$96,0,$D$43:$D$96,V39),COUNTIFS($I$43:$I$96,V39,$Q$43:$Q$96,0)) -> 0 | AC39: =SUM(F44,F52,F60,F68,F76,F84,F92) -> 0 | AD39: =SUM(H44,H52,H60,H68,H76,H84,H92) -> 0 | AE39: =AC39-AD39 -> 0 | AF39: =IF(OR($F$44="",$H$44=""),0,(X39/(W39*3))) -> 0 | AG39: =(X39*10^10)+((AC39+5000)*10^6)+(AE39*10)+U39 -> 5000000008 | AH39: =LARGE($AG$32:$AG$39,U39) -> 5000000001 | AI39: =MATCH(AH39,$AG$32:$AG$39,0) -> 1
D41: 1ª RODADA - #16
C44: =IF(OR(F44="",H44=""),"",IF(F44=H44,1,IF(F44<H44,0,IF(F44-H44<10,2,IF(F44>H44,3,SE))))) | D44: =V39 -> 13º CAMPEONATO ESPANHOL | G44: x | I44: =V35 -> 15º CAMPEONATO INGLÊS | Q44: =IF(OR(H44="",F44=""),"",IF(H44=F44,1,IF(H44<F44,0,IF(H44-F44<10,2,IF(H44>F44,3,SE)))))
C45: =IF(OR(F45="",H45=""),"",IF(F45=H45,1,IF(F45<H45,0,IF(F45-H45<10,2,IF(F45>H45,3,SE))))) | D45: =V38 -> 13º CAMPEONATO ALEMÃO | G45: x | I45: =V34 -> 15º CAMPEONATO ITALIANO | Q45: =IF(OR(H45="",F45=""),"",IF(H45=F45,1,IF(H45<F45,0,IF(H45-F45<10,2,IF(H45>F45,3,SE)))))
C46: =IF(OR(F46="",H46=""),"",IF(F46=H46,1,IF(F46<H46,0,IF(F46-H46<10,2,IF(F46>H46,3,SE))))) | D46: =V37 -> 14º CAMPEONATO INGLÊS | G46: x | I46: =V33 -> 16º CAMPEONATO ALEMÃO | Q46: =IF(OR(H46="",F46=""),"",IF(H46=F46,1,IF(H46<F46,0,IF(H46-F46<10,2,IF(H46>F46,3,SE)))))
C47: =IF(OR(F47="",H47=""),"",IF(F47=H47,1,IF(F47<H47,0,IF(F47-H47<10,2,IF(F47>H47,3,SE))))) | D47: =V36 -> 14º CAMPEONATO ITALIANO | G47: x | I47: =V32 -> 16º CAMPEONATO ESPANHOL | Q47: =IF(OR(H47="",F47=""),"",IF(H47=F47,1,IF(H47<F47,0,IF(H47-F47<10,2,IF(H47>F47,3,SE)))))
C48: =IF(OR(F48="",H48=""),"",IF(F48=H48,1,IF(F48<H48,0,IF(F48-H48<10,2,IF(F48>H48,3,SE))))) | Q48: =IF(OR(H48="",F48=""),"",IF(H48=F48,1,IF(H48<F48,0,IF(H48-F48<10,2,IF(H48>F48,3,SE)))))
C49: =IF(OR(F49="",H49=""),"",IF(F49=H49,1,IF(F49<H49,0,IF(F49-H49<10,2,IF(F49>H49,3,SE))))) | D49: 2ª RODADA - #17 | Q49: =IF(OR(H49="",F49=""),"",IF(H49=F49,1,IF(H49<F49,0,IF(H49-F49<10,2,IF(H49>F49,3,SE)))))
C50: =IF(OR(F50="",H50=""),"",IF(F50=H50,1,IF(F50<H50,0,IF(F50-H50<10,2,IF(F50>H50,3,SE))))) | Q50: =IF(OR(H50="",F50=""),"",IF(H50=F50,1,IF(H50<F50,0,IF(H50-F50<10,2,IF(H50>F50,3,SE)))))
C51: =IF(OR(F51="",H51=""),"",IF(F51=H51,1,IF(F51<H51,0,IF(F51-H51<10,2,IF(F51>H51,3,SE))))) | Q51: =IF(OR(H51="",F51=""),"",IF(H51=F51,1,IF(H51<F51,0,IF(H51-F51<10,2,IF(H51>F51,3,SE)))))
C52: =IF(OR(F52="",H52=""),"",IF(F52=H52,1,IF(F52<H52,0,IF(F52-H52<10,2,IF(F52>H52,3,SE))))) | D52: =V39 -> 13º CAMPEONATO ESPANHOL | G52: x | I52: =V32 -> 16º CAMPEONATO ESPANHOL | Q52: =IF(OR(H52="",F52=""),"",IF(H52=F52,1,IF(H52<F52,0,IF(H52-F52<10,2,IF(H52>F52,3,SE)))))
C53: =IF(OR(F53="",H53=""),"",IF(F53=H53,1,IF(F53<H53,0,IF(F53-H53<10,2,IF(F53>H53,3,SE))))) | D53: =V38 -> 13º CAMPEONATO ALEMÃO | G53: x | I53: =V33 -> 16º CAMPEONATO ALEMÃO | Q53: =IF(OR(H53="",F53=""),"",IF(H53=F53,1,IF(H53<F53,0,IF(H53-F53<10,2,IF(H53>F53,3,SE)))))
C54: =IF(OR(F54="",H54=""),"",IF(F54=H54,1,IF(F54<H54,0,IF(F54-H54<10,2,IF(F54>H54,3,SE))))) | D54: =V37 -> 14º CAMPEONATO INGLÊS | G54: x | I54: =V34 -> 15º CAMPEONATO ITALIANO | Q54: =IF(OR(H54="",F54=""),"",IF(H54=F54,1,IF(H54<F54,0,IF(H54-F54<10,2,IF(H54>F54,3,SE)))))
C55: =IF(OR(F55="",H55=""),"",IF(F55=H55,1,IF(F55<H55,0,IF(F55-H55<10,2,IF(F55>H55,3,SE))))) | D55: =V36 -> 14º CAMPEONATO ITALIANO | G55: x | I55: =V35 -> 15º CAMPEONATO INGLÊS | Q55: =IF(OR(H55="",F55=""),"",IF(H55=F55,1,IF(H55<F55,0,IF(H55-F55<10,2,IF(H55>F55,3,SE)))))
C56: =IF(OR(F56="",H56=""),"",IF(F56=H56,1,IF(F56<H56,0,IF(F56-H56<10,2,IF(F56>H56,3,SE))))) | Q56: =IF(OR(H56="",F56=""),"",IF(H56=F56,1,IF(H56<F56,0,IF(H56-F56<10,2,IF(H56>F56,3,SE)))))
C57: =IF(OR(F57="",H57=""),"",IF(F57=H57,1,IF(F57<H57,0,IF(F57-H57<10,2,IF(F57>H57,3,SE))))) | D57: 3ª RODADA - #18 | Q57: =IF(OR(H57="",F57=""),"",IF(H57=F57,1,IF(H57<F57,0,IF(H57-F57<10,2,IF(H57>F57,3,SE)))))
C58: =IF(OR(F58="",H58=""),"",IF(F58=H58,1,IF(F58<H58,0,IF(F58-H58<10,2,IF(F58>H58,3,SE))))) | Q58: =IF(OR(H58="",F58=""),"",IF(H58=F58,1,IF(H58<F58,0,IF(H58-F58<10,2,IF(H58>F58,3,SE)))))
C59: =IF(OR(F59="",H59=""),"",IF(F59=H59,1,IF(F59<H59,0,IF(F59-H59<10,2,IF(F59>H59,3,SE))))) | Q59: =IF(OR(H59="",F59=""),"",IF(H59=F59,1,IF(H59<F59,0,IF(H59-F59<10,2,IF(H59>F59,3,SE)))))
C60: =IF(OR(F60="",H60=""),"",IF(F60=H60,1,IF(F60<H60,0,IF(F60-H60<10,2,IF(F60>H60,3,SE))))) | D60: =V39 -> 13º CAMPEONATO ESPANHOL | G60: x | I60: =V33 -> 16º CAMPEONATO ALEMÃO | Q60: =IF(OR(H60="",F60=""),"",IF(H60=F60,1,IF(H60<F60,0,IF(H60-F60<10,2,IF(H60>F60,3,SE)))))
C61: =IF(OR(F61="",H61=""),"",IF(F61=H61,1,IF(F61<H61,0,IF(F61-H61<10,2,IF(F61>H61,3,SE))))) | D61: =V38 -> 13º CAMPEONATO ALEMÃO | G61: x | I61: =V32 -> 16º CAMPEONATO ESPANHOL | Q61: =IF(OR(H61="",F61=""),"",IF(H61=F61,1,IF(H61<F61,0,IF(H61-F61<10,2,IF(H61>F61,3,SE)))))
C62: =IF(OR(F62="",H62=""),"",IF(F62=H62,1,IF(F62<H62,0,IF(F62-H62<10,2,IF(F62>H62,3,SE))))) | D62: =V37 -> 14º CAMPEONATO INGLÊS | G62: x | I62: =V35 -> 15º CAMPEONATO INGLÊS | Q62: =IF(OR(H62="",F62=""),"",IF(H62=F62,1,IF(H62<F62,0,IF(H62-F62<10,2,IF(H62>F62,3,SE)))))
C63: =IF(OR(F63="",H63=""),"",IF(F63=H63,1,IF(F63<H63,0,IF(F63-H63<10,2,IF(F63>H63,3,SE))))) | D63: =V36 -> 14º CAMPEONATO ITALIANO | G63: x | I63: =V34 -> 15º CAMPEONATO ITALIANO | Q63: =IF(OR(H63="",F63=""),"",IF(H63=F63,1,IF(H63<F63,0,IF(H63-F63<10,2,IF(H63>F63,3,SE)))))
C64: =IF(OR(F64="",H64=""),"",IF(F64=H64,1,IF(F64<H64,0,IF(F64-H64<10,2,IF(F64>H64,3,SE))))) | Q64: =IF(OR(H64="",F64=""),"",IF(H64=F64,1,IF(H64<F64,0,IF(H64-F64<10,2,IF(H64>F64,3,SE)))))
C65: =IF(OR(F65="",H65=""),"",IF(F65=H65,1,IF(F65<H65,0,IF(F65-H65<10,2,IF(F65>H65,3,SE))))) | D65: 4ª RODADA - #19 | Q65: =IF(OR(H65="",F65=""),"",IF(H65=F65,1,IF(H65<F65,0,IF(H65-F65<10,2,IF(H65>F65,3,SE)))))
C66: =IF(OR(F66="",H66=""),"",IF(F66=H66,1,IF(F66<H66,0,IF(F66-H66<10,2,IF(F66>H66,3,SE))))) | Q66: =IF(OR(H66="",F66=""),"",IF(H66=F66,1,IF(H66<F66,0,IF(H66-F66<10,2,IF(H66>F66,3,SE)))))
C67: =IF(OR(F67="",H67=""),"",IF(F67=H67,1,IF(F67<H67,0,IF(F67-H67<10,2,IF(F67>H67,3,SE))))) | Q67: =IF(OR(H67="",F67=""),"",IF(H67=F67,1,IF(H67<F67,0,IF(H67-F67<10,2,IF(H67>F67,3,SE)))))
C68: =IF(OR(F68="",H68=""),"",IF(F68=H68,1,IF(F68<H68,0,IF(F68-H68<10,2,IF(F68>H68,3,SE))))) | D68: =V39 -> 13º CAMPEONATO ESPANHOL | G68: x | I68: =V34 -> 15º CAMPEONATO ITALIANO | Q68: =IF(OR(H68="",F68=""),"",IF(H68=F68,1,IF(H68<F68,0,IF(H68-F68<10,2,IF(H68>F68,3,SE)))))
C69: =IF(OR(F69="",H69=""),"",IF(F69=H69,1,IF(F69<H69,0,IF(F69-H69<10,2,IF(F69>H69,3,SE))))) | D69: =V38 -> 13º CAMPEONATO ALEMÃO | G69: x | I69: =V35 -> 15º CAMPEONATO INGLÊS | Q69: =IF(OR(H69="",F69=""),"",IF(H69=F69,1,IF(H69<F69,0,IF(H69-F69<10,2,IF(H69>F69,3,SE)))))
C70: =IF(OR(F70="",H70=""),"",IF(F70=H70,1,IF(F70<H70,0,IF(F70-H70<10,2,IF(F70>H70,3,SE))))) | D70: =V37 -> 14º CAMPEONATO INGLÊS | G70: x | I70: =V32 -> 16º CAMPEONATO ESPANHOL | Q70: =IF(OR(H70="",F70=""),"",IF(H70=F70,1,IF(H70<F70,0,IF(H70-F70<10,2,IF(H70>F70,3,SE)))))
C71: =IF(OR(F71="",H71=""),"",IF(F71=H71,1,IF(F71<H71,0,IF(F71-H71<10,2,IF(F71>H71,3,SE))))) | D71: =V36 -> 14º CAMPEONATO ITALIANO | G71: x | I71: =V33 -> 16º CAMPEONATO ALEMÃO | Q71: =IF(OR(H71="",F71=""),"",IF(H71=F71,1,IF(H71<F71,0,IF(H71-F71<10,2,IF(H71>F71,3,SE)))))
C72: =IF(OR(F72="",H72=""),"",IF(F72=H72,1,IF(F72<H72,0,IF(F72-H72<10,2,IF(F72>H72,3,SE))))) | Q72: =IF(OR(H72="",F72=""),"",IF(H72=F72,1,IF(H72<F72,0,IF(H72-F72<10,2,IF(H72>F72,3,SE)))))
C73: =IF(OR(F73="",H73=""),"",IF(F73=H73,1,IF(F73<H73,0,IF(F73-H73<10,2,IF(F73>H73,3,SE))))) | D73: 5ª RODADA - #20 | Q73: =IF(OR(H73="",F73=""),"",IF(H73=F73,1,IF(H73<F73,0,IF(H73-F73<10,2,IF(H73>F73,3,SE)))))
C74: =IF(OR(F74="",H74=""),"",IF(F74=H74,1,IF(F74<H74,0,IF(F74-H74<10,2,IF(F74>H74,3,SE))))) | Q74: =IF(OR(H74="",F74=""),"",IF(H74=F74,1,IF(H74<F74,0,IF(H74-F74<10,2,IF(H74>F74,3,SE)))))
C75: =IF(OR(F75="",H75=""),"",IF(F75=H75,1,IF(F75<H75,0,IF(F75-H75<10,2,IF(F75>H75,3,SE))))) | Q75: =IF(OR(H75="",F75=""),"",IF(H75=F75,1,IF(H75<F75,0,IF(H75-F75<10,2,IF(H75>F75,3,SE)))))
C76: =IF(OR(F76="",H76=""),"",IF(F76=H76,1,IF(F76<H76,0,IF(F76-H76<10,2,IF(F76>H76,3,SE))))) | D76: =V39 -> 13º CAMPEONATO ESPANHOL | G76: x | I76: =V36 -> 14º CAMPEONATO ITALIANO | Q76: =IF(OR(H76="",F76=""),"",IF(H76=F76,1,IF(H76<F76,0,IF(H76-F76<10,2,IF(H76>F76,3,SE)))))
C77: =IF(OR(F77="",H77=""),"",IF(F77=H77,1,IF(F77<H77,0,IF(F77-H77<10,2,IF(F77>H77,3,SE))))) | D77: =V38 -> 13º CAMPEONATO ALEMÃO | G77: x | I77: =V37 -> 14º CAMPEONATO INGLÊS | Q77: =IF(OR(H77="",F77=""),"",IF(H77=F77,1,IF(H77<F77,0,IF(H77-F77<10,2,IF(H77>F77,3,SE)))))
C78: =IF(OR(F78="",H78=""),"",IF(F78=H78,1,IF(F78<H78,0,IF(F78-H78<10,2,IF(F78>H78,3,SE))))) | D78: =V35 -> 15º CAMPEONATO INGLÊS | G78: x | I78: =V32 -> 16º CAMPEONATO ESPANHOL | Q78: =IF(OR(H78="",F78=""),"",IF(H78=F78,1,IF(H78<F78,0,IF(H78-F78<10,2,IF(H78>F78,3,SE)))))
C79: =IF(OR(F79="",H79=""),"",IF(F79=H79,1,IF(F79<H79,0,IF(F79-H79<10,2,IF(F79>H79,3,SE))))) | D79: =V34 -> 15º CAMPEONATO ITALIANO | G79: x | I79: =V33 -> 16º CAMPEONATO ALEMÃO | Q79: =IF(OR(H79="",F79=""),"",IF(H79=F79,1,IF(H79<F79,0,IF(H79-F79<10,2,IF(H79>F79,3,SE)))))
C80: =IF(OR(F80="",H80=""),"",IF(F80=H80,1,IF(F80<H80,0,IF(F80-H80<10,2,IF(F80>H80,3,SE))))) | Q80: =IF(OR(H80="",F80=""),"",IF(H80=F80,1,IF(H80<F80,0,IF(H80-F80<10,2,IF(H80>F80,3,SE)))))
C81: =IF(OR(F81="",H81=""),"",IF(F81=H81,1,IF(F81<H81,0,IF(F81-H81<10,2,IF(F81>H81,3,SE))))) | D81: 6ª RODADA - #21 | Q81: =IF(OR(H81="",F81=""),"",IF(H81=F81,1,IF(H81<F81,0,IF(H81-F81<10,2,IF(H81>F81,3,SE)))))
C82: =IF(OR(F82="",H82=""),"",IF(F82=H82,1,IF(F82<H82,0,IF(F82-H82<10,2,IF(F82>H82,3,SE))))) | Q82: =IF(OR(H82="",F82=""),"",IF(H82=F82,1,IF(H82<F82,0,IF(H82-F82<10,2,IF(H82>F82,3,SE)))))
C83: =IF(OR(F83="",H83=""),"",IF(F83=H83,1,IF(F83<H83,0,IF(F83-H83<10,2,IF(F83>H83,3,SE))))) | Q83: =IF(OR(H83="",F83=""),"",IF(H83=F83,1,IF(H83<F83,0,IF(H83-F83<10,2,IF(H83>F83,3,SE)))))
C84: =IF(OR(F84="",H84=""),"",IF(F84=H84,1,IF(F84<H84,0,IF(F84-H84<10,2,IF(F84>H84,3,SE))))) | D84: =V39 -> 13º CAMPEONATO ESPANHOL | G84: x | I84: =V37 -> 14º CAMPEONATO INGLÊS | Q84: =IF(OR(H84="",F84=""),"",IF(H84=F84,1,IF(H84<F84,0,IF(H84-F84<10,2,IF(H84>F84,3,SE)))))
C85: =IF(OR(F85="",H85=""),"",IF(F85=H85,1,IF(F85<H85,0,IF(F85-H85<10,2,IF(F85>H85,3,SE))))) | D85: =V38 -> 13º CAMPEONATO ALEMÃO | G85: x | I85: =V36 -> 14º CAMPEONATO ITALIANO | Q85: =IF(OR(H85="",F85=""),"",IF(H85=F85,1,IF(H85<F85,0,IF(H85-F85<10,2,IF(H85>F85,3,SE)))))
C86: =IF(OR(F86="",H86=""),"",IF(F86=H86,1,IF(F86<H86,0,IF(F86-H86<10,2,IF(F86>H86,3,SE))))) | D86: =V35 -> 15º CAMPEONATO INGLÊS | G86: x | I86: =V33 -> 16º CAMPEONATO ALEMÃO | Q86: =IF(OR(H86="",F86=""),"",IF(H86=F86,1,IF(H86<F86,0,IF(H86-F86<10,2,IF(H86>F86,3,SE)))))
C87: =IF(OR(F87="",H87=""),"",IF(F87=H87,1,IF(F87<H87,0,IF(F87-H87<10,2,IF(F87>H87,3,SE))))) | D87: =V34 -> 15º CAMPEONATO ITALIANO | G87: x | I87: =V32 -> 16º CAMPEONATO ESPANHOL | Q87: =IF(OR(H87="",F87=""),"",IF(H87=F87,1,IF(H87<F87,0,IF(H87-F87<10,2,IF(H87>F87,3,SE)))))
C88: =IF(OR(F88="",H88=""),"",IF(F88=H88,1,IF(F88<H88,0,IF(F88-H88<10,2,IF(F88>H88,3,SE))))) | Q88: =IF(OR(H88="",F88=""),"",IF(H88=F88,1,IF(H88<F88,0,IF(H88-F88<10,2,IF(H88>F88,3,SE)))))
C89: =IF(OR(F89="",H89=""),"",IF(F89=H89,1,IF(F89<H89,0,IF(F89-H89<10,2,IF(F89>H89,3,SE))))) | D89: 7ª RODADA - #22 | Q89: =IF(OR(H89="",F89=""),"",IF(H89=F89,1,IF(H89<F89,0,IF(H89-F89<10,2,IF(H89>F89,3,SE)))))
C90: =IF(OR(F90="",H90=""),"",IF(F90=H90,1,IF(F90<H90,0,IF(F90-H90<10,2,IF(F90>H90,3,SE))))) | Q90: =IF(OR(H90="",F90=""),"",IF(H90=F90,1,IF(H90<F90,0,IF(H90-F90<10,2,IF(H90>F90,3,SE)))))
C91: =IF(OR(F91="",H91=""),"",IF(F91=H91,1,IF(F91<H91,0,IF(F91-H91<10,2,IF(F91>H91,3,SE))))) | Q91: =IF(OR(H91="",F91=""),"",IF(H91=F91,1,IF(H91<F91,0,IF(H91-F91<10,2,IF(H91>F91,3,SE)))))
C92: =IF(OR(F92="",H92=""),"",IF(F92=H92,1,IF(F92<H92,0,IF(F92-H92<10,2,IF(F92>H92,3,SE))))) | D92: =V39 -> 13º CAMPEONATO ESPANHOL | G92: x | I92: =V38 -> 13º CAMPEONATO ALEMÃO | Q92: =IF(OR(H92="",F92=""),"",IF(H92=F92,1,IF(H92<F92,0,IF(H92-F92<10,2,IF(H92>F92,3,SE)))))
C93: =IF(OR(F93="",H93=""),"",IF(F93=H93,1,IF(F93<H93,0,IF(F93-H93<10,2,IF(F93>H93,3,SE))))) | D93: =V37 -> 14º CAMPEONATO INGLÊS | G93: x | I93: =V36 -> 14º CAMPEONATO ITALIANO | Q93: =IF(OR(H93="",F93=""),"",IF(H93=F93,1,IF(H93<F93,0,IF(H93-F93<10,2,IF(H93>F93,3,SE)))))
C94: =IF(OR(F94="",H94=""),"",IF(F94=H94,1,IF(F94<H94,0,IF(F94-H94<10,2,IF(F94>H94,3,SE))))) | D94: =V35 -> 15º CAMPEONATO INGLÊS | G94: x | I94: =V34 -> 15º CAMPEONATO ITALIANO | Q94: =IF(OR(H94="",F94=""),"",IF(H94=F94,1,IF(H94<F94,0,IF(H94-F94<10,2,IF(H94>F94,3,SE)))))
C95: =IF(OR(F95="",H95=""),"",IF(F95=H95,1,IF(F95<H95,0,IF(F95-H95<10,2,IF(F95>H95,3,SE))))) | D95: =V33 -> 16º CAMPEONATO ALEMÃO | G95: x | I95: =V32 -> 16º CAMPEONATO ESPANHOL | Q95: =IF(OR(H95="",F95=""),"",IF(H95=F95,1,IF(H95<F95,0,IF(H95-F95<10,2,IF(H95>F95,3,SE)))))
C96: =IF(OR(F96="",H96=""),"",IF(F96=H96,1,IF(F96<H96,0,IF(F96-H96<10,2,IF(F96>H96,3,SE))))) | Q96: =IF(OR(H96="",F96=""),"",IF(H96=F96,1,IF(H96<F96,0,IF(H96-F96<10,2,IF(H96>F96,3,SE)))))

Sheet 2ª fase
B2: DISPUTA DO 9º ANO
I5: RODADAS #23 e 24
B7: J01 | C7: =IF(OR('Grupo M'!F64="",'Grupo M'!H64=""),"5º GRUPO M",'Grupo M'!E36) -> 5º GRUPO M | L7: X | N7: =IF(OR('Grupo N'!F64="",'Grupo N'!H64=""),"8º GRUPO N",'Grupo N'!E39) -> 8º GRUPO N
L8: X
K9: =IF(OR(K8="",M8=""),"",SUM(K7:K8)) | M9: =IF(OR(K8="",M7=""),"",SUM(M7:M8))
B10: J02 | C10: =IF(OR('Grupo M'!F64="",'Grupo M'!H64=""),"6º GRUPO M",'Grupo M'!E37) -> 6º GRUPO M | L10: X | N10: =IF(OR('Grupo N'!F64="",'Grupo N'!H64=""),"7º GRUPO N",'Grupo N'!E38) -> 7º GRUPO N
L11: X
K12: =IF(OR(K11="",M10=""),"",SUM(K10:K11)) | M12: =IF(OR(K11="",M10=""),"",SUM(M10:M11))
B13: J03 | C13: =IF(OR('Grupo N'!F64="",'Grupo N'!H64=""),"6º GRUPO N",'Grupo N'!E37) -> 6º GRUPO N | L13: X | N13: =IF(OR('Grupo M'!F64="",'Grupo M'!H64=""),"7º GRUPO M",'Grupo M'!E38) -> 7º GRUPO M
L14: X
K15: =IF(OR(K14="",M13=""),"",SUM(K13:K14)) | M15: =IF(OR(K14="",M13=""),"",SUM(M13:M14))
B16: J04 | C16: =IF(OR('Grupo N'!F64="",'Grupo N'!H64=""),"5º GRUPO N",'Grupo N'!E36) -> 5º GRUPO N | L16: X | N16: =IF(OR('Grupo M'!F64="",'Grupo M'!H64=""),"8º GRUPO M",'Grupo M'!E39) -> 8º GRUPO M
L17: X
K18: =IF(OR(K17="",M16=""),"",SUM(K16:K17)) | M18: =IF(OR(K17="",M16=""),"",SUM(M16:M17))
B20: QUARTAS DE FINAL
I23: RODADAS #23 e 24
B25: J05 | C25: =IF(OR('Grupo M'!F95="",'Grupo M'!H95=""),"1º GRUPO M",'Grupo M'!E32) -> 1º GRUPO M | L25: X | N25: =IF(OR('Grupo N'!F95="",'Grupo N'!H95=""),"4º GRUPO N",'Grupo N'!E35) -> 4º GRUPO N
L26: X
K27: =IF(OR(K26="",M26=""),"",SUM(K25:K26)) | M27: =IF(OR(K26="",M25=""),"",SUM(M25:M26))
B28: J06 | C28: =IF(OR('Grupo M'!F95="",'Grupo M'!H95=""),"2º GRUPO M",'Grupo M'!E33) -> 2º GRUPO M | L28: X | N28: =IF(OR('Grupo N'!F95="",'Grupo N'!H95=""),"3º GRUPO N",'Grupo N'!E34) -> 3º GRUPO N
L29: X
K30: =IF(OR(K29="",M28=""),"",SUM(K28:K29)) | M30: =IF(OR(K29="",M28=""),"",SUM(M28:M29))
B31: J07 | C31: =IF(OR('Grupo N'!F95="",'Grupo N'!H95=""),"2º GRUPO N",'Grupo N'!E33) -> 2º GRUPO N | L31: X | N31: =IF(OR('Grupo M'!F95="",'Grupo M'!H95=""),"3º GRUPO M",'Grupo M'!E34) -> 3º GRUPO M
L32: X
K33: =IF(OR(K32="",M31=""),"",SUM(K31:K32)) | M33: =IF(OR(K32="",M31=""),"",SUM(M31:M32))
B34: J08 | C34: =IF(OR('Grupo N'!F95="",'Grupo N'!H95=""),"1º GRUPO N",'Grupo N'!E32) -> 1º GRUPO N | L34: X | N34: =IF(OR('Grupo M'!F95="",'Grupo M'!H95=""),"4º GRUPO M",'Grupo M'!E35) -> 4º GRUPO M
L35: X
K36: =IF(OR(K35="",M34=""),"",SUM(K34:K35)) | M36: =IF(OR(K35="",M34=""),"",SUM(M34:M35))
B38: DISPUTA DO 13º LUGAR
I41: RODADAS #25 e 26
B43: J09 | C43: =IF(OR(K9="",M9=""),"PERDEDOR J01",IF(K9<M9,C7,N7)) -> PERDEDOR J01 | L43: X | N43: =IF(OR(K12="",M12=""),"PERDEDOR J02",IF(K12<M12,C10,N10)) -> PERDEDOR J02
L44: X
K45: =IF(OR(K44="",M43=""),"",SUM(K43:K44)) | M45: =IF(OR(K44="",M43=""),"",SUM(M43:M44))
B46: J10 | C46: =IF(OR(K15="",M15=""),"PERDEDOR J03",IF(K15<M15,C13,N13)) -> PERDEDOR J03 | L46: X | N46: =IF(OR(K18="",M18=""),"PERDEDOR J04",IF(K18<M18,C16,N16)) -> PERDEDOR J04
L47: X
K48: =IF(OR(K47="",M46=""),"",SUM(K46:K47)) | M48: =IF(OR(K47="",M46=""),"",SUM(M46:M47))
B50: DISPUTA DO 9º LUGAR
I53: RODADAS #25 e 26
B55: J11 | C55: =IF(OR(K9="",M9=""),"VENCEDOR J01",IF(K9>M9,C7,N7)) -> VENCEDOR J01 | L55: X | N55: =IF(OR(K12="",M12=""),"VENCEDOR J02",IF(K12>M12,C10,N10)) -> VENCEDOR J02
L56: X
K57: =IF(OR(K56="",M55=""),"",SUM(K55:K56)) | M57: =IF(OR(K56="",M55=""),"",SUM(M55:M56))
B58: J12 | C58: =IF(OR(K15="",M15=""),"VENCEDOR J03",IF(K15>M15,C13,N13)) -> VENCEDOR J03 | L58: X | N58: =IF(OR(K18="",M18=""),"VENCEDOR J04",IF(K18>M18,C16,N16)) -> VENCEDOR J04
L59: X
K60: =IF(OR(K59="",M58=""),"",SUM(K58:K59)) | M60: =IF(OR(K59="",M58=""),"",SUM(M58:M59))
B62: DISPUTA DO 5º LUGAR
I65: RODADAS #25 e 26
B67: J13 | C67: =IF(OR(K27="",M27=""),"PERDEDOR J05",IF(K27<M27,C25,N25)) -> PERDEDOR J05 | L67: X | N67: =IF(OR(K30="",M30=""),"PERDEDOR J06",IF(K30>M30,C28,N28)) -> PERDEDOR J06
L68: X
K69: =IF(OR(K68="",M67=""),"",SUM(K67:K68)) | M69: =IF(OR(K68="",M67=""),"",SUM(M67:M68))
B70: J14 | C70: =IF(OR(K33="",M33=""),"PERDEDOR J07",IF(K33<M33,C31,N31)) -> PERDEDOR J07 | L70: X | N70: =IF(OR(K36="",M36=""),"PERDEDOR J08",IF(K36>M36,C34,N34)) -> PERDEDOR J08
L71: X
K72: =IF(OR(K71="",M70=""),"",SUM(K70:K71)) | M72: =IF(OR(K71="",M70=""),"",SUM(M70:M71))
B74: SEMI-FINAL
I77: RODADAS #25 e 26
B79: J15 | C79: =IF(OR(K27="",M27=""),"VENCEDOR J05",IF(K27>M27,C25,N25)) -> VENCEDOR J05 | L79: X | N79: =IF(OR(K30="",M30=""),"VENCEDOR J06",IF(K30>M30,C28,N28)) -> VENCEDOR J06
L80: X
K81: =IF(OR(K80="",M79=""),"",SUM(K79:K80)) | M81: =IF(OR(K80="",M79=""),"",SUM(M79:M80))
B82: J16 | C82: =IF(OR(K33="",M33=""),"VENCEDOR J07",IF(K33>M33,C31,N31)) -> VENCEDOR J07 | L82: X | N82: =IF(OR(K36="",M36=""),"VENCEDOR J08",IF(K36>M36,C34,N34)) -> VENCEDOR J08
L83: X
K84: =IF(OR(K83="",M82=""),"",SUM(K82:K83)) | M84: =IF(OR(K83="",M82=""),"",SUM(M82:M83))
B86: DISPUTA DO 15º LUGAR
I89: RODADAS #27 e 28
B91: J17 | C91: =IF(OR(K45="",M45=""),"PERDEDOR J09",IF(K45<M45,C43,N43)) -> PERDEDOR J09 | L91: X | N91: =IF(OR(K48="",M48=""),"PERDEDOR J10",IF(K48<M48,C46,N46)) -> PERDEDOR J10
L92: X
K93: =IF(OR(K92="",M91=""),"",SUM(K91:K92)) | M93: =IF(OR(K92="",M91=""),"",SUM(M91:M92))
B95: DISPUTA DO 13º LUGAR
I98: RODADAS #27 e 28
B100: J18 | C100: =IF(OR(K45="",M45=""),"VENCEDOR J09",IF(K45>M45,C43,N43)) -> VENCEDOR J09 | L100: X | N100: =IF(OR(K48="",M48=""),"VENCEDOR J10",IF(K48>M48,C46,N46)) -> VENCEDOR J10
L101: X
K102: =IF(OR(K101="",M100=""),"",SUM(K100:K101)) | M102: =IF(OR(K101="",M100=""),"",SUM(M100:M101))
B104: DISPUTA DO 11º LUGAR
I107: RODADAS #27 e 28
B109: J19 | C109: =IF(OR(K57="",M57=""),"PERDEDOR J11",IF(K57<M57,C55,N55)) -> PERDEDOR J11 | L109: X | N109: =IF(OR(K60="",M60=""),"PERDEDOR J12",IF(K60<M60,C58,N58)) -> PERDEDOR J12
L110: X
K111: =IF(OR(K110="",M109=""),"",SUM(K109:K110)) | M111: =IF(OR(K110="",M109=""),"",SUM(M109:M110))
B113: DISPUTA DO 9º LUGAR
I116: RODADAS #27 e 28
B118: J20 | C118: =IF(OR(K57="",M57=""),"VENCEDOR J11",IF(K57>M57,C55,N55)) -> VENCEDOR J11 | L118: X | N118: =IF(OR(K60="",M60=""),"VENCEDOR J12",IF(K60>M60,C58,N58)) -> VENCEDOR J12
L119: X
K120: =IF(OR(K119="",M118=""),"",SUM(K118:K119)) | M120: =IF(OR(K119="",M118=""),"",SUM(M118:M119))
B122: DISPUTA DO 7º LUGAR
I125: RODADAS #27 e 28
B127: J21 | C127: =IF(OR(K69="",M69=""),"PERDEDOR J13",IF(K69<M69,C67,N67)) -> PERDEDOR J13 | L127: X | N127: =IF(OR(K72="",M72=""),"PERDEDOR J14",IF(K72<M72,C70,N70)) -> PERDEDOR J14
L128: X
K129: =IF(OR(K128="",M127=""),"",SUM(K127:K128)) | M129: =IF(OR(K128="",M127=""),"",SUM(M127:M128))
B131: DISPUTA DO 5º LUGAR
I134: RODADAS #27 e 28
B136: J22 | C136: =IF(OR(K69="",M69=""),"VENCEDOR J13",IF(K69>M69,C67,N67)) -> VENCEDOR J13 | L136: X | N136: =IF(OR(K72="",M72=""),"VENCEDOR J14",IF(K72>M72,C70,N70)) -> VENCEDOR J14
L137: X
K138: =IF(OR(K137="",M136=""),"",SUM(K136:K137)) | M138: =IF(OR(K137="",M136=""),"",SUM(M136:M137))
B140: DISPUTA DO 3º LUGAR
I143: RODADAS #27 e 28
B145: J23 | C145: =IF(OR(K81="",M81=""),"PERDEDOR J15",IF(K81<M81,C79,N79)) -> PERDEDOR J15 | L145: X | N145: =IF(OR(K84="",M84=""),"PERDEDOR J16",IF(K84<M84,C82,N82)) -> PERDEDOR J16
L146: X
K147: =IF(OR(K146="",M145=""),"",SUM(K145:K146)) | M147: =IF(OR(K146="",M145=""),"",SUM(M145:M146))
B149: FINAL
I152: RODADAS #27 e 28
B154: J24 | C154: =IF(OR(K81="",M81=""),"VENCEDOR J15",IF(K81>M81,C79,N79)) -> VENCEDOR J15 | L154: X | N154: =IF(OR(K84="",M84=""),"VENDEDOR J16",IF(K84>M84,C82,N82)) -> VENDEDOR J16
L155: X
K156: =IF(OR(K155="",M154=""),"",SUM(K154:K155)) | M156: =IF(OR(K155="",M154=""),"",SUM(M154:M155))
...
