Workbook

Sheet Grupo M
B14: RECOPA EUROPEIA
B18: 1ª FASE
D22: CLASSIFICAÇÃO
D27: OBS: Os 4 melhores colocados no Grupo se classificarão para a 2ª FASE.
Q28: Legenda
D29: GRUPO M | Q29: P - pontos
Q30: V3P - Vitória por 3 pontos
D31: Pos. | E31: CARTOLA | F31: J | G31: P | H31: V3P | I31: V2P | J31: E | K31: D | L31: PPC | M31: PCC | N31: SP | O31: % APR. | Q31: V2P - Vitória por 2 pontos | U31: Pos. | V31: TIMES | W31: J | X31: P | Y31: V 3P | Z31: V 2P | AA31: E | AB31: D | AC31: GF | AD31: GC | AE31: SG | AF31: % APR. | AG31: calc | AH31: maior | AI31: corresp
D32: 1º | E32: =VLOOKUP(AI32,$U$32:$AH$39,2) -> 13º CAMPEONATO INGLÊS | F32: =VLOOKUP(AI32,$U$32:$AH$39,3) -> 0 | G32: =VLOOKUP(AI32,$U$32:$AH$39,4) -> 0 | H32: =VLOOKUP(AI32,$U$32:$AH$39,5) -> 0 | I32: =VLOOKUP(AI32,$U$32:$AH$39,6) -> 0 | J32: =VLOOKUP(AI32,$U$32:$AH$39,7) -> 0 | K32: =VLOOKUP(AI32,$U$32:$AH$39,8) -> 0 | L32: =VLOOKUP(AI32,$U$32:$AH$39,9) -> 0 | M32: =VLOOKUP(AI32,$U$32:$AH$39,10) -> 0 | N32: =VLOOKUP(AI32,$U$32:$AH$39,11) -> 0 | O32: =VLOOKUP(AI32,$U$32:$AH$39,12) -> 0 | Q32: E - Empate | U32: 1 | V32: 16º CAMPEONATO ITALIANO | W32: =COUNT(H47,H52,H61,H70,H78,H87,H95,#REF!,#REF!,#REF!,#REF!,#REF!,#REF!,#REF!) -> 0 | X32: =SUM(Q47,Q52,Q61,Q70,Q78,Q87,Q95) -> 0 | Y32: =SUM(COUNTIFS($C$43:$C$96,3,$D$43:$D$96,V32),COUNTIFS($I$43:$I$96,V32,$Q$43:$Q$96,3)) -> 0 | Z32: =SUM(COUNTIFS($C$43:$C$96,2,$D$43:$D$96,V32),COUNTIFS($I$43:$I$96,V32,$Q$43:$Q$96,2)) -> 0 | AA32: =SUM(COUNTIFS($C$43:$C$96,1,$D$43:$D$96,V32),COUNTIFS($I$43:$I$96,V32,$Q$43:$Q$96,1)) -> 0 | AB32: =SUM(COUNTIFS($C$43:$C$96,0,$D$43:$D$96,V32),COUNTIFS($I$43:$I$96,V32,$Q$43:$Q$96,0)) -> 0 | AC32: =SUM(H47,H52,H61,H70,H78,H87,H95) -> 0 | AD32: =SUM(F47,F52,F61,F70,F78,F87,F95) -> 0 | AE32: =AC32-AD32 -> 0 | AF32: =IF(OR($F$44="",$H$44=""),0,(X32/(W32*3))) -> 0 | AG32: =(X32*10^10)+((AC32+5000)*10^6)+(AE32*10)+U32 -> 5000000001 | AH32: =LARGE($AG$32:$AG$39,U32) -> 5000000008 | AI32: =MATCH(AH32,$AG$32:$AG$39,0) -> 8
D33: 2º | E33: =VLOOKUP(AI33,$U$32:$AH$39,2) -> 13º CAMPEONATO ITALIANO | F33: =VLOOKUP(AI33,$U$32:$AH$39,3) -> 0 | G33: =VLOOKUP(AI33,$U$32:$AH$39,4) -> 0 | H33: =VLOOKUP(AI33,$U$32:$AH$39,5) -> 0 | I33: =VLOOKUP(AI33,$U$32:$AH$39,6) -> 0 | J33: =VLOOKUP(AI33,$U$32:$AH$39,7) -> 0 | K33: =VLOOKUP(AI33,$U$32:$AH$39,8) -> 0 | L33: =VLOOKUP(AI33,$U$32:$AH$39,9) -> 0 | M33: =VLOOKUP(AI33,$U$32:$AH$39,10) -> 0 | N33: =VLOOKUP(AI33,$U$32:$AH$39,11) -> 0 | O33: =VLOOKUP(AI33,$U$32:$AH$39,12) -> 0 | Q33: D - Derrota | U33: 2 | V33: 16º CAMPEONATO INGLÊS | W33: =COUNT(H46,H53,H60,H71,H79,H86,F95,#REF!,#REF!,#REF!,#REF!,#REF!,#REF!,#REF!) -> 0 | X33: =SUM(Q46,Q53,Q60,Q71,Q79,Q86,C95) -> 0 | Y33: =SUM(COUNTIFS($C$43:$C$96,3,$D$43:$D$96,V33),COUNTIFS($I$43:$I$96,V33,$Q$43:$Q$96,3)) -> 0 | Z33: =SUM(COUNTIFS($C$43:$C$96,2,$D$43:$D$96,V33),COUNTIFS($I$43:$I$96,V33,$Q$43:$Q$96,2)) -> 0 | AA33: =SUM(COUNTIFS($C$43:$C$96,1,$D$43:$D$96,V33),COUNTIFS($I$43:$I$96,V33,$Q$43:$Q$96,1)) -> 0 | AB33: =SUM(COUNTIFS($C$43:$C$96,0,$D$43:$D$96,V33),COUNTIFS($I$43:$I$96,V33,$Q$43:$Q$96,0)) -> 0 | AC33: =SUM(H46,H53,H60,H71,H79,H86,F95) -> 0 | AD33: =SUM(F46,F53,F60,F71,F79,F86,H95,) -> 0 | AE33: =AC33-AD33 -> 0 | AF33: =IF(OR($F$44="",$H$44=""),0,(X33/(W33*3))) -> 0 | AG33: =(X33*10^10)+((AC33+5000)*10^6)+(AE33*10)+U33 -> 5000000002 | AH33: =LARGE($AG$32:$AG$39,U33) -> 5000000007 | AI33: =MATCH(AH33,$AG$32:$AG$39,0) -> 7
D34: 3º | E34: =VLOOKUP(AI34,$U$32:$AH$39,2) -> 14º CAMPEONATO ESPANHOL | F34: =VLOOKUP(AI34,$U$32:$AH$39,3) -> 0 | G34: =VLOOKUP(AI34,$U$32:$AH$39,4) -> 0 | H34: =VLOOKUP(AI34,$U$32:$AH$39,5) -> 0 | I34: =VLOOKUP(AI34,$U$32:$AH$39,6) -> 0 | J34: =VLOOKUP(AI34,$U$32:$AH$39,7) -> 0 | K34: =VLOOKUP(AI34,$U$32:$AH$39,8) -> 0 | L34: =VLOOKUP(AI34,$U$32:$AH$39,9) -> 0 | M34: =VLOOKUP(AI34,$U$32:$AH$39,10) -> 0 | N34: =VLOOKUP(AI34,$U$32:$AH$39,11) -> 0 | O34: =VLOOKUP(AI34,$U$32:$AH$39,12) -> 0 | Q34: PPC - Pontos pró Cartola | U34: 3 | V34: 15º CAMPEONATO ESPANHOL | W34: =COUNT(H45,H54,H63,H68,F79,F87,H94,#REF!,#REF!,#REF!,#REF!,#REF!,#REF!,#REF!) -> 0 | X34: =SUM(Q45,Q54,Q63,Q68,C79,C87,Q94) -> 0 | Y34: =SUM(COUNTIFS($C$43:$C$96,3,$D$43:$D$96,V34),COUNTIFS($I$43:$I$96,V34,$Q$43:$Q$96,3)) -> 0 | Z34: =SUM(COUNTIFS($C$43:$C$96,2,$D$43:$D$96,V34),COUNTIFS($I$43:$I$96,V34,$Q$43:$Q$96,2)) -> 0 | AA34: =SUM(COUNTIFS($C$43:$C$96,1,$D$43:$D$96,V34),COUNTIFS($I$43:$I$96,V34,$Q$43:$Q$96,1)) -> 0 | AB34: =SUM(COUNTIFS($C$43:$C$96,0,$D$43:$D$96,V34),COUNTIFS($I$43:$I$96,V34,$Q$43:$Q$96,0)) -> 0 | AC34: =SUM(H45,H54,H63,H68,F79,F87,H94) -> 0 | AD34: =SUM(F45,F54,F63,F68,H79,H87,F94) -> 0 | AE34: =AC34-AD34 -> 0 | AF34: =IF(OR($F$44="",$H$44=""),0,(X34/(W34*3))) -> 0 | AG34: =(X34*10^10)+((AC34+5000)*10^6)+(AE34*10)+U34 -> 5000000003 | AH34: =LARGE($AG$32:$AG$39,U34) -> 5000000006 | AI34: =MATCH(AH34,$AG$32:$AG$39,0) -> 6
D35: 4º | E35: =VLOOKUP(AI35,$U$32:$AH$39,2) -> 14º CAMPEONATO ALEMÃO | F35: =VLOOKUP(AI35,$U$32:$AH$39,3) -> 0 | G35: =VLOOKUP(AI35,$U$32:$AH$39,4) -> 0 | H35: =VLOOKUP(AI35,$U$32:$AH$39,5) -> 0 | I35: =VLOOKUP(AI35,$U$32:$AH$39,6) -> 0 | J35: =VLOOKUP(AI35,$U$32:$AH$39,7) -> 0 | K35: =VLOOKUP(AI35,$U$32:$AH$39,8) -> 0 | L35: =VLOOKUP(AI35,$U$32:$AH$39,9) -> 0 | M35: =VLOOKUP(AI35,$U$32:$AH$39,10) -> 0 | N35: =VLOOKUP(AI35,$U$32:$AH$39,11) -> 0 | O35: =VLOOKUP(AI35,$U$32:$AH$39,12) -> 0 | Q35: PCC - pontos contra Cartola | U35: 4 | V35: 15º CAMPEONATO ALEMÃO | W35: =COUNT(H44,H55,H62,H69,F78,F86,F94,#REF!,#REF!,#REF!,#REF!,#REF!,#REF!,#REF!) -> 0 | X35: =SUM(Q44,Q55,Q62,Q69,C78,C86,C94,) -> 0 | Y35: =SUM(COUNTIFS($C$43:$C$96,3,$D$43:$D$96,V35),COUNTIFS($I$43:$I$96,V35,$Q$43:$Q$96,3)) -> 0 | Z35: =SUM(COUNTIFS($C$43:$C$96,2,$D$43:$D$96,V35),COUNTIFS($I$43:$I$96,V35,$Q$43:$Q$96,2)) -> 0 | AA35: =SUM(COUNTIFS($C$43:$C$96,1,$D$43:$D$96,V35),COUNTIFS($I$43:$I$96,V35,$Q$43:$Q$96,1)) -> 0 | AB35: =SUM(COUNTIFS($C$43:$C$96,0,$D$43:$D$96,V35),COUNTIFS($I$43:$I$96,V35,$Q$43:$Q$96,0)) -> 0 | AC35: =SUM(H44,H55,H62,H69,F78,F86,F94) -> 0 | AD35: =SUM(F44,F55,F62,F69,H78,H86,H94) -> 0 | AE35: =AC35-AD35 -> 0 | AF35: =IF(OR($F$44="",$H$44=""),0,(X35/(W35*3))) -> 0 | AG35: =(X35*10^10)+((AC35+5000)*10^6)+(AE35*10)+U35 -> 5000000004 | AH35: =LARGE($AG$32:$AG$39,U35) -> 5000000005 | AI35: =MATCH(AH35,$AG$32:$AG$39,0) -> 5
D36: 5º | E36: =VLOOKUP(AI36,$U$32:$AH$39,2) -> 15º CAMPEONATO ALEMÃO | F36: =VLOOKUP(AI36,$U$32:$AH$39,3) -> 0 | G36: =VLOOKUP(AI36,$U$32:$AH$39,4) -> 0 | H36: =VLOOKUP(AI36,$U$32:$AH$39,5) -> 0 | I36: =VLOOKUP(AI36,$U$32:$AH$39,6) -> 0 | J36: =VLOOKUP(AI36,$U$32:$AH$39,7) -> 0 | K36: =VLOOKUP(AI36,$U$32:$AH$39,8) -> 0 | L36: =VLOOKUP(AI36,$U$32:$AH$39,9) -> 0 | M36: =VLOOKUP(AI36,$U$32:$AH$39,10) -> 0 | N36: =VLOOKUP(AI36,$U$32:$AH$39,11) -> 0 | O36: =VLOOKUP(AI36,$U$32:$AH$39,12) -> 0 | Q36: SP - saldo de pontos | U36: 5 | V36: 14º CAMPEONATO ALEMÃO | W36: =COUNT(F47,F55,F63,F71,H76,H85,H93,#REF!,#REF!,#REF!,#REF!,#REF!,#REF!,#REF!) -> 0 | X36: =SUM(C47,C55,C63,C71,Q76,Q85,Q93) -> 0 | Y36: =SUM(COUNTIFS($C$43:$C$96,3,$D$43:$D$96,V36),COUNTIFS($I$43:$I$96,V36,$Q$43:$Q$96,3)) -> 0 | Z36: =SUM(COUNTIFS($C$43:$C$96,2,$D$43:$D$96,V36),COUNTIFS($I$43:$I$96,V36,$Q$43:$Q$96,2)) -> 0 | AA36: =SUM(COUNTIFS($C$43:$C$96,1,$D$43:$D$96,V36),COUNTIFS($I$43:$I$96,V36,$Q$43:$Q$96,1)) -> 0 | AB36: =SUM(COUNTIFS($C$43:$C$96,0,$D$43:$D$96,V36),COUNTIFS($I$43:$I$96,V36,$Q$43:$Q$96,0)) -> 0 | AC36: =SUM(F47,F55,F63,F71,H76,H85,H93) -> 0 | AD36: =SUM(H47,H55,H63,H71,F76,F85,F93) -> 0 | AE36: =AC36-AD36 -> 0 | AF36: =IF(OR($F$44="",$H$44=""),0,(X36/(W36*3))) -> 0 | AG36: =(X36*10^10)+((AC36+5000)*10^6)+(AE36*10)+U36 -> 5000000005 | AH36: =LARGE($AG$32:$AG$39,U36) -> 5000000004 | AI36: =MATCH(AH36,$AG$32:$AG$39,0) -> 4
D37: 6º | E37: =VLOOKUP(AI37,$U$32:$AH$39,2) -> 15º CAMPEONATO ESPANHOL | F37: =VLOOKUP(AI37,$U$32:$AH$39,3) -> 0 | G37: =VLOOKUP(AI37,$U$32:$AH$39,4) -> 0 | H37: =VLOOKUP(AI37,$U$32:$AH$39,5) -> 0 | I37: =VLOOKUP(AI37,$U$32:$AH$39,6) -> 0 | J37: =VLOOKUP(AI37,$U$32:$AH$39,7) -> 0 | K37: =VLOOKUP(AI37,$U$32:$AH$39,8) -> 0 | L37: =VLOOKUP(AI37,$U$32:$AH$39,9) -> 0 | M37: =VLOOKUP(AI37,$U$32:$AH$39,10) -> 0 | N37: =VLOOKUP(AI37,$U$32:$AH$39,11) -> 0 | O37: =VLOOKUP(AI37,$U$32:$AH$39,12) -> 0 | Q37: % APR. - Aproveitamento | U37: 6 | V37: 14º CAMPEONATO ESPANHOL | W37: =COUNT(F46,F54,F62,F70,H77,H84,F93,#REF!,#REF!,#REF!,#REF!,#REF!,#REF!,#REF!) -> 0 | X37: =SUM(C46,C54,C62,C70,Q77,Q84,C93) -> 0 | Y37: =SUM(COUNTIFS($C$43:$C$96,3,$D$43:$D$96,V37),COUNTIFS($I$43:$I$96,V37,$Q$43:$Q$96,3)) -> 0 | Z37: =SUM(COUNTIFS($C$43:$C$96,2,$D$43:$D$96,V37),COUNTIFS($I$43:$I$96,V37,$Q$43:$Q$96,2)) -> 0 | AA37: =SUM(COUNTIFS($C$43:$C$96,1,$D$43:$D$96,V37),COUNTIFS($I$43:$I$96,V37,$Q$43:$Q$96,1)) -> 0 | AB37: =SUM(COUNTIFS($C$43:$C$96,0,$D$43:$D$96,V37),COUNTIFS($I$43:$I$96,V37,$Q$43:$Q$96,0)) -> 0 | AC37: =SUM(F46,F54,F62,F70,H77,H84,F93) -> 0 | AD37: =SUM(H46,H54,H62,H70,F84,F77,H93) -> 0 | AE37: =AC37-AD37 -> 0 | AF37: =IF(OR($F$44="",$H$44=""),0,(X37/(W37*3))) -> 0 | AG37: =(X37*10^10)+((AC37+5000)*10^6)+(AE37*10)+U37 -> 5000000006 | AH37: =LARGE($AG$32:$AG$39,U37) -> 5000000003 | AI37: =MATCH(AH37,$AG$32:$AG$39,0) -> 3
D38: 7º | E38: =VLOOKUP(AI38,$U$32:$AH$39,2) -> 16º CAMPEONATO INGLÊS | F38: =VLOOKUP(AI38,$U$32:$AH$39,3) -> 0 | G38: =VLOOKUP(AI38,$U$32:$AH$39,4) -> 0 | H38: =VLOOKUP(AI38,$U$32:$AH$39,5) -> 0 | I38: =VLOOKUP(AI38,$U$32:$AH$39,6) -> 0 | J38: =VLOOKUP(AI38,$U$32:$AH$39,7) -> 0 | K38: =VLOOKUP(AI38,$U$32:$AH$39,8) -> 0 | L38: =VLOOKUP(AI38,$U$32:$AH$39,9) -> 0 | M38: =VLOOKUP(AI38,$U$32:$AH$39,10) -> 0 | N38: =VLOOKUP(AI38,$U$32:$AH$39,11) -> 0 | O38: =VLOOKUP(AI38,$U$32:$AH$39,12) -> 0 | R38: CLASSIFICADO | U38: 7 | V38: 13º CAMPEONATO ITALIANO | W38: =COUNT(F45,F53,F61,F69,F77,F85,H92,#REF!,#REF!,#REF!,#REF!,#REF!,#REF!,#REF!) -> 0 | X38: =SUM(C45,C53,C61,C69,C77,C85,Q92) -> 0 | Y38: =SUM(COUNTIFS($C$43:$C$96,3,$D$43:$D$96,V38),COUNTIFS($I$43:$I$96,V38,$Q$43:$Q$96,3)) -> 0 | Z38: =SUM(COUNTIFS($C$43:$C$96,2,$D$43:$D$96,V38),COUNTIFS($I$43:$I$96,V38,$Q$43:$Q$96,2)) -> 0 | AA38: =SUM(COUNTIFS($C$43:$C$96,1,$D$43:$D$96,V38),COUNTIFS($I$43:$I$96,V38,$Q$43:$Q$96,1)) -> 0 | AB38: =SUM(COUNTIFS($C$43:$C$96,0,$D$43:$D$96,V38),COUNTIFS($I$43:$I$96,V38,$Q$43:$Q$96,0)) -> 0 | AC38: =SUM(F45,F53,F61,F69,F77,F85,H92) -> 0 | AD38: =SUM(H45,H53,H61,H69,H77,H85,F92) -> 0 | AE38: =AC38-AD38 -> 0 | AF38: =IF(OR($F$44="",$H$44=""),0,(X38/(W38*3))) -> 0 | AG38: =(X38*10^10)+((AC38+5000)*10^6)+(AE38*10)+U38 -> 5000000007 | AH38: =LARGE($AG$32:$AG$39,U38) -> 5000000002 | AI38: =MATCH(AH38,$AG$32:$AG$39,0) -> 2
D39: 8º | E39: =VLOOKUP(AI39,$U$32:$AH$39,2) -> 16º CAMPEONATO ITALIANO | F39: =VLOOKUP(AI39,$U$32:$AH$39,3) -> 0 | G39: =VLOOKUP(AI39,$U$32:$AH$39,4) -> 0 | H39: =VLOOKUP(AI39,$U$32:$AH$39,5) -> 0 | I39: =VLOOKUP(AI39,$U$32:$AH$39,6) -> 0 | J39: =VLOOKUP(AI39,$U$32:$AH$39,7) -> 0 | K39: =VLOOKUP(AI39,$U$32:$AH$39,8) -> 0 | L39: =VLOOKUP(AI39,$U$32:$AH$39,9) -> 0 | M39: =VLOOKUP(AI39,$U$32:$AH$39,10) -> 0 | N39: =VLOOKUP(AI39,$U$32:$AH$39,11) -> 0 | O39: =VLOOKUP(AI39,$U$32:$AH$39,12) -> 0 | R39: Disputa do 9º lugar | U39: 8 | V39: 13º CAMPEONATO INGLÊS | W39: =COUNT(F44,F52,F60,F68,F76,F84,F92,#REF!,#REF!,#REF!,#REF!,#REF!,#REF!,#REF!) -> 0 | X39: =SUM(C44,C52,C60,C68,C76,C84,C92) -> 0 | Y39: =SUM(COUNTIFS($C$43:$C$96,3,$D$43:$D$96,V39),COUNTIFS($I$43:$I$96,V39,$Q$43:$Q$96,3)) -> 0 | Z39: =SUM(COUNTIFS($C$43:$C$96,2,$D$43:$D$96,V39),COUNTIFS($I$43:$I$96,V39,$Q$43:$Q$96,2)) -> 0 | AA39: =SUM(COUNTIFS($C$43:$C$96,1,$D$43:$D$96,V39),COUNTIFS($I$43:$I$96,V39,$Q$43:$Q$96,1)) -> 0 | AB39: =SUM(COUNTIFS($C$43:$C$96,0,$D$43:$D$96,V39),COUNTIFS($I$43:$I$96,V39,$Q$43:$Q$96,0)) -> 0 | AC39: =SUM(F44,F52,F60,F68,F76,F84,F92) -> 0 | AD39: =SUM(H44,H52,H60,H68,H76,H84,H92) -> 0 | AE39: =AC39-AD39 -> 0 | AF39: =IF(OR($F$44="",$H$44=""),0,(X39/(W39*3))) -> 0 | AG39: =(X39*10^10)+((AC39+5000)*10^6)+(AE39*10)+U39 -> 5000000008 | AH39: =LARGE($AG$32:$AG$39,U39) -> 5000000001 | AI39: =MATCH(AH39,$AG$32:$AG$39,0) -> 1
D41: 1ª RODADA - #16
C44: =IF(OR(F44="",H44=""),"",IF(F44=H44,1,IF(F44<H44,0,IF(F44-H44<10,2,IF(F44>H44,3,SE))))) | D44: =V39 -> 13º CAMPEONATO INGLÊS | G44: x | I44: =V35 -> 15º CAMPEONATO ALEMÃO | Q44: =IF(OR(H44="",F44=""),"",IF(H44=F44,1,IF(H44<F44,0,IF(H44-F44<10,2,IF(H44>F44,3,SE)))))
C45: =IF(OR(F45="",H45=""),"",IF(F45=H45,1,IF(F45<H45,0,IF(F45-H45<10,2,IF(F45>H45,3,SE))))) | D45: =V38 -> 13º CAMPEONATO ITALIANO | G45: x | I45: =V34 -> 15º CAMPEONATO ESPANHOL | Q45: =IF(OR(H45="",F45=""),"",IF(H45=F45,1,IF(H45<F45,0,IF(H45-F45<10,2,IF(H45>F45,3,SE)))))
C46: =IF(OR(F46="",H46=""),"",IF(F46=H46,1,IF(F46<H46,0,IF(F46-H46<10,2,IF(F46>H46,3,SE))))) | D46: =V37 -> 14º CAMPEONATO ESPANHOL | G46: x | I46: =V33 -> 16º CAMPEONATO INGLÊS | Q46: =IF(OR(H46="",F46=""),"",IF(H46=F46,1,IF(H46<F46,0,IF(H46-F46<10,2,IF(H46>F46,3,SE)))))
C47: =IF(OR(F47="",H47=""),"",IF(F47=H47,1,IF(F47<H47,0,IF(F47-H47<10,2,IF(F47>H47,3,SE))))) | D47: =V36 -> 14º CAMPEONATO ALEMÃO | G47: x | I47: =V32 -> 16º CAMPEONATO ITALIANO | Q47: =IF(OR(H47="",F47=""),"",IF(H47=F47,1,IF(H47<F47,0,IF(H47-F47<10,2,IF(H47>F47,3,SE)))))
C48: =IF(OR(F48="",H48=""),"",IF(F48=H48,1,IF(F48<H48,0,IF(F48-H48<10,2,IF(F48>H48,3,SE))))) | Q48: =IF(OR(H48="",F48=""),"",IF(H48=F48,1,IF(H48<F48,0,IF(H48-F48<10,2,IF(H48>F48,3,SE)))))
C49: =IF(OR(F49="",H49=""),"",IF(F49=H49,1,IF(F49<H49,0,IF(F49-H49<10,2,IF(F49>H49,3,SE))))) | D49: 2ª RODADA - #17 | Q49: =IF(OR(H49="",F49=""),"",IF(H49=F49,1,IF(H49<F49,0,IF(H49-F49<10,2,IF(H49>F49,3,SE)))))
C50: =IF(OR(F50="",H50=""),"",IF(F50=H50,1,IF(F50<H50,0,IF(F50-H50<10,2,IF(F50>H50,3,SE))))) | Q50: =IF(OR(H50="",F50=""),"",IF(H50=F50,1,IF(H50<F50,0,IF(H50-F50<10,2,IF(H50>F50,3,SE)))))
C51: =IF(OR(F51="",H51=""),"",IF(F51=H51,1,IF(F51<H51,0,IF(F51-H51<10,2,IF(F51>H51,3,SE))))) | Q51: =IF(OR(H51="",F51=""),"",IF(H51=F51,1,IF(H51<F51,0,IF(H51-F51<10,2,IF(H51>F51,3,SE)))))
C52: =IF(OR(F52="",H52=""),"",IF(F52=H52,1,IF(F52<H52,0,IF(F52-H52<10,2,IF(F52>H52,3,SE))))) | D52: =V39 -> 13º CAMPEONATO INGLÊS | G52: x | I52: =V32 -> 16º CAMPEONATO ITALIANO | Q52: =IF(OR(H52="",F52=""),"",IF(H52=F52,1,IF(H52<F52,0,IF(H52-F52<10,2,IF(H52>F52,3,SE)))))
C53: =IF(OR(F53="",H53=""),"",IF(F53=H53,1,IF(F53<H53,0,IF(F53-H53<10,2,IF(F53>H53,3,SE))))) | D53: =V38 -> 13º CAMPEONATO ITALIANO | G53: x | I53: =V33 -> 16º CAMPEONATO INGLÊS | Q53: =IF(OR(H53="",F53=""),"",IF(H53=F53,1,IF(H53<F53,0,IF(H53-F53<10,2,IF(H53>F53,3,SE)))))
C54: =IF(OR(F54="",H54=""),"",IF(F54=H54,1,IF(F54<H54,0,IF(F54-H54<10,2,IF(F54>H54,3,SE))))) | D54: =V37 -> 14º CAMPEONATO ESPANHOL | G54: x | I54: =V34 -> 15º CAMPEONATO ESPANHOL | Q54: =IF(OR(H54="",F54=""),"",IF(H54=F54,1,IF(H54<F54,0,IF(H54-F54<10,2,IF(H54>F54,3,SE)))))
C55: =IF(OR(F55="",H55=""),"",IF(F55=H55,1,IF(F55<H55,0,IF(F55-H55<10,2,IF(F55>H55,3,SE))))) | D55: =V36 -> 14º CAMPEONATO ALEMÃO | G55: x | I55: =V35 -> 15º CAMPEONATO ALEMÃO | Q55: =IF(OR(H55="",F55=""),"",IF(H55=F55,1,IF(H55<F55,0,IF(H55-F55<10,2,IF(H55>F55,3,SE)))))
C56: =IF(OR(F56="",H56=""),"",IF(F56=H56,1,IF(F56<H56,0,IF(F56-H56<10,2,IF(F56>H56,3,SE))))) | Q56: =IF(OR(H56="",F56=""),"",IF(H56=F56,1,IF(H56<F56,0,IF(H56-F56<10,2,IF(H56>F56,3,SE)))))
C57: =IF(OR(F57="",H57=""),"",IF(F57=H57,1,IF(F57<H57,0,IF(F57-H57<10,2,IF(F57>H57,3,SE))))) | D57: 3ª RODADA - #18 | Q57: =IF(OR(H57="",F57=""),"",IF(H57=F57,1,IF(H57<F57,0,IF(H57-F57<10,2,IF(H57>F57,3,SE)))))
C58: =IF(OR(F58="",H58=""),"",IF(F58=H58,1,IF(F58<H58,0,IF(F58-H58<10,2,IF(F58>H58,3,SE))))) | Q58: =IF(OR(H58="",F58=""),"",IF(H58=F58,1,IF(H58<F58,0,IF(H58-F58<10,2,IF(H58>F58,3,SE)))))
C59: =IF(OR(F59="",H59=""),"",IF(F59=H59,1,IF(F59<H59,0,IF(F59-H59<10,2,IF(F59>H59,3,SE))))) | Q59: =IF(OR(H59="",F59=""),"",IF(H59=F59,1,IF(H59<F59,0,IF(H59-F59<10,2,IF(H59>F59,3,SE)))))
C60: =IF(OR(F60="",H60=""),"",IF(F60=H60,1,IF(F60<H60,0,IF(F60-H60<10,2,IF(F60>H60,3,SE))))) | D60: =V39 -> 13º CAMPEONATO INGLÊS | G60: x | I60: =V33 -> 16º CAMPEONATO INGLÊS | Q60: =IF(OR(H60="",F60=""),"",IF(H60=F60,1,IF(H60<F60,0,IF(H60-F60<10,2,IF(H60>F60,3,SE)))))
C61: =IF(OR(F61="",H61=""),"",IF(F61=H61,1,IF(F61<H61,0,IF(F61-H61<10,2,IF(F61>H61,3,SE))))) | D61: =V38 -> 13º CAMPEONATO ITALIANO | G61: x | I61: =V32 -> 16º CAMPEONATO ITALIANO | Q61: =IF(OR(H61="",F61=""),"",IF(H61=F61,1,IF(H61<F61,0,IF(H61-F61<10,2,IF(H61>F61,3,SE)))))
C62: =IF(OR(F62="",H62=""),"",IF(F62=H62,1,IF(F62<H62,0,IF(F62-H62<10,2,IF(F62>H62,3,SE))))) | D62: =V37 -> 14º CAMPEONATO ESPANHOL | G62: x | I62: =V35 -> 15º CAMPEONATO ALEMÃO | Q62: =IF(OR(H62="",F62=""),"",IF(H62=F62,1,IF(H62<F62,0,IF(H62-F62<10,2,IF(H62>F62,3,SE)))))
C63: =IF(OR(F63="",H63=""),"",IF(F63=H63,1,IF(F63<H63,0,IF(F63-H63<10,2,IF(F63>H63,3,SE))))) | D63: =V36 -> 14º CAMPEONATO ALEMÃO | G63: x | I63: =V34 -> 15º CAMPEONATO ESPANHOL | Q63: =IF(OR(H63="",F63=""),"",IF(H63=F63,1,IF(H63<F63,0,IF(H63-F63<10,2,IF(H63>F63,3,SE)))))
C64: =IF(OR(F64="",H64=""),"",IF(F64=H64,1,IF(F64<H64,0,IF(F64-H64<10,2,IF(F64>H64,3,SE))))) | Q64: =IF(OR(H64="",F64=""),"",IF(H64=F64,1,IF(H64<F64,0,IF(H64-F64<10,2,IF(H64>F64,3,SE)))))
C65: =IF(OR(F65="",H65=""),"",IF(F65=H65,1,IF(F65<H65,0,IF(F65-H65<10,2,IF(F65>H65,3,SE))))) | D65: 4ª RODADA - #19 | Q65: =IF(OR(H65="",F65=""),"",IF(H65=F65,1,IF(H65<F65,0,IF(H65-F65<10,2,IF(H65>F65,3,SE)))))
C66: =IF(OR(F66="",H66=""),"",IF(F66=H66,1,IF(F66<H66,0,IF(F66-H66<10,2,IF(F66>H66,3,SE))))) | Q66: =IF(OR(H66="",F66=""),"",IF(H66=F66,1,IF(H66<F66,0,IF(H66-F66<10,2,IF(H66>F66,3,SE)))))
...

Sheet Grupo N
B14: RECOPA EUROPEIA
B18: 1ª FASE
D22: CLASSIFICAÇÃO
D27: OBS: Os 4 melhores colocados no Grupo se classificarão para a 2ª FASE.
Q28: Legenda
D29: GRUPO N | Q29: P - pontos
Q30: V3P - Vitória por 3 pontos
D31: Pos. | E31: CARTOLA | F31: J | G31: P | H31: V3P | I31: V2P | J31: E | K31: D | L31: PPC | M31: PCC | N31: SP | O31: % APR. | Q31: V2P - Vitória por 2 pontos | U31: Pos. | V31: TIMES | W31: J | X31: P | Y31: V 3P | Z31: V 2P | AA31: E | AB31: D | AC31: GF | AD31: GC | AE31: SG | AF31: % APR. | AG31: calc | AH31: maior | AI31: corresp
D32: 1º | E32: =VLOOKUP(AI32,$U$32:$AH$39,2) -> 13º CAMPEONATO ESPANHOL | F32: =VLOOKUP(AI32,$U$32:$AH$39,3) -> 0 | G32: =VLOOKUP(AI32,$U$32:$AH$39,4) -> 0 | H32: =VLOOKUP(AI32,$U$32:$AH$39,5) -> 0 | I32: =VLOOKUP(AI32,$U$32:$AH$39,6) -> 0 | J32: =VLOOKUP(AI32,$U$32:$AH$39,7) -> 0 | K32: =VLOOKUP(AI32,$U$32:$AH$39,8) -> 0 | L32: =VLOOKUP(AI32,$U$32:$AH$39,9) -> 0 | M32: =VLOOKUP(AI32,$U$32:$AH$39,10) -> 0 | N32: =VLOOKUP(AI32,$U$32:$AH$39,11) -> 0 | O32: =VLOOKUP(AI32,$U$32:$AH$39,12) -> 0 | Q32: E - Empate | U32: 1 | V32: 16º CAMPEONATO ESPANHOL | W32: =COUNT(H47,H52,H61,H70,H78,H87,H95,#REF!,#REF!,#REF!,#REF!,#REF!,#REF!,#REF!) -> 0 | X32: =SUM(Q47,Q52,Q61,Q70,Q78,Q87,Q95) -> 0 | Y32: =SUM(COUNTIFS($C$43:$C$96,3,$D$43:$D$96,V32),COUNTIFS($I$43:$I$96,V32,$Q$43:$Q$96,3)) -> 0 | Z32: =SUM(COUNTIFS($C$43:$C$96,2,$D$43:$D$96,V32),COUNTIFS($I$43:$I$96,V32,$Q$43:$Q$96,2)) -> 0 | AA32: =SUM(COUNTIFS($C$43:$C$96,1,$D$43:$D$96,V32),COUNTIFS($I$43:$I$96,V32,$Q$43:$Q$96,1)) -> 0 | AB32: =SUM(COUNTIFS($C$43:$C$96,0,$D$43:$D$96,V32),COUNTIFS($I$43:$I$96,V32,$Q$43:$Q$96,0)) -> 0 | AC32: =SUM(H47,H52,H61,H70,H78,H87,H95) -> 0 | AD32: =SUM(F47,F52,F61,F70,F78,F87,F95) -> 0 | AE32: =AC32-AD32 -> 0 | AF32: =IF(OR($F$44="",$H$44=""),0,(X32/(W32*3))) -> 0 | AG32: =(X32*10^10)+((AC32+5000)*10^6)+(AE32*10)+U32 -> 5000000001 | AH32: =LARGE($AG$32:$AG$39,U32) -> 5000000008 | AI32: =MATCH(AH32,$AG$32:$AG$39,0) -> 8
D33: 2º | E33: =VLOOKUP(AI33,$U$32:$AH$39,2) -> 13º CAMPEONATO ALEMÃO | F33: =VLOOKUP(AI33,$U$32:$AH$39,3) -> 0 | G33: =VLOOKUP(AI33,$U$32:$AH$39,4) -> 0 | H33: =VLOOKUP(AI33,$U$32:$AH$39,5) -> 0 | I33: =VLOOKUP(AI33,$U$32:$AH$39,6) -> 0 | J33: =VLOOKUP(AI33,$U$32:$AH$39,7) -> 0 | K33: =VLOOKUP(AI33,$U$32:$AH$39,8) -> 0 | L33: =VLOOKUP(AI33,$U$32:$AH$39,9) -> 0 | M33: =VLOOKUP(AI33,$U$32:$AH$39,10) -> 0 | N33: =VLOOKUP(AI33,$U$32:$AH$39,11) -> 0 | O33: =VLOOKUP(AI33,$U$32:$AH$39,12) -> 0 | Q33: D - Derrota | U33: 2 | V33: 16º CAMPEONATO ALEMÃO | W33: =COUNT(H46,H53,H60,H71,H79,H86,F95,#REF!,#REF!,#REF!,#REF!,#REF!,#REF!,#REF!) -> 0 | X33: =SUM(Q46,Q53,Q60,Q71,Q79,Q86,C95) -> 0 | Y33: =SUM(COUNTIFS($C$43:$C$96,3,$D$43:$D$96,V33),COUNTIFS($I$43:$I$96,V33,$Q$43:$Q$96,3)) -> 0 | Z33: =SUM(COUNTIFS($C$43:$C$96,2,$D$43:$D$96,V33),COUNTIFS($I$43:$I$96,V33,$Q$43:$Q$96,2)) -> 0 | AA33: =SUM(COUNTIFS($C$43:$C$96,1,$D$43:$D$96,V33),COUNTIFS($I$43:$I$96,V33,$Q$43:$Q$96,1)) -> 0 | AB33: =SUM(COUNTIFS($C$43:$C$96,0,$D$43:$D$96,V33),COUNTIFS($I$43:$I$96,V33,$Q$43:$Q$96,0)) -> 0 | AC33: =SUM(H46,H53,H60,H71,H79,H86,F95) -> 0 | AD33: =SUM(F46,F53,F60,F71,F79,F86,H95,) -> 0 | AE33: =AC33-AD33 -> 0 | AF33: =IF(OR($F$44="",$H$44=""),0,(X33/(W33*3))) -> 0 | AG33: =(X33*10^10)+((AC33+5000)*10^6)+(AE33*10)+U33 -> 5000000002 | AH33: =LARGE($AG$32:$AG$39,U33) -> 5000000007 | AI33: =MATCH(AH33,$AG$32:$AG$39,0) -> 7
D34: 3º | E34: =VLOOKUP(AI34,$U$32:$AH$39,2) -> 14º CAMPEONATO INGLÊS | F34: =VLOOKUP(AI34,$U$32:$AH$39,3) -> 0 | G34: =VLOOKUP(AI34,$U$32:$AH$39,4) -> 0 | H34: =VLOOKUP(AI34,$U$32:$AH$39,5) -> 0 | I34: =VLOOKUP(AI34,$U$32:$AH$39,6) -> 0 | J34: =VLOOKUP(AI34,$U$32:$AH$39,7) -> 0 | K34: =VLOOKUP(AI34,$U$32:$AH$39,8) -> 0 | L34: =VLOOKUP(AI34,$U$32:$AH$39,9) -> 0 | M34: =VLOOKUP(AI34,$U$32:$AH$39,10) -> 0 | N34: =VLOOKUP(AI34,$U$32:$AH$39,11) -> 0 | O34: =VLOOKUP(AI34,$U$32:$AH$39,12) -> 0 | Q34: PPC - Pontos pró Cartola | U34: 3 | V34: 15º CAMPEONATO ITALIANO | W34: =COUNT(H45,H54,H63,H68,F79,F87,H94,#REF!,#REF!,#REF!,#REF!,#REF!,#REF!,#REF!) -> 0 | X34: =SUM(Q45,Q54,Q63,Q68,C79,C87,Q94) -> 0 | Y34: =SUM(COUNTIFS($C$43:$C$96,3,$D$43:$D$96,V34),COUNTIFS($I$43:$I$96,V34,$Q$43:$Q$96,3)) -> 0 | Z34: =SUM(COUNTIFS($C$43:$C$96,2,$D$43:$D$96,V34),COUNTIFS($I$43:$I$96,V34,$Q$43:$Q$96,2)) -> 0 | AA34: =SUM(COUNTIFS($C$43:$C$96,1,$D$43:$D$96,V34),COUNTIFS($I$43:$I$96,V34,$Q$43:$Q$96,1)) -> 0 | AB34: =SUM(COUNTIFS($C$43:$C$96,0,$D$43:$D$96,V34),COUNTIFS($I$43:$I$96,V34,$Q$43:$Q$96,0)) -> 0 | AC34: =SUM(H45,H54,H63,H68,F79,F87,H94) -> 0 | AD34: =SUM(F45,F54,F63,F68,H79,H87,F94) -> 0 | AE34: =AC34-AD34 -> 0 | AF34: =IF(OR($F$44="",$H$44=""),0,(X34/(W34*3))) -> 0 | AG34: =(X34*10^10)+((AC34+5000)*10^6)+(AE34*10)+U34 -> 5000000003 | AH34: =LARGE($AG$32:$AG$39,U34) -> 5000000006 | AI34: =MATCH(AH34,$AG$32:$AG$39,0) -> 6
D35: 4º | E35: =VLOOKUP(AI35,$U$32:$AH$39,2) -> 14º CAMPEONATO ITALIANO | F35: =VLOOKUP(AI35,$U$32:$AH$39,3) -> 0 | G35: =VLOOKUP(AI35,$U$32:$AH$39,4) -> 0 | H35: =VLOOKUP(AI35,$U$32:$AH$39,5) -> 0 | I35: =VLOOKUP(AI35,$U$32:$AH$39,6) -> 0 | J35: =VLOOKUP(AI35,$U$32:$AH$39,7) -> 0 | K35: =VLOOKUP(AI35,$U$32:$AH$39,8) -> 0 | L35: =VLOOKUP(AI35,$U$32:$AH$39,9) -> 0 | M35: =VLOOKUP(AI35,$U$32:$AH$39,10) -> 0 | N35: =VLOOKUP(AI35,$U$32:$AH$39,11) -> 0 | O35: =VLOOKUP(AI35,$U$32:$AH$39,12) -> 0 | Q35: PCC - pontos contra Cartola | U35: 4 | V35: 15º CAMPEONATO INGLÊS | W35: =COUNT(H44,H55,H62,H69,F78,F86,F94,#REF!,#REF!,#REF!,#REF!,#REF!,#REF!,#REF!) -> 0 | X35: =SUM(Q44,Q55,Q62,Q69,C78,C86,C94,) -> 0 | Y35: =SUM(COUNTIFS($C$43:$C$96,3,$D$43:$D$96,V35),COUNTIFS($I$43:$I$96,V35,$Q$43:$Q$96,3)) -> 0 | Z35: =SUM(COUNTIFS($C$43:$C$96,2,$D$43:$D$96,V35),COUNTIFS($I$43:$I$96,V35,$Q$43:$Q$96,2)) -> 0 | AA35: =SUM(COUNTIFS($C$43:$C$96,1,$D$43:$D$96,V35),COUNTIFS($I$43:$I$96,V35,$Q$43:$Q$96,1)) -> 0 | AB35: =SUM(COUNTIFS($C$43:$C$96,0,$D$43:$D$96,V35),COUNTIFS($I$43:$I$96,V35,$Q$43:$Q$96,0)) -> 0 | AC35: =SUM(H44,H55,H62,H69,F78,F86,F94) -> 0 | AD35: =SUM(F44,F55,F62,F69,H78,H86,H94) -> 0 | AE35: =AC35-AD35 -> 0 | AF35: =IF(OR($F$44="",$H$44=""),0,(X35/(W35*3))) -> 0 | AG35: =(X35*10^10)+((AC35+5000)*10^6)+(AE35*10)+U35 -> 5000000004 | AH35: =LARGE($AG$32:$AG$39,U35) -> 5000000005 | AI35: =MATCH(AH35,$AG$32:$AG$39,0) -> 5
D36: 5º | E36: =VLOOKUP(AI36,$U$32:$AH$39,2) -> 15º CAMPEONATO INGLÊS | F36: =VLOOKUP(AI36,$U$32:$AH$39,3) -> 0 | G36: =VLOOKUP(AI36,$U$32:$AH$39,4) -> 0 | H36: =VLOOKUP(AI36,$U$32:$AH$39,5) -> 0 | I36: =VLOOKUP(AI36,$U$32:$AH$39,6) -> 0 | J36: =VLOOKUP(AI36,$U$32:$AH$39,7) -> 0 | K36: =VLOOKUP(AI36,$U$32:$AH$39,8) -> 0 | L36: =VLOOKUP(AI36,$U$32:$AH$39,9) -> 0 | M36: =VLOOKUP(AI36,$U$32:$AH$39,10) -> 0 | N36: =VLOOKUP(AI36,$U$32:$AH$39,11) -> 0 | O36: =VLOOKUP(AI36,$U$32:$AH$39,12) -> 0 | Q36: SP - saldo de pontos | U36: 5 | V36: 14º CAMPEONATO ITALIANO | W36: =COUNT(F47,F55,F63,F71,H76,H85,H93,#REF!,#REF!,#REF!,#REF!,#REF!,#REF!,#REF!) -> 0 | X36: =SUM(C47,C55,C63,C71,Q76,Q85,Q93) -> 0 | Y36: =SUM(COUNTIFS($C$43:$C$96,3,$D$43:$D$96,V36),COUNTIFS($I$43:$I$96,V36,$Q$43:$Q$96,3)) -> 0 | Z36: =SUM(COUNTIFS($C$43:$C$96,2,$D$43:$D$96,V36),COUNTIFS($I$43:$I$96,V36,$Q$43:$Q$96,2)) -> 0 | AA36: =SUM(COUNTIFS($C$43:$C$96,1,$D$43:$D$96,V36),COUNTIFS($I$43:$I$96,V36,$Q$43:$Q$96,1)) -> 0 | AB36: =SUM(COUNTIFS($C$43:$C$96,0,$D$43:$D$96,V36),COUNTIFS($I$43:$I$96,V36,$Q$43:$Q$96,0)) -> 0 | AC36: =SUM(F47,F55,F63,F71,H76,H85,H93) -> 0 | AD36: =SUM(H47,H55,H63,H71,F76,F85,F93) -> 0 | AE36: =AC36-AD36 -> 0 | AF36: =IF(OR($F$44="",$H$44=""),0,(X36/(W36*3))) -> 0 | AG36: =(X36*10^10)+((AC36+5000)*10^6)+(AE36*10)+U36 -> 5000000005 | AH36: =LARGE($AG$32:$AG$39,U36) -> 5000000004 | AI36: =MATCH(AH36,$AG$32:$AG$39,0) -> 4
D37: 6º | E37: =VLOOKUP(AI37,$U$32:$AH$39,2) -> 15º CAMPEONATO ITALIANO | F37: =VLOOKUP(AI37,$U$32:$AH$39,3) -> 0 | G37: =VLOOKUP(AI37,$U$32:$AH$39,4) -> 0 | H37: =VLOOKUP(AI37,$U$32:$AH$39,5) -> 0 | I37: =VLOOKUP(AI37,$U$32:$AH$39,6) -> 0 | J37: =VLOOKUP(AI37,$U$32:$AH$39,7) -> 0 | K37: =VLOOKUP(AI37,$U$32:$AH$39,8) -> 0 | L37: =VLOOKUP(AI37,$U$32:$AH$39,9) -> 0 | M37: =VLOOKUP(AI37,$U$32:$AH$39,10) -> 0 | N37: =VLOOKUP(AI37,$U$32:$AH$39,11) -> 0 | O37: =VLOOKUP(AI37,$U$32:$AH$39,12) -> 0 | Q37: % APR. - Aproveitamento | U37: 6 | V37: 14º CAMPEONATO INGLÊS | W37: =COUNT(F46,F54,F62,F70,H77,H84,F93,#REF!,#REF!,#REF!,#REF!,#REF!,#REF!,#REF!) -> 0 | X37: =SUM(C46,C54,C62,C70,Q77,Q84,C93) -> 0 | Y37: =SUM(COUNTIFS($C$43:$C$96,3,$D$43:$D$96,V37),COUNTIFS($I$43:$I$96,V37,$Q$43:$Q$96,3)) -> 0 | Z37: =SUM(COUNTIFS($C$43:$C$96,2,$D$43:$D$96,V37),COUNTIFS($I$43:$I$96,V37,$Q$43:$Q$96,2)) -> 0 | AA37: =SUM(COUNTIFS($C$43:$C$96,1,$D$43:$D$96,V37),COUNTIFS($I$43:$I$96,V37,$Q$43:$Q$96,1)) -> 0 | AB37: =SUM(COUNTIFS($C$43:$C$96,0,$D$43:$D$96,V37),COUNTIFS($I$43:$I$96,V37,$Q$43:$Q$96,0)) -> 0 | AC37: =SUM(F46,F54,F62,F70,H77,H84,F93) -> 0 | AD37: =SUM(H46,H54,H62,H70,F84,F77,H93) -> 0 | AE37: =AC37-AD37 -> 0 | AF37: =IF(OR($F$44="",$H$44=""),0,(X37/(W37*3))) -> 0 | AG37: =(X37*10^10)+((AC37+5000)*10^6)+(AE37*10)+U37 -> 5000000006 | AH37: =LARGE($AG$32:$AG$39,U37) -> 5000000003 | AI37: =MATCH(AH37,$AG$32:$AG$39,0) -> 3
D38: 7º | E38: =VLOOKUP(AI38,$U$32:$AH$39,2) -> 16º CAMPEONATO ALEMÃO | F38: =VLOOKUP(AI38,$U$32:$AH$39,3) -> 0 | G38: =VLOOKUP(AI38,$U$32:$AH$39,4) -> 0 | H38: =VLOOKUP(AI38,$U$32:$AH$39,5) -> 0 | I38: =VLOOKUP(AI38,$U$32:$AH$39,6) -> 0 | J38: =VLOOKUP(AI38,$U$32:$AH$39,7) -> 0 | K38: =VLOOKUP(AI38,$U$32:$AH$39,8) -> 0 | L38: =VLOOKUP(AI38,$U$32:$AH$39,9) -> 0 | M38: =VLOOKUP(AI38,$U$32:$AH$39,10) -> 0 | N38: =VLOOKUP(AI38,$U$32:$AH$39,11) -> 0 | O38: =VLOOKUP(AI38,$U$32:$AH$39,12) -> 0 | R38: CLASSIFICADO | U38: 7 | V38: 13º CAMPEONATO ALEMÃO | W38: =COUNT(F45,F53,F61,F69,F77,F85,H92,#REF!,#REF!,#REF!,#REF!,#REF!,#REF!,#REF!) -> 0 | X38: =SUM(C45,C53,C61,C69,C77,C85,Q92) -> 0 | Y38: =SUM(COUNTIFS($C$43:$C$96,3,$D$43:$D$96,V38),COUNTIFS($I$43:$I$96,V38,$Q$43:$Q$96,3)) -> 0 | Z38: =SUM(COUNTIFS($C$43:$C$96,2,$D$43:$D$96,V38),COUNTIFS($I$43:$I$96,V38,$Q$43:$Q$96,2)) -> 0 | AA38: =SUM(COUNTIFS($C$43:$C$96,1,$D$43:$D$96,V38),COUNTIFS($I$43:$I$96,V38,$Q$43:$Q$96,1)) -> 0 | AB38: =SUM(COUNTIFS($C$43:$C$96,0,$D$43:$D$96,V38),COUNTIFS($I$43:$I$96,V38,$Q$43:$Q$96,0)) -> 0 | AC38: =SUM(F45,F53,F61,F69,F77,F85,H92) -> 0 | AD38: =SUM(H45,H53,H61,H69,H77,H85,F92) -> 0 | AE38: =AC38-AD38 -> 0 | AF38: =IF(OR($F$44="",$H$44=""),0,(X38/(W38*3))) -> 0 | AG38: =(X38*10^10)+((AC38+5000)*10^6)+(AE38*10)+U38 -> 5000000007 | AH38: =LARGE($AG$32:$AG$39,U38) -> 5000000002 | AI38: =MATCH(AH38,$AG$32:$AG$39,0) -> 2
D39: 8º | E39: =VLOOKUP(AI39,$U$32:$AH$39,2) -> 16º CAMPEONATO ESPANHOL | F39: =VLOOKUP(AI39,$U$32:$AH$39,3) -> 0 | G39: =VLOOKUP(AI39,$U$32:$AH$39,4) -> 0 | H39: =VLOOKUP(AI39,$U$32:$AH$39,5) -> 0 | I39: =VLOOKUP(AI39,$U$32:$AH$39,6) -> 0 | J39: =VLOOKUP(AI39,$U$32:$AH$39,7) -> 0 | K39: =VLOOKUP(AI39,$U$32:$AH$39,8) -> 0 | L39: =VLOOKUP(AI39,$U$32:$AH$39,9) -> 0 | M39: =VLOOKUP(AI39,$U$32:$AH$39,10) -> 0 | N39: =VLOOKUP(AI39,$U$32:$AH$39,11) -> 0 | O39: =VLOOKUP(AI39,$U$32:$AH$39,12) -> 0 | R39: Disputa do 9º lugar | U39: 8 | V39: 13º CAMPEONATO ESPANHOL | W39: =COUNT(F44,F52,F60,F68,F76,F84,F92,#REF!,#REF!,#REF!,#REF!,#REF!,#REF!,#REF!) -> 0 | X39: =SUM(C44,C52,C60,C68,C76,C84,C92) -> 0 | Y39: =SUM(COUNTIFS($C$43:$C$96,3,$D$43:$D$96,V39),COUNTIFS($I$43:$I$96,V39,$Q$43:$Q$96,3)) -> 0 | Z39: =SUM(COUNTIFS($C$43:$C$96,2,$D$43:$D$96,V39),COUNTIFS($I$43:$I$96,V39,$Q$43:$Q$96,2)) -> 0 | AA39: =SUM(COUNTIFS($C$43:$C$96,1,$D$43:$D$96,V39),COUNTIFS($I$43:$I$96,V39,$Q$43:$Q$96,1)) -> 0 | AB39: =SUM(COUNTIFS($C$43:$C$96,0,$D$43:$D$96,V39),COUNTIFS($I$43:$I$96,V39,$Q$43:$Q$96,0)) -> 0 | AC39: =SUM(F44,F52,F60,F68,F76,F84,F92) -> 0 | AD39: =SUM(H44,H52,H60,H68,H76,H84,H92) -> 0 | AE39: =AC39-AD39 -> 0 | AF39: =IF(OR($F$44="",$H$44=""),0,(X39/(W39*3))) -> 0 | AG39: =(X39*10^10)+((AC39+5000)*10^6)+(AE39*10)+U39 -> 5000000008 | AH39: =LARGE($AG$32:$AG$39,U39) -> 5000000001 | AI39: =MATCH(AH39,$AG$32:$AG$39,0) -> 1
D41: 1ª RODADA - #16
C44: =IF(OR(F44="",H44=""),"",IF(F44=H44,1,IF(F44<H44,0,IF(F44-H44<10,2,IF(F44>H44,3,SE))))) | D44: =V39 -> 13º CAMPEONATO ESPANHOL | G44: x | I44: =V35 -> 15º CAMPEONATO INGLÊS | Q44: =IF(OR(H44="",F44=""),"",IF(H44=F44,1,IF(H44<F44,0,IF(H44-F44<10,2,IF(H44>F44,3,SE)))))
C45: =IF(OR(F45="",H45=""),"",IF(F45=H45,1,IF(F45<H45,0,IF(F45-H45<10,2,IF(F45>H45,3,SE))))) | D45: =V38 -> 13º CAMPEONATO ALEMÃO | G45: x | I45: =V34 -> 15º CAMPEONATO ITALIANO | Q45: =IF(OR(H45="",F45=""),"",IF(H45=F45,1,IF(H45<F45,0,IF(H45-F45<10,2,IF(H45>F45,3,SE)))))
C46: =IF(OR(F46="",H46=""),"",IF(F46=H46,1,IF(F46<H46,0,IF(F46-H46<10,2,IF(F46>H46,3,SE))))) | D46: =V37 -> 14º CAMPEONATO INGLÊS | G46: x | I46: =V33 -> 16º CAMPEONATO ALEMÃO | Q46: =IF(OR(H46="",F46=""),"",IF(H46=F46,1,IF(H46<F46,0,IF(H46-F46<10,2,IF(H46>F46,3,SE)))))
C47: =IF(OR(F47="",H47=""),"",IF(F47=H47,1,IF(F47<H47,0,IF(F47-H47<10,2,IF(F47>H47,3,SE))))) | D47: =V36 -> 14º CAMPEONATO ITALIANO | G47: x | I47: =V32 -> 16º CAMPEONATO ESPANHOL | Q47: =IF(OR(H47="",F47=""),"",IF(H47=F47,1,IF(H47<F47,0,IF(H47-F47<10,2,IF(H47>F47,3,SE)))))
C48: =IF(OR(F48="",H48=""),"",IF(F48=H48,1,IF(F48<H48,0,IF(F48-H48<10,2,IF(F48>H48,3,SE))))) | Q48: =IF(OR(H48="",F48=""),"",IF(H48=F48,1,IF(H48<F48,0,IF(H48-F48<10,2,IF(H48>F48,3,SE)))))
C49: =IF(OR(F49="",H49=""),"",IF(F49=H49,1,IF(F49<H49,0,IF(F49-H49<10,2,IF(F49>H49,3,SE))))) | D49: 2ª RODADA - #17 | Q49: =IF(OR(H49="",F49=""),"",IF(H49=F49,1,IF(H49<F49,0,IF(H49-F49<10,2,IF(H49>F49,3,SE)))))
C50: =IF(OR(F50="",H50=""),"",IF(F50=H50,1,IF(F50<H50,0,IF(F50-H50<10,2,IF(F50>H50,3,SE))))) | Q50: =IF(OR(H50="",F50=""),"",IF(H50=F50,1,IF(H50<F50,0,IF(H50-F50<10,2,IF(H50>F50,3,SE)))))
C51: =IF(OR(F51="",H51=""),"",IF(F51=H51,1,IF(F51<H51,0,IF(F51-H51<10,2,IF(F51>H51,3,SE))))) | Q51: =IF(OR(H51="",F51=""),"",IF(H51=F51,1,IF(H51<F51,0,IF(H51-F51<10,2,IF(H51>F51,3,SE)))))
C52: =IF(OR(F52="",H52=""),"",IF(F52=H52,1,IF(F52<H52,0,IF(F52-H52<10,2,IF(F52>H52,3,SE))))) | D52: =V39 -> 13º CAMPEONATO ESPANHOL | G52: x | I52: =V32 -> 16º CAMPEONATO ESPANHOL | Q52: =IF(OR(H52="",F52=""),"",IF(H52=F52,1,IF(H52<F52,0,IF(H52-F52<10,2,IF(H52>F52,3,SE)))))
C53: =IF(OR(F53="",H53=""),"",IF(F53=H53,1,IF(F53<H53,0,IF(F53-H53<10,2,IF(F53>H53,3,SE))))) | D53: =V38 -> 13º CAMPEONATO ALEMÃO | G53: x | I53: =V33 -> 16º CAMPEONATO ALEMÃO | Q53: =IF(OR(H53="",F53=""),"",IF(H53=F53,1,IF(H53<F53,0,IF(H53-F53<10,2,IF(H53>F53,3,SE)))))
C54: =IF(OR(F54="",H54=""),"",IF(F54=H54,1,IF(F54<H54,0,IF(F54-H54<10,2,IF(F54>H54,3,SE))))) | D54: =V37 -> 14º CAMPEONATO INGLÊS | G54: x | I54: =V34 -> 15º CAMPEONATO ITALIANO | Q54: =IF(OR(H54="",F54=""),"",IF(H54=F54,1,IF(H54<F54,0,IF(H54-F54<10,2,IF(H54>F54,3,SE)))))
C55: =IF(OR(F55="",H55=""),"",IF(F55=H55,1,IF(F55<H55,0,IF(F55-H55<10,2,IF(F55>H55,3,SE))))) | D55: =V36 -> 14º CAMPEONATO ITALIANO | G55: x | I55: =V35 -> 15º CAMPEONATO INGLÊS | Q55: =IF(OR(H55="",F55=""),"",IF(H55=F55,1,IF(H55<F55,0,IF(H55-F55<10,2,IF(H55>F55,3,SE)))))
C56: =IF(OR(F56="",H56=""),"",IF(F56=H56,1,IF(F56<H56,0,IF(F56-H56<10,2,IF(F56>H56,3,SE))))) | Q56: =IF(OR(H56="",F56=""),"",IF(H56=F56,1,IF(H56<F56,0,IF(H56-F56<10,2,IF(H56>F56,3,SE)))))
C57: =IF(OR(F57="",H57=""),"",IF(F57=H57,1,IF(F57<H57,0,IF(F57-H57<10,2,IF(F57>H57,3,SE))))) | D57: 3ª RODADA - #18 | Q57: =IF(OR(H57="",F57=""),"",IF(H57=F57,1,IF(H57<F57,0,IF(H57-F57<10,2,IF(H57>F57,3,SE)))))
C58: =IF(OR(F58="",H58=""),"",IF(F58=H58,1,IF(F58<H58,0,IF(F58-H58<10,2,IF(F58>H58,3,SE))))) | Q58: =IF(OR(H58="",F58=""),"",IF(H58=F58,1,IF(H58<F58,0,IF(H58-F58<10,2,IF(H58>F58,3,SE)))))
C59: =IF(OR(F59="",H59=""),"",IF(F59=H59,1,IF(F59<H59,0,IF(F59-H59<10,2,IF(F59>H59,3,SE))))) | Q59: =IF(OR(H59="",F59=""),"",IF(H59=F59,1,IF(H59<F59,0,IF(H59-F59<10,2,IF(H59>F59,3,SE)))))
C60: =IF(OR(F60="",H60=""),"",IF(F60=H60,1,IF(F60<H60,0,IF(F60-H60<10,2,IF(F60>H60,3,SE))))) | D60: =V39 -> 13º CAMPEONATO ESPANHOL | G60: x | I60: =V33 -> 16º CAMPEONATO ALEMÃO | Q60: =IF(OR(H60="",F60=""),"",IF(H60=F60,1,IF(H60<F60,0,IF(H60-F60<10,2,IF(H60>F60,3,SE)))))
C61: =IF(OR(F61="",H61=""),"",IF(F61=H61,1,IF(F61<H61,0,IF(F61-H61<10,2,IF(F61>H61,3,SE))))) | D61: =V38 -> 13º CAMPEONATO ALEMÃO | G61: x | I61: =V32 -> 16º CAMPEONATO ESPANHOL | Q61: =IF(OR(H61="",F61=""),"",IF(H61=F61,1,IF(H61<F61,0,IF(H61-F61<10,2,IF(H61>F61,3,SE)))))
C62: =IF(OR(F62="",H62=""),"",IF(F62=H62,1,IF(F62<H62,0,IF(F62-H62<10,2,IF(F62>H62,3,SE))))) | D62: =V37 -> 14º CAMPEONATO INGLÊS | G62: x | I62: =V35 -> 15º CAMPEONATO INGLÊS | Q62: =IF(OR(H62="",F62=""),"",IF(H62=F62,1,IF(H62<F62,0,IF(H62-F62<10,2,IF(H62>F62,3,SE)))))
C63: =IF(OR(F63="",H63=""),"",IF(F63=H63,1,IF(F63<H63,0,IF(F63-H63<10,2,IF(F63>H63,3,SE))))) | D63: =V36 -> 14º CAMPEONATO ITALIANO | G63: x | I63: =V34 -> 15º CAMPEONATO ITALIANO | Q63: =IF(OR(H63="",F63=""),"",IF(H63=F63,1,IF(H63<F63,0,IF(H63-F63<10,2,IF(H63>F63,3,SE)))))
C64: =IF(OR(F64="",H64=""),"",IF(F64=H64,1,IF(F64<H64,0,IF(F64-H64<10,2,IF(F64>H64,3,SE))))) | Q64: =IF(OR(H64="",F64=""),"",IF(H64=F64,1,IF(H64<F64,0,IF(H64-F64<10,2,IF(H64>F64,3,SE)))))
C65: =IF(OR(F65="",H65=""),"",IF(F65=H65,1,IF(F65<H65,0,IF(F65-H65<10,2,IF(F65>H65,3,SE))))) | D65: 4ª RODADA - #19 | Q65: =IF(OR(H65="",F65=""),"",IF(H65=F65,1,IF(H65<F65,0,IF(H65-F65<10,2,IF(H65>F65,3,SE)))))
C66: =IF(OR(F66="",H66=""),"",IF(F66=H66,1,IF(F66<H66,0,IF(F66-H66<10,2,IF(F66>H66,3,SE))))) | Q66: =IF(OR(H66="",F66=""),"",IF(H66=F66,1,IF(H66<F66,0,IF(H66-F66<10,2,IF(H66>F66,3,SE)))))
...

Sheet 2ª fase
B2: DISPUTA DO 9º ANO
I5: RODADAS #23 e 24
B7: J01 | C7: =IF(OR('Grupo M'!F64="",'Grupo M'!H64=""),"5º GRUPO M",'Grupo M'!E36) -> 5º GRUPO M | L7: X | N7: =IF(OR('Grupo N'!F64="",'Grupo N'!H64=""),"8º GRUPO N",'Grupo N'!E39) -> 8º GRUPO N
L8: X
K9: =IF(OR(K8="",M8=""),"",SUM(K7:K8)) | M9: =IF(OR(K8="",M7=""),"",SUM(M7:M8))
B10: J02 | C10: =IF(OR('Grupo M'!F64="",'Grupo M'!H64=""),"6º GRUPO M",'Grupo M'!E37) -> 6º GRUPO M | L10: X | N10: =IF(OR('Grupo N'!F64="",'Grupo N'!H64=""),"7º GRUPO N",'Grupo N'!E38) -> 7º GRUPO N
L11: X
K12: =IF(OR(K11="",M10=""),"",SUM(K10:K11)) | M12: =IF(OR(K11="",M10=""),"",SUM(M10:M11))
B13: J03 | C13: =IF(OR('Grupo N'!F64="",'Grupo N'!H64=""),"6º GRUPO N",'Grupo N'!E37) -> 6º GRUPO N | L13: X | N13: =IF(OR('Grupo M'!F64="",'Grupo M'!H64=""),"7º GRUPO M",'Grupo M'!E38) -> 7º GRUPO M
L14: X
K15: =IF(OR(K14="",M13=""),"",SUM(K13:K14)) | M15: =IF(OR(K14="",M13=""),"",SUM(M13:M14))
B16: J04 | C16: =IF(OR('Grupo N'!F64="",'Grupo N'!H64=""),"5º GRUPO N",'Grupo N'!E36) -> 5º GRUPO N | L16: X | N16: =IF(OR('Grupo M'!F64="",'Grupo M'!H64=""),"8º GRUPO M",'Grupo M'!E39) -> 8º GRUPO M
L17: X
K18: =IF(OR(K17="",M16=""),"",SUM(K16:K17)) | M18: =IF(OR(K17="",M16=""),"",SUM(M16:M17))
B20: QUARTAS DE FINAL
I23: RODADAS #23 e 24
B25: J05 | C25: =IF(OR('Grupo M'!F95="",'Grupo M'!H95=""),"1º GRUPO M",'Grupo M'!E32) -> 1º GRUPO M | L25: X | N25: =IF(OR('Grupo N'!F95="",'Grupo N'!H95=""),"4º GRUPO N",'Grupo N'!E35) -> 4º GRUPO N
L26: X
K27: =IF(OR(K26="",M26=""),"",SUM(K25:K26)) | M27: =IF(OR(K26="",M25=""),"",SUM(M25:M26))
B28: J06 | C28: =IF(OR('Grupo M'!F95="",'Grupo M'!H95=""),"2º GRUPO M",'Grupo M'!E33) -> 2º GRUPO M | L28: X | N28: =IF(OR('Grupo N'!F95="",'Grupo N'!H95=""),"3º GRUPO N",'Grupo N'!E34) -> 3º GRUPO N
L29: X
K30: =IF(OR(K29="",M28=""),"",SUM(K28:K29)) | M30: =IF(OR(K29="",M28=""),"",SUM(M28:M29))
B31: J07 | C31: =IF(OR('Grupo N'!F95="",'Grupo N'!H95=""),"2º GRUPO N",'Grupo N'!E33) -> 2º GRUPO N | L31: X | N31: =IF(OR('Grupo M'!F95="",'Grupo M'!H95=""),"3º GRUPO M",'Grupo M'!E34) -> 3º GRUPO M
L32: X
K33: =IF(OR(K32="",M31=""),"",SUM(K31:K32)) | M33: =IF(OR(K32="",M31=""),"",SUM(M31:M32))
B34: J08 | C34: =IF(OR('Grupo N'!F95="",'Grupo N'!H95=""),"1º GRUPO N",'Grupo N'!E32) -> 1º GRUPO N | L34: X | N34: =IF(OR('Grupo M'!F95="",'Grupo M'!H95=""),"4º GRUPO M",'Grupo M'!E35) -> 4º GRUPO M
L35: X
K36: =IF(OR(K35="",M34=""),"",SUM(K34:K35)) | M36: =IF(OR(K35="",M34=""),"",SUM(M34:M35))
B38: DISPUTA DO 13º LUGAR
I41: RODADAS #25 e 26
B43: J09 | C43: =IF(OR(K9="",M9=""),"PERDEDOR J01",IF(K9<M9,C7,N7)) -> PERDEDOR J01 | L43: X | N43: =IF(OR(K12="",M12=""),"PERDEDOR J02",IF(K12<M12,C10,N10)) -> PERDEDOR J02
L44: X
K45: =IF(OR(K44="",M43=""),"",SUM(K43:K44)) | M45: =IF(OR(K44="",M43=""),"",SUM(M43:M44))
B46: J10 | C46: =IF(OR(K15="",M15=""),"PERDEDOR J03",IF(K15<M15,C13,N13)) -> PERDEDOR J03 | L46: X | N46: =IF(OR(K18="",M18=""),"PERDEDOR J04",IF(K18<M18,C16,N16)) -> PERDEDOR J04
L47: X
K48: =IF(OR(K47="",M46=""),"",SUM(K46:K47)) | M48: =IF(OR(K47="",M46=""),"",SUM(M46:M47))
B50: DISPUTA DO 9º LUGAR
I53: RODADAS #25 e 26
B55: J11 | C55: =IF(OR(K9="",M9=""),"VENCEDOR J01",IF(K9>M9,C7,N7)) -> VENCEDOR J01 | L55: X | N55: =IF(OR(K12="",M12=""),"VENCEDOR J02",IF(K12>M12,C10,N10)) -> VENCEDOR J02
L56: X
...
