Workbook

Sheet 1ª fase
B14: SUPERCOPA MUNDIAL - 2016
B18: 1ª FASE
I21: RODADA #30
B23: J1 | C23: StronderTiguer | K23: 61.95 | L23: X | M23: 29.2 | N23: maxion SPFC
B24: J2 | C24: Galácticos C.F.R. | K24: 30.01 | L24: X | M24: 37.04 | N24: tremembe city
B25: J3 | C25: Futuro Natal | K25: 62.55 | L25: X | M25: 43.25 | N25: Real Madriki F.C
B26: J4 | C26: Sanchez 07 F.C | K26: 63.75 | L26: X | M26: 68.33 | N26: AVANTIMS FC
B27: J5 | C27: Mulesta é Isso F.C | K27: 33.85 | L27: X | M27: 43.02 | N27: Neo City Club
B28: J6 | C28: UBDC FC | K28: 63.25 | L28: X | M28: 31.04 | N28: Operário F.C
B29: J7 | C29: Barbosinhaas | K29: 66.25 | L29: X | M29: 29.5 | N29: Noronha Club Fc
B30: J8 | C30: Grajaú C.F. | K30: 63.95 | L30: X | M30: 39.55 | N30: Câmara Cascudo FC
B31: J9 | C31: Real Madrid football clube | K31: 46.65 | L31: X | M31: 43.05 | N31: HANNOVER 1986 FC
B32: J10 | C32: ManchesterUrubu City | K32: 72.66 | L32: X | M32: 64.95 | N32: FRBARON
B33: J11 | C33: Tratozzi FC | K33: 61.85 | L33: X | M33: 6.6 | N33: RGN
B34: J12 | C34: Bode de chuteira | K34: 68.95 | L34: X | M34: 60.35 | N34: Família Frota Fc
B35: J13 | C35: FC Douglas Leal | K35: 83.85 | L35: X | M35: 41.15 | N35: Patologia
B36: J14 | C36: FC Van Persie | K36: 37.35 | L36: X | M36: 67.43 | N36: Papa Goiabas FC
B37: J15 | C37: LÁ UNDÉCIMA | K37: 54.45 | L37: X | M37: 68.45 | N37: Belmiro Village SFC
B38: J16 | C38: Kadosh o2 | K38: 66.75 | L38: X | M38: 50.07 | N38: so caloi
B39: J17 | C39: Nacyonal de Marabá | K39: 71.25 | L39: X | M39: 47.08 | N39: Mohamed07
... B78: J56 | C78: PANZA FC | K78: 72.76 | L78: X | M78: 45.91 | N78: BFR Igor Costa

Sheet 2ª FASE
B14: SUPERCOPA MUNDIAL - 2016
B18: 2ª FASE
R20: Legenda
R21: P - pontos
R22: V3P - Vitória por 3 pontos
R23: V2P - Vitória por 2 pontos
R24: E - Empate
R25: D - Derrota
D26: GRUPO 1 | R26: PPC - Pontos pró Cartola
R27: PCC - pontos contra Cartola
D28: Pos. | E28: CARTOLA | F28: J | G28: P | H28: V3P | I28: V2P | J28: E | K28: D | L28: PPC | M28: PCC | N28: SP | O28: % APR. | R28: SP - saldo de pontos | U28: Pos. | V28: TIMES | W28: J | X28: P | Y28: V3P | Z28: V2P | AA28: E | AB28: D | AC28: GF | AD28: GC | AE28: SG | AF28: % APR. | AG28: calc | AH28: maior | AI28: corresp
D29: 1º | E29: =VLOOKUP(AI29,$U$29:$AH$32,2) -> Futuro Natal | F29: =VLOOKUP(AI29,$U$29:$AH$32,3) -> 3 | G29: =VLOOKUP(AI29,$U$29:$AH$32,4) -> 8 | H29: =VLOOKUP(AI29,$U$29:$AH$32,5) -> 2 | I29: =VLOOKUP(AI29,$U$29:$AH$32,6) -> 1 | J29: =VLOOKUP(AI29,$U$29:$AH$32,7) -> 0 | K29: =VLOOKUP(AI29,$U$29:$AH$32,8) -> 0 | L29: =VLOOKUP(AI29,$U$29:$AH$32,9) -> 160 | M29: =VLOOKUP(AI29,$U$29:$AH$32,10) -> 127 | N29: =VLOOKUP(AI29,$U$29:$AH$32,11) -> 33 | O29: =VLOOKUP(AI29,$U$29:$AH$32,12) -> 0.88888889 | R29: % APR. - Aproveitamento | U29: 1 | V29: =IF(OR('1ª fase'!K26="",'1ª fase'!M26=""),"VENCEDOR J4",IF('1ª fase'!K26>'1ª fase'!M26,'1ª fase'!C26,'1ª fase'!N26)) -> AVANTIMS FC | W29: =COUNT(H37,H44,H50) -> 3 | X29: =SUM(Q37,Q44,Q50) -> 4 | Y29: =SUM(COUNTIFS($C$37:$C$51,3,$D$37:$D$51,V29),COUNTIFS($I$37:$I$51,V29,$Q$37:$Q$51,3)) -> 1 | Z29: =SUM(COUNTIFS($C$37:$C$51,2,$D$37:$D$51,V29),COUNTIFS($I$37:$I$51,V29,$Q$37:$Q$51,2)) -> 0 | AA29: =SUM(COUNTIFS($C$37:$C$51,1,$D$37:$D$51,V29),COUNTIFS($I$37:$I$51,V29,$Q$37:$Q$51,1)) -> 1 | AB29: =SUM(COUNTIFS($C$37:$C$51,0,$D$37:$D$51,V29),COUNTIFS($I$37:$I$51,V29,$Q$37:$Q$51,0)) -> 1 | AC29: =SUM(H37,H44,H50) -> 135 | AD29: =SUM(F37,F44,F50) -> 120 | AE29: =AC29-AD29 -> 15 | AF29: =IF(OR($F$37="",$H$37=""),0,(X29/(W29*3))) -> 0.44444444 | AG29: =(X29*10^10)+((AC29+5000)*10^6)+AE29*100+U29 -> 45135001501 | AH29: =LARGE($AG$29:$AG$32,U29) -> 85160003302 | AI29: =MATCH(AH29,$AG$29:$AG$32,0) -> 2
D30: 2º | E30: =VLOOKUP(AI30,$U$29:$AH$32,2) -> AVANTIMS FC | F30: =VLOOKUP(AI30,$U$29:$AH$32,3) -> 3 | G30: =VLOOKUP(AI30,$U$29:$AH$32,4) -> 4 | H30: =VLOOKUP(AI30,$U$29:$AH$32,5) -> 1 | I30: =VLOOKUP(AI30,$U$29:$AH$32,6) -> 0 | J30: =VLOOKUP(AI30,$U$29:$AH$32,7) -> 1 | K30: =VLOOKUP(AI30,$U$29:$AH$32,8) -> 1 | L30: =VLOOKUP(AI30,$U$29:$AH$32,9) -> 135 | M30: =VLOOKUP(AI30,$U$29:$AH$32,10) -> 120 | N30: =VLOOKUP(AI30,$U$29:$AH$32,11) -> 15 | O30: =VLOOKUP(AI30,$U$29:$AH$32,12) -> 0.44444444 | S30: CLASSIFICADO | U30: 2 | V30: =IF(OR('1ª fase'!K25="",'1ª fase'!M25=""),"VENCEDOR J3",IF('1ª fase'!K25>'1ª fase'!M25,'1ª fase'!C25,'1ª fase'!N25)) -> Futuro Natal | W30: =COUNT(H38,H43,F50) -> 3 | X30: =SUM(Q38,Q43,C50) -> 8 | Y30: =SUM(COUNTIFS($C$37:$C$51,3,$D$37:$D$51,V30),COUNTIFS($I$37:$I$51,V30,$Q$37:$Q$51,3)) -> 2 | Z30: =SUM(COUNTIFS($C$37:$C$51,2,$D$37:$D$51,V30),COUNTIFS($I$37:$I$51,V30,$Q$37:$Q$51,2)) -> 1 | AA30: =SUM(COUNTIFS($C$37:$C$51,1,$D$37:$D$51,V30),COUNTIFS($I$37:$I$51,V30,$Q$37:$Q$51,1)) -> 0 | AB30: =SUM(COUNTIFS($C$37:$C$51,0,$D$37:$D$51,V30),COUNTIFS($I$37:$I$51,V30,$Q$37:$Q$51,0)) -> 0 | AC30: =SUM(H38,H43,F50) -> 160 | AD30: =SUM(H50,F43,F38) -> 127 | AE30: =AC30-AD30 -> 33 | AF30: =IF(OR($F$37="",$H$37=""),0,(X30/(W30*3))) -> 0.88888889 | AG30: =(X30*10^10)+((AC30+5000)*10^6)+AE30*100+U30 -> 85160003302 | AH30: =LARGE($AG$29:$AG$32,U30) -> 45135001501 | AI30: =MATCH(AH30,$AG$29:$AG$32,0) -> 1
D31: 3º | E31: =VLOOKUP(AI31,$U$29:$AH$32,2) -> tremembe city | F31: =VLOOKUP(AI31,$U$29:$AH$32,3) -> 3 | G31: =VLOOKUP(AI31,$U$29:$AH$32,4) -> 4 | H31: =VLOOKUP(AI31,$U$29:$AH$32,5) -> 1 | I31: =VLOOKUP(AI31,$U$29:$AH$32,6) -> 0 | J31: =VLOOKUP(AI31,$U$29:$AH$32,7) -> 1 | K31: =VLOOKUP(AI31,$U$29:$AH$32,8) -> 1 | L31: =VLOOKUP(AI31,$U$29:$AH$32,9) -> 109 | M31: =VLOOKUP(AI31,$U$29:$AH$32,10) -> 107 | N31: =VLOOKUP(AI31,$U$29:$AH$32,11) -> 2 | O31: =VLOOKUP(AI31,$U$29:$AH$32,12) -> 0.44444444 | S31: DISPUTA ENTRE TERCEIROS | U31: 3 | V31: =IF(OR('1ª fase'!K24="",'1ª fase'!M24=""),"VENCEDOR J2",IF('1ª fase'!K24>'1ª fase'!M24,'1ª fase'!C24,'1ª fase'!N24)) -> tremembe city | W31: =COUNT(H49,F44,F38) -> 3 | X31: =SUM(C38,C44,Q49) -> 4 | Y31: =SUM(COUNTIFS($C$37:$C$51,3,$D$37:$D$51,V31),COUNTIFS($I$37:$I$51,V31,$Q$37:$Q$51,3)) -> 1 | Z31: =SUM(COUNTIFS($C$37:$C$51,2,$D$37:$D$51,V31),COUNTIFS($I$37:$I$51,V31,$Q$37:$Q$51,2)) -> 0 | AA31: =SUM(COUNTIFS($C$37:$C$51,1,$D$37:$D$51,V31),COUNTIFS($I$37:$I$51,V31,$Q$37:$Q$51,1)) -> 1 | AB31: =SUM(COUNTIFS($C$37:$C$51,0,$D$37:$D$51,V31),COUNTIFS($I$37:$I$51,V31,$Q$37:$Q$51,0)) -> 1 | AC31: =SUM(,H49,F44,F38) -> 109 | AD31: =SUM(H38,H44,F49) -> 107 | AE31: =AC31-AD31 -> 2 | AF31: =IF(OR($F$37="",$H$37=""),0,(X31/(W31*3))) -> 0.44444444 | AG31: =(X31*10^10)+((AC31+5000)*10^6)+AE31*100+U31 -> 45109000203 | AH31: =LARGE($AG$29:$AG$32,U31) -> 45109000203 | AI31: =MATCH(AH31,$AG$29:$AG$32,0) -> 3
D32: 4º | E32: =VLOOKUP(AI32,$U$29:$AH$32,2) -> StronderTiguer | F32: =VLOOKUP(AI32,$U$29:$AH$32,3) -> 3 | G32: =VLOOKUP(AI32,$U$29:$AH$32,4) -> 0 | H32: =VLOOKUP(AI32,$U$29:$AH$32,5) -> 0 | I32: =VLOOKUP(AI32,$U$29:$AH$32,6) -> 0 | J32: =VLOOKUP(AI32,$U$29:$AH$32,7) -> 0 | K32: =VLOOKUP(AI32,$U$29:$AH$32,8) -> 3 | L32: =VLOOKUP(AI32,$U$29:$AH$32,9) -> 95 | M32: =VLOOKUP(AI32,$U$29:$AH$32,10) -> 145 | N32: =VLOOKUP(AI32,$U$29:$AH$32,11) -> -50 | O32: =VLOOKUP(AI32,$U$29:$AH$32,12) -> 0 | S32: ELIMINADO | U32: 4 | V32: =IF(OR('1ª fase'!K23="",'1ª fase'!M23=""),"VENCEDOR J1",IF('1ª fase'!K23>'1ª fase'!M23,'1ª fase'!C23,'1ª fase'!N23)) -> StronderTiguer | W32: =COUNT(F37,F43,F49) -> 3 | X32: =SUM(C37,C43,C49) -> 0 | Y32: =SUM(COUNTIFS($C$37:$C$51,3,$D$37:$D$51,V32),COUNTIFS($I$37:$I$51,V32,$Q$37:$Q$51,3)) -> 0 | Z32: =SUM(COUNTIFS($C$37:$C$51,2,$D$37:$D$51,V32),COUNTIFS($I$37:$I$51,V32,$Q$37:$Q$51,2)) -> 0 | AA32: =SUM(COUNTIFS($C$37:$C$51,1,$D$37:$D$51,V32),COUNTIFS($I$37:$I$51,V32,$Q$37:$Q$51,1)) -> 0 | AB32: =SUM(COUNTIFS($C$37:$C$51,0,$D$37:$D$51,V32),COUNTIFS($I$37:$I$51,V32,$Q$37:$Q$51,0)) -> 3 | AC32: =SUM(F37,F43,F49) -> 95 | AD32: =SUM(H49,H43,H37) -> 145 | AE32: =AC32-AD32 -> -50 | AF32: =IF(OR($F$37="",$H$37=""),0,(X32/(W32*3))) -> 0 | AG32: =(X32*10^10)+((AC32+5000)*10^6)+AE32*100+U32 -> 5094995004 | AH32: =LARGE($AG$29:$AG$32,U32) -> 5094995004 | AI32: =MATCH(AH32,$AG$29:$AG$32,0) -> 4
D34: 1ª RODADA - #31
C37: =IF(OR(F37="",H37=""),"",IF(F37=H37,1,IF(F37<H37,0,IF(F37-H37<10,2,IF(F37>H37,3,SE))))) -> 0 | D37: =V32 -> StronderTiguer | F37: 13 | G37: x | H37: 42 | I37: =V29 -> AVANTIMS FC | Q37: =IF(OR(H37="",F37=""),"",IF(H37=F37,1,IF(H37<F37,0,IF(H37-F37<10,2,IF(H37>F37,3,SE))))) -> 3
C38: =IF(OR(F38="",H38=""),"",IF(F38=H38,1,IF(F38<H38,0,IF(F38-H38<10,2,IF(F38>H38,3,SE))))) -> 0 | D38: =V31 -> tremembe city | F38: 25 | G38: x | H38: 34 | I38: =V30 -> Futuro Natal | Q38: =IF(OR(H38="",F38=""),"",IF(H38=F38,1,IF(H38<F38,0,IF(H38-F38<10,2,IF(H38>F38,3,SE))))) -> 2
C39: =IF(OR(F39="",H39=""),"",IF(F39=H39,1,IF(F39<H39,0,IF(F39-H39<10,2,IF(F39>H39,3,SE))))) | Q39: =IF(OR(H39="",F39=""),"",IF(H39=F39,1,IF(H39<F39,0,IF(H39-F39<10,2,IF(H39>F39,3,SE)))))
C40: =IF(OR(F40="",H40=""),"",IF(F40=H40,1,IF(F40<H40,0,IF(F40-H40<10,2,IF(F40>H40,3,SE))))) | D40: 2ª RODADA - #32 | Q40: =IF(OR(H40="",F40=""),"",IF(H40=F40,1,IF(H40<F40,0,IF(H40-F40<10,2,IF(H40>F40,3,SE)))))
C41: =IF(OR(F41="",H41=""),"",IF(F41=H41,1,IF(F41<H41,0,IF(F41-H41<10,2,IF(F41>H41,3,SE))))) | Q41: =IF(OR(H41="",F41=""),"",IF(H41=F41,1,IF(H41<F41,0,IF(H41-F41<10,2,IF(H41>F41,3,SE)))))
C42: =IF(OR(F42="",H42=""),"",IF(F42=H42,1,IF(F42<H42,0,IF(F42-H42<10,2,IF(F42>H42,3,SE))))) | Q42: =IF(OR(H42="",F42=""),"",IF(H42=F42,1,IF(H42<F42,0,IF(H42-F42<10,2,IF(H42>F42,3,SE)))))
C43: =IF(OR(F43="",H43=""),"",IF(F43=H43,1,IF(F43<H43,0,IF(F43-H43<10,2,IF(F43>H43,3,SE))))) -> 0 | D43: =V32 -> StronderTiguer | F43: 66 | G43: x | H43: 76 | I43: =V30 -> Futuro Natal | Q43: =IF(OR(H43="",F43=""),"",IF(H43=F43,1,IF(H43<F43,0,IF(H43-F43<10,2,IF(H43>F43,3,SE))))) -> 3
C44: =IF(OR(F44="",H44=""),"",IF(F44=H44,1,IF(F44<H44,0,IF(F44-H44<10,2,IF(F44>H44,3,SE))))) -> 1 | D44: =V31 -> tremembe city | F44: 57 | G44: x | H44: 57 | I44: =V29 -> AVANTIMS FC | Q44: =IF(OR(H44="",F44=""),"",IF(H44=F44,1,IF(H44<F44,0,IF(H44-F44<10,2,IF(H44>F44,3,SE))))) -> 1
C45: =IF(OR(F45="",H45=""),"",IF(F45=H45,1,IF(F45<H45,0,IF(F45-H45<10,2,IF(F45>H45,3,SE))))) | Q45: =IF(OR(H45="",F45=""),"",IF(H45=F45,1,IF(H45<F45,0,IF(H45-F45<10,2,IF(H45>F45,3,SE)))))
C46: =IF(OR(F46="",H46=""),"",IF(F46=H46,1,IF(F46<H46,0,IF(F46-H46<10,2,IF(F46>H46,3,SE))))) | D46: 3ª RODADA - #33 | Q46: =IF(OR(H46="",F46=""),"",IF(H46=F46,1,IF(H46<F46,0,IF(H46-F46<10,2,IF(H46>F46,3,SE)))))
C47: =IF(OR(F47="",H47=""),"",IF(F47=H47,1,IF(F47<H47,0,IF(F47-H47<10,2,IF(F47>H47,3,SE))))) | Q47: =IF(OR(H47="",F47=""),"",IF(H47=F47,1,IF(H47<F47,0,IF(H47-F47<10,2,IF(H47>F47,3,SE)))))
C48: =IF(OR(F48="",H48=""),"",IF(F48=H48,1,IF(F48<H48,0,IF(F48-H48<10,2,IF(F48>H48,3,SE))))) | Q48: =IF(OR(H48="",F48=""),"",IF(H48=F48,1,IF(H48<F48,0,IF(H48-F48<10,2,IF(H48>F48,3,SE)))))
C49: =IF(OR(F49="",H49=""),"",IF(F49=H49,1,IF(F49<H49,0,IF(F49-H49<10,2,IF(F49>H49,3,SE))))) -> 0 | D49: =V32 -> StronderTiguer | F49: 16 | G49: x | H49: 27 | I49: =V31 -> tremembe city | Q49: =IF(OR(H49="",F49=""),"",IF(H49=F49,1,IF(H49<F49,0,IF(H49-F49<10,2,IF(H49>F49,3,SE))))) -> 3
C50: =IF(OR(F50="",H50=""),"",IF(F50=H50,1,IF(F50<H50,0,IF(F50-H50<10,2,IF(F50>H50,3,SE))))) -> 3 | D50: =V30 -> Futuro Natal | F50: 50 | G50: x | H50: 36 | I50: =V29 -> AVANTIMS FC | Q50: =IF(OR(H50="",F50=""),"",IF(H50=F50,1,IF(H50<F50,0,IF(H50-F50<10,2,IF(H50>F50,3,SE))))) -> 0
C51: =IF(OR(F51="",H51=""),"",IF(F51=H51,1,IF(F51<H51,0,IF(F51-H51<10,2,IF(F51>H51,3,SE))))) | Q51: =IF(OR(H51="",F51=""),"",IF(H51=F51,1,IF(H51<F51,0,IF(H51-F51<10,2,IF(H51>F51,3,SE)))))
C52: =IF(OR(F52="",H52=""),"",IF(F52=H52,1,IF(F52<H52,0,IF(F52-H52<10,2,IF(F52>H52,3,SE))))) | R52: Legenda
C53: =IF(OR(F53="",H53=""),"",IF(F53=H53,1,IF(F53<H53,0,IF(F53-H53<10,2,IF(F53>H53,3,SE))))) | R53: P - pontos
C54: =IF(OR(F54="",H54=""),"",IF(F54=H54,1,IF(F54<H54,0,IF(F54-H54<10,2,IF(F54>H54,3,SE))))) | R54: V3P - Vitória por 3 pontos
C55: =IF(OR(F55="",H55=""),"",IF(F55=H55,1,IF(F55<H55,0,IF(F55-H55<10,2,IF(F55>H55,3,SE))))) | R55: V2P - Vitória por 2 pontos
C56: =IF(OR(F56="",H56=""),"",IF(F56=H56,1,IF(F56<H56,0,IF(F56-H56<10,2,IF(F56>H56,3,SE))))) | R56: E - Empate
C57: =IF(OR(F57="",H57=""),"",IF(F57=H57,1,IF(F57<H57,0,IF(F57-H57<10,2,IF(F57>H57,3,SE))))) | Q57: =IF(OR(H57="",F57=""),"",IF(H57=F57,1,IF(H57<F57,0,IF(H57-F57<10,2,IF(H57>F57,3,SE))))) | R57: D - Derrota
C58: =IF(OR(F58="",H58=""),"",IF(F58=H58,1,IF(F58<H58,0,IF(F58-H58<10,2,IF(F58>H58,3,SE))))) | D58: GRUPO 2 | Q58: =IF(OR(H58="",F58=""),"",IF(H58=F58,1,IF(H58<F58,0,IF(H58-F58<10,2,IF(H58>F58,3,SE))))) | R58: PPC - Pontos pró Cartola
C59: =IF(OR(F59="",H59=""),"",IF(F59=H59,1,IF(F59<H59,0,IF(F59-H59<10,2,IF(F59>H59,3,SE))))) | Q59: =IF(OR(H59="",F59=""),"",IF(H59=F59,1,IF(H59<F59,0,IF(H59-F59<10,2,IF(H59>F59,3,SE))))) | R59: PCC - pontos contra Cartola
C60: =IF(OR(F60="",H60=""),"",IF(F60=H60,1,IF(F60<H60,0,IF(F60-H60<10,2,IF(F60>H60,3,SE))))) -> 0 | D60: Pos. | E60: CARTOLA | F60: J | G60: P | H60: V3P | I60: V2P | J60: E | K60: D | L60: PPC | M60: PCC | N60: SP | O60: % APR. | R60: SP - saldo de pontos | U60: Pos. | V60: TIMES | W60: J | X60: P | Y60: V3P | Z60: V2P | AA60: E | AB60: D | AC60: GF | AD60: GC | AE60: SG | AF60: % APR. | AG60: calc | AH60: maior | AI60: corresp
C61: =IF(OR(F61="",H61=""),"",IF(F61=H61,1,IF(F61<H61,0,IF(F61-H61<10,2,IF(F61>H61,3,SE))))) -> 2 | D61: 1º | E61: =VLOOKUP(AI61,$U$61:$AH$64,2) -> Barbosinhaas | F61: =VLOOKUP(AI61,$U$61:AH$64,3) -> 3 | G61: =VLOOKUP(AI61,$U$61:AH$64,4) -> 6 | H61: =VLOOKUP(AI61,$U$61:$AH$64,5) -> 2 | I61: =VLOOKUP(AI61,$U$61:AH$64,6) -> 0 | J61: =VLOOKUP(AI61,$U$61:$AH$64,7) -> 0 | K61: =VLOOKUP(AI61,$U$61:$AH$64,8) -> 1 | L61: =VLOOKUP(AI61,$U$61:$AH$64,9) -> 151 | M61: =VLOOKUP(AI61,$U$61:$AH$64,10) -> 134 | N61: =VLOOKUP(AI61,$U$61:$AH$64,11) -> 17 | O61: =VLOOKUP(AI61,$U$61:$AH$64,12) -> 0.66666667 | R61: % APR. - Aproveitamento | U61: 1 | V61: =IF(OR('1ª fase'!K30="",'1ª fase'!M30=""),"VENCEDOR J8",IF('1ª fase'!K30>'1ª fase'!M30,'1ª fase'!C30,'1ª fase'!N30)) -> Grajaú C.F. | W61: =COUNT(H69,H76,H82) -> 3 | X61: =SUM(Q69,Q76,Q82) -> 3 | Y61: =SUM(COUNTIFS($C$69:$C$83,3,$D$69:$D$83,V61),COUNTIFS($I$69:$I$83,V61,$Q$69:$Q$83,3)) -> 1 | Z61: =SUM(COUNTIFS($C$69:$C$83,2,$D$69:$D$83,V61),COUNTIFS($I$69:$I$83,V61,$Q$69:$Q$83,2)) -> 0 | AA61: =SUM(COUNTIFS($C$69:$C$83,1,$D$69:$D$83,V61),COUNTIFS($I$69:$I$83,V61,$Q$69:$Q$83,1)) -> 0 | AB61: =SUM(COUNTIFS($C$69:$C$83,0,$D$69:$D$83,V61),COUNTIFS($I$69:$I$83,V61,$Q$69:$Q$83,0)) -> 2 | AC61: =SUM(H69,H76,H82) -> 131 | AD61: =SUM(F69,F76,F82) -> 151 | AE61: =AC61-AD61 -> -20 | AF61: =IF(OR($F$69="",$H$69=""),0,(X61/(W61*3))) -> 0.33333333 | AG61: =(X61*10^15)+((AC61+5000)*10^6)+AE61*10+U61 -> 3.0000051e+15 | AH61: =LARGE($AG$61:$AG$64,U61) -> 6.0000052e+15 | AI61: =MATCH(AH61,$AG$61:$AG$64,0) -> 2
C62: =IF(OR(F62="",H62=""),"",IF(F62=H62,1,IF(F62<H62,0,IF(F62-H62<10,2,IF(F62>H62,3,SE))))) -> 2 | D62: 2º | E62: =VLOOKUP(AI62,$U$61:$AH$64,2) -> UBDC FC | F62: =VLOOKUP(AI62,$U$61:AH$64,3) -> 3 | G62: =VLOOKUP(AI62,$U$61:AH$64,4) -> 5 | H62: =VLOOKUP(AI62,$U$61:$AH$64,5) -> 1 | I62: =VLOOKUP(AI62,$U$61:AH$64,6) -> 1 | J62: =VLOOKUP(AI62,$U$61:$AH$64,7) -> 0 | K62: =VLOOKUP(AI62,$U$61:$AH$64,8) -> 1 | L62: =VLOOKUP(AI62,$U$61:$AH$64,9) -> 158 | M62: =VLOOKUP(AI62,$U$61:$AH$64,10) -> 136 | N62: =VLOOKUP(AI62,$U$61:$AH$64,11) -> 22 | O62: =VLOOKUP(AI62,$U$61:$AH$64,12) -> 0.55555556 | S62: CLASSIFICADO | U62: 2 | V62: =IF(OR('1ª fase'!K29="",'1ª fase'!M29=""),"VENCEDOR J7",IF('1ª fase'!K29>'1ª fase'!M29,'1ª fase'!C29,'1ª fase'!N29)) -> Barbosinhaas | W62: =COUNT(H70,H75,F82) -> 3 | X62: =SUM(Q70,Q75,C82) -> 6 | Y62: =SUM(COUNTIFS($C$69:$C$83,3,$D$69:$D$83,V62),COUNTIFS($I$69:$I$83,V62,$Q$69:$Q$83,3)) -> 2 | Z62: =SUM(COUNTIFS($C$69:$C$83,2,$D$69:$D$83,V62),COUNTIFS($I$69:$I$83,V62,$Q$69:$Q$83,2)) -> 0 | AA62: =SUM(COUNTIFS($C$69:$C$83,1,$D$69:$D$83,V62),COUNTIFS($I$69:$I$83,V62,$Q$69:$Q$83,1)) -> 0 | AB62: =SUM(COUNTIFS($C$69:$C$83,0,$D$69:$D$83,V62),COUNTIFS($I$69:$I$83,V62,$Q$69:$Q$83,0)) -> 1 | AC62: =SUM(H70,H75,F82) -> 151 | AD62: =SUM(H82,F75,F70) -> 134 | AE62: =AC62-AD62 -> 17 | AF62: =IF(OR($F$69="",$H$69=""),0,(X62/(W62*3))) -> 0.66666667 | AG62: =(X62*10^15)+((AC62+5000)*10^6)+AE62*10+U62 -> 6.0000052e+15 | AH62: =LARGE($AG$61:$AG$64,U62) -> 5.0000052e+15 | AI62: =MATCH(AH62,$AG$61:$AG$64,0) -> 3
C63: =IF(OR(F63="",H63=""),"",IF(F63=H63,1,IF(F63<H63,0,IF(F63-H63<10,2,IF(F63>H63,3,SE))))) -> 2 | D63: 3º | E63: =VLOOKUP(AI63,$U$61:$AH$64,2) -> Grajaú C.F. | F63: =VLOOKUP(AI63,$U$61:AH$64,3) -> 3 | G63: =VLOOKUP(AI63,$U$61:AH$64,4) -> 3 | H63: =VLOOKUP(AI63,$U$61:$AH$64,5) -> 1 | I63: =VLOOKUP(AI63,$U$61:AH$64,6) -> 0 | J63: =VLOOKUP(AI63,$U$61:$AH$64,7) -> 0 | K63: =VLOOKUP(AI63,$U$61:$AH$64,8) -> 2 | L63: =VLOOKUP(AI63,$U$61:$AH$64,9) -> 131 | M63: =VLOOKUP(AI63,$U$61:$AH$64,10) -> 151 | N63: =VLOOKUP(AI63,$U$61:$AH$64,11) -> -20 | O63: =VLOOKUP(AI63,$U$61:$AH$64,12) -> 0.33333333 | S63: DISPUTA ENTRE TERCEIROS | U63: 3 | V63: =IF(OR('1ª fase'!K28="",'1ª fase'!M28=""),"VENCEDOR J6",IF('1ª fase'!K28>'1ª fase'!M28,'1ª fase'!C28,'1ª fase'!N28)) -> UBDC FC | W63: =COUNT(H81,F76,F70) -> 3 | X63: =SUM(C70,C76,Q81) -> 5 | Y63: =SUM(COUNTIFS($C$69:$C$83,3,$D$69:$D$83,V63),COUNTIFS($I$69:$I$83,V63,$Q$69:$Q$83,3)) -> 1 | Z63: =SUM(COUNTIFS($C$69:$C$83,2,$D$69:$D$83,V63),COUNTIFS($I$69:$I$83,V63,$Q$69:$Q$83,2)) -> 1 | AA63: =SUM(COUNTIFS($C$69:$C$83,1,$D$69:$D$83,V63),COUNTIFS($I$69:$I$83,V63,$Q$69:$Q$83,1)) -> 0 | AB63: =SUM(COUNTIFS($C$69:$C$83,0,$D$69:$D$83,V63),COUNTIFS($I$69:$I$83,V63,$Q$69:$Q$83,0)) -> 1 | AC63: =SUM(,H81,F76,F70) -> 158 | AD63: =SUM(H70,H76,F81) -> 136 | AE63: =AC63-AD63 -> 22 | AF63: =IF(OR($F$69="",$H$69=""),0,(X63/(W63*3))) -> 0.55555556 | AG63: =(X63*10^15)+((AC63+5000)*10^6)+AE63*10+U63 -> 5.0000052e+15 | AH63: =LARGE($AG$61:$AG$64,U63) -> 3.0000051e+15 | AI63: =MATCH(AH63,$AG$61:$AG$64,0) -> 1
C64: =IF(OR(F64="",H64=""),"",IF(F64=H64,1,IF(F64<H64,0,IF(F64-H64<10,2,IF(F64>H64,3,SE))))) -> 2 | D64: 4º | E64: =VLOOKUP(AI64,$U$61:$AH$64,2) -> Neo City Club | F64: =VLOOKUP(AI64,$U$61:AH$64,3) -> 3 | G64: =VLOOKUP(AI64,$U$61:AH$64,4) -> 2 | H64: =VLOOKUP(AI64,$U$61:$AH$64,5) -> 0 | I64: =VLOOKUP(AI64,$U$61:AH$64,6) -> 1 | J64: =VLOOKUP(AI64,$U$61:$AH$64,7) -> 0 | K64: =VLOOKUP(AI64,$U$61:$AH$64,8) -> 2 | L64: =VLOOKUP(AI64,$U$61:$AH$64,9) -> 136 | M64: =VLOOKUP(AI64,$U$61:$AH$64,10) -> 155 | N64: =VLOOKUP(AI64,$U$61:$AH$64,11) -> -19 | O64: =VLOOKUP(AI64,$U$61:$AH$64,12) -> 0.22222222 | S64: ELIMINADO | U64: 4 | V64: =IF(OR('1ª fase'!K27="",'1ª fase'!M27=""),"VENCEDOR J5",IF('1ª fase'!K27>'1ª fase'!M27,'1ª fase'!C27,'1ª fase'!N27)) -> Neo City Club | W64: =COUNT(F69,F75,F81) -> 3 | X64: =SUM(C69,C75,C81) -> 2 | Y64: =SUM(COUNTIFS($C$69:$C$83,3,$D$69:$D$83,V64),COUNTIFS($I$69:$I$83,V64,$Q$69:$Q$83,3)) -> 0 | Z64: =SUM(COUNTIFS($C$69:$C$83,2,$D$69:$D$83,V64),COUNTIFS($I$69:$I$83,V64,$Q$69:$Q$83,2)) -> 1 | AA64: =SUM(COUNTIFS($C$69:$C$83,1,$D$69:$D$83,V64),COUNTIFS($I$69:$I$83,V64,$Q$69:$Q$83,1)) -> 0 | AB64: =SUM(COUNTIFS($C$69:$C$83,0,$D$69:$D$83,V64),COUNTIFS($I$69:$I$83,V64,$Q$69:$Q$83,0)) -> 2 | AC64: =SUM(F69,F75,F81) -> 136 | AD64: =SUM(H81,H75,H69) -> 155 | AE64: =AC64-AD64 -> -19 | AF64: =IF(OR($F$69="",$H$69=""),0,(X64/(W64*3))) -> 0.22222222 | AG64: =(X64*10^15)+((AC64+5000)*10^6)+AE64*10+U64 -> 2.0000051e+15 | AH64: =LARGE($AG$61:$AG$64,U64) -> 2.0000051e+15 | AI64: =MATCH(AH64,$AG$61:$AG$64,0) -> 4
C65: =IF(OR(F65="",H65=""),"",IF(F65=H65,1,IF(F65<H65,0,IF(F65-H65<10,2,IF(F65>H65,3,SE))))) | Q65: =IF(OR(H65="",F65=""),"",IF(H65=F65,1,IF(H65<F65,0,IF(H65-F65<10,2,IF(H65>F65,3,SE)))))
C66: =IF(OR(F66="",H66=""),"",IF(F66=H66,1,IF(F66<H66,0,IF(F66-H66<10,2,IF(F66>H66,3,SE))))) | D66: 1ª RODADA - #31 | Q66: =IF(OR(H66="",F66=""),"",IF(H66=F66,1,IF(H66<F66,0,IF(H66-F66<10,2,IF(H66>F66,3,SE)))))
C67: =IF(OR(F67="",H67=""),"",IF(F67=H67,1,IF(F67<H67,0,IF(F67-H67<10,2,IF(F67>H67,3,SE))))) | Q67: =IF(OR(H67="",F67=""),"",IF(H67=F67,1,IF(H67<F67,0,IF(H67-F67<10,2,IF(H67>F67,3,SE)))))
C68: =IF(OR(F68="",H68=""),"",IF(F68=H68,1,IF(F68<H68,0,IF(F68-H68<10,2,IF(F68>H68,3,SE))))) | Q68: =IF(OR(H68="",F68=""),"",IF(H68=F68,1,IF(H68<F68,0,IF(H68-F68<10,2,IF(H68>F68,3,SE)))))
C69: =IF(OR(F69="",H69=""),"",IF(F69=H69,1,IF(F69<H69,0,IF(F69-H69<10,2,IF(F69>H69,3,SE))))) -> 0 | D69: =V64 -> Neo City Club | F69: 40 | G69: x | H69: 51 | I69: =V61 -> Grajaú C.F. | Q69: =IF(OR(H69="",F69=""),"",IF(H69=F69,1,IF(H69<F69,0,IF(H69-F69<10,2,IF(H69>F69,3,SE))))) -> 3
C70: =IF(OR(F70="",H70=""),"",IF(F70=H70,1,IF(F70<H70,0,IF(F70-H70<10,2,IF(F70>H70,3,SE))))) -> 3 | D70: =V63 -> UBDC FC | F70: 55 | G70: x | H70: 39 | I70: =V62 -> Barbosinhaas | Q70: =IF(OR(H70="",F70=""),"",IF(H70=F70,1,IF(H70<F70,0,IF(H70-F70<10,2,IF(H70>F70,3,SE))))) -> 0
C71: =IF(OR(F71="",H71=""),"",IF(F71=H71,1,IF(F71<H71,0,IF(F71-H71<10,2,IF(F71>H71,3,SE))))) | Q71: =IF(OR(H71="",F71=""),"",IF(H71=F71,1,IF(H71<F71,0,IF(H71-F71<10,2,IF(H71>F71,3,SE)))))
C72: =IF(OR(F72="",H72=""),"",IF(F72=H72,1,IF(F72<H72,0,IF(F72-H72<10,2,IF(F72>H72,3,SE))))) | D72: 2ª RODADA - #32 | Q72: =IF(OR(H72="",F72=""),"",IF(H72=F72,1,IF(H72<F72,0,IF(H72-F72<10,2,IF(H72>F72,3,SE)))))
C73: =IF(OR(F73="",H73=""),"",IF(F73=H73,1,IF(F73<H73,0,IF(F73-H73<10,2,IF(F73>H73,3,SE))))) | Q73: =IF(OR(H73="",F73=""),"",IF(H73=F73,1,IF(H73<F73,0,IF(H73-F73<10,2,IF(H73>F73,3,SE)))))
C74: =IF(OR(F74="",H74=""),"",IF(F74=H74,1,IF(F74<H74,0,IF(F74-H74<10,2,IF(F74>H74,3,SE))))) | Q74: =IF(OR(H74="",F74=""),"",IF(H74=F74,1,IF(H74<F74,0,IF(H74-F74<10,2,IF(H74>F74,3,SE)))))
C75: =IF(OR(F75="",H75=""),"",IF(F75=H75,1,IF(F75<H75,0,IF(F75-H75<10,2,IF(F75>H75,3,SE))))) -> 0 | D75: =V64 -> Neo City Club | F75: 53 | G75: x | H75: 64 | I75: =V62 -> Barbosinhaas | Q75: =IF(OR(H75="",F75=""),"",IF(H75=F75,1,IF(H75<F75,0,IF(H75-F75<10,2,IF(H75>F75,3,SE))))) -> 3
C76: =IF(OR(F76="",H76=""),"",IF(F76=H76,1,IF(F76<H76,0,IF(F76-H76<10,2,IF(F76>H76,3,SE))))) -> 2 | D76: =V63 -> UBDC FC | F76: 63 | G76: x | H76: 54 | I76: =V61 -> Grajaú C.F. | Q76: =IF(OR(H76="",F76=""),"",IF(H76=F76,1,IF(H76<F76,0,IF(H76-F76<10,2,IF(H76>F76,3,SE))))) -> 0
C77: =IF(OR(F77="",H77=""),"",IF(F77=H77,1,IF(F77<H77,0,IF(F77-H77<10,2,IF(F77>H77,3,SE))))) | Q77: =IF(OR(H77="",F77=""),"",IF(H77=F77,1,IF(H77<F77,0,IF(H77-F77<10,2,IF(H77>F77,3,SE)))))
C78: =IF(OR(F78="",H78=""),"",IF(F78=H78,1,IF(F78<H78,0,IF(F78-H78<10,2,IF(F78>H78,3,SE))))) | D78: 3ª RODADA - #33 | Q78: =IF(OR(H78="",F78=""),"",IF(H78=F78,1,IF(H78<F78,0,IF(H78-F78<10,2,IF(H78>F78,3,SE)))))
C79: =IF(OR(F79="",H79=""),"",IF(F79=H79,1,IF(F79<H79,0,IF(F79-H79<10,2,IF(F79>H79,3,SE))))) | Q79: =IF(OR(H79="",F79=""),"",IF(H79=F79,1,IF(H79<F79,0,IF(H79-F79<10,2,IF(H79>F79,3,SE)))))
C80: =IF(OR(F80="",H80=""),"",IF(F80=H80,1,IF(F80<H80,0,IF(F80-H80<10,2,IF(F80>H80,3,SE))))) | Q80: =IF(OR(H80="",F80=""),"",IF(H80=F80,1,IF(H80<F80,0,IF(H80-F80<10,2,IF(H80>F80,3,SE)))))
C81: =IF(OR(F81="",H81=""),"",IF(F81=H81,1,IF(F81<H81,0,IF(F81-H81<10,2,IF(F81>H81,3,SE))))) -> 2 | D81: =V64 -> Neo City Club | F81: 43 | G81: x | H81: 40 | I81: =V63 -> UBDC FC | Q81: =IF(OR(H81="",F81=""),"",IF(H81=F81,1,IF(H81<F81,0,IF(H81-F81<10,2,IF(H81>F81,3,SE))))) -> 0
C82: =IF(OR(F82="",H82=""),"",IF(F82=H82,1,IF(F82<H82,0,IF(F82-H82<10,2,IF(F82>H82,3,SE))))) -> 3 | D82: =V62 -> Barbosinhaas | F82: 48 | G82: x | H82: 26 | I82: =V61 -> Grajaú C.F. | Q82: =IF(OR(H82="",F82=""),"",IF(H82=F82,1,IF(H82<F82,0,IF(H82-F82<10,2,IF(H82>F82,3,SE))))) -> 0
C83: =IF(OR(F83="",H83=""),"",IF(F83=H83,1,IF(F83<H83,0,IF(F83-H83<10,2,IF(F83>H83,3,SE))))) | Q83: =IF(OR(H83="",F83=""),"",IF(H83=F83,1,IF(H83<F83,0,IF(H83-F83<10,2,IF(H83>F83,3,SE)))))
C84: =IF(OR(F84="",H84=""),"",IF(F84=H84,1,IF(F84<H84,0,IF(F84-H84<10,2,IF(F84>H84,3,SE))))) | R84: Legenda
C85: =IF(OR(F85="",H85=""),"",IF(F85=H85,1,IF(F85<H85,0,IF(F85-H85<10,2,IF(F85>H85,3,SE))))) | R85: P - pontos
C86: =IF(OR(F86="",H86=""),"",IF(F86=H86,1,IF(F86<H86,0,IF(F86-H86<10,2,IF(F86>H86,3,SE))))) | R86: V3P - Vitória por 3 pontos
C87: =IF(OR(F87="",H87=""),"",IF(F87=H87,1,IF(F87<H87,0,IF(F87-H87<10,2,IF(F87>H87,3,SE))))) | R87: V2P - Vitória por 2 pontos
C88: =IF(OR(F88="",H88=""),"",IF(F88=H88,1,IF(F88<H88,0,IF(F88-H88<10,2,IF(F88>H88,3,SE))))) | R88: E - Empate
C89: =IF(OR(F89="",H89=""),"",IF(F89=H89,1,IF(F89<H89,0,IF(F89-H89<10,2,IF(F89>H89,3,SE))))) | Q89: =IF(OR(H89="",F89=""),"",IF(H89=F89,1,IF(H89<F89,0,IF(H89-F89<10,2,IF(H89>F89,3,SE))))) | R89: D - Derrota
C90: =IF(OR(F90="",H90=""),"",IF(F90=H90,1,IF(F90<H90,0,IF(F90-H90<10,2,IF(F90>H90,3,SE))))) | D90: GRUPO 3 | Q90: =IF(OR(H90="",F90=""),"",IF(H90=F90,1,IF(H90<F90,0,IF(H90-F90<10,2,IF(H90>F90,3,SE))))) | R90: PPC - Pontos pró Cartola
C91: =IF(OR(F91="",H91=""),"",IF(F91=H91,1,IF(F91<H91,0,IF(F91-H91<10,2,IF(F91>H91,3,SE))))) | Q91: =IF(OR(H91="",F91=""),"",IF(H91=F91,1,IF(H91<F91,0,IF(H91-F91<10,2,IF(H91>F91,3,SE))))) | R91: PCC - pontos contra Cartola
C92: =IF(OR(F92="",H92=""),"",IF(F92=H92,1,IF(F92<H92,0,IF(F92-H92<10,2,IF(F92>H92,3,SE))))) -> 0 | D92: Pos. | E92: CARTOLA | F92: J | G92: P | H92: V3P | I92: V2P | J92: E | K92: D | L92: PPC | M92: PCC | N92: SP | O92: % APR. | R92: SP - saldo de pontos | U92: Pos. | V92: TIMES | W92: J | X92: P | Y92: V3P | Z92: V2P | AA92: E | AB92: D | AC92: GF | AD92: GC | AE92: SG | AF92: % APR. | AG92: calc | AH92: maior | AI92: corresp
C93: =IF(OR(F93="",H93=""),"",IF(F93=H93,1,IF(F93<H93,0,IF(F93-H93<10,2,IF(F93>H93,3,SE))))) -> 2 | D93: 1º | E93: =VLOOKUP(AI93,$U$93:$AH$96,2) -> ManchesterUrubu City | F93: =VLOOKUP(AI93,$U$93:$AH$96,3) -> 3 | G93: =VLOOKUP(AI93,$U$93:$AH$96,4) -> 6 | H93: =VLOOKUP(AI93,$U$93:$AH$96,5) -> 2 | I93: =VLOOKUP(AI93,$U$93:$AH$96,6) -> 0 | J93: =VLOOKUP(AI93,$U$93:$AH$96,7) -> 0 | K93: =VLOOKUP(AI93,$U$93:$AH$96,8) -> 1 | L93: =VLOOKUP(AI93,$U$93:$AH$96,9) -> 154 | M93: =VLOOKUP(AI93,$U$93:$AH$96,10) -> 147 | N93: =VLOOKUP(AI93,$U$93:$AH$96,11) -> 7 | O93: =VLOOKUP(AI93,$U$93:$AH$96,12) -> 0.66666667 | R93: % APR. - Aproveitamento | U93: 1 | V93: =IF(OR('1ª fase'!K34="",'1ª fase'!M34=""),"VENCEDOR J12",IF('1ª fase'!K34>'1ª fase'!M34,'1ª fase'!C34,'1ª fase'!N34)) -> Bode de chuteira | W93: =COUNT(H101,H108,H114) -> 3 | X93: =SUM(Q101,Q108,Q114) -> 5 | Y93: =SUM(COUNTIFS($C$101:$C$115,3,$D$101:$D$115,V93),COUNTIFS($I$101:$I$115,V93,$Q$101:$Q$115,3)) -> 1 | Z93: =SUM(COUNTIFS($C$101:$C$115,2,$D$101:$D$115,V93),COUNTIFS($I$101:$I$115,V93,$Q$101:$Q$115,2)) -> 1 | AA93: =SUM(COUNTIFS($C$101:$C$115,1,$D$101:$D$115,V93),COUNTIFS($I$101:$I$115,V93,$Q$101:$Q$115,1)) -> 0 | AB93: =SUM(COUNTIFS($C$101:$C$115,0,$D$101:$D$115,V93),COUNTIFS($I$101:$I$115,V93,$Q$101:$Q$115,0)) -> 1 | AC93: =SUM(H101,H108,H114) -> 156 | AD93: =SUM(F101,F108,F114) -> 135 | AE93: =AC93-AD93 -> 21 | AF93: =IF(OR($F$101="",$H$101=""),0,(X93/(W93*3))) -> 0.55555556 | AG93: =(X93*10^10)+((AC93+5000)*10^6)+AE93*10+U93 -> 55156000211 | AH93: =LARGE($AG$93:$AG$96,U93) -> 65154000073 | AI93: =MATCH(AH93,$AG$93:$AG$96,0) -> 3
C94: =IF(OR(F94="",H94=""),"",IF(F94=H94,1,IF(F94<H94,0,IF(F94-H94<10,2,IF(F94>H94,3,SE))))) -> 2 | D94: 2º | E94: =VLOOKUP(AI94,$U$93:$AH$96,2) -> Bode de chuteira | F94: =VLOOKUP(AI94,$U$93:$AH$96,3) -> 3 | G94: =VLOOKUP(AI94,$U$93:$AH$96,4) -> 5 | H94: =VLOOKUP(AI94,$U$93:$AH$96,5) -> 1 | I94: =VLOOKUP(AI94,$U$93:$AH$96,6) -> 1 | J94: =VLOOKUP(AI94,$U$93:$AH$96,7) -> 0 | K94: =VLOOKUP(AI94,$U$93:$AH$96,8) -> 1 | L94: =VLOOKUP(AI94,$U$93:$AH$96,9) -> 156 | M94: =VLOOKUP(AI94,$U$93:$AH$96,10) -> 135 | N94: =VLOOKUP(AI94,$U$93:$AH$96,11) -> 21 | O94: =VLOOKUP(AI94,$U$93:$AH$96,12) -> 0.55555556 | S94: CLASSIFICADO | U94: 2 | V94: =IF(OR('1ª fase'!K33="",'1ª fase'!M33=""),"VENCEDOR J11",IF('1ª fase'!K33>'1ª fase'!M33,'1ª fase'!C33,'1ª fase'!N33)) -> Tratozzi FC | W94: =COUNT(H114,F107,F102) -> 3 | X94: =SUM(Q102,Q107,C114) -> 2 | Y94: =SUM(COUNTIFS($C$101:$C$115,3,$D$101:$D$115,V94),COUNTIFS($I$101:$I$115,V94,$Q$101:$Q$115,3)) -> 0 | Z94: =SUM(COUNTIFS($C$101:$C$115,2,$D$101:$D$115,V94),COUNTIFS($I$101:$I$115,V94,$Q$101:$Q$115,2)) -> 1 | AA94: =SUM(COUNTIFS($C$101:$C$115,1,$D$101:$D$115,V94),COUNTIFS($I$101:$I$115,V94,$Q$101:$Q$115,1)) -> 0 | AB94: =SUM(COUNTIFS($C$101:$C$115,0,$D$101:$D$115,V94),COUNTIFS($I$101:$I$115,V94,$Q$101:$Q$115,0)) -> 2 | AC94: =SUM(H102,H107,F114) -> 148 | AD94: =SUM(H114,F107,F102) -> 170 | AE94: =AC94-AD94 -> -22 | AF94: =IF(OR($F$101="",$H$101=""),0,(X94/(W94*3))) -> 0.22222222 | AG94: =(X94*10^10)+((AC94+5000)*10^6)+AE94*10+U94 -> 25147999782 | AH94: =LARGE($AG$93:$AG$96,U94) -> 55156000211 | AI94: =MATCH(AH94,$AG$93:$AG$96,0) -> 1
C95: =IF(OR(F95="",H95=""),"",IF(F95=H95,1,IF(F95<H95,0,IF(F95-H95<10,2,IF(F95>H95,3,SE))))) -> 2 | D95: 3º | E95: =VLOOKUP(AI95,$U$93:$AH$96,2) -> Real Madrid football clube | F95: =VLOOKUP(AI95,$U$93:$AH$96,3) -> 3 | G95: =VLOOKUP(AI95,$U$93:$AH$96,4) -> 3 | H95: =VLOOKUP(AI95,$U$93:$AH$96,5) -> 1 | I95: =VLOOKUP(AI95,$U$93:$AH$96,6) -> 0 | J95: =VLOOKUP(AI95,$U$93:$AH$96,7) -> 0 | K95: =VLOOKUP(AI95,$U$93:$AH$96,8) -> 2 | L95: =VLOOKUP(AI95,$U$93:$AH$96,9) -> 162 | M95: =VLOOKUP(AI95,$U$93:$AH$96,10) -> 168 | N95: =VLOOKUP(AI95,$U$93:$AH$96,11) -> -6 | O95: =VLOOKUP(AI95,$U$93:$AH$96,12) -> 0.33333333 | S95: DISPUTA ENTRE TERCEIROS | U95: 3 | V95: =IF(OR('1ª fase'!K32="",'1ª fase'!M32=""),"VENCEDOR J10",IF('1ª fase'!K32>'1ª fase'!M32,'1ª fase'!C32,'1ª fase'!N32)) -> ManchesterUrubu City | W95: =COUNT(H113,F108,F102) -> 3 | X95: =SUM(C102,C108,Q113) -> 6 | Y95: =SUM(COUNTIFS($C$101:$C$115,3,$D$101:$D$115,V95),COUNTIFS($I$101:$I$115,V95,$Q$101:$Q$115,3)) -> 2 | Z95: =SUM(COUNTIFS($C$101:$C$115,2,$D$101:$D$115,V95),COUNTIFS($I$101:$I$115,V95,$Q$101:$Q$115,2)) -> 0 | AA95: =SUM(COUNTIFS($C$101:$C$115,1,$D$101:$D$115,V95),COUNTIFS($I$101:$I$115,V95,$Q$101:$Q$115,1)) -> 0 | AB95: =SUM(COUNTIFS($C$101:$C$115,0,$D$101:$D$115,V95),COUNTIFS($I$101:$I$115,V95,$Q$101:$Q$115,0)) -> 1 | AC95: =SUM(H113,F108,F102) -> 154 | AD95: =SUM(H102,H108,F113) -> 147 | AE95: =AC95-AD95 -> 7 | AF95: =IF(OR($F$101="",$H$101=""),0,(X95/(W95*3))) -> 0.66666667 | AG95: =(X95*10^10)+((AC95+5000)*10^6)+AE95*10+U95 -> 65154000073 | AH95: =LARGE($AG$93:$AG$96,U95) -> 35161999944 | AI95: =MATCH(AH95,$AG$93:$AG$96,0) -> 4
C96: =IF(OR(F96="",H96=""),"",IF(F96=H96,1,IF(F96<H96,0,IF(F96-H96<10,2,IF(F96>H96,3,SE))))) -> 2 | D96: 4º | E96: =VLOOKUP(AI96,$U$93:$AH$96,2) -> Tratozzi FC | F96: =VLOOKUP(AI96,$U$93:$AH$96,3) -> 3 | G96: =VLOOKUP(AI96,$U$93:$AH$96,4) -> 2 | H96: =VLOOKUP(AI96,$U$93:$AH$96,5) -> 0 | I96: =VLOOKUP(AI96,$U$93:$AH$96,6) -> 1 | J96: =VLOOKUP(AI96,$U$93:$AH$96,7) -> 0 | K96: =VLOOKUP(AI96,$U$93:$AH$96,8) -> 2 | L96: =VLOOKUP(AI96,$U$93:$AH$96,9) -> 148 | M96: =VLOOKUP(AI96,$U$93:$AH$96,10) -> 170 | N96: =VLOOKUP(AI96,$U$93:$AH$96,11) -> -22 | O96: =VLOOKUP(AI96,$U$93:$AH$96,12) -> 0.22222222 | S96: ELIMINADO | U96: 4 | V96: =IF(OR('1ª fase'!K31="",'1ª fase'!M31=""),"VENCEDOR J9",IF('1ª fase'!K31>'1ª fase'!M31,'1ª fase'!C31,'1ª fase'!N31)) -> Real Madrid football clube | W96: =COUNT(F101,F107,F113) -> 3 | X96: =SUM(C101,C107,C113) -> 3 | Y96: =SUM(COUNTIFS($C$101:$C$115,3,$D$101:$D$115,V96),COUNTIFS($I$101:$I$115,V96,$Q$101:$Q$115,3)) -> 1 | Z96: =SUM(COUNTIFS($C$101:$C$115,2,$D$101:$D$115,V96),COUNTIFS($I$101:$I$115,V96,$Q$101:$Q$115,2)) -> 0 | AA96: =SUM(COUNTIFS($C$101:$C$115,1,$D$101:$D$115,V96),COUNTIFS($I$101:$I$115,V96,$Q$101:$Q$115,1)) -> 0 | AB96: =SUM(COUNTIFS($C$101:$C$115,0,$D$101:$D$115,V96),COUNTIFS($I$101:$I$115,V96,$Q$101:$Q$115,0)) -> 2 | AC96: =SUM(F101,F107,F113) -> 162 | AD96: =SUM(H113,H107,H101) -> 168 | AE96: =AC96-AD96 -> -6 | AF96: =IF(OR($F$101="",$H$101=""),0,(X96/(W96*3))) -> 0.33333333 | AG96: =(X96*10^10)+((AC96+5000)*10^6)+AE96*10+U96 -> 35161999944 | AH96: =LARGE($AG$93:$AG$96,U96) -> 25147999782 | AI96: =MATCH(AH96,$AG$93:$AG$96,0) -> 2
C97: =IF(OR(F97="",H97=""),"",IF(F97=H97,1,IF(F97<H97,0,IF(F97-H97<10,2,IF(F97>H97,3,SE))))) | Q97: =IF(OR(H97="",F97=""),"",IF(H97=F97,1,IF(H97<F97,0,IF(H97-F97<10,2,IF(H97>F97,3,SE)))))
C98: =IF(OR(F98="",H98=""),"",IF(F98=H98,1,IF(F98<H98,0,IF(F98-H98<10,2,IF(F98>H98,3,SE))))) | D98: 1ª RODADA - #31 | Q98: =IF(OR(H98="",F98=""),"",IF(H98=F98,1,IF(H98<F98,0,IF(H98-F98<10,2,IF(H98>F98,3,SE)))))
C99: =IF(OR(F99="",H99=""),"",IF(F99=H99,1,IF(F99<H99,0,IF(F99-H99<10,2,IF(F99>H99,3,SE))))) | Q99: =IF(OR(H99="",F99=""),"",IF(H99=F99,1,IF(H99<F99,0,IF(H99-F99<10,2,IF(H99>F99,3,SE)))))
C100: =IF(OR(F100="",H100=""),"",IF(F100=H100,1,IF(F100<H100,0,IF(F100-H100<10,2,IF(F100>H100,3,SE))))) | Q100: =IF(OR(H100="",F100=""),"",IF(H100=F100,1,IF(H100<F100,0,IF(H100-F100<10,2,IF(H100>F100,3,SE)))))
C101: =IF(OR(F101="",H101=""),"",IF(F101=H101,1,IF(F101<H101,0,IF(F101-H101<10,2,IF(F101>H101,3,SE))))) -> 0 | D101: =V96 -> Real Madrid football clube | F101: 49 | G101: x | H101: 55 | I101: =V93 -> Bode de chuteira | Q101: =IF(OR(H101="",F101=""),"",IF(H101=F101,1,IF(H101<F101,0,IF(H101-F101<10,2,IF(H101>F101,3,SE))))) -> 2
C102: =IF(OR(F102="",H102=""),"",IF(F102=H102,1,IF(F102<H102,0,IF(F102-H102<10,2,IF(F102>H102,3,SE))))) -> 3 | D102: =V95 -> ManchesterUrubu City | F102: 59 | G102: x | H102: 44 | I102: =V94 -> Tratozzi FC | Q102: =IF(OR(H102="",F102=""),"",IF(H102=F102,1,IF(H102<F102,0,IF(H102-F102<10,2,IF(H102>F102,3,SE))))) -> 0
C103: =IF(OR(F103="",H103=""),"",IF(F103=H103,1,IF(F103<H103,0,IF(F103-H103<10,2,IF(F103>H103,3,SE))))) | Q103: =IF(OR(H103="",F103=""),"",IF(H103=F103,1,IF(H103<F103,0,IF(H103-F103<10,2,IF(H103>F103,3,SE)))))
C104: =IF(OR(F104="",H104=""),"",IF(F104=H104,1,IF(F104<H104,0,IF(F104-H104<10,2,IF(F104>H104,3,SE))))) | D104: 2ª RODADA - #32 | Q104: =IF(OR(H104="",F104=""),"",IF(H104=F104,1,IF(H104<F104,0,IF(H104-F104<10,2,IF(H104>F104,3,SE)))))
C105: =IF(OR(F105="",H105=""),"",IF(F105=H105,1,IF(F105<H105,0,IF(F105-H105<10,2,IF(F105>H105,3,SE))))) | Q105: =IF(OR(H105="",F105=""),"",IF(H105=F105,1,IF(H105<F105,0,IF(H105-F105<10,2,IF(H105>F105,3,SE)))))
C106: =IF(OR(F106="",H106=""),"",IF(F106=H106,1,IF(F106<H106,0,IF(F106-H106<10,2,IF(F106>H106,3,SE))))) | Q106: =IF(OR(H106="",F106=""),"",IF(H106=F106,1,IF(H106<F106,0,IF(H106-F106<10,2,IF(H106>F106,3,SE)))))
C107: =IF(OR(F107="",H107=""),"",IF(F107=H107,1,IF(F107<H107,0,IF(F107-H107<10,2,IF(F107>H107,3,SE))))) -> 3 | D107: =V96 -> Real Madrid football clube | F107: 78 | G107: x | H107: 63 | I107: =V94 -> Tratozzi FC | Q107: =IF(OR(H107="",F107=""),"",IF(H107=F107,1,IF(H107<F107,0,IF(H107-F107<10,2,IF(H107>F107,3,SE))))) -> 0
C108: =IF(OR(F108="",H108=""),"",IF(F108=H108,1,IF(F108<H108,0,IF(F108-H108<10,2,IF(F108>H108,3,SE))))) -> 0 | D108: =V95 -> ManchesterUrubu City | F108: 45 | G108: x | H108: 68 | I108: =V93 -> Bode de chuteira | Q108: =IF(OR(H108="",F108=""),"",IF(H108=F108,1,IF(H108<F108,0,IF(H108-F108<10,2,IF(H108>F108,3,SE))))) -> 3
C109: =IF(OR(F109="",H109=""),"",IF(F109=H109,1,IF(F109<H109,0,IF(F109-H109<10,2,IF(F109>H109,3,SE))))) | Q109: =IF(OR(H109="",F109=""),"",IF(H109=F109,1,IF(H109<F109,0,IF(H109-F109<10,2,IF(H109>F109,3,SE)))))
C110: =IF(OR(F110="",H110=""),"",IF(F110=H110,1,IF(F110<H110,0,IF(F110-H110<10,2,IF(F110>H110,3,SE))))) | D110: 3ª RODADA - #33 | Q110: =IF(OR(H110="",F110=""),"",IF(H110=F110,1,IF(H110<F110,0,IF(H110-F110<10,2,IF(H110>F110,3,SE)))))
C111: =IF(OR(F111="",H111=""),"",IF(F111=H111,1,IF(F111<H111,0,IF(F111-H111<10,2,IF(F111>H111,3,SE))))) | Q111: =IF(OR(H111="",F111=""),"",IF(H111=F111,1,IF(H111<F111,0,IF(H111-F111<10,2,IF(H111>F111,3,SE)))))
C112: =IF(OR(F112="",H112=""),"",IF(F112=H112,1,IF(F112<H112,0,IF(F112-H112<10,2,IF(F112>H112,3,SE))))) | Q112: =IF(OR(H112="",F112=""),"",IF(H112=F112,1,IF(H112<F112,0,IF(H112-F112<10,2,IF(H112>F112,3,SE)))))
C113: =IF(OR(F113="",H113=""),"",IF(F113=H113,1,IF(F113<H113,0,IF(F113-H113<10,2,IF(F113>H113,3,SE))))) -> 0 | D113: =V96 -> Real Madrid football clube | F113: 35 | G113: x | H113: 50 | I113: =V95 -> ManchesterUrubu City | Q113: =IF(OR(H113="",F113=""),"",IF(H113=F113,1,IF(H113<F113,0,IF(H113-F113<10,2,IF(H113>F113,3,SE))))) -> 3
C114: =IF(OR(F114="",H114=""),"",IF(F114=H114,1,IF(F114<H114,0,IF(F114-H114<10,2,IF(F114>H114,3,SE))))) -> 2 | D114: =V94 -> Tratozzi FC | F114: 41 | G114: x | H114: 33 | I114: =V93 -> Bode de chuteira | Q114: =IF(OR(H114="",F114=""),"",IF(H114=F114,1,IF(H114<F114,0,IF(H114-F114<10,2,IF(H114>F114,3,SE))))) -> 0
C115: =IF(OR(F115="",H115=""),"",IF(F115=H115,1,IF(F115<H115,0,IF(F115-H115<10,2,IF(F115>H115,3,SE))))) | Q115: =IF(OR(H115="",F115=""),"",IF(H115=F115,1,IF(H115<F115,0,IF(H115-F115<10,2,IF(H115>F115,3,SE)))))
C116: =IF(OR(F116="",H116=""),"",IF(F116=H116,1,IF(F116<H116,0,IF(F116-H116<10,2,IF(F116>H116,3,SE))))) | R116: Legenda
C117: =IF(OR(F117="",H117=""),"",IF(F117=H117,1,IF(F117<H117,0,IF(F117-H117<10,2,IF(F117>H117,3,SE))))) | R117: P - pontos
C118: =IF(OR(F118="",H118=""),"",IF(F118=H118,1,IF(F118<H118,0,IF(F118-H118<10,2,IF(F118>H118,3,SE))))) | R118: V3P - Vitória por 3 pontos
C119: =IF(OR(F119="",H119=""),"",IF(F119=H119,1,IF(F119<H119,0,IF(F119-H119<10,2,IF(F119>H119,3,SE))))) | R119: V2P - Vitória por 2 pontos
C120: =IF(OR(F120="",H120=""),"",IF(F120=H120,1,IF(F120<H120,0,IF(F120-H120<10,2,IF(F120>H120,3,SE))))) | R120: E - Empate
...

Sheet 3ª FASE
B2: 3ª FASE
I5: RODADA #34
B7: J57 | C7: =IF(OR('2ª FASE'!F50="",'2ª FASE'!H50=""),"1º GRUPO 1",'2ª FASE'!E29) -> Futuro Natal | K7: 51.55 | L7: X | M7: 73.46 | N7: =IF(OR('2ª FASE'!F50="",'2ª FASE'!H50=""),"4º MELHOR 3º LUGAR",'3º LUGARES'!C10) -> Valquerato
B8: J58 | C8: =IF(OR('2ª FASE'!F50="",'2ª FASE'!H50=""),"1º GRUPO 2",'2ª FASE'!E61) -> Barbosinhaas | K8: 50.34 | L8: X | M8: 64.15 | N8: =IF(OR('2ª FASE'!F50="",'2ª FASE'!H50=""),"3º MELHOR 3º LUGAR",'3º LUGARES'!C9) -> Real Madrid football clube
B9: J59 | C9: =IF(OR('2ª FASE'!F50="",'2ª FASE'!H50=""),"1º GRUPO 3",'2ª FASE'!E93) -> ManchesterUrubu City | K9: 38.51 | L9: X | M9: 37 | N9: =IF(OR('2ª FASE'!F50="",'2ª FASE'!H50=""),"2º MELHOR 3º LUGAR",'3º LUGARES'!C8) -> tremembe city
B10: J60 | C10: =IF(OR('2ª FASE'!F50="",'2ª FASE'!H50=""),"1º GRUPO 4",'2ª FASE'!E125) -> Belmiro Village SFC | K10: 44.56 | L10: X | M10: 76.55 | N10: =IF(OR('2ª FASE'!F50="",'2ª FASE'!H50=""),"1º MELHOR 3º LUGAR",'3º LUGARES'!C7) -> Kappa Trentino
B11: J61 | C11: =IF(OR('2ª FASE'!F50="",'2ª FASE'!H50=""),"1º GRUPO 5",'2ª FASE'!E157) -> Yes we cam 1000% fc | K11: 62.64 | L11: X | M11: 72.16 | N11: =IF(OR('2ª FASE'!F50="",'2ª FASE'!H50=""),"2º GRUPO 14",'2ª FASE'!E446) -> PANZA FC
B12: J62 | C12: =IF(OR('2ª FASE'!F50="",'2ª FASE'!H50=""),"1º GRUPO 6",'2ª FASE'!E189) -> Raça Fl@ FC | K12: 63.81 | L12: X | M12: 50.26 | N12: =IF(OR('2ª FASE'!F50="",'2ª FASE'!H50=""),"2º GRUPO 13",'2ª FASE'!E414) -> Star Champions
B13: J63 | C13: =IF(OR('2ª FASE'!F50="",'2ª FASE'!H50=""),"1º GRUPO 7",'2ª FASE'!E221) -> GREMIO CURITIBA | K13: 27.41 | L13: X | M13: 40.95 | N13: =IF(OR('2ª FASE'!F50="",'2ª FASE'!H50=""),"2º GRUPO 12",'2ª FASE'!E382) -> Bóia de Munique FC
B14: J64 | C14: =IF(OR('2ª FASE'!F50="",'2ª FASE'!H50=""),"1º GRUPO 8",'2ª FASE'!E253) -> Rock celeste F.C | K14: 50.75 | L14: X | M14: 64.74 | N14: =IF(OR('2ª FASE'!F50="",'2ª FASE'!H50=""),"2º GRUPO 11",'2ª FASE'!E350) -> sucupir@ Dortmund
B15: J65 | C15: =IF(OR('2ª FASE'!F50="",'2ª FASE'!H50=""),"1º GRUPO 9",'2ª FASE'!E285) -> Bafulinos SC | K15: 64.35 | L15: X | M15: 64.35 | N15: =IF(OR('2ª FASE'!F50="",'2ª FASE'!H50=""),"2º GRUPO 10",'2ª FASE'!E318) -> Engenheirense
B16: J66 | C16: =IF(OR('2ª FASE'!F50="",'2ª FASE'!H50=""),"1º GRUPO 10",'2ª FASE'!E317) -> Black sheep f.c | K16: 55.54 | L16: X | M16: 28.05 | N16: =IF(OR('2ª FASE'!F50="",'2ª FASE'!H50=""),"2º GRUPO 9",'2ª FASE'!E286) -> Psicoacústica FC
B17: J67 | C17: =IF(OR('2ª FASE'!F50="",'2ª FASE'!H50=""),"1º GRUPO 11",'2ª FASE'!E349) -> Guiguizão fc | K17: 87.73 | L17: X | M17: 66.85 | N17: =IF(OR('2ª FASE'!F50="",'2ª FASE'!H50=""),"2º GRUPO 8",'2ª FASE'!E254) -> MESTRE CIÇA
B18: J68 | C18: =IF(OR('2ª FASE'!F50="",'2ª FASE'!H50=""),"1º GRUPO 12",'2ª FASE'!E381) -> Galaticos Alves FC | K18: 82.34 | L18: X | M18: 54.9 | N18: =IF(OR('2ª FASE'!F50="",'2ª FASE'!H50=""),"2º GRUPO 7",'2ª FASE'!E222) -> NARINA SC
B19: J69 | C19: =IF(OR('2ª FASE'!F50="",'2ª FASE'!H50=""),"1º GRUPO 13",'2ª FASE'!E413) -> The Snipers F.C. | K19: 83.53 | L19: X | M19: 68.11 | N19: =IF(OR('2ª FASE'!F50="",'2ª FASE'!H50=""),"2º GRUPO 6",'2ª FASE'!E190) -> E C Barcelama
B20: J70 | C20: =IF(OR('2ª FASE'!F50="",'2ª FASE'!H50=""),"1º GRUPO 14",'2ª FASE'!E445) -> PSG Massacre Fc | K20: 69.45 | L20: X | M20: 72.34 | N20: =IF(OR('2ª FASE'!F50="",'2ª FASE'!H50=""),"2º GRUPO 5",'2ª FASE'!E158) -> Nacyonal de Marabá
B21: J71 | C21: =IF(OR('2ª FASE'!F50="",'2ª FASE'!H50=""),"2º GRUPO 1",'2ª FASE'!E30) -> AVANTIMS FC | K21: 45.26 | L21: X | M21: 55.54 | N21: =IF(OR('2ª FASE'!F50="",'2ª FASE'!H50=""),"2º GRUPO 4",'2ª FASE'!E126) -> FC Douglas Leal
B22: J72 | C22: =IF(OR('2ª FASE'!F50="",'2ª FASE'!H50=""),"2º GRUPO 2",'2ª FASE'!E62) -> UBDC FC | K22: 53.66 | L22: X | M22: 36.24 | N22: =IF(OR('2ª FASE'!F50="",'2ª FASE'!H50=""),"2º GRUPO 3",'2ª FASE'!E94) -> Bode de chuteira
B24: OITAVAS DE FINAIS
I27: RODADA #35
B29: J73 | C29: =IF(OR(K7="",M7=""),"VENCEDOR J57",IF(K7>M7,C7,N7)) -> Valquerato | K29: 73.28 | L29: X | M29: 23.41 | N29: =IF(OR(K8="",M8=""),"VENCEDOR J58",IF(K8>M8,C8,N8)) -> Real Madrid football clube
B30: J74 | C30: =IF(OR(K9="",M9=""),"VENCEDOR J59",IF(K9>M9,C9,N9)) -> ManchesterUrubu City | K30: 28.98 | L30: X | M30: 54.08 | N30: =IF(OR(K10="",M10=""),"VENCEDOR J60",IF(K10>M10,C10,N10)) -> Kappa Trentino
B31: J75 | C31: =IF(OR(K11="",M11=""),"VENCEDOR J61",IF(K11>M11,C11,N11)) -> PANZA FC | K31: 46.55 | L31: X | M31: 10.41 | N31: =IF(OR(K12="",M12=""),"VENCEDOR J62",IF(K12>M12,C12,N12)) -> Raça Fl@ FC
B32: J76 | C32: =IF(OR(K13="",M13=""),"VENCEDOR J63",IF(K13>M13,C13,N13)) -> Bóia de Munique FC | K32: 22.56 | L32: X | M32: 41.6 | N32: =IF(OR(K14="",M14=""),"VENCEDOR J64",IF(K14>M14,C14,N14)) -> sucupir@ Dortmund
B33: J77 | C33: =IF(OR(K15="",M15=""),"VENCEDOR J65",IF(K15>=M15,C15,N15)) -> Bafulinos SC | K33: 33.16 | L33: X | M33: 28.01 | N33: =IF(OR(K16="",M16=""),"VENCEDOR J66",IF(K16>M16,C16,N16)) -> Black sheep f.c
B34: J78 | C34: =IF(OR(K17="",M17=""),"VENCEDOR J67",IF(K17>M17,C17,N17)) -> Guiguizão fc | K34: 24.84 | L34: X | M34: 56.71 | N34: =IF(OR(K18="",M18=""),"VENCEDOR J68",IF(K18>M18,C18,N18)) -> Galaticos Alves FC
B35: J79 | C35: =IF(OR(K19="",M19=""),"VENCEDOR J69",IF(K19>M19,C19,N19)) -> The Snipers F.C. | K35: 39.98 | L35: X | M35: 37.41 | N35: =IF(OR(K20="",M20=""),"VENCEDOR J70",IF(K20>M20,C20,N20)) -> Nacyonal de Marabá
B36: J80 | C36: =IF(OR(K21="",M21=""),"VENCEDOR J71",IF(K21>M21,C21,N21)) -> FC Douglas Leal | K36: 18.46 | L36: X | M36: 55.51 | N36: =IF(OR(K22="",M22=""),"VENCEDOR J72",IF(K22>M22,C22,N22)) -> UBDC FC
C38: DISPUTA DO 9º LUGAR
J41: RODADA #36
C43: J81 | D43: =IF(OR(K29="",M29=""),"PERDEDOR J73",IF(K29<M29,C29,N29)) -> Real Madrid football clube | L43: 68.05 | M43: X | N43: 80.15 | O43: =IF(OR(K30="",M30=""),"PERDEDOR J74",IF(K30<M30,C30,N30)) -> ManchesterUrubu City
C44: J82 | D44: =IF(OR(K31="",M31=""),"PERDEDOR J75",IF(K31<M31,C31,N31)) -> Raça Fl@ FC | L44: 85.05 | M44: X | N44: 63.25 | O44: =IF(OR(K32="",M32=""),"PERDEDOR J76",IF(K32<M32,C32,N32)) -> Bóia de Munique FC
C45: J83 | D45: =IF(OR(K33="",M33=""),"PERDEDOR J77",IF(K33<M33,C33,N33)) -> Black sheep f.c | L45: 30.88 | M45: X | N45: 69.05 | O45: =IF(OR(K34="",M34=""),"PERDEDOR J78",IF(K34<M34,C34,N34)) -> Guiguizão fc
C46: J84 | D46: =IF(OR(K35="",M35=""),"PERDEDOR J79",IF(K35<M35,C35,N35)) -> Nacyonal de Marabá | L46: 64.45 | M46: X | N46: 61.85 | O46: =IF(OR(K36="",M36=""),"PERDEDOR J80",IF(K36<M36,C36,N36)) -> FC Douglas Leal
C49: QUARTAS DE FINAL
J52: RODADA #36
C54: J85 | D54: =IF(OR(K29="",M29=""),"VENCEDOR J73",IF(K29>M29,C29,N29)) -> Valquerato | L54: 79.75 | M54: X | N54: 69.15 | O54: =IF(OR(K30="",M30=""),"VENCEDOR J74",IF(K30>M30,C30,N30)) -> Kappa Trentino
C55: J86 | D55: =IF(OR(K31="",M31=""),"VENCEDOR J75",IF(K31>M31,C31,N31)) -> PANZA FC | L55: 92.85 | M55: X | N55: 58.45 | O55: =IF(OR(K32="",M32=""),"VENCEDOR J76",IF(K32>M32,C32,N32)) -> sucupir@ Dortmund
C56: J87 | D56: =IF(OR(K33="",M33=""),"VENCEDOR J77",IF(K33>M33,C33,N33)) -> Bafulinos SC | L56: 66.65 | M56: X | N56: 85.65 | O56: =IF(OR(K34="",M34=""),"VENCEDOR J78",IF(K34>M34,C34,N34)) -> Galaticos Alves FC
C57: J88 | D57: =IF(OR(K35="",M35=""),"VENCEDOR J79",IF(K35>M35,C35,N35)) -> The Snipers F.C. | L57: 78.25 | M57: X | N57: 82.77 | O57: =IF(OR(K36="",M36=""),"VENCEDOR J80",IF(K36>M36,C36,N36)) -> UBDC FC
C59: DISPUTA DO 13º LUGAR
J62: RODADA #37
C64: J89 | D64: =IF(OR(L43="",N43=""),"PERDEDOR J81",IF(L43<N43,D43,O43)) -> Real Madrid football clube | L64: 61.55 | M64: X | N64: 58.42 | O64: =IF(OR(L44="",N44=""),"PERDEDOR J82",IF(L44<N44,D44,O44)) -> Bóia de Munique FC
C65: J90 | D65: =IF(OR(L45="",N45=""),"PERDEDOR J83",IF(L45<N45,D45,O45)) -> Black sheep f.c | L65: 75.68 | M65: X | N65: 52.22 | O65: =IF(OR(L46="",N46=""),"PERDEDOR J84",IF(L46<N46,D46,O46)) -> FC Douglas Leal
C67: DISPUTA DO 9º LUGAR
J70: RODADA #37
C72: J91 | D72: =IF(OR(L43="",N43=""),"VENCEDOR J81",IF(L43>N43,D43,O43)) -> ManchesterUrubu City | L72: 71.22 | M72: X | N72: 62.52 | O72: =IF(OR(L44="",N44=""),"VENCEDOR J82",IF(L44>N44,D44,O44)) -> Raça Fl@ FC
C73: J92 | D73: =IF(OR(L45="",N45=""),"VENCEDOR J83",IF(L45>N45,D45,O45)) -> Guiguizão fc | L73: 69.72 | M73: X | N73: 38.15 | O73: =IF(OR(L46="",N46=""),"VENCEDOR J84",IF(L46>N46,D46,O46)) -> Nacyonal de Marabá
C75: DISPUTA DO 5º LUGAR
J78: RODADA #37
C80: J93 | D80: =IF(OR(L54="",N54=""),"PERDEDOR J85",IF(L54<N54,D54,O54)) -> Kappa Trentino | L80: 83.45 | M80: X | N80: 92.62 | O80: =IF(OR(L55="",N55=""),"PERDEDOR J86",IF(L55<N55,D55,O55)) -> sucupir@ Dortmund
C81: J94 | D81: =IF(OR(L56="",N56=""),"PERDEDOR J87",IF(L56<N56,D56,O56)) -> Bafulinos SC | L81: 76.02 | M81: X | N81: 56.32 | O81: =IF(OR(L57="",N57=""),"PERDEDOR J88",IF(L57<N57,D57,O57)) -> The Snipers F.C.
C83: SEMI FINAL
J86: RODADA #37
C88: J95 | D88: =IF(OR(L54="",N54=""),"VENCEDOR J85",IF(L54>N54,D54,O54)) -> Valquerato | L88: 34.72 | M88: X | N88: 69.98 | O88: =IF(OR(L55="",N55=""),"VENCEDOR J86",IF(L55>N55,D55,O55)) -> PANZA FC
C89: J96 | D89: =IF(OR(L56="",N56=""),"VENCEDOR J87",IF(L56>N56,D56,O56)) -> Galaticos Alves FC | L89: 70.02 | M89: X | N89: 65.02 | O89: =IF(OR(L57="",N57=""),"VENCEDOR J88",IF(L57>N57,D8,O57)) -> UBDC FC
C91: DISPUTA DO 15º LUGAR
J94: RODADA #38
C96: J97 | D96: =IF(OR(L64="",N64=""),"PERDEDOR J89",IF(L64<N64,D64,O64)) -> Bóia de Munique FC | M96: X | O96: =IF(OR(L65="",N65=""),"PERDEDOR J89",IF(L65<N65,D65,O65)) -> FC Douglas Leal
C98: DISPUTA DO 13º LUGAR
J101: RODADA #38
C103: J98 | D103: =IF(OR(L64="",N64=""),"VENCEDOR J89",IF(L64>N64,D64,O64)) -> Real Madrid football clube | M103: X | O103: =IF(OR(L65="",N65=""),"VENCEDOR J89",IF(L65>N65,D65,O65)) -> Black sheep f.c
C105: DISPUTA DO 11º LUGAR
J108: RODADA #38
C110: J99 | D110: =IF(OR(L72="",N72=""),"PERDEDOR J91",IF(L72<N72,D72,O72)) -> Raça Fl@ FC | M110: X | O110: =IF(OR(L73="",N73=""),"PERDEDOR J92",IF(L73<N73,D73,O73)) -> Nacyonal de Marabá
C112: DISPUTA DO 9º LUGAR
J115: RODADA #38
C117: J100 | D117: =IF(OR(L72="",N72=""),"VENCEDOR J91",IF(L72>N72,D72,O72)) -> ManchesterUrubu City | M117: X | O117: =IF(OR(L73="",N73=""),"VENCEDOR J92",IF(L73>N73,D73,O73)) -> Guiguizão fc
C119: DISPUTA DO 7º LUGAR
J122: RODADA #38
C124: J101 | D124: =IF(OR(L80="",N80=""),"PERDEDOR J93",IF(L80<N80,D80,O80)) -> Kappa Trentino | M124: X | O124: =IF(OR(L81="",N81=""),"PERDEDOR J94",IF(L81<N81,D81,O81)) -> The Snipers F.C.
C126: DISPUTA DO 5º LUGAR
J129: RODADA #38
C131: J102 | D131: =IF(OR(L80="",N80=""),"VENCEDOR J93",IF(L80>N80,D80,O80)) -> sucupir@ Dortmund | M131: X | O131: =IF(OR(L81="",N81=""),"VENCEDOR J94",IF(L81>N81,D81,O81)) -> Bafulinos SC
C133: DISPUTA DO 3º LUGAR
J136: RODADA #38
C138: J103 | D138: =IF(OR(L88="",N88=""),"PERDEDOR J95",IF(L88<N88,D88,O88)) -> Valquerato | M138: X | O138: =IF(OR(L89="",N89=""),"PERDEDOR J96",IF(L89<N89,D89,O89)) -> UBDC FC
C140: FINAL
J143: RODADA #38
C145: J104 | D145: =IF(OR(L88="",N88=""),"VENCEDOR J95",IF(L88>N88,D88,O88)) -> PANZA FC | M145: X | O145: =IF(OR(L89="",N89=""),"VENCEDOR J96",IF(L89>N89,D89,O89)) -> Galaticos Alves FC
C147: =IF(OR(L145="",N145=""),"Campeão",IF(L145>N145,D145,O145)) -> Campeão | L147: 35 pontos Ranking
C158: =IF(OR(L145="",N145=""),"VICE Campeão",IF(L145<N145,D145,O145)) -> VICE Campeão | L158: 34 pontos Ranking
C169: =IF(OR(L138="",N138=""),"3º Lugar",IF(L138>N138,D138,O138)) -> 3º Lugar | L169: 33 pontos Ranking
C180: =IF(OR(L138="",N138=""),"4º Lugar",IF(L138<N138,D138,O138)) -> 4º Lugar | L180: 32 pontos Ranking
C191: =IF(OR(L131="",N131=""),"5º Lugar",IF(L131>N131,D131,O131)) -> 5º Lugar | L191: 31 pontos Ranking
C202: =IF(OR(L131="",N131=""),"6º Lugar",IF(L131<N131,D131,O131)) -> 6º Lugar | L202: 30 pontos Ranking
C213: =IF(OR(L124="",N124=""),"7º Lugar",IF(L124>N124,D124,O124)) -> 7º Lugar | L213: 29 pontos Ranking
C224: =IF(OR(L124="",N124=""),"8º Lugar",IF(L124<N124,D124,O124)) -> 8º Lugar | L224: 28 pontos Ranking
C235: =IF(OR(L117="",N117=""),"9º Lugar",IF(L117>N117,D117,O117)) -> 9º Lugar | L235: 27 pontos Ranking
C246: =IF(OR(L117="",N117=""),"10º Lugar",IF(L117<N117,D117,O117)) -> 10º Lugar | L246: 26 pontos Ranking
C257: =IF(OR(L110="",N110=""),"11º Lugar",IF(L110>N110,D110,O110)) -> 11º Lugar | L257: 25 pontos Ranking
C268: =IF(OR(L110="",N110=""),"12º Lugar",IF(L110<N110,D110,O110)) -> 12º Lugar | L268: 24 pontos Ranking
C279: =IF(OR(L103="",N103=""),"13º Lugar",IF(L103>N103,D103,O103)) -> 13º Lugar | L279: 23 pontos Ranking
C290: =IF(OR(L103="",N103=""),"14º Lugar",IF(L103<N103,D103,O103)) -> 14º Lugar | L290: 22 pontos Ranking
C301: =IF(OR(L96="",N96=""),"15º Lugar",IF(L96>N96,D96,O96)) -> 15º Lugar | L301: 21 pontos Ranking
C312: =IF(OR(L96="",N96=""),"16º Lugar",IF(L96<N96,D96,O96)) -> 16º Lugar | L312: 20 pontos Ranking

Sheet 3º LUGARES
B4: MELHORES TERCEIROS LUGARES
B6: Pos. | C6: CARTOLA | D6: J | E6: P | F6: V3P | G6: V2P | H6: E | I6: D | J6: PPC | K6: PCC | L6: SP | M6: % APR.
B7: 1º | C7: =VLOOKUP(P23,$B$23:$O$36,2) -> Kappa Trentino | D7: =VLOOKUP(P23,$B$23:$O$36,3) -> 3 | E7: =VLOOKUP(P23,$B$23:$O$36,4) -> 4 | F7: =VLOOKUP(P23,$B$23:$O$36,5) -> 0 | G7: =VLOOKUP(P23,$B$23:$O$36,6) -> 2 | H7: =VLOOKUP(P23,$B$23:$O$36,7) -> 0 | I7: =VLOOKUP(P23,$B$23:$O$36,8) -> 1 | J7: =VLOOKUP(P23,$B$23:$O$36,9) -> 176 | K7: =VLOOKUP(P23,$B$23:$O$36,10) -> 179 | L7: =VLOOKUP(P23,$B$23:$O$36,11) -> -3 | M7: =VLOOKUP(P23,$B$23:$O$36,12) -> 0.44444444
B8: 2º | C8: =VLOOKUP(P24,$B$23:$O$36,2) -> tremembe city | D8: =VLOOKUP(P24,$B$23:$O$36,3) -> 3 | E8: =VLOOKUP(P24,$B$23:$O$36,4) -> 4 | F8: =VLOOKUP(P24,$B$23:$O$36,5) -> 1 | G8: =VLOOKUP(P24,$B$23:$O$36,6) -> 0 | H8: =VLOOKUP(P24,$B$23:$O$36,7) -> 1 | I8: =VLOOKUP(P24,$B$23:$O$36,8) -> 1 | J8: =VLOOKUP(P24,$B$23:$O$36,9) -> 109 | K8: =VLOOKUP(P24,$B$23:$O$36,10) -> 107 | L8: =VLOOKUP(P24,$B$23:$O$36,11) -> 2 | M8: =VLOOKUP(P24,$B$23:$O$36,12) -> 0.44444444
B9: 3º | C9: =VLOOKUP(P25,$B$23:$O$36,2) -> Real Madrid football clube | D9: =VLOOKUP(P25,$B$23:$O$36,3) -> 3 | E9: =VLOOKUP(P25,$B$23:$O$36,4) -> 3 | F9: =VLOOKUP(P25,$B$23:$O$36,5) -> 1 | G9: =VLOOKUP(P25,$B$23:$O$36,6) -> 0 | H9: =VLOOKUP(P25,$B$23:$O$36,7) -> 0 | I9: =VLOOKUP(P25,$B$23:$O$36,8) -> 2 | J9: =VLOOKUP(P25,$B$23:$O$36,9) -> 162 | K9: =VLOOKUP(P25,$B$23:$O$36,10) -> 168 | L9: =VLOOKUP(P25,$B$23:$O$36,11) -> -6 | M9: =VLOOKUP(P25,$B$23:$O$36,12) -> 0.33333333
B10: 4º | C10: =VLOOKUP(P26,$B$23:$O$36,2) -> Valquerato | D10: =VLOOKUP(P26,$B$23:$O$36,3) -> 3 | E10: =VLOOKUP(P26,$B$23:$O$36,4) -> 3 | F10: =VLOOKUP(P26,$B$23:$O$36,5) -> 1 | G10: =VLOOKUP(P26,$B$23:$O$36,6) -> 0 | H10: =VLOOKUP(P26,$B$23:$O$36,7) -> 0 | I10: =VLOOKUP(P26,$B$23:$O$36,8) -> 2 | J10: =VLOOKUP(P26,$B$23:$O$36,9) -> 157 | K10: =VLOOKUP(P26,$B$23:$O$36,10) -> 152 | L10: =VLOOKUP(P26,$B$23:$O$36,11) -> 5 | M10: =VLOOKUP(P26,$B$23:$O$36,12) -> 0.33333333
B11: 5º | C11: =VLOOKUP(P27,$B$23:$O$36,2) -> Maldry F.C | D11: =VLOOKUP(P27,$B$23:$O$36,3) -> 3 | E11: =VLOOKUP(P27,$B$23:$O$36,4) -> 3 | F11: =VLOOKUP(P27,$B$23:$O$36,5) -> 1 | G11: =VLOOKUP(P27,$B$23:$O$36,6) -> 0 | H11: =VLOOKUP(P27,$B$23:$O$36,7) -> 0 | I11: =VLOOKUP(P27,$B$23:$O$36,8) -> 2 | J11: =VLOOKUP(P27,$B$23:$O$36,9) -> 155 | K11: =VLOOKUP(P27,$B$23:$O$36,10) -> 139 | L11: =VLOOKUP(P27,$B$23:$O$36,11) -> 16 | M11: =VLOOKUP(P27,$B$23:$O$36,12) -> 0.33333333 | P11: CLASSIFICADOS
B12: 6º | C12: =VLOOKUP(P28,$B$23:$O$36,2) -> Starmalas.F.C. | D12: =VLOOKUP(P28,$B$23:$O$36,3) -> 3 | E12: =VLOOKUP(P28,$B$23:$O$36,4) -> 3 | F12: =VLOOKUP(P28,$B$23:$O$36,5) -> 1 | G12: =VLOOKUP(P28,$B$23:$O$36,6) -> 0 | H12: =VLOOKUP(P28,$B$23:$O$36,7) -> 0 | I12: =VLOOKUP(P28,$B$23:$O$36,8) -> 2 | J12: =VLOOKUP(P28,$B$23:$O$36,9) -> 142 | K12: =VLOOKUP(P28,$B$23:$O$36,10) -> 144 | L12: =VLOOKUP(P28,$B$23:$O$36,11) -> -2 | M12: =VLOOKUP(P28,$B$23:$O$36,12) -> 0.33333333 | P12: ELIMINADOS
B13: 7º | C13: =VLOOKUP(P29,$B$23:$O$36,2) -> Sallen CRVG FC | D13: =VLOOKUP(P29,$B$23:$O$36,3) -> 3 | E13: =VLOOKUP(P29,$B$23:$O$36,4) -> 3 | F13: =VLOOKUP(P29,$B$23:$O$36,5) -> 0 | G13: =VLOOKUP(P29,$B$23:$O$36,6) -> 1 | H13: =VLOOKUP(P29,$B$23:$O$36,7) -> 1 | I13: =VLOOKUP(P29,$B$23:$O$36,8) -> 1 | J13: =VLOOKUP(P29,$B$23:$O$36,9) -> 140 | K13: =VLOOKUP(P29,$B$23:$O$36,10) -> 133 | L13: =VLOOKUP(P29,$B$23:$O$36,11) -> 7 | M13: =VLOOKUP(P29,$B$23:$O$36,12) -> 0.33333333
B14: 8º | C14: =VLOOKUP(P30,$B$23:$O$36,2) -> Maximum EC | D14: =VLOOKUP(P30,$B$23:$O$36,3) -> 3 | E14: =VLOOKUP(P30,$B$23:$O$36,4) -> 3 | F14: =VLOOKUP(P30,$B$23:$O$36,5) -> 1 | G14: =VLOOKUP(P30,$B$23:$O$36,6) -> 0 | H14: =VLOOKUP(P30,$B$23:$O$36,7) -> 0 | I14: =VLOOKUP(P30,$B$23:$O$36,8) -> 2 | J14: =VLOOKUP(P30,$B$23:$O$36,9) -> 140 | K14: =VLOOKUP(P30,$B$23:$O$36,10) -> 156 | L14: =VLOOKUP(P30,$B$23:$O$36,11) -> -16 | M14: =VLOOKUP(P30,$B$23:$O$36,12) -> 0.33333333
B15: 9º | C15: =VLOOKUP(P31,$B$23:$O$36,2) -> Grajaú C.F. | D15: =VLOOKUP(P31,$B$23:$O$36,3) -> 3 | E15: =VLOOKUP(P31,$B$23:$O$36,4) -> 3 | F15: =VLOOKUP(P31,$B$23:$O$36,5) -> 1 | G15: =VLOOKUP(P31,$B$23:$O$36,6) -> 0 | H15: =VLOOKUP(P31,$B$23:$O$36,7) -> 0 | I15: =VLOOKUP(P31,$B$23:$O$36,8) -> 2 | J15: =VLOOKUP(P31,$B$23:$O$36,9) -> 131 | K15: =VLOOKUP(P31,$B$23:$O$36,10) -> 151 | L15: =VLOOKUP(P31,$B$23:$O$36,11) -> -20 | M15: =VLOOKUP(P31,$B$23:$O$36,12) -> 0.33333333
B16: 10º | C16: =VLOOKUP(P32,$B$23:$O$36,2) -> Paris S. Aracanguain | D16: =VLOOKUP(P32,$B$23:$O$36,3) -> 3 | E16: =VLOOKUP(P32,$B$23:$O$36,4) -> 3 | F16: =VLOOKUP(P32,$B$23:$O$36,5) -> 1 | G16: =VLOOKUP(P32,$B$23:$O$36,6) -> 0 | H16: =VLOOKUP(P32,$B$23:$O$36,7) -> 0 | I16: =VLOOKUP(P32,$B$23:$O$36,8) -> 2 | J16: =VLOOKUP(P32,$B$23:$O$36,9) -> 130 | K16: =VLOOKUP(P32,$B$23:$O$36,10) -> 142 | L16: =VLOOKUP(P32,$B$23:$O$36,11) -> -12 | M16: =VLOOKUP(P32,$B$23:$O$36,12) -> 0.33333333
B17: 11º | C17: =VLOOKUP(P33,$B$23:$O$36,2) -> Kadosh o2 | D17: =VLOOKUP(P33,$B$23:$O$36,3) -> 3 | E17: =VLOOKUP(P33,$B$23:$O$36,4) -> 2 | F17: =VLOOKUP(P33,$B$23:$O$36,5) -> 0 | G17: =VLOOKUP(P33,$B$23:$O$36,6) -> 1 | H17: =VLOOKUP(P33,$B$23:$O$36,7) -> 0 | I17: =VLOOKUP(P33,$B$23:$O$36,8) -> 2 | J17: =VLOOKUP(P33,$B$23:$O$36,9) -> 163 | K17: =VLOOKUP(P33,$B$23:$O$36,10) -> 178 | L17: =VLOOKUP(P33,$B$23:$O$36,11) -> -15 | M17: =VLOOKUP(P33,$B$23:$O$36,12) -> 0.22222222
B18: 12º | C18: =VLOOKUP(P34,$B$23:$O$36,2) -> huliganns SC | D18: =VLOOKUP(P34,$B$23:$O$36,3) -> 3 | E18: =VLOOKUP(P34,$B$23:$O$36,4) -> 2 | F18: =VLOOKUP(P34,$B$23:$O$36,5) -> 0 | G18: =VLOOKUP(P34,$B$23:$O$36,6) -> 1 | H18: =VLOOKUP(P34,$B$23:$O$36,7) -> 0 | I18: =VLOOKUP(P34,$B$23:$O$36,8) -> 2 | J18: =VLOOKUP(P34,$B$23:$O$36,9) -> 154 | K18: =VLOOKUP(P34,$B$23:$O$36,10) -> 171 | L18: =VLOOKUP(P34,$B$23:$O$36,11) -> -17 | M18: =VLOOKUP(P34,$B$23:$O$36,12) -> 0.22222222
B19: 13º | C19: =VLOOKUP(P35,$B$23:$O$36,2) -> Riquelminho F.C. | D19: =VLOOKUP(P35,$B$23:$O$36,3) -> 3 | E19: =VLOOKUP(P35,$B$23:$O$36,4) -> 2 | F19: =VLOOKUP(P35,$B$23:$O$36,5) -> 0 | G19: =VLOOKUP(P35,$B$23:$O$36,6) -> 1 | H19: =VLOOKUP(P35,$B$23:$O$36,7) -> 0 | I19: =VLOOKUP(P35,$B$23:$O$36,8) -> 2 | J19: =VLOOKUP(P35,$B$23:$O$36,9) -> 131 | K19: =VLOOKUP(P35,$B$23:$O$36,10) -> 141 | L19: =VLOOKUP(P35,$B$23:$O$36,11) -> -10 | M19: =VLOOKUP(P35,$B$23:$O$36,12) -> 0.22222222
B20: 14º | C20: =VLOOKUP(P36,$B$23:$O$36,2) -> Caveirão de Favela FC | D20: =VLOOKUP(P36,$B$23:$O$36,3) -> 3 | E20: =VLOOKUP(P36,$B$23:$O$36,4) -> 2 | F20: =VLOOKUP(P36,$B$23:$O$36,5) -> 0 | G20: =VLOOKUP(P36,$B$23:$O$36,6) -> 1 | H20: =VLOOKUP(P36,$B$23:$O$36,7) -> 0 | I20: =VLOOKUP(P36,$B$23:$O$36,8) -> 2 | J20: =VLOOKUP(P36,$B$23:$O$36,9) -> 95 | K20: =VLOOKUP(P36,$B$23:$O$36,10) -> 134 | L20: =VLOOKUP(P36,$B$23:$O$36,11) -> -39 | M20: =VLOOKUP(P36,$B$23:$O$36,12) -> 0.22222222
C22: times | D22: J | E22: P | F22: V3P | G22: V2P | H22: E | I22: D | J22: GF | K22: GC | L22: SG | M22: % APR. | N22: calc | O22: maior | P22: corresp
B23: 1 | C23: ='2ª FASE'!E31 -> tremembe city | D23: ='2ª FASE'!F31 -> 3 | E23: ='2ª FASE'!G31 -> 4 | F23: ='2ª FASE'!H31 -> 1 | G23: ='2ª FASE'!I31 -> 0 | H23: ='2ª FASE'!J31 -> 1 | I23: ='2ª FASE'!K31 -> 1 | J23: ='2ª FASE'!L31 -> 109 | ... M23: ='2ª FASE'!O31 -> 0.44444444 | N23: =(E23*10^15)+((J23+5000)*10^6)+L23*10+B23 -> 4.0000051e+15 | O23: =LARGE($N$23:$N$36,B23) -> 4.0000052e+15 | P23: =MATCH(O23,$N$23:$N$36,0) -> 7
B24: 2 | C24: ='2ª FASE'!E63 -> Grajaú C.F. | D24: ='2ª FASE'!F63 -> 3 | E24: ='2ª FASE'!G63 -> 3 | F24: ='2ª FASE'!H63 -> 1 | G24: ='2ª FASE'!I63 -> 0 | H24: ='2ª FASE'!J63 -> 0 | I24: ='2ª FASE'!K63 -> 2 | J24: ='2ª FASE'!L63 -> 131 | ... M24: ='2ª FASE'!O63 -> 0.33333333 | N24: =(E24*10^15)+((J24+5000)*10^6)+L24*10+B24 -> 3.0000051e+15 | O24: =LARGE($N$23:$N$36,B24) -> 4.0000051e+15 | P24: =MATCH(O24,$N$23:$N$36,0) -> 1
B25: 3 | C25: ='2ª FASE'!E95 -> Real Madrid football clube | D25: ='2ª FASE'!F95 -> 3 | E25: ='2ª FASE'!G95 -> 3 | F25: ='2ª FASE'!H95 -> 1 | G25: ='2ª FASE'!I95 -> 0 | H25: ='2ª FASE'!J95 -> 0 | I25: ='2ª FASE'!K95 -> 2 | J25: ='2ª FASE'!L95 -> 162 | ... M25: ='2ª FASE'!O95 -> 0.33333333 | N25: =(E25*10^15)+((J25+5000)*10^6)+L25*10+B25 -> 3.0000052e+15 | O25: =LARGE($N$23:$N$36,B25) -> 3.0000052e+15 | P25: =MATCH(O25,$N$23:$N$36,0) -> 3
B26: 4 | C26: ='2ª FASE'!E127 -> Kadosh o2 | D26: ='2ª FASE'!F127 -> 3 | E26: ='2ª FASE'!G127 -> 2 | F26: ='2ª FASE'!H127 -> 0 | G26: ='2ª FASE'!I127 -> 1 | H26: ='2ª FASE'!J127 -> 0 | I26: ='2ª FASE'!K127 -> 2 | J26: ='2ª FASE'!L127 -> 163 | ... M26: ='2ª FASE'!O127 -> 0.22222222 | N26: =(E26*10^15)+((J26+5000)*10^6)+L26*10+B26 -> 2.0000052e+15 | O26: =LARGE($N$23:$N$36,B26) -> 3.0000052e+15 | P26: =MATCH(O26,$N$23:$N$36,0) -> 14
B27: 5 | C27: ='2ª FASE'!E159 -> Maximum EC | D27: ='2ª FASE'!F159 -> 3 | E27: ='2ª FASE'!G159 -> 3 | F27: ='2ª FASE'!H159 -> 1 | G27: ='2ª FASE'!I159 -> 0 | H27: ='2ª FASE'!J159 -> 0 | I27: ='2ª FASE'!K159 -> 2 | J27: ='2ª FASE'!L159 -> 140 | ... M27: ='2ª FASE'!O159 -> 0.33333333 | N27: =(E27*10^15)+((J27+5000)*10^6)+L27*10+B27 -> 3.0000051e+15 | O27: =LARGE($N$23:$N$36,B27) -> 3.0000052e+15 | P27: =MATCH(O27,$N$23:$N$36,0) -> 12
B28: 6 | C28: ='2ª FASE'!E191 -> Sallen CRVG FC | D28: ='2ª FASE'!F191 -> 3 | E28: ='2ª FASE'!G191 -> 3 | F28: ='2ª FASE'!H191 -> 0 | G28: ='2ª FASE'!I191 -> 1 | H28: ='2ª FASE'!J191 -> 1 | I28: ='2ª FASE'!K191 -> 1 | J28: ='2ª FASE'!L191 -> 140 | ... M28: ='2ª FASE'!O191 -> 0.33333333 | N28: =(E28*10^15)+((J28+5000)*10^6)+L28*10+B28 -> 3.0000051e+15 | O28: =LARGE($N$23:$N$36,B28) -> 3.0000051e+15 | P28: =MATCH(O28,$N$23:$N$36,0) -> 13
B29: 7 | C29: ='2ª FASE'!E223 -> Kappa Trentino | D29: ='2ª FASE'!F223 -> 3 | E29: ='2ª FASE'!G223 -> 4 | F29: ='2ª FASE'!H223 -> 0 | G29: ='2ª FASE'!I223 -> 2 | H29: ='2ª FASE'!J223 -> 0 | I29: ='2ª FASE'!K223 -> 1 | J29: ='2ª FASE'!L223 -> 176 | ... M29: ='2ª FASE'!O223 -> 0.44444444 | N29: =(E29*10^15)+((J29+5000)*10^6)+L29*10+B29 -> 4.0000052e+15 | O29: =LARGE($N$23:$N$36,B29) -> 3.0000051e+15 | P29: =MATCH(O29,$N$23:$N$36,0) -> 6
B30: 8 | C30: ='2ª FASE'!E255 -> Caveirão de Favela FC | D30: ='2ª FASE'!F255 -> 3 | E30: ='2ª FASE'!G255 -> 2 | F30: ='2ª FASE'!H255 -> 0 | G30: ='2ª FASE'!I255 -> 1 | H30: ='2ª FASE'!J255 -> 0 | I30: ='2ª FASE'!K255 -> 2 | J30: ='2ª FASE'!L255 -> 95 | ... M30: ='2ª FASE'!O255 -> 0.22222222 | N30: =(E30*10^15)+((J30+5000)*10^6)+L30*10+B30 -> 2.0000051e+15 | O30: =LARGE($N$23:$N$36,B30) -> 3.0000051e+15 | P30: =MATCH(O30,$N$23:$N$36,0) -> 5
B31: 9 | C31: ='2ª FASE'!E287 -> huliganns SC | D31: ='2ª FASE'!F287 -> 3 | E31: ='2ª FASE'!G287 -> 2 | F31: ='2ª FASE'!H287 -> 0 | G31: ='2ª FASE'!I287 -> 1 | H31: ='2ª FASE'!J287 -> 0 | I31: ='2ª FASE'!K287 -> 2 | J31: ='2ª FASE'!L287 -> 154 | ... M31: ='2ª FASE'!O287 -> 0.22222222 | N31: =(E31*10^15)+((J31+5000)*10^6)+L31*10+B31 -> 2.0000052e+15 | O31: =LARGE($N$23:$N$36,B31) -> 3.0000051e+15 | P31: =MATCH(O31,$N$23:$N$36,0) -> 2
B32: 10 | C32: ='2ª FASE'!E319 -> Riquelminho F.C. | D32: ='2ª FASE'!F319 -> 3 | E32: ='2ª FASE'!G319 -> 2 | F32: ='2ª FASE'!H319 -> 0 | G32: ='2ª FASE'!I319 -> 1 | H32: ='2ª FASE'!J319 -> 0 | I32: ='2ª FASE'!K319 -> 2 | J32: ='2ª FASE'!L319 -> 131 | ... M32: ='2ª FASE'!O319 -> 0.22222222 | N32: =(E32*10^15)+((J32+5000)*10^6)+L32*10+B32 -> 2.0000051e+15 | O32: =LARGE($N$23:$N$36,B32) -> 3.0000051e+15 | P32: =MATCH(O32,$N$23:$N$36,0) -> 11
B33: 11 | C33: ='2ª FASE'!E351 -> Paris S. Aracanguain | D33: ='2ª FASE'!F351 -> 3 | E33: ='2ª FASE'!G351 -> 3 | F33: ='2ª FASE'!H351 -> 1 | G33: ='2ª FASE'!I351 -> 0 | H33: ='2ª FASE'!J351 -> 0 | I33: ='2ª FASE'!K351 -> 2 | J33: ='2ª FASE'!L351 -> 130 | ... M33: ='2ª FASE'!O351 -> 0.33333333 | N33: =(E33*10^15)+((J33+5000)*10^6)+L33*10+B33 -> 3.0000051e+15 | O33: =LARGE($N$23:$N$36,B33) -> 2.0000052e+15 | P33: =MATCH(O33,$N$23:$N$36,0) -> 4
B34: 12 | C34: ='2ª FASE'!E383 -> Maldry F.C | D34: ='2ª FASE'!F383 -> 3 | E34: ='2ª FASE'!G383 -> 3 | F34: ='2ª FASE'!H383 -> 1 | G34: ='2ª FASE'!I383 -> 0 | H34: ='2ª FASE'!J383 -> 0 | I34: ='2ª FASE'!K383 -> 2 | J34: ='2ª FASE'!L383 -> 155 | ... M34: ='2ª FASE'!O383 -> 0.33333333 | N34: =(E34*10^15)+((J34+5000)*10^6)+L34*10+B34 -> 3.0000052e+15 | O34: =LARGE($N$23:$N$36,B34) -> 2.0000052e+15 | P34: =MATCH(O34,$N$23:$N$36,0) -> 9
B35: 13 | C35: ='2ª FASE'!E415 -> Starmalas.F.C. | D35: ='2ª FASE'!F415 -> 3 | E35: ='2ª FASE'!G415 -> 3 | F35: ='2ª FASE'!H415 -> 1 | G35: ='2ª FASE'!I415 -> 0 | H35: ='2ª FASE'!J415 -> 0 | I35: ='2ª FASE'!K415 -> 2 | J35: ='2ª FASE'!L415 -> 142 | ... M35: ='2ª FASE'!O415 -> 0.33333333 | N35: =(E35*10^15)+((J35+5000)*10^6)+L35*10+B35 -> 3.0000051e+15 | O35: =LARGE($N$23:$N$36,B35) -> 2.0000051e+15 | P35: =MATCH(O35,$N$23:$N$36,0) -> 10
B36: 14 | C36: ='2ª FASE'!E447 -> Valquerato | D36: ='2ª FASE'!F447 -> 3 | E36: ='2ª FASE'!G447 -> 3 | F36: ='2ª FASE'!H447 -> 1 | G36: ='2ª FASE'!I447 -> 0 | H36: ='2ª FASE'!J447 -> 0 | I36: ='2ª FASE'!K447 -> 2 | J36: ='2ª FASE'!L447 -> 157 | ... M36: ='2ª FASE'!O447 -> 0.33333333 | N36: =(E36*10^15)+((J36+5000)*10^6)+L36*10+B36 -> 3.0000052e+15 | O36: =LARGE($N$23:$N$36,B36) -> 2.0000051e+15 | P36: =MATCH(O36,$N$23:$N$36,0) -> 8
